{"text_format":"1","workbook":"xlsx","n_sheets":13,"sheets":["INFO","Simplified_input_correlation","Product_descriptive_data","Product_tech_data","Process_design_data","Data_catalogue_example","Input_series","Method_input","Method_calculation","Method_output","Output_series","Graphs","History"],"not_rendered":{"charts":26,"images":30,"macros":1,"external_links":1,"defined_names":37,"comments":6,"pivot_tables":0},"unopened":[],"bounds":{"document_bytes":16777216,"sheet_cells":100000,"rows_first":2000,"rows_last":500,"rows_between":2000,"halvings":0,"cell_chars":16384,"cell_head_chars":4096},"cells_cut":0,"cells_raw":0,"read":"whole","date_system":"1900"}

{"sheet":"INFO","index":0,"n_rows":18,"n_cols":1,"rows_kept":18,"cut":false,"hidden":false,"merged":[]}
["\nDISCLAIMER:\n• This spreadsheet has been developed in the framework of the preparation and revision of the set of EN or ISO standards on the energy performance of buildings, to support the European \"Energy Performance of Buildings Directive\" recast (EPBD-recast, directive 2010/31/EU). \n• It is meant for use by  CEN and ISO technical committee(s) and the working group(s) working on the preparation or revision of the EPB-standard to which this spreadsheet applies. The spreadsheet supports checking  that all equations in the developed standard are consistent and can be linked with other relevant standards. It is not meant to perform a full or partial energy performance calculation.\n• The spreadsheet supports the expert user of the standards, in particular those who want to review the content of the standard and those who want to translate the standard to a software, to understand the correct interpretation of the equations and calculation steps in the standard.\n• Although it has been developed with care, neither the technical committee(s), nor the working group(s) and experts related to the EPB- standard to which this spreadsheet applies warrant that the calculations and procedures in this spreadsheet are free of errors. The technical committees as well as the working groups and their respective members expressly disclaim any liability or responsibility arising from use of this spreadsheet, or any consequences thereof. Any responsibility arising from the use of this spreadsheet lies with the user."]
["DRAFT VERSION:\n• As long as the associated EPB standard or any of the other EPB standards to which it is directly linked are in a draft stage, this spreadsheet is also a draft version only."]
["WARNINGS: \n• Note that the spreadsheet may not allow testing all calculation options that are possible according to the standard to which it applies. This remark applies in particular but not only to limitations on the number instances of a variable that can be considered. \n• In case of differences, the standard should be regarded as the reference, not the spreadsheet. However, during the standard's drafting phase, shortcomings in the draft standard may have been detected and dealt with in the spreadsheets (ideally, such differences are marked).\n• Note also that these spreadsheets are purely intended for testing and demonstration and therefore not aiming to be user friendly or to be protected against wrong or improper use. \n"]
["TERMS OF USE:\n• The user is not allowed to redistribute a modified version of this spreadsheet.\n• The author(s) would appreciate your feed back on the spreadsheet via the comment sheets for the associated draft standard to be prepared by the national standards bodies during enquiry of the draft standard(s),\n"]
["Intended use of this document\nThose responsible for the drafting of actual individual EPB standards shall\n-  read and understand the following documents\n   - prCEN/TS 16628 Basic Principles (in short \"BP\")\n   - prCEN/TS 16629 Detailed Technical Rules (in short \"DTR\")\n   - prEN 15603:2013 (\"Overarching Standard\", in short \"OA\"))\n   - prCEN/TR 15615:2013 Technical report to overarching standard;\n- Prepare their individual EPB standard according to CEN rules, BP, DTR and OA\n- Prepare the accompanying technical report using the dedicated template\n- Prepare an accompanying XLS spreadsheet, to demonstrate inputs, output and calculation chain.\n\nThis sample excel spreadsheet provides a template to help in this task."]
["Why an Excel spradsheet?\n\nTo demonstrate the validity and required data I/O for the calculation procedure defined in the standard:\n- list of all input needed --> sheet \"Method_input\"\n- list of intended output --> sheet  \"Method_output\"\n- calculation sequence --> sheet  \"Method_calculation\""]
["The example is prepared for a simple procedure. The sheet calculation may need extensions such as:\n- using several columns when operating on arrays\n- refering to a subset of sheets input/calculation/output to describe a subroutine\nFor complex tasks MACRO can be used.\n\nThis sheet does not support calculation methods that take into account data in a different time-step than that that is being calculated. A version that allows taking into account values at previous time step will be developed."]
["LIST OF AVAILABLE SHEETS"]
["Simplified_input_correlation\nUse this sheet to demontrate simplified input correlation, if any in your standard.\nTypically these correlations are defined in annex C of the standard. They provide the normal detailed input of a procedure, based on a simplified input data set."]
["Product_descriptive_data\nUse this sheet to list product descriptive data (typically with case identifiers). Some examples of selection tables are given.\nThe output from the selection tables (green cells) can be linked to the sheet \"method_input\" for use in the procedure."]
["Product_tech_data\nUse this sheet to list product technical data (typically numerical values and data). Some examples are given with default that may be typically included in annex A of the standard.\nThe output from the selection tables (green cells) can be linked to the sheet \"method_input\" for use in the procedure."]
["Process_design_data\nUse this sheet to list system descriptive data (typically with case identifiers). Some examples of selection tables are given.\nThe output from the selection tables (green cells) can be linked to the sheet \"method_input\" for use in the procedure."]
["Data_catalogue_example\nIt is an example of how a data catalogue can work, filtering the catalogue of product properties based on product descriptive data. You can optionally build a similar catalogue for products involved in your standard."]
["Input_series\nPrepare in this sheet data for each time step if you want to test the procedure on more steps."]
["Method_input\nList in this sheet all the input required for the calculation in one time step.\nTHIS SHEET IS REQUIRED TO DEMONSTRATE THE REQUIRED DATA INPUT."]
["Method_calculation\nDetail in this sheet your calculation procedure. There should be one calculation in one cell for each equation in the standard.\nTHIS SHEET IS REQUIRED TO DEMONSTRATE THE CALCULATION PROCEDURE."]
["Method_output\nList in this sheet all the intended output of the procedure.\nTHIS SHEET IS REQUIRED TO DEMONSTRATE THE AVAILABLE DATA OUTPUT."]
["Output_series\nSeries alculation results are stored in this sheet.\nCalculation for each time step is launched in this sheet."]

{"sheet":"Simplified_input_correlation","index":1,"n_rows":24,"n_cols":8,"rows_kept":24,"cut":false,"hidden":false,"merged":[[0,0,0,7]]}
["Create here a simulation of each correlation method in your Annex C"]
[]
[]
["Name","Symbol","Unit","Value","Range","Formula ref.","Formula","Notes"]
["Input data"]
["Length of the building","lL","m",30,"4…100"]
["Width of the building","lW","m",20,"4…20"]
["Number of loors","Nlev","-",3,"1…10"]
["Floor heigth","Hfl","m",3.1,"2…5"]
[]
[]
["METHOD"]
[]
["Detail all formulas"]
["Length of connection of radiators to vertical shafts ","lA","m",{"$f":"0.55*Method_in*D7*D8","v":990}]
["Length of vertical shafts","lS","m",{"$f":"0.025*Method_in*D7*D8*D9","v":139.5}]
["Length of base collector","lV","m",{"$f":"2*Method_in+0.01625*Method_in*D7*D7","v":255}]
["…"]
[]
["Output data"]
["Length of shafts","lS","m",null,"0...∞"]
["diameter of shafts","dS","m",null,"0…0,2"]
["Length of base ring","lB","m",null,"0...∞"]
["diameter of base ring","dB","m",null,"0…0,2"]

{"sheet":"Product_descriptive_data","index":2,"n_rows":31,"n_cols":3,"rows_kept":31,"cut":false,"hidden":false,"merged":[[0,0,0,2]]}
["Example of descriptive data.\nIn a simple structure, this can be connected directly to the \"method_input\" sheet where this data is required.\nIn this example spreadsheet the \"Method_input\" is linked to the \"data_catalogue\"."]
[]
[]
[]
[]
[" Product descriptive data (qualitative)"]
[]
["Cooling generator type 1"]
[1,"GEN_TYPE",{"$f":"INDEX(C11:C13,A9)","v":"COMP"}]
[]
["Compression chiller",null,"COMP"]
["Absorption chiller",null,"ABS"]
["Any other generator type",null,"OTHER"]
[]
[]
["Cooling generator type 2"]
[2,"GEN_TYPE",{"$f":"INDEX(C19:C21,A17)","v":"ABS"}]
[]
["Compression chiller",null,"COMP"]
["Absorption chiller",null,"ABS"]
["Any other generator type",null,"OTHER"]
[]
[]
["Heat rejection type"]
[4,"HEAT_REJ_TYPE",{"$f":"INDEX(C27:C31,A25)","v":"HYBRID"}]
[]
["Air cooled condenser",null,"AIR_C_COND"]
["Heat rejection with dry operation",null,"DRY"]
["Heat rejection with wet operation (sprayed air cooler, cooling tower)",null,"WET"]
["Heat rejection with dry or wet operation depending on conditions",null,"HYBRID"]
["Other type of heat rejection (ground, ground water, surface water)",null,"OTHER"]

{"sheet":"Product_tech_data","index":3,"n_rows":26,"n_cols":16,"rows_kept":26,"cut":false,"hidden":false,"merged":[[21,5,24,5],[20,6,20,11],[21,6,24,11],[25,6,25,11],[0,0,0,3]]}
["EXAMPLE OF A SHEET WITH DEFAULT INPUT\nCreate here a simulation of each default data formula given in annex A of the standard.\nOptionally connect the selected values to the detailed input data selection sheet  (detailed input)"]
[]
[]
["6.3.2.2.2 Compressor chiller characteristics",null,null,"Chiller 1","Chiller 2"]
["energy efficiency at full-load","EER1.0","-",2.83,4,"EN 14825","No",null,null,"Matrix A:"]
["evaporator chilled water outlet temperature at full load","ϑC;wat;evap;out;1.0","°C",7,7,"EN 14825","No",null,null,1,1,1,1,null,{"$f":"D5/((273+D6-0.5*D26)/(D7-D6+D26))","v":0.43676804357694071},{"$f":"E5/((273+E6-0.5*E26)/(E7-E6+E26))","v":0.71111111111111114}]
["condensor cooling water/air inlet temperature at full load","ϑcond;in;1.0","°C",35,35,"EN 14825","No",null,null,{"$f":"0.75^3","v":0.421875},{"$f":"0.75^2","v":0.5625},0.75,1,null,{"$f":"D8/((273+D9-0.5*D26)/(D10-D9+D26))","v":0.48829680306076145},{"$f":"E8/((273+E9-0.5*E26)/(E10-E9+E26))","v":0.63703703703703707}]
["energy efficiency at 75% load","EER0.75","-",3.59,4,"EN 14825","No",null,null,{"$f":"0.5^3","v":0.125},{"$f":"0.5^2","v":0.25},0.5,1,null,{"$f":"D11/((273+D12-0.5*D26)/(D13-D12+D26))","v":0.56023604176123498},{"$f":"E11/((273+E12-0.5*E26)/(E13-E12+E26))","v":0.56296296296296289}]
["evaporator chilled water outlet temperature at 75% load","ϑC;wat;evap;out;0.75","°C",7,7,"EN 14825","No",null,null,{"$f":"0.25^3","v":1.5625E-2},{"$f":"0.25^2","v":6.25E-2},0.25,1,null,{"$f":"D14/((273+D15-0.5*D26)/(D16-D15+D26))","v":0.48198074054860268},{"$f":"E14/((273+E15-0.5*E26)/(E16-E15+E26))","v":0.48888888888888887}]
["condensor cooling water/air inlet temperature at 75% load","ϑcond;in;0.75","°C",30,30,"EN 14825","No",null,null,"B = Inverse of matrix A:"]
["energy efficiency at 50% load","EER0.5","-",4.76,4,"EN 14825","No",null,null,{"$f":"MINVERSE(A)","v":10.666666666666659},-31.999999999999979,31.999999999999957,-10.66666666666665]
["evaporator chilled water outlet temperature at 50% load","ϑC;wat;evap;out;0.5","°C",7,7,"EN 14825","No",null,null,-15.999999999999988,55.99999999999995,-63.999999999999922,23.999999999999972]
["condensor cooling water/air inlet temperature at 50% load","ϑcond;in;0.5","°C",25,25,"EN 14825","No",null,null,7.333333333333325,-27.999999999999968,37.999999999999957,-17.333333333333318]
["energy efficiency at 25% load","EER0.25","-",4.8499999999999996,4,"EN 14825","No",null,null,-0.99999999999999867,3.9999999999999947,-5.9999999999999929,3.9999999999999973]
["evaporator chilled water outlet temperature at 25% load","ϑC;wat;evap;out;0.25","°C",7,7,"EN 14825","No"]
["condensor cooling water/air inlet temperature at 25% load","ϑcond;in;0.25","°C",20,20,"EN 14825","No"]
["energy efficiency at 5th measured point","EER5","-",3.63,4,"local","No"]
["evaporator chilled water outlet temperature at 5th measured point","ϑC;wat;evap;out;5","°C",7,7,"local","No"]
["condensor cooling water/air inlet temperature at 5th measured point","ϑcond;in;5","°C",35,35,"local","No"]
[]
[null,null,null,null,null,"Formula ref","Formula"]
["Coefficient for the calculation of compression chiller characteristics","C1","-",{"$f":"MMULT(J11:M14,O6:O9)","v":1.8197868707174161},{"$f":"MMULT(J11:M14,P6:P9)","v":-1.0658141036401503E-14},"Formula (1)"]
["Coefficient for the calculation of compression chiller characteristics","C2","-",-3.9312366253809738,8.8817841970012523E-15]
["Coefficient for the calculation of compression chiller characteristics","C3","-",2.4652919179473933,0.29629629629628873]
["Coefficient for the calculation of compression chiller characteristics","C4","-",8.2925880293106324E-2,0.41481481481481541]
["Corrective temperature difference","Dϑcorr","K",{"$f":"(D11/D17*D13-D19)/(1-D11/D17)+D18","v":14.123893805309745},20,"Formula (2)"]

{"sheet":"Process_design_data","index":4,"n_rows":42,"n_cols":7,"rows_kept":42,"cut":false,"hidden":false,"merged":[[0,0,0,2]]}
["Example of process design data.\nIn a simple structure, this can be connected directly to the \"method_input\" sheet where this data is required.\nIn this example spreadsheet the \"Method input\" is linked to the detailed input."]
[]
[]
[]
[]
[" Process design data (qualitative)"]
[]
["Control of the cooling generation outlet temperature"]
[2,"CLG_GEN_TMP_CTRL",{"$f":"INDEX(C11:C12,A9)","v":"VARIABLE"}]
[]
["Constant temperature in the cooling generation plant",null,"CONST"]
["Variable temperature in the cooling generation plant",null,"VARIABLE"]
[]
[]
["Control of the chilled water flow temperature of the total distribution system"]
[3,"CLG_DISTR_TMP_CTRL",{"$f":"INDEX(C18:C20,A16)","v":"MAX_TMP"}]
[]
["constant supply temperature",null,"CONST"]
["Variable set point with outdoor temperature compensation",null,"ODA_COMP"]
["Variable set point with load dependent compensation",null,"MAX_TMP"]
[]
[]
["Control of the chilled water flow temperature of distribution system i=1",null,null,null,"Control of the chilled water flow temperature of distribution system i=2"]
[3,"CLG_DISTR_TMP_CTRL_I",{"$f":"INDEX(C26:C28,A24)","v":"MAX_TMP"},null,3,"CLG_DISTR_TMP_CTRL_I",{"$f":"INDEX(G26:G28,E24)","v":"MAX_TMP"}]
[]
["constant supply temperature",null,"CONST",null,"constant supply temperature",null,"CONST"]
["Variable set point with outdoor temperature compensation",null,"ODA_COMP",null,"Variable set point with outdoor temperature compensation",null,"ODA_COMP"]
["Variable set point with load dependent compensation",null,"MAX_TMP",null,"Variable set point with load dependent compensation",null,"MAX_TMP"]
[]
[]
["Control of the cooling distribution flow rate"]
[2,"CLG_ DISTR_FLW_CTRL",{"$f":"INDEX(C34:C35,A32)","v":"VARIABLE"}]
[]
["Constant flow rate",null,"CONST"]
["Variable flow rate",null,"VARIABLE"]
[]
[]
["Control of the cooling energy distribution in case of insufficient supply"]
[2,"CLG_EN_DISTR_CTRL",{"$f":"INDEX(C41:C42,A39)","v":"PRIO"}]
[]
["No control of energy distribution in case of insufficient supply",null,"NO_CTRL"]
["Priority dependent energy distribution in case of insufficient supply",null,"PRIO"]

{"sheet":"Data_catalogue_example","index":5,"n_rows":119,"n_cols":30,"rows_kept":119,"cut":false,"hidden":false,"merged":[[0,0,0,6],[0,9,0,20],[0,22,0,30],[36,23,36,24],[36,25,36,26],[36,27,36,28],[36,29,36,30]]}
["EXAMPLE OF A PRODUCT DATA CATALOGUE\nProduct descriptive data is used to filter the actual catalogue. Unsuitable prioducts are indicated by \"Non available\"\nThe desired product in the catalogue is then selected via the main list --> alla data is available with one click.\nNOTE: Default data are also part of the catalogue.\nThis sample catalogue is connected to the \"Method input\" sheet.\nNOTE: This highlights the high importance of the user interface and of a correct data input structuring.",null,null,null,null,null,null,null,null,"DATA FOR EACH BOILER",null,null,null,null,null,null,null,null,null,null,null,null,"SELECTION OF BOILERS COMPATIBLE WITH THE QUALITATIVE DESCRIPTION"]
[]
[]
[" Product descriptive data (qualitative)"]
[]
["Boiler use"]
[1,null,"BLR_USE",{"$f":"INDEX(D9:D11,A7)","v":"BLR_USE_H"}]
[]
["Heating",null,null,"BLR_USE_H"]
["Domestic hot water",null,null,"BLR_USE_DHW"]
["All",null,null,"BLR_USE_ALL"]
[]
[]
["Fuel"]
[1,null,"BLR_FUEL",{"$f":"INDEX(D17:D19,A15)","v":"BLR_FUEL_GAS"}]
["Values"]
["Gas",null,null,"BLR_FUEL_GAS"]
["Oil",null,null,"BLR_FUEL_OIL"]
["All",null,null,"BLR_FUEL_ALL"]
[]
[]
["Boiler type, condensing / non condensing"]
[2,null,"BLR_COND",{"$f":"INDEX(D25:D26,A23)","v":"BLR_COND_NO"}]
["Values"]
["Condensing",null,null,"BLR_COND_YES"]
["Non condensing",null,null,"BLR_COND_NO"]
[]
[]
["Product technical data"]
[]
["Generator output at full load;",null,null,null,"ФPn ","kW",60]
[]
[]
["Boiler product data",null,"BLR_DATA",{"$f":"INDEX(D38:D49,C36)","v":"BLR_DATA_GAS_LT"}]
[]
[null,null,2]
["Values",null,null,null,null,null,null,null,null,null,null,null,null,null,null,null,null,null,null,null,null,null,"Display ?","Condensing ?",null,"Fuel ?",null,"Condition 3?",null,"Condition 4?"]
[{"$f":"IF(W38,B38,\"NOT COMPATIBLE\")","v":"Gas, standard, minimum value"},"Gas, standard, minimum value",null,"BLR_DATA_GAS_STD",null,null,null,null,null,null,null,null,null,null,null,null,null,null,null,null,null,null,{"$f":"AND(X38,Z38,AB38,AD38)","v":true},{"$f":"$D$23=Y38","v":true},"BLR_COND_NO",{"$f":"OR($D$15=$D$19,$D$15=AA38)","v":true},"BLR_FUEL_GAS",true,null,true]
[{"$f":"IF(W39,B39,\"NOT COMPATIBLE\")","v":"Gas, low temperature, minimum value"},"Gas, low temperature, minimum value",null,"BLR_DATA_GAS_LT",null,null,null,null,null,null,null,null,null,null,null,null,null,null,null,null,null,null,{"$f":"AND(X39,Z39,AB39,AD39)","v":true},{"$f":"$D$23=Y39","v":true},"BLR_COND_NO",true,"BLR_FUEL_GAS",true,null,true]
["NOT COMPATIBLE","Gas, Condensing, minimum value",null,"BLR_DATA_GAS_CND",null,null,null,null,null,null,null,null,null,null,null,null,null,null,null,null,null,null,false,false,"BLR_COND_YES",true,"BLR_FUEL_GAS",true,null,true]
["NOT COMPATIBLE","Oil, standard, minimum value",null,"BLR_DATA_OIL_STD",null,null,null,null,null,null,null,null,null,null,null,null,null,null,null,null,null,null,false,true,"BLR_COND_NO",false,"BLR_FUEL_OIL",true,null,true]
["NOT COMPATIBLE","Oil, low temperature, minimum value",null,"BLR_DATA_OIL_LT",null,null,null,null,null,null,null,null,null,null,null,null,null,null,null,null,null,null,false,true,"BLR_COND_NO",false,"BLR_FUEL_OIL",true,null,true]
["NOT COMPATIBLE","Oil, condensing, minimum value",null,"BLR_DATA_OIL_CND",null,null,null,null,null,null,null,null,null,null,null,null,null,null,null,null,null,null,false,false,"BLR_COND_YES",false,"BLR_FUEL_OIL",true,null,true]
["NOT COMPATIBLE","Default national: 1 - old oil boiler",null,"BLR_DATA_NAT_1",null,null,null,null,null,null,null,null,null,null,null,null,null,null,null,null,null,null,false,true,"BLR_COND_NO",false,"BLR_FUEL_OIL",true,null,true]
["Default national: 2 - old gas boiler","Default national: 2 - old gas boiler",null,"BLR_DATA_NAT_2",null,null,null,null,null,null,null,null,null,null,null,null,null,null,null,null,null,null,true,true,"BLR_COND_NO",true,"BLR_FUEL_GAS",true,null,true]
["Default national: 3 - new boiler","Default national: 3 - new boiler",null,"BLR_DATA_NAT_3",null,null,null,null,null,null,null,null,null,null,null,null,null,null,null,null,null,null,true,true,"BLR_COND_NO",true,"BLR_FUEL_GAS",true,null,true]
["Make 1 boiler 1 gas (catalogue)","Make 1 boiler 1 gas (catalogue)",null,"BLR_DATA_CAT_01",null,null,null,null,null,null,null,null,null,null,null,null,null,null,null,null,null,null,true,true,"BLR_COND_NO",true,"BLR_FUEL_GAS",true,null,true]
["NOT COMPATIBLE","Make 1 boiler 2 oil (catalogue)",null,"BLR_DATA_CAT_02",null,null,null,null,null,null,null,null,null,null,null,null,null,null,null,null,null,null,false,true,"BLR_COND_NO",false,"BLR_FUEL_OIL",true,null,true]
["Custom values","Custom values",null,"BLR_DATA_USR",null,null,null,null,null,null,null,null,null,null,null,null,null,null,null,null,null,null,true,true,"BLR_COND_NO",true,"BLR_FUEL_GAS",true,null,true]
[]
[]
["System design data"]
[]
["Localisation",null,"LOC",{"$f":"INDEX(D57:D60,C55)","v":"LOC_INT"}]
[null,null,1]
["Values"]
["Heated space",null,null,"LOC_INT"]
["Unheated space",null,null,"LOC_UNH"]
["Boiler room",null,null,"LOC_BLR"]
["External",null,null,"LOC_EXT"]
[]
[]
["Operating conditions"]
[]
[]
["Direct connection"]
["Independent flow rate"]
["Heat exchanger"]
["Last option"]
[]
[]
["Description",null,"Variable TAG","Option tag","Symbol","Unit","Value","Range",null,{"$f":"+D38","v":"BLR_DATA_GAS_STD"},{"$f":"+D39","v":"BLR_DATA_GAS_LT"},{"$f":"+D40","v":"BLR_DATA_GAS_CND"},{"$f":"+D41","v":"BLR_DATA_OIL_STD"},{"$f":"+D42","v":"BLR_DATA_OIL_LT"},{"$f":"+D43","v":"BLR_DATA_OIL_CND"},{"$f":"+D44","v":"BLR_DATA_NAT_1"},{"$f":"+D45","v":"BLR_DATA_NAT_2"},{"$f":"+D46","v":"BLR_DATA_NAT_3"},{"$f":"+D47","v":"BLR_DATA_CAT_01"},{"$f":"+D48","v":"BLR_DATA_CAT_02"},{"$f":"+D49","v":"BLR_DATA_USR"}]
["generator output at full load;",null,null,null,"ФPn ","kW",{"$f":"INDEX(J73:U73,1,$C$36)","v":60},null,null,{"$f":"+$G$31","v":60},60,60,60,60,60,60,60,60,45,30,{"$f":"+$G$31","v":60}]
["Boiler type",null,null,null,null,null,{"$f":"INDEX(J74:U74,1,$C$36)","v":"BLR_COND_NO"},null,null,"BLR_COND_NO","BLR_COND_NO","BLR_COND_YES","BLR_COND_NO","BLR_COND_NO","BLR_COND_YES","BLR_COND_NO","BLR_COND_NO","BLR_COND_NO","BLR_COND_NO","BLR_COND_NO","BLR_COND_YES"]
["Fuel type",null,null,null,null,null,{"$f":"INDEX(J75:U75,1,$C$36)","v":"BLR_FUEL_GAS"},null,null,"BLR_FUEL_GAS","BLR_FUEL_GAS","BLR_FUEL_GAS","BLR_FUEL_OIL","BLR_FUEL_OIL","BLR_FUEL_OIL","BLR_FUEL_OIL","BLR_FUEL_GAS","BLR_FUEL_GAS","BLR_FUEL_GAS","BLR_FUEL_OIL","BLR_FUEL_GAS"]
["CE marking",null,null,null,null,null,{"$f":"INDEX(J76:U76,1,$C$36)","v":"BLR_CE_YES"},null,null,"BLR_CE_YES","BLR_CE_YES","BLR_CE_YES","BLR_CE_YES","BLR_CE_YES","BLR_CE_YES","BLR_CE_YES","BLR_CE_YES","BLR_CE_YES","BLR_CE_YES","BLR_CE_NO","BLR_CE_YES"]
["Limited power",null,null,null,"ФPn,ltd","kW",null,null,null,{"$f":"IF(J73>400,400,J73)","v":60},{"$f":"IF(K73>400,400,K73)","v":60},60,60,60,60,60,60,60,45,30,60]
[null,null,null,null,"C1","%",null,null,null,85,88,94,85,88,94,92,91,93]
[null,null,null,null,"C2","%",null,null,null,2,1.5,1,2,1.5,1,0,0,0]
["generator efficiency at full load;",null,null,null,"ηgnr,Pn ","%",{"$f":"INDEX(J80:U80,1,$C$36)","v":90.667226875575466},null,null,{"$f":"J78+J79*LOG10(J77)","v":88.556302500767288},{"$f":"K78+K79*LOG10(K77)","v":90.667226875575466},95.778151250383644,88.556302500767288,90.667226875575466,95.778151250383644,92,91,93,94,92,93]
["generator output at intermediate load;",null,null,null,"ФPint ","kW",{"$f":"INDEX(J81:U81,1,$C$36)","v":18},null,null,{"$f":"+J73*0.3","v":18},{"$f":"+K73*0.3","v":18},18,{"$f":"+M73*0.3","v":18},{"$f":"+N73*0.3","v":18},{"$f":"+O73*0.3","v":18},18,18,18,13.5,9,18]
[null,null,null,null,"C3","%",null,null,null,81.5,89,98,81.5,89,{"$f":"98/1.05","v":93.333333333333329},90,89,91]
[null,null,null,null,"C4","%",null,null,null,3,1.5,1,3,1.5,{"$f":"1/1.05","v":0.95238095238095233},0,0,0]
["generator efficiency at intermediate load;",null,null,null,"ηgnr,Pint ","%",{"$f":"INDEX(J84:U84,1,$C$36)","v":91.667226875575466},null,null,{"$f":"J82+J83*LOG10(J77)","v":86.834453751150932},{"$f":"K82+K83*LOG10(K77)","v":91.667226875575466},99.778151250383644,86.834453751150932,91.667226875575466,95.026810714651077,90,89,91,94,92,93]
[null,null,null,null,"C5","%",null,null,null,8.5,5,4.8,8.5,5,4.8,5,5,5]
[null,null,null,null,"C6","%",null,null,null,-0.4,-0.35,-0.35,-0.4,-0.35,-0.35,-0.35,-0.35,-0.35]
["stand-by heat loss at test temperature difference Dθi,test;",null,null,null,"Фgnr,ls,P0","kW",{"$f":"INDEX(J87:U87,1,$C$36)","v":0.71576147134151091},null,null,{"$f":"+J73*(J85/100)*(J73^J86)","v":0.99153871472970456},0.71576147134151091,0.68713101248785047,{"$f":"+M73*(M85/100)*(M73^M86)","v":0.99153871472970456},{"$f":"+N73*(N85/100)*(N73^N86)","v":0.71576147134151091},{"$f":"+O73*(O85/100)*(O73^O86)","v":0.68713101248785047},0.71576147134151091,0.71576147134151091,0.71576147134151091,0.5,0.6,0.4]
[null,null,null,null,"C7","W",null,null,null,0,0,0,0,0,0,0,0,0]
[null,null,null,null,"C8","W",null,null,null,45,45,45,45,45,45,45,45,45]
[null,null,null,null,"n","-",null,null,null,0.48,0.48,0.48,0.48,0.48,0.48,0.48,0.48,0.48]
["power consumption of auxiliary devices at full load;",null,null,null,"Paux,gnr,Pn ","kW",{"$f":"INDEX(J91:U91,1,$C$36)","v":0.32116271006242814},null,null,{"$f":"(+J88+J89*J73^J90)/1000","v":0.32116271006242814},0.32116271006242814,0.32116271006242814,{"$f":"(+M88+M89*M73^M90)/1000","v":0.32116271006242814},{"$f":"(+N88+N89*N73^N90)/1000","v":0.32116271006242814},{"$f":"(+O88+O89*O73^O90)/1000","v":0.32116271006242814},0.32116271006242814,0.32116271006242814,0.32116271006242814,0.3,0.4,0.6]
[null,null,null,null,"C7","W",null,null,null,0,0,0,0,0,0,0,0,0]
[null,null,null,null,"C8","W",null,null,null,15,15,15,15,15,15,15,15,15]
[null,null,null,null,"n","-",null,null,null,0.48,0.48,0.48,0.48,0.48,0.48,0.48,0.48,0.48]
["power consumption of auxiliary devices at intermediate load;",null,null,null,"Paux,gnr,Pint ","kW",{"$f":"INDEX(J95:U95,1,$C$36)","v":6.0065080230017151E-2},null,null,{"$f":"(+J92+J93*J81^J94)/1000","v":6.0065080230017151E-2},6.0065080230017151E-2,6.0065080230017151E-2,{"$f":"(+M92+M93*M81^M94)/1000","v":6.0065080230017151E-2},{"$f":"(+N92+N93*N81^N94)/1000","v":6.0065080230017151E-2},{"$f":"(+O92+O93*O81^O94)/1000","v":6.0065080230017151E-2},6.0065080230017151E-2,6.0065080230017151E-2,6.0065080230017151E-2,0.1,7.0000000000000007E-2,0.05]
[null,null,null,null,"C7","W",null,null,null,15,15,15,15,15,15,15,15,15]
[null,null,null,null,"C8","W",null,null,null,0,0,0,0,0,0,0,0,0]
[null,null,null,null,"n","-",null,null,null,0,0,0,0,0,0,0,0,0]
["stand-by power consumption of auxiliary devices;",null,null,null,"Paux,gnr,P0 ","kW",{"$f":"INDEX(J99:U99,1,$C$36)","v":1.4999999999999999E-2},null,null,{"$f":"(+J96+J97*J85^J98)/1000","v":1.4999999999999999E-2},1.4999999999999999E-2,1.4999999999999999E-2,1.4999999999999999E-2,1.4999999999999999E-2,1.4999999999999999E-2,1.4999999999999999E-2,1.4999999999999999E-2,1.4999999999999999E-2,0,0,0]
["auxiliary power when the generation system is inactive",null,null,null,"Paux,off","kW",{"$f":"INDEX(J100:U100,1,$C$36)","v":0},null,null,0,0,0,0,0,0,0,0,0,0,0,0]
["minimum operating boiler temperature.",null,null,null,"θgnr,min","°C",{"$f":"INDEX(J101:U101,1,$C$36)","v":30},null,null,50,30,0,50,30,0,50,50,50,50,50,50]
["Recoverable fraction of stand-by losses",null,null,null,"fgnr,env","-",{"$f":"INDEX(J102:U102,1,$C$36)","v":0.5},null,null,0.5,0.5,0.5,0.5,0.5,0.5,0.5,0.5,0.5,0.5,0.5,0.5]
[]
["correction factor of full-load efficiency;",null,null,null,"fcorr,Pn ","-",{"$f":"INDEX(J104:U104,1,$C$36)","v":0.04},null,null,0.04,0.04,0.2,0.04,0.04,0.2,0.04,0.04,0.1,0.04,0.04,0.04]
["correction factor of intermediate load efficiency;",null,null,null,"fcorr,Pint ","-",{"$f":"INDEX(J105:U105,1,$C$36)","v":0.05},null,null,0.05,0.05,0.2,0.05,0.05,0.2,0.05,0.05,0.05,0.05,0.05,0.05]
[]
["generator average water temperature at test conditions for full load;",null,null,null,"θgnr,test,Pn","°C",{"$f":"INDEX(J107:U107,1,$C$36)","v":70},null,null,70,70,70,70,70,70,70,70,70,70,70,70]
["generator average water temperature at test conditions for intermediate load;",null,null,null,"θgnr,test,Pint","°C",{"$f":"INDEX(J108:U108,1,$C$36)","v":40},null,null,50,40,30,50,40,30,50,50,50,50,50,50]
["difference between mean boiler temperature and test room temperature in test conditions;",null,null,null,"Dθtest,P0 ","°C",{"$f":"INDEX(J109:U109,1,$C$36)","v":50},null,null,50,50,50,50,50,50,50,50,50,50,50,50]
[]
["part of the auxiliary energy recovered",null,null,null,"frvd,aux ","-",{"$f":"INDEX(J111:U111,1,$C$36)","v":0.75},null,null,0.75,0.75,0.75,0.75,0.75,0.75,0.75,0.75,0.75,0.75,0.75,0.75]
["part of the nominal electrical power not transmitted to the distribution sub-system",null,null,null,"frbl,aux ","-",{"$f":"INDEX(J112:U112,1,$C$36)","v":0.25},null,null,0.25,0.25,0.25,0.25,0.25,0.25,0.25,0.25,0.25,0.25,0.25,0.25]
[]
[]
[]
[]
["System design data"]
["Installation room temperature;",null,null,null,"qi,brm ","°C",15]
["Temperature reduction factor of install. room",null,null,null,"bbrm","-",0.7]

{"sheet":"Input_series","index":6,"n_rows":8776,"n_cols":34,"rows_kept":2250,"cut":true,"hidden":false,"merged":[[0,0,0,6]],"bounds":{"rows_first":1000,"rows_last":250,"rows_between":1000,"halvings":1}}
["Load here the value of input variables for each time-step (time series)\nSet the number of input data for each time steps and the number of time step before running The macro from sheet \"Output series\".\n\nLocal constant data may be input via the sheets \"Constants\" "]
[]
["Time series for data input"]
["Settings"]
["Number of input data",null,33]
["Number of time steps",null,8760]
[]
["Description","Calculation time interval","Ambient air temperature","Sensible energy need for cooling in thermal zone j=1 served by the distribution system i=1","Sensible energy need for cooling in thermal zone j=2 served by the distribution system i=1","Required AHU cooling coil output for ventilation system k served by the distribution system i=1","Required AHU cooling coil water inlet temperature to ventilation system k served by the distribution system i=1","Heat losses of cooling emission in thermal zone j=1 served by the distribution system i=1","Heat losses of cooling emission in thermal zone j=2 served by the distribution system i=1","Auxiliary energy for cooling emission system in thermal zone j=1 served by the distribution system i=1","Auxiliary energy for cooling emission system in thermal zone j=2 served by the distribution system i=1","Thermal loss of the cooling distribution system i=1","Auxiliary energy for cooling distribution system i=1","Portion of cooling distribution auxiliary energy going to the chilled water for distribution system i=1","Sensible energy need for cooling in thermal zone j=1 served by the distribution system i=2","Sensible energy need for cooling in thermal zone j=2 served by the distribution system i=2","Required AHU cooling coil output for ventilation system k served by the distribution system i=2","Required AHU cooling coil water inlet temperature to ventilation system k served by the distribution system i=2","Heat losses of cooling emission in thermal zone j=1 served by the distribution system i=2","Heat losses of cooling emission in thermal zone j=2 served by the distribution system i=2","Auxiliary energy for cooling emission system in thermal zone j=1 served by the distribution system i=2","Auxiliary energy for cooling emission system in thermal zone j=2 served by the distribution system i=2","Thermal loss of the cooling distribution system i=2","Auxiliary energy for cooling distribution system i=2","Portion of cooling distribution auxiliary energy going to the chilled water for distribution system i=2","Auxiliary energy for cooling storage system","Cooling energy extracted by the cooling storage system","Required chilled water intlet temperature to the cooling storage","Chilled water outlet temperature from the cooling storage","Cooling energy extracted by the cooling generation system","Chilled water outlet temperature from the cooling generation ","Electric energy input to the cooling generation system","Heat input to the absorption cooling generation","Auxiliary energy for cooling generation system"]
["Symbol","tc,i","ϑe ","QC;nd;zt;j;i","QC;nd;zt;j;i","QC;ahu,k;out;req;i","JC;ahu,k;in;req;i","Qem,ls;zt,j;i","Qem,ls;zt,j;i","WC;aux;em;j;i","WC;aux;em;j;i","QC,dis,ls;i","WC;aux;dis;i","fwat;C;dis;aux;i","QC;nd;zt;j;i","QC;nd;zt;j;i","QC;ahu,k;out;req;i","JC;ahu,k;in;req;i","Qem,ls;zt,j;i","Qem,ls;zt,j;i","WC;aux;em;j;i","WC;aux;em;j;i","QC,dis,ls;i","WC;aux;dis;i","fwat;C;dis;aux;i","WC;aux;sto","QC;sto;in","ϑC;sto;in;req","ϑC;sto;out","QC;gen;in","ϑC;gen;out","EC,gen,el;in","QH;C;gen;abs;in","WC;aux;gen"]
["Unit","h","°C","kWh","kWh","kWh","°C","kWh","kWh","kWh","kWh","kWh","kWh","- ","kWh","kWh","kWh","°C","kWh","kWh","kWh","kWh","kWh","kWh","- ","kWh","kWh","°C","°C","kWh","°C","kWh","kWh","kWh"]
["Origin","M1-9","M1-13","M2-2","M2-2","M5-8","M5-8","M4-5","M4-5","M4-5","M4-5","M4-6","M4-6","M4-6","M2-2","M2-2","M5-8","M5-8","M4-5","M4-5","M4-5","M4-5","M4-6","M4-6","M4-6","M4-7","M4-7","M4-7","M4-7","M4-8","M4-8","M4-8","M4-8","M4-8"]
[]
["Time stamp",null,"VALUES"]
[1,1,3.5,0,0,0,16,{"$f":"0.05*D14","v":0},{"$f":"0.05*E14","v":0},0,0,0,0,0.5,0,0,0,12,{"$f":"0.05*O14","v":0},{"$f":"0.05*P14","v":0},0,0,0,0,0.5,0,0,12,8,0,12,0,0,{"$f":"0.05*AF14","v":0}]
[2,1,4.4000000000000004,0,0,0,16,{"$f":"0.05*D15","v":0},{"$f":"0.05*E15","v":0},0,0,0,0,0.5,0,0,0,12,0,0,0,0,0,0,0.5,0,0,12,8,0,12,0,0,{"$f":"0.05*AF15","v":0}]
[3,1,4.9000000000000004,0,0,0,16,0,0,0,0,0,0,0.5,0,0,0,12,0,0,0,0,0,0,0.5,0,0,12,8,0,12,0,0,0]
[4,1,5.4,0,0,0,16,0,0,0,0,0,0,0.5,0,0,0,12,0,0,0,0,0,0,0.5,0,0,12,8,0,12,0,0,0]
[5,1,5.5,0,0,0,16,0,0,0,0,0,0,0.5,0,0,0,12,0,0,0,0,0,0,0.5,0,0,12,8,0,12,0,0,0]
[6,1,5.3,0,0,0,16,0,0,0,0,0,0,0.5,0,0,0,12,0,0,0,0,0,0,0.5,0,0,12,8,0,12,0,0,0]
[7,1,5,0,0,0,16,0,0,0,0,0,0,0.5,0,0,0,12,0,0,0,0,0,0,0.5,0,0,12,8,0,12,0,0,0]
[8,1,5.0999999999999996,0,0,0,16,0,0,0,0,0,0,0.5,0,0,0,12,0,0,0,0,0,0,0.5,0,0,12,8,0,12,0,0,0]
[9,1,4.7,0,0,0,16,0,0,0,0,0,0,0.5,0,0,0,12,0,0,0,0,0,0,0.5,0,0,12,8,0,12,0,0,0]
[10,1,6.8,0,0,0,16,0,0,0,0,0,0,0.5,0,0,0,12,0,0,0,0,0,0,0.5,0,0,12,8,0,12,0,0,0]
[11,1,8.1999999999999993,0,0,0,16,0,0,0,0,0,0,0.5,0,0,0,12,0,0,0,0,0,0,0.5,0,0,12,8,0,12,0,0,0]
[12,1,8.8000000000000007,0,0,0,16,0,0,0,0,0,0,0.5,0,0,0,12,0,0,0,0,0,0,0.5,0,0,12,8,0,12,0,0,0]
[13,1,9.3000000000000007,0,0,0,16,0,0,0,0,0,0,0.5,0,0,0,12,0,0,0,0,0,0,0.5,0,0,12,8,0,12,0,0,0]
[14,1,9.6,0,0,0,16,0,0,0,0,0,0,0.5,0,0,0,12,0,0,0,0,0,0,0.5,0,0,12,8,0,12,0,0,0]
[15,1,8.9,0,0,0,16,0,0,0,0,0,0,0.5,0,0,0,12,0,0,0,0,0,0,0.5,0,0,12,8,0,12,0,0,0]
[16,1,8.1,0,0,0,16,0,0,0,0,0,0,0.5,0,0,0,12,0,0,0,0,0,0,0.5,0,0,12,8,0,12,0,0,0]
[17,1,7.5,0,0,0,16,0,0,0,0,0,0,0.5,0,0,0,12,0,0,0,0,0,0,0.5,0,0,12,8,0,12,0,0,0]
[18,1,7.6,0,0,0,16,0,0,0,0,0,0,0.5,0,0,0,12,0,0,0,0,0,0,0.5,0,0,12,8,0,12,0,0,0]
[19,1,7.1,0,0,0,16,0,0,0,0,0,0,0.5,0,0,0,12,0,0,0,0,0,0,0.5,0,0,12,8,0,12,0,0,0]
[20,1,6.6,0,0,0,16,0,0,0,0,0,0,0.5,0,0,0,12,0,0,0,0,0,0,0.5,0,0,12,8,0,12,0,0,0]
[21,1,6.2,0,0,0,16,0,0,0,0,0,0,0.5,0,0,0,12,0,0,0,0,0,0,0.5,0,0,12,8,0,12,0,0,0]
[22,1,6,0,0,0,16,0,0,0,0,0,0,0.5,0,0,0,12,0,0,0,0,0,0,0.5,0,0,12,8,0,12,0,0,0]
[23,1,5.8,0,0,0,16,0,0,0,0,0,0,0.5,0,0,0,12,0,0,0,0,0,0,0.5,0,0,12,8,0,12,0,0,0]
[24,1,5.7,0,0,0,16,0,0,0,0,0,0,0.5,0,0,0,12,0,0,0,0,0,0,0.5,0,0,12,8,0,12,0,0,0]
[25,1,6.2,0,0,0,16,0,0,0,0,0,0,0.5,0,0,0,12,0,0,0,0,0,0,0.5,0,0,12,8,0,12,0,0,0]
[26,1,8.1,0,0,0,16,0,0,0,0,0,0,0.5,0,0,0,12,0,0,0,0,0,0,0.5,0,0,12,8,0,12,0,0,0]
[27,1,9.4,0,0,0,16,0,0,0,0,0,0,0.5,0,0,0,12,0,0,0,0,0,0,0.5,0,0,12,8,0,12,0,0,0]
[28,1,8.4,0,0,0,16,0,0,0,0,0,0,0.5,0,0,0,12,0,0,0,0,0,0,0.5,0,0,12,8,0,12,0,0,0]
[29,1,8.5,0,0,0,16,0,0,0,0,0,0,0.5,0,0,0,12,0,0,0,0,0,0,0.5,0,0,12,8,0,12,0,0,0]
[30,1,8.3000000000000007,0,0,0,16,0,0,0,0,0,0,0.5,0,0,0,12,0,0,0,0,0,0,0.5,0,0,12,8,0,12,0,0,0]
[31,1,8.4,0,0,0,16,0,0,0,0,0,0,0.5,0,0,0,12,0,0,0,0,0,0,0.5,0,0,12,8,0,12,0,0,0]
[32,1,9.9,0,0,0,16,0,0,0,0,0,0,0.5,0,0,0,12,0,0,0,0,0,0,0.5,0,0,12,8,0,12,0,0,0]
[33,1,11.1,0,0,0,16,0,0,0,0,0,0,0.5,0,0,0,12,0,0,0,0,0,0,0.5,0,0,12,8,0,12,0,0,0]
[34,1,11.4,0,0,0,16,0,0,0,0,0,0,0.5,0,0,0,12,0,0,0,0,0,0,0.5,0,0,12,8,0,12,0,0,0]
[35,1,11,0,0,0,16,0,0,0,0,0,0,0.5,0,0,0,12,0,0,0,0,0,0,0.5,0,0,12,8,0,12,0,0,0]
[36,1,12.8,0,0,0,16,0,0,0,0,0,0,0.5,0,0,0,12,0,0,0,0,0,0,0.5,0,0,12,8,0,12,0,0,0]
[37,1,13,0,0,0,16,0,0,0,0,0,0,0.5,0,0,0,12,0,0,0,0,0,0,0.5,0,0,12,8,0,12,0,0,0]
[38,1,14,0,0,0,16,0,0,0,0,0,0,0.5,0,0,0,12,0,0,0,0,0,0,0.5,0,0,12,8,0,12,0,0,0]
[39,1,11.5,0,0,0,16,0,0,0,0,0,0,0.5,0,0,0,12,0,0,0,0,0,0,0.5,0,0,12,8,0,12,0,0,0]
[40,1,10.7,0,0,0,16,0,0,0,0,0,0,0.5,0,0,0,12,0,0,0,0,0,0,0.5,0,0,12,8,0,12,0,0,0]
[41,1,15.6,0,0,0,16,0,0,0,0,0,0,0.5,0,0,0,12,0,0,0,0,0,0,0.5,0,0,12,8,0,12,0,0,0]
[42,1,16,0,0,0,16,0,0,0,0,0,0,0.5,0,0,0,12,0,0,0,0,0,0,0.5,0,0,12,8,0,12,0,0,0]
[43,1,15.4,0,0,0,16,0,0,0,0,0,0,0.5,0,0,0,12,0,0,0,0,0,0,0.5,0,0,12,8,0,12,0,0,0]
[44,1,13.1,0,0,0,16,0,0,0,0,0,0,0.5,0,0,0,12,0,0,0,0,0,0,0.5,0,0,12,8,0,12,0,0,0]
[45,1,12.2,0,0,0,16,0,0,0,0,0,0,0.5,0,0,0,12,0,0,0,0,0,0,0.5,0,0,12,8,0,12,0,0,0]
[46,1,11.3,0,0,0,16,0,0,0,0,0,0,0.5,0,0,0,12,0,0,0,0,0,0,0.5,0,0,12,8,0,12,0,0,0]
[47,1,10.7,0,0,0,16,0,0,0,0,0,0,0.5,0,0,0,12,0,0,0,0,0,0,0.5,0,0,12,8,0,12,0,0,0]
[48,1,10.1,0,0,0,16,0,0,0,0,0,0,0.5,0,0,0,12,0,0,0,0,0,0,0.5,0,0,12,8,0,12,0,0,0]
[49,1,9.9,0,0,0,16,0,0,0,0,0,0,0.5,0,0,0,12,0,0,0,0,0,0,0.5,0,0,12,8,0,12,0,0,0]
[50,1,9.6999999999999993,0,0,0,16,0,0,0,0,0,0,0.5,0,0,0,12,0,0,0,0,0,0,0.5,0,0,12,8,0,12,0,0,0]
[51,1,9.3000000000000007,0,0,0,16,0,0,0,0,0,0,0.5,0,0,0,12,0,0,0,0,0,0,0.5,0,0,12,8,0,12,0,0,0]
[52,1,9.5,0,0,0,16,0,0,0,0,0,0,0.5,0,0,0,12,0,0,0,0,0,0,0.5,0,0,12,8,0,12,0,0,0]
[53,1,9.6999999999999993,0,0,0,16,0,0,0,0,0,0,0.5,0,0,0,12,0,0,0,0,0,0,0.5,0,0,12,8,0,12,0,0,0]
[54,1,9.1,0,0,0,16,0,0,0,0,0,0,0.5,0,0,0,12,0,0,0,0,0,0,0.5,0,0,12,8,0,12,0,0,0]
[55,1,9.9,0,0,0,16,0,0,0,0,0,0,0.5,0,0,0,12,0,0,0,0,0,0,0.5,0,0,12,8,0,12,0,0,0]
[56,1,9,0,0,0,16,0,0,0,0,0,0,0.5,0,0,0,12,0,0,0,0,0,0,0.5,0,0,12,8,0,12,0,0,0]
[57,1,8.6999999999999993,0,0,0,16,0,0,0,0,0,0,0.5,0,0,0,12,0,0,0,0,0,0,0.5,0,0,12,8,0,12,0,0,0]
[58,1,10.1,0,0,0,16,0,0,0,0,0,0,0.5,0,0,0,12,0,0,0,0,0,0,0.5,0,0,12,8,0,12,0,0,0]
[59,1,9.9,0,0,0,16,0,0,0,0,0,0,0.5,0,0,0,12,0,0,0,0,0,0,0.5,0,0,12,8,0,12,0,0,0]
[60,1,10.1,0,0,0,16,0,0,0,0,0,0,0.5,0,0,0,12,0,0,0,0,0,0,0.5,0,0,12,8,0,12,0,0,0]
[61,1,10.8,0,0,0,16,0,0,0,0,0,0,0.5,0,0,0,12,0,0,0,0,0,0,0.5,0,0,12,8,0,12,0,0,0]
[62,1,10.199999999999999,0,0,0,16,0,0,0,0,0,0,0.5,0,0,0,12,0,0,0,0,0,0,0.5,0,0,12,8,0,12,0,0,0]
[63,1,10.7,0,0,0,16,0,0,0,0,0,0,0.5,0,0,0,12,0,0,0,0,0,0,0.5,0,0,12,8,0,12,0,0,0]
[64,1,10.3,0,0,0,16,0,0,0,0,0,0,0.5,0,0,0.30324610000000002,12,0,0,0,0,5.7466300000000002E-7,5.74663E-4,0.5,0,0.30353400616300003,12,8,0,12,0,0,0]
[65,1,9.1999999999999993,0,0,0,16,0,0,0,0,0,0,0.5,0,0,0.32679610000000003,12,{"$f":"0.05*O78","v":0},{"$f":"0.05*P78","v":0},0,0,5.7466300000000002E-7,5.74663E-4,0.5,0,0.32708400616300004,12,8,0,12,0,0,0]
[66,1,9.1,0,0,0,16,{"$f":"0.05*D79","v":0},{"$f":"0.05*E79","v":0},0,0,0,0,0.5,0,0,0,12,0,0,0,0,0,0,0.5,0,0,12,8,0,12,0,0,{"$f":"0.05*AF79","v":0}]
[67,1,9.3000000000000007,0,0,0,16,0,0,0,0,0,0,0.5,0,0,0,12,0,0,0,0,0,0,0.5,0,0,12,8,0,12,0,0,0]
[68,1,8.9,0,0,0,16,0,0,0,0,0,0,0.5,0,0,0,12,0,0,0,0,0,0,0.5,0,0,12,8,0,12,0,0,0]
[69,1,9,0,0,0,16,0,0,0,0,0,0,0.5,0,0,0,12,0,0,0,0,0,0,0.5,0,0,12,8,0,12,0,0,0]
[70,1,10.4,0,0,0,16,0,0,0,0,0,0,0.5,0,0,0,12,0,0,0,0,0,0,0.5,0,0,12,8,0,12,0,0,0]
[71,1,9.3000000000000007,0,0,0,16,0,0,0,0,0,0,0.5,0,0,0,12,0,0,0,0,0,0,0.5,0,0,12,8,0,12,0,0,0]
[72,1,8.8000000000000007,0,0,0,16,0,0,0,0,0,0,0.5,0,0,0,12,0,0,0,0,0,0,0.5,0,0,12,8,0,12,0,0,0]
[73,1,8.4,0,0,0,16,0,0,0,0,0,0,0.5,0,0,0,12,0,0,0,0,0,0,0.5,0,0,12,8,0,12,0,0,0]
[74,1,8.4,0,0,0,16,0,0,0,0,0,0,0.5,0,0,0,12,0,0,0,0,0,0,0.5,0,0,12,8,0,12,0,0,0]
[75,1,7.8,0,0,0,16,0,0,0,0,0,0,0.5,0,0,0,12,0,0,0,0,0,0,0.5,0,0,12,8,0,12,0,0,0]
[76,1,7.2,0,0,0,16,0,0,0,0,0,0,0.5,0,0,0,12,0,0,0,0,0,0,0.5,0,0,12,8,0,12,0,0,0]
[77,1,6.7,0,0,0,16,0,0,0,0,0,0,0.5,0,0,0,12,0,0,0,0,0,0,0.5,0,0,12,8,0,12,0,0,0]
[78,1,7.2,0,0,0,16,0,0,0,0,0,0,0.5,0,0,0,12,0,0,0,0,0,0,0.5,0,0,12,8,0,12,0,0,0]
[79,1,6.8,0,0,0,16,0,0,0,0,0,0,0.5,0,0,0,12,0,0,0,0,0,0,0.5,0,0,12,8,0,12,0,0,0]
[80,1,6.4,0,0,0,16,0,0,0,0,0,0,0.5,0,0,0,12,0,0,0,0,0,0,0.5,0,0,12,8,0,12,0,0,0]
[81,1,6.4,0,0,0,16,0,0,0,0,0,0,0.5,0,0,0,12,0,0,0,0,0,0,0.5,0,0,12,8,0,12,0,0,0]
[82,1,6.7,0,0,0,16,0,0,0,0,0,0,0.5,0,0,0,12,0,0,0,0,0,0,0.5,0,0,12,8,0,12,0,0,0]
[83,1,6.8,0,0,0,16,0,0,0,0,0,0,0.5,0,0,0,12,0,0,0,0,0,0,0.5,0,0,12,8,0,12,0,0,0]
[84,1,7.1,0,0,0,16,0,0,0,0,0,0,0.5,0,0,0,12,0,0,0,0,0,0,0.5,0,0,12,8,0,12,0,0,0]
[85,1,7.3,0,0,0,16,0,0,0,0,0,0,0.5,0,0,0,12,0,0,0,0,0,0,0.5,0,0,12,8,0,12,0,0,0]
[86,1,7.3,0,0,0,16,0,0,0,0,0,0,0.5,0,0,0,12,0,0,0,0,0,0,0.5,0,0,12,8,0,12,0,0,0]
[87,1,7.2,0,0,0,16,0,0,0,0,0,0,0.5,0,0,0,12,0,0,0,0,0,0,0.5,0,0,12,8,0,12,0,0,0]
[88,1,7,0,0,0,16,0,0,0,0,0,0,0.5,0,0,0,12,0,0,0,0,0,0,0.5,0,0,12,8,0,12,0,0,0]
[89,1,6.9,0,0,0,16,0,0,0,0,0,0,0.5,0,0,0,12,0,0,0,0,0,0,0.5,0,0,12,8,0,12,0,0,0]
[90,1,6.2,0,0,0,16,0,0,0,0,0,0,0.5,0,0,0,12,0,0,0,0,0,0,0.5,0,0,12,8,0,12,0,0,0]
[91,1,4,0,0,0,16,0,0,0,0,0,0,0.5,0,0,0,12,0,0,0,0,0,0,0.5,0,0,12,8,0,12,0,0,0]
[92,1,2.8,0,0,0,16,0,0,0,0,0,0,0.5,0,0,0,12,0,0,0,0,0,0,0.5,0,0,12,8,0,12,0,0,0]
[93,1,3.2,0,0,0,16,0,0,0,0,0,0,0.5,0,0,0,12,0,0,0,0,0,0,0.5,0,0,12,8,0,12,0,0,0]
[94,1,3,0,0,0,16,0,0,0,0,0,0,0.5,0,0,0,12,0,0,0,0,0,0,0.5,0,0,12,8,0,12,0,0,0]
[95,1,2.2000000000000002,0,0,0,16,0,0,0,0,0,0,0.5,0,0,0,12,0,0,0,0,0,0,0.5,0,0,12,8,0,12,0,0,0]
[96,1,1.9,0,0,0,16,0,0,0,0,0,0,0.5,0,0,0,12,0,0,0,0,0,0,0.5,0,0,12,8,0,12,0,0,0]
[97,1,0.9,0,0,0,16,0,0,0,0,0,0,0.5,0,0,0,12,0,0,0,0,0,0,0.5,0,0,12,8,0,12,0,0,0]
[98,1,0.2,0,0,0,16,0,0,0,0,0,0,0.5,0,0,0,12,0,0,0,0,0,0,0.5,0,0,12,8,0,12,0,0,0]
[99,1,-0.2,0,0,0,16,0,0,0,0,0,0,0.5,0,0,0,12,0,0,0,0,0,0,0.5,0,0,12,8,0,12,0,0,0]
[100,1,-0.5,0,0,0,16,0,0,0,0,0,0,0.5,0,0,0,12,0,0,0,0,0,0,0.5,0,0,12,8,0,12,0,0,0]
[101,1,-1,0,0,0,16,0,0,0,0,0,0,0.5,0,0,0,12,0,0,0,0,0,0,0.5,0,0,12,8,0,12,0,0,0]
[102,1,-1.3,0,0,0,16,0,0,0,0,0,0,0.5,0,0,0,12,0,0,0,0,0,0,0.5,0,0,12,8,0,12,0,0,0]
[103,1,-1.3,0,0,0,16,0,0,0,0,0,0,0.5,0,0,0,12,0,0,0,0,0,0,0.5,0,0,12,8,0,12,0,0,0]
[104,1,-1.7,0,0,0,16,0,0,0,0,0,0,0.5,0,0,0,12,0,0,0,0,0,0,0.5,0,0,12,8,0,12,0,0,0]
[105,1,-1.9,0,0,0,16,0,0,0,0,0,0,0.5,0,0,0,12,0,0,0,0,0,0,0.5,0,0,12,8,0,12,0,0,0]
[106,1,-1.7,0,0,0,16,0,0,0,0,0,0,0.5,0,0,0,12,0,0,0,0,0,0,0.5,0,0,12,8,0,12,0,0,0]
[107,1,-1.4,0,0,0,16,0,0,0,0,0,0,0.5,0,0,0,12,0,0,0,0,0,0,0.5,0,0,12,8,0,12,0,0,0]
[108,1,-1.5,0,0,0,16,0,0,0,0,0,0,0.5,0,0,0,12,0,0,0,0,0,0,0.5,0,0,12,8,0,12,0,0,0]
[109,1,-1.7,0,0,0,16,0,0,0,0,0,0,0.5,0,0,0,12,0,0,0,0,0,0,0.5,0,0,12,8,0,12,0,0,0]
[110,1,-1.7,0,0,0,16,0,0,0,0,0,0,0.5,0,0,0,12,0,0,0,0,0,0,0.5,0,0,12,8,0,12,0,0,0]
[111,1,-1.6,0,0,0,16,0,0,0,0,0,0,0.5,0,0,0,12,0,0,0,0,0,0,0.5,0,0,12,8,0,12,0,0,0]
[112,1,-1.7,0,0,0,16,0,0,0,0,0,0,0.5,0,0,0,12,0,0,0,0,0,0,0.5,0,0,12,8,0,12,0,0,0]
[113,1,-2,0,0,0,16,0,0,0,0,0,0,0.5,0,0,0,12,0,0,0,0,0,0,0.5,0,0,12,8,0,12,0,0,0]
[114,1,-2.4,0,0,0,16,0,0,0,0,0,0,0.5,0,0,0,12,0,0,0,0,0,0,0.5,0,0,12,8,0,12,0,0,0]
[115,1,-2.2999999999999998,0,0,0,16,0,0,0,0,0,0,0.5,0,0,0,12,0,0,0,0,0,0,0.5,0,0,12,8,0,12,0,0,0]
[116,1,-2,0,0,0,16,0,0,0,0,0,0,0.5,0,0,0,12,0,0,0,0,0,0,0.5,0,0,12,8,0,12,0,0,0]
[117,1,-2.2000000000000002,0,0,0,16,0,0,0,0,0,0,0.5,0,0,0,12,0,0,0,0,0,0,0.5,0,0,12,8,0,12,0,0,0]
[118,1,-2.2999999999999998,0,0,0,16,0,0,0,0,0,0,0.5,0,0,0,12,0,0,0,0,0,0,0.5,0,0,12,8,0,12,0,0,0]
[119,1,-2.1,0,0,0,16,0,0,0,0,0,0,0.5,0,0,0,12,0,0,0,0,0,0,0.5,0,0,12,8,0,12,0,0,0]
[120,1,-2.1,0,0,0,16,0,0,0,0,0,0,0.5,0,0,0,12,0,0,0,0,0,0,0.5,0,0,12,8,0,12,0,0,0]
[121,1,-2,0,0,0,16,0,0,0,0,0,0,0.5,0,0,0,12,0,0,0,0,0,0,0.5,0,0,12,8,0,12,0,0,0]
[122,1,-1.8,0,0,0,16,0,0,0,0,0,0,0.5,0,0,0,12,0,0,0,0,0,0,0.5,0,0,12,8,0,12,0,0,0]
[123,1,-1.7,0,0,0,16,0,0,0,0,0,0,0.5,0,0,0,12,0,0,0,0,0,0,0.5,0,0,12,8,0,12,0,0,0]
[124,1,-1.8,0,0,0,16,0,0,0,0,0,0,0.5,0,0,0,12,0,0,0,0,0,0,0.5,0,0,12,8,0,12,0,0,0]
[125,1,-2,0,0,0,16,0,0,0,0,0,0,0.5,0,0,0,12,0,0,0,0,0,0,0.5,0,0,12,8,0,12,0,0,0]
[126,1,-2.1,0,0,0,16,0,0,0,0,0,0,0.5,0,0,0,12,0,0,0,0,0,0,0.5,0,0,12,8,0,12,0,0,0]
[127,1,-2.1,0,0,0,16,0,0,0,0,0,0,0.5,0,0,0,12,0,0,0,0,0,0,0.5,0,0,12,8,0,12,0,0,0]
[128,1,-1.9,0,0,0,16,0,0,0,0,0,0,0.5,0,0,0,12,0,0,0,0,0,0,0.5,0,0,12,8,0,12,0,0,0]
[129,1,-1.8,0,0,0,16,0,0,0,0,0,0,0.5,0,0,0,12,{"$f":"0.05*O142","v":0},{"$f":"0.05*P142","v":0},0,0,0,0,0.5,0,0,12,8,0,12,0,0,0]
[130,1,-1.5,0,0,0,16,{"$f":"0.05*D143","v":0},{"$f":"0.05*E143","v":0},0,0,0,0,0.5,0,0,0,12,0,0,0,0,0,0,0.5,0,0,12,8,0,12,0,0,{"$f":"0.05*AF143","v":0}]
[131,1,-1.5,0,0,0,16,0,0,0,0,0,0,0.5,0,0,0,12,0,0,0,0,0,0,0.5,0,0,12,8,0,12,0,0,0]
[132,1,-1.3,0,0,0,16,0,0,0,0,0,0,0.5,0,0,0,12,0,0,0,0,0,0,0.5,0,0,12,8,0,12,0,0,0]
[133,1,-1.2,0,0,0,16,0,0,0,0,0,0,0.5,0,0,0,12,0,0,0,0,0,0,0.5,0,0,12,8,0,12,0,0,0]
[134,1,-1.1000000000000001,0,0,0,16,0,0,0,0,0,0,0.5,0,0,0,12,0,0,0,0,0,0,0.5,0,0,12,8,0,12,0,0,0]
[135,1,-1,0,0,0,16,0,0,0,0,0,0,0.5,0,0,0,12,0,0,0,0,0,0,0.5,0,0,12,8,0,12,0,0,0]
[136,1,-1,0,0,0,16,0,0,0,0,0,0,0.5,0,0,0,12,0,0,0,0,0,0,0.5,0,0,12,8,0,12,0,0,0]
[137,1,-1.2,0,0,0,16,0,0,0,0,0,0,0.5,0,0,0,12,0,0,0,0,0,0,0.5,0,0,12,8,0,12,0,0,0]
[138,1,-1.3,0,0,0,16,0,0,0,0,0,0,0.5,0,0,0,12,0,0,0,0,0,0,0.5,0,0,12,8,0,12,0,0,0]
[139,1,-1.6,0,0,0,16,0,0,0,0,0,0,0.5,0,0,0,12,0,0,0,0,0,0,0.5,0,0,12,8,0,12,0,0,0]
[140,1,-1.9,0,0,0,16,0,0,0,0,0,0,0.5,0,0,0,12,0,0,0,0,0,0,0.5,0,0,12,8,0,12,0,0,0]
[141,1,-2.1,0,0,0,16,0,0,0,0,0,0,0.5,0,0,0,12,0,0,0,0,0,0,0.5,0,0,12,8,0,12,0,0,0]
[142,1,-2.6,0,0,0,16,0,0,0,0,0,0,0.5,0,0,0,12,0,0,0,0,0,0,0.5,0,0,12,8,0,12,0,0,0]
[143,1,-2.8,0,0,0,16,0,0,0,0,0,0,0.5,0,0,0,12,0,0,0,0,0,0,0.5,0,0,12,8,0,12,0,0,0]
[144,1,-2.9,0,0,0,16,0,0,0,0,0,0,0.5,0,0,0,12,0,0,0,0,0,0,0.5,0,0,12,8,0,12,0,0,0]
[145,1,-3,0,0,0,16,0,0,0,0,0,0,0.5,0,0,0,12,0,0,0,0,0,0,0.5,0,0,12,8,0,12,0,0,0]
[146,1,-2.9,0,0,0,16,0,0,0,0,0,0,0.5,0,0,0,12,0,0,0,0,0,0,0.5,0,0,12,8,0,12,0,0,0]
[147,1,-2.9,0,0,0,16,0,0,0,0,0,0,0.5,0,0,0,12,0,0,0,0,0,0,0.5,0,0,12,8,0,12,0,0,0]
[148,1,-3,0,0,0,16,0,0,0,0,0,0,0.5,0,0,0,12,0,0,0,0,0,0,0.5,0,0,12,8,0,12,0,0,0]
[149,1,-3.4,0,0,0,16,0,0,0,0,0,0,0.5,0,0,0,12,0,0,0,0,0,0,0.5,0,0,12,8,0,12,0,0,0]
[150,1,-3.3,0,0,0,16,0,0,0,0,0,0,0.5,0,0,0,12,0,0,0,0,0,0,0.5,0,0,12,8,0,12,0,0,0]
[151,1,-3.4,0,0,0,16,0,0,0,0,0,0,0.5,0,0,0,12,0,0,0,0,0,0,0.5,0,0,12,8,0,12,0,0,0]
[152,1,-3.5,0,0,0,16,0,0,0,0,0,0,0.5,0,0,0,12,0,0,0,0,0,0,0.5,0,0,12,8,0,12,0,0,0]
[153,1,-3.4,0,0,0,16,0,0,0,0,0,0,0.5,0,0,0,12,0,0,0,0,0,0,0.5,0,0,12,8,0,12,0,0,0]
[154,1,-3.4,0,0,0,16,0,0,0,0,0,0,0.5,0,0,0,12,0,0,0,0,0,0,0.5,0,0,12,8,0,12,0,0,0]
[155,1,-3.4,0,0,0,16,0,0,0,0,0,0,0.5,0,0,0,12,0,0,0,0,0,0,0.5,0,0,12,8,0,12,0,0,0]
[156,1,-2.8,0,0,0,16,0,0,0,0,0,0,0.5,0,0,0,12,0,0,0,0,0,0,0.5,0,0,12,8,0,12,0,0,0]
[157,1,-2.7,0,0,0,16,0,0,0,0,0,0,0.5,0,0,0,12,0,0,0,0,0,0,0.5,0,0,12,8,0,12,0,0,0]
[158,1,-2.8,0,0,0,16,0,0,0,0,0,0,0.5,0,0,0,12,0,0,0,0,0,0,0.5,0,0,12,8,0,12,0,0,0]
[159,1,-2.6,0,0,0,16,0,0,0,0,0,0,0.5,0,0,0,12,0,0,0,0,0,0,0.5,0,0,12,8,0,12,0,0,0]
[160,1,-2.9,0,0,0,16,0,0,0,0,0,0,0.5,0,0,0,12,0,0,0,0,0,0,0.5,0,0,12,8,0,12,0,0,0]
[161,1,-3.6,0,0,0,16,0,0,0,0,0,0,0.5,0,0,0,12,0,0,0,0,0,0,0.5,0,0,12,8,0,12,0,0,0]
[162,1,-3.6,0,0,0,16,0,0,0,0,0,0,0.5,0,0,0,12,0,0,0,0,0,0,0.5,0,0,12,8,0,12,0,0,0]
[163,1,-4.4000000000000004,0,0,0,16,0,0,0,0,0,0,0.5,0,0,0,12,0,0,0,0,0,0,0.5,0,0,12,8,0,12,0,0,0]
[164,1,-4.7,0,0,0,16,0,0,0,0,0,0,0.5,0,0,0,12,0,0,0,0,0,0,0.5,0,0,12,8,0,12,0,0,0]
[165,1,-5.0999999999999996,0,0,0,16,0,0,0,0,0,0,0.5,0,0,0,12,0,0,0,0,0,0,0.5,0,0,12,8,0,12,0,0,0]
[166,1,-4.8,0,0,0,16,0,0,0,0,0,0,0.5,0,0,0,12,0,0,0,0,0,0,0.5,0,0,12,8,0,12,0,0,0]
[167,1,-4.8,0,0,0,16,0,0,0,0,0,0,0.5,0,0,0,12,0,0,0,0,0,0,0.5,0,0,12,8,0,12,0,0,0]
[168,1,-5,0,0,0,16,0,0,0,0,0,0,0.5,0,0,0,12,0,0,0,0,0,0,0.5,0,0,12,8,0,12,0,0,0]
[169,1,-5.0999999999999996,0,0,0,16,0,0,0,0,0,0,0.5,0,0,0,12,0,0,0,0,0,0,0.5,0,0,12,8,0,12,0,0,0]
[170,1,-5.2,0,0,0,16,0,0,0,0,0,0,0.5,0,0,0,12,0,0,0,0,0,0,0.5,0,0,12,8,0,12,0,0,0]
[171,1,-5.3,0,0,0,16,0,0,0,0,0,0,0.5,0,0,0,12,0,0,0,0,0,0,0.5,0,0,12,8,0,12,0,0,0]
[172,1,-5.4,0,0,0,16,0,0,0,0,0,0,0.5,0,0,0,12,0,0,0,0,0,0,0.5,0,0,12,8,0,12,0,0,0]
[173,1,-5.5,0,0,0,16,0,0,0,0,0,0,0.5,0,0,0,12,0,0,0,0,0,0,0.5,0,0,12,8,0,12,0,0,0]
[174,1,-5.3,0,0,0,16,0,0,0,0,0,0,0.5,0,0,0,12,0,0,0,0,0,0,0.5,0,0,12,8,0,12,0,0,0]
[175,1,-5.4,0,0,0,16,0,0,0,0,0,0,0.5,0,0,0,12,0,0,0,0,0,0,0.5,0,0,12,8,0,12,0,0,0]
[176,1,-5.4,0,0,0,16,0,0,0,0,0,0,0.5,0,0,0,12,0,0,0,0,0,0,0.5,0,0,12,8,0,12,0,0,0]
[177,1,-5.4,0,0,0,16,0,0,0,0,0,0,0.5,0,0,0,12,0,0,0,0,0,0,0.5,0,0,12,8,0,12,0,0,0]
[178,1,-5,0,0,0,16,0,0,0,0,0,0,0.5,0,0,0,12,0,0,0,0,0,0,0.5,0,0,12,8,0,12,0,0,0]
[179,1,-5.0999999999999996,0,0,0,16,0,0,0,0,0,0,0.5,0,0,0,12,0,0,0,0,0,0,0.5,0,0,12,8,0,12,0,0,0]
[180,1,-4.7,0,0,0,16,0,0,0,0,0,0,0.5,0,0,0,12,0,0,0,0,0,0,0.5,0,0,12,8,0,12,0,0,0]
[181,1,-4.3,0,0,0,16,0,0,0,0,0,0,0.5,0,0,0,12,0,0,0,0,0,0,0.5,0,0,12,8,0,12,0,0,0]
[182,1,-4,0,0,0,16,0,0,0,0,0,0,0.5,0,0,0,12,0,0,0,0,0,0,0.5,0,0,12,8,0,12,0,0,0]
[183,1,-3.8,0,0,0,16,0,0,0,0,0,0,0.5,0,0,0,12,0,0,0,0,0,0,0.5,0,0,12,8,0,12,0,0,0]
[184,1,-3.7,0,0,0,16,0,0,0,0,0,0,0.5,0,0,0,12,0,0,0,0,0,0,0.5,0,0,12,8,0,12,0,0,0]
[185,1,-3.7,0,0,0,16,0,0,0,0,0,0,0.5,0,0,0,12,0,0,0,0,0,0,0.5,0,0,12,8,0,12,0,0,0]
[186,1,-3.7,0,0,0,16,0,0,0,0,0,0,0.5,0,0,0,12,0,0,0,0,0,0,0.5,0,0,12,8,0,12,0,0,0]
[187,1,-4.2,0,0,0,16,0,0,0,0,0,0,0.5,0,0,0,12,0,0,0,0,0,0,0.5,0,0,12,8,0,12,0,0,0]
[188,1,-4.5999999999999996,0,0,0,16,0,0,0,0,0,0,0.5,0,0,0,12,0,0,0,0,0,0,0.5,0,0,12,8,0,12,0,0,0]
[189,1,-5.0999999999999996,0,0,0,16,0,0,0,0,0,0,0.5,0,0,0,12,0,0,0,0,0,0,0.5,0,0,12,8,0,12,0,0,0]
[190,1,-5.2,0,0,0,16,0,0,0,0,0,0,0.5,0,0,0,12,0,0,0,0,0,0,0.5,0,0,12,8,0,12,0,0,0]
[191,1,-5.2,0,0,0,16,0,0,0,0,0,0,0.5,0,0,0,12,0,0,0,0,0,0,0.5,0,0,12,8,0,12,0,0,0]
[192,1,-5.4,0,0,0,16,0,0,0,0,0,0,0.5,0,0,0,12,0,0,0,0,0,0,0.5,0,0,12,8,0,12,0,0,0]
[193,1,-5.8,0,0,0,16,0,0,0,0,0,0,0.5,0,0,0,12,{"$f":"0.05*O206","v":0},{"$f":"0.05*P206","v":0},0,0,0,0,0.5,0,0,12,8,0,12,0,0,0]
[194,1,-5.9,0,0,0,16,{"$f":"0.05*D207","v":0},{"$f":"0.05*E207","v":0},0,0,0,0,0.5,0,0,0,12,0,0,0,0,0,0,0.5,0,0,12,8,0,12,0,0,{"$f":"0.05*AF207","v":0}]
[195,1,-5.9,0,0,0,16,0,0,0,0,0,0,0.5,0,0,0,12,0,0,0,0,0,0,0.5,0,0,12,8,0,12,0,0,0]
[196,1,-6,0,0,0,16,0,0,0,0,0,0,0.5,0,0,0,12,0,0,0,0,0,0,0.5,0,0,12,8,0,12,0,0,0]
[197,1,-5.9,0,0,0,16,0,0,0,0,0,0,0.5,0,0,0,12,0,0,0,0,0,0,0.5,0,0,12,8,0,12,0,0,0]
[198,1,-5.6,0,0,0,16,0,0,0,0,0,0,0.5,0,0,0,12,0,0,0,0,0,0,0.5,0,0,12,8,0,12,0,0,0]
[199,1,-5.4,0,0,0,16,0,0,0,0,0,0,0.5,0,0,0,12,0,0,0,0,0,0,0.5,0,0,12,8,0,12,0,0,0]
[200,1,-5.2,0,0,0,16,0,0,0,0,0,0,0.5,0,0,0,12,0,0,0,0,0,0,0.5,0,0,12,8,0,12,0,0,0]
[201,1,-5.2,0,0,0,16,0,0,0,0,0,0,0.5,0,0,0,12,0,0,0,0,0,0,0.5,0,0,12,8,0,12,0,0,0]
[202,1,-5.0999999999999996,0,0,0,16,0,0,0,0,0,0,0.5,0,0,0,12,0,0,0,0,0,0,0.5,0,0,12,8,0,12,0,0,0]
[203,1,-4.9000000000000004,0,0,0,16,0,0,0,0,0,0,0.5,0,0,0,12,0,0,0,0,0,0,0.5,0,0,12,8,0,12,0,0,0]
[204,1,-4.9000000000000004,0,0,0,16,0,0,0,0,0,0,0.5,0,0,0,12,0,0,0,0,0,0,0.5,0,0,12,8,0,12,0,0,0]
[205,1,-4.8,0,0,0,16,0,0,0,0,0,0,0.5,0,0,0,12,0,0,0,0,0,0,0.5,0,0,12,8,0,12,0,0,0]
[206,1,-4.9000000000000004,0,0,0,16,0,0,0,0,0,0,0.5,0,0,0,12,0,0,0,0,0,0,0.5,0,0,12,8,0,12,0,0,0]
[207,1,-5,0,0,0,16,0,0,0,0,0,0,0.5,0,0,0,12,0,0,0,0,0,0,0.5,0,0,12,8,0,12,0,0,0]
[208,1,-5.0999999999999996,0,0,0,16,0,0,0,0,0,0,0.5,0,0,0,12,0,0,0,0,0,0,0.5,0,0,12,8,0,12,0,0,0]
[209,1,-5.3,0,0,0,16,0,0,0,0,0,0,0.5,0,0,0,12,0,0,0,0,0,0,0.5,0,0,12,8,0,12,0,0,0]
[210,1,-5.5,0,0,0,16,0,0,0,0,0,0,0.5,0,0,0,12,0,0,0,0,0,0,0.5,0,0,12,8,0,12,0,0,0]
[211,1,-5.6,0,0,0,16,0,0,0,0,0,0,0.5,0,0,0,12,0,0,0,0,0,0,0.5,0,0,12,8,0,12,0,0,0]
[212,1,-5.6,0,0,0,16,0,0,0,0,0,0,0.5,0,0,0,12,0,0,0,0,0,0,0.5,0,0,12,8,0,12,0,0,0]
[213,1,-5.7,0,0,0,16,0,0,0,0,0,0,0.5,0,0,0,12,0,0,0,0,0,0,0.5,0,0,12,8,0,12,0,0,0]
[214,1,-6,0,0,0,16,0,0,0,0,0,0,0.5,0,0,0,12,0,0,0,0,0,0,0.5,0,0,12,8,0,12,0,0,0]
[215,1,-6.2,0,0,0,16,0,0,0,0,0,0,0.5,0,0,0,12,0,0,0,0,0,0,0.5,0,0,12,8,0,12,0,0,0]
[216,1,-6.4,0,0,0,16,0,0,0,0,0,0,0.5,0,0,0,12,0,0,0,0,0,0,0.5,0,0,12,8,0,12,0,0,0]
[217,1,-6.6,0,0,0,16,0,0,0,0,0,0,0.5,0,0,0,12,0,0,0,0,0,0,0.5,0,0,12,8,0,12,0,0,0]
[218,1,-6.7,0,0,0,16,0,0,0,0,0,0,0.5,0,0,0,12,0,0,0,0,0,0,0.5,0,0,12,8,0,12,0,0,0]
[219,1,-6.9,0,0,0,16,0,0,0,0,0,0,0.5,0,0,0,12,0,0,0,0,0,0,0.5,0,0,12,8,0,12,0,0,0]
[220,1,-7,0,0,0,16,0,0,0,0,0,0,0.5,0,0,0,12,0,0,0,0,0,0,0.5,0,0,12,8,0,12,0,0,0]
[221,1,-7,0,0,0,16,0,0,0,0,0,0,0.5,0,0,0,12,0,0,0,0,0,0,0.5,0,0,12,8,0,12,0,0,0]
[222,1,-7,0,0,0,16,0,0,0,0,0,0,0.5,0,0,0,12,0,0,0,0,0,0,0.5,0,0,12,8,0,12,0,0,0]
[223,1,-7.1,0,0,0,16,0,0,0,0,0,0,0.5,0,0,0,12,0,0,0,0,0,0,0.5,0,0,12,8,0,12,0,0,0]
[224,1,-7.2,0,0,0,16,0,0,0,0,0,0,0.5,0,0,0,12,0,0,0,0,0,0,0.5,0,0,12,8,0,12,0,0,0]
[225,1,-7.3,0,0,0,16,0,0,0,0,0,0,0.5,0,0,0,12,0,0,0,0,0,0,0.5,0,0,12,8,0,12,0,0,0]
[226,1,-7.3,0,0,0,16,0,0,0,0,0,0,0.5,0,0,0,12,0,0,0,0,0,0,0.5,0,0,12,8,0,12,0,0,0]
[227,1,-7,0,0,0,16,0,0,0,0,0,0,0.5,0,0,0,12,0,0,0,0,0,0,0.5,0,0,12,8,0,12,0,0,0]
[228,1,-6.9,0,0,0,16,0,0,0,0,0,0,0.5,0,0,0,12,0,0,0,0,0,0,0.5,0,0,12,8,0,12,0,0,0]
[229,1,-6.7,0,0,0,16,0,0,0,0,0,0,0.5,0,0,0,12,0,0,0,0,0,0,0.5,0,0,12,8,0,12,0,0,0]
[230,1,-6.6,0,0,0,16,0,0,0,0,0,0,0.5,0,0,0,12,0,0,0,0,0,0,0.5,0,0,12,8,0,12,0,0,0]
[231,1,-6.4,0,0,0,16,0,0,0,0,0,0,0.5,0,0,0,12,0,0,0,0,0,0,0.5,0,0,12,8,0,12,0,0,0]
[232,1,-6.6,0,0,0,16,0,0,0,0,0,0,0.5,0,0,0,12,0,0,0,0,0,0,0.5,0,0,12,8,0,12,0,0,0]
[233,1,-6.8,0,0,0,16,0,0,0,0,0,0,0.5,0,0,0,12,0,0,0,0,0,0,0.5,0,0,12,8,0,12,0,0,0]
[234,1,-6.7,0,0,0,16,0,0,0,0,0,0,0.5,0,0,0,12,0,0,0,0,0,0,0.5,0,0,12,8,0,12,0,0,0]
[235,1,-6.6,0,0,0,16,0,0,0,0,0,0,0.5,0,0,0,12,0,0,0,0,0,0,0.5,0,0,12,8,0,12,0,0,0]
[236,1,-6.6,0,0,0,16,0,0,0,0,0,0,0.5,0,0,0,12,0,0,0,0,0,0,0.5,0,0,12,8,0,12,0,0,0]
[237,1,-6.6,0,0,0,16,0,0,0,0,0,0,0.5,0,0,0,12,0,0,0,0,0,0,0.5,0,0,12,8,0,12,0,0,0]
[238,1,-6.5,0,0,0,16,0,0,0,0,0,0,0.5,0,0,0,12,0,0,0,0,0,0,0.5,0,0,12,8,0,12,0,0,0]
[239,1,-6.4,0,0,0,16,0,0,0,0,0,0,0.5,0,0,0,12,0,0,0,0,0,0,0.5,0,0,12,8,0,12,0,0,0]
[240,1,-6.3,0,0,0,16,0,0,0,0,0,0,0.5,0,0,0,12,0,0,0,0,0,0,0.5,0,0,12,8,0,12,0,0,0]
[241,1,-6.1,0,0,0,16,0,0,0,0,0,0,0.5,0,0,0,12,0,0,0,0,0,0,0.5,0,0,12,8,0,12,0,0,0]
[242,1,-6.1,0,0,0,16,0,0,0,0,0,0,0.5,0,0,0,12,0,0,0,0,0,0,0.5,0,0,12,8,0,12,0,0,0]
[243,1,-5.9,0,0,0,16,0,0,0,0,0,0,0.5,0,0,0,12,0,0,0,0,0,0,0.5,0,0,12,8,0,12,0,0,0]
[244,1,-5.9,0,0,0,16,0,0,0,0,0,0,0.5,0,0,0,12,0,0,0,0,0,0,0.5,0,0,12,8,0,12,0,0,0]
[245,1,-6,0,0,0,16,0,0,0,0,0,0,0.5,0,0,0,12,0,0,0,0,0,0,0.5,0,0,12,8,0,12,0,0,0]
[246,1,-6.1,0,0,0,16,0,0,0,0,0,0,0.5,0,0,0,12,0,0,0,0,0,0,0.5,0,0,12,8,0,12,0,0,0]
[247,1,-6.1,0,0,0,16,0,0,0,0,0,0,0.5,0,0,0,12,0,0,0,0,0,0,0.5,0,0,12,8,0,12,0,0,0]
[248,1,-6.1,0,0,0,16,0,0,0,0,0,0,0.5,0,0,0,12,0,0,0,0,0,0,0.5,0,0,12,8,0,12,0,0,0]
[249,1,-6,0,0,0,16,0,0,0,0,0,0,0.5,0,0,0,12,0,0,0,0,0,0,0.5,0,0,12,8,0,12,0,0,0]
[250,1,-5.7,0,0,0,16,0,0,0,0,0,0,0.5,0,0,0,12,0,0,0,0,0,0,0.5,0,0,12,8,0,12,0,0,0]
[251,1,-5.8,0,0,0,16,0,0,0,0,0,0,0.5,0,0,0,12,0,0,0,0,0,0,0.5,0,0,12,8,0,12,0,0,0]
[252,1,-5.7,0,0,0,16,0,0,0,0,0,0,0.5,0,0,0,12,0,0,0,0,0,0,0.5,0,0,12,8,0,12,0,0,0]
[253,1,-5.6,0,0,0,16,0,0,0,0,0,0,0.5,0,0,0,12,0,0,0,0,0,0,0.5,0,0,12,8,0,12,0,0,0]
[254,1,-5.2,0,0,0,16,0,0,0,0,0,0,0.5,0,0,0,12,0,0,0,0,0,0,0.5,0,0,12,8,0,12,0,0,0]
[255,1,-4.9000000000000004,0,0,0,16,0,0,0,0,0,0,0.5,0,0,0,12,0,0,0,0,0,0,0.5,0,0,12,8,0,12,0,0,0]
[256,1,-4.9000000000000004,0,0,0,16,0,0,0,0,0,0,0.5,0,0,0,12,0,0,0,0,0,0,0.5,0,0,12,8,0,12,0,0,0]
[257,1,-4.7,0,0,0,16,0,0,0,0,0,0,0.5,0,0,0,12,{"$f":"0.05*O270","v":0},{"$f":"0.05*P270","v":0},0,0,0,0,0.5,0,0,12,8,0,12,0,0,0]
[258,1,-4.4000000000000004,0,0,0,16,{"$f":"0.05*D271","v":0},{"$f":"0.05*E271","v":0},0,0,0,0,0.5,0,0,0,12,0,0,0,0,0,0,0.5,0,0,12,8,0,12,0,0,{"$f":"0.05*AF271","v":0}]
[259,1,-4.3,0,0,0,16,0,0,0,0,0,0,0.5,0,0,0,12,0,0,0,0,0,0,0.5,0,0,12,8,0,12,0,0,0]
[260,1,-4.3,0,0,0,16,0,0,0,0,0,0,0.5,0,0,0,12,0,0,0,0,0,0,0.5,0,0,12,8,0,12,0,0,0]
[261,1,-4.3,0,0,0,16,0,0,0,0,0,0,0.5,0,0,0,12,0,0,0,0,0,0,0.5,0,0,12,8,0,12,0,0,0]
[262,1,-4.5999999999999996,0,0,0,16,0,0,0,0,0,0,0.5,0,0,0,12,0,0,0,0,0,0,0.5,0,0,12,8,0,12,0,0,0]
[263,1,-5,0,0,0,16,0,0,0,0,0,0,0.5,0,0,0,12,0,0,0,0,0,0,0.5,0,0,12,8,0,12,0,0,0]
[264,1,-5.0999999999999996,0,0,0,16,0,0,0,0,0,0,0.5,0,0,0,12,0,0,0,0,0,0,0.5,0,0,12,8,0,12,0,0,0]
[265,1,-5.2,0,0,0,16,0,0,0,0,0,0,0.5,0,0,0,12,0,0,0,0,0,0,0.5,0,0,12,8,0,12,0,0,0]
[266,1,-5.4,0,0,0,16,0,0,0,0,0,0,0.5,0,0,0,12,0,0,0,0,0,0,0.5,0,0,12,8,0,12,0,0,0]
[267,1,-5.3,0,0,0,16,0,0,0,0,0,0,0.5,0,0,0,12,0,0,0,0,0,0,0.5,0,0,12,8,0,12,0,0,0]
[268,1,-5.6,0,0,0,16,0,0,0,0,0,0,0.5,0,0,0,12,0,0,0,0,0,0,0.5,0,0,12,8,0,12,0,0,0]
[269,1,-6,0,0,0,16,0,0,0,0,0,0,0.5,0,0,0,12,0,0,0,0,0,0,0.5,0,0,12,8,0,12,0,0,0]
[270,1,-6.3,0,0,0,16,0,0,0,0,0,0,0.5,0,0,0,12,0,0,0,0,0,0,0.5,0,0,12,8,0,12,0,0,0]
[271,1,-6.8,0,0,0,16,0,0,0,0,0,0,0.5,0,0,0,12,0,0,0,0,0,0,0.5,0,0,12,8,0,12,0,0,0]
[272,1,-7,0,0,0,16,0,0,0,0,0,0,0.5,0,0,0,12,0,0,0,0,0,0,0.5,0,0,12,8,0,12,0,0,0]
[273,1,-6.9,0,0,0,16,0,0,0,0,0,0,0.5,0,0,0,12,0,0,0,0,0,0,0.5,0,0,12,8,0,12,0,0,0]
[274,1,-6.7,0,0,0,16,0,0,0,0,0,0,0.5,0,0,0,12,0,0,0,0,0,0,0.5,0,0,12,8,0,12,0,0,0]
[275,1,-6.4,0,0,0,16,0,0,0,0,0,0,0.5,0,0,0,12,0,0,0,0,0,0,0.5,0,0,12,8,0,12,0,0,0]
[276,1,-6.2,0,0,0,16,0,0,0,0,0,0,0.5,0,0,0,12,0,0,0,0,0,0,0.5,0,0,12,8,0,12,0,0,0]
[277,1,-6,0,0,0,16,0,0,0,0,0,0,0.5,0,0,0,12,0,0,0,0,0,0,0.5,0,0,12,8,0,12,0,0,0]
[278,1,-5.9,0,0,0,16,0,0,0,0,0,0,0.5,0,0,0,12,0,0,0,0,0,0,0.5,0,0,12,8,0,12,0,0,0]
[279,1,-5.5,0,0,0,16,0,0,0,0,0,0,0.5,0,0,0,12,0,0,0,0,0,0,0.5,0,0,12,8,0,12,0,0,0]
[280,1,-5.4,0,0,0,16,0,0,0,0,0,0,0.5,0,0,0,12,0,0,0,0,0,0,0.5,0,0,12,8,0,12,0,0,0]
[281,1,-5.3,0,0,0,16,0,0,0,0,0,0,0.5,0,0,0,12,0,0,0,0,0,0,0.5,0,0,12,8,0,12,0,0,0]
[282,1,-5.4,0,0,0,16,0,0,0,0,0,0,0.5,0,0,0,12,0,0,0,0,0,0,0.5,0,0,12,8,0,12,0,0,0]
[283,1,-5.6,0,0,0,16,0,0,0,0,0,0,0.5,0,0,0,12,0,0,0,0,0,0,0.5,0,0,12,8,0,12,0,0,0]
[284,1,-6.1,0,0,0,16,0,0,0,0,0,0,0.5,0,0,0,12,0,0,0,0,0,0,0.5,0,0,12,8,0,12,0,0,0]
[285,1,-6,0,0,0,16,0,0,0,0,0,0,0.5,0,0,0,12,0,0,0,0,0,0,0.5,0,0,12,8,0,12,0,0,0]
[286,1,-6.1,0,0,0,16,0,0,0,0,0,0,0.5,0,0,0,12,0,0,0,0,0,0,0.5,0,0,12,8,0,12,0,0,0]
[287,1,-6,0,0,0,16,0,0,0,0,0,0,0.5,0,0,0,12,0,0,0,0,0,0,0.5,0,0,12,8,0,12,0,0,0]
[288,1,-6,0,0,0,16,0,0,0,0,0,0,0.5,0,0,0,12,0,0,0,0,0,0,0.5,0,0,12,8,0,12,0,0,0]
[289,1,-6.3,0,0,0,16,0,0,0,0,0,0,0.5,0,0,0,12,0,0,0,0,0,0,0.5,0,0,12,8,0,12,0,0,0]
[290,1,-6.8,0,0,0,16,0,0,0,0,0,0,0.5,0,0,0,12,0,0,0,0,0,0,0.5,0,0,12,8,0,12,0,0,0]
[291,1,-7.6,0,0,0,16,0,0,0,0,0,0,0.5,0,0,0,12,0,0,0,0,0,0,0.5,0,0,12,8,0,12,0,0,0]
[292,1,-7.9,0,0,0,16,0,0,0,0,0,0,0.5,0,0,0,12,0,0,0,0,0,0,0.5,0,0,12,8,0,12,0,0,0]
[293,1,-8.5,0,0,0,16,0,0,0,0,0,0,0.5,0,0,0,12,0,0,0,0,0,0,0.5,0,0,12,8,0,12,0,0,0]
[294,1,-8.1999999999999993,0,0,0,16,0,0,0,0,0,0,0.5,0,0,0,12,0,0,0,0,0,0,0.5,0,0,12,8,0,12,0,0,0]
[295,1,-8.1,0,0,0,16,0,0,0,0,0,0,0.5,0,0,0,12,0,0,0,0,0,0,0.5,0,0,12,8,0,12,0,0,0]
[296,1,-8,0,0,0,16,0,0,0,0,0,0,0.5,0,0,0,12,0,0,0,0,0,0,0.5,0,0,12,8,0,12,0,0,0]
[297,1,-6.7,0,0,0,16,0,0,0,0,0,0,0.5,0,0,0,12,0,0,0,0,0,0,0.5,0,0,12,8,0,12,0,0,0]
[298,1,-5.5,0,0,0,16,0,0,0,0,0,0,0.5,0,0,0,12,0,0,0,0,0,0,0.5,0,0,12,8,0,12,0,0,0]
[299,1,-4.3,0,0,0,16,0,0,0,0,0,0,0.5,0,0,0,12,0,0,0,0,0,0,0.5,0,0,12,8,0,12,0,0,0]
[300,1,-3.5,0,0,0,16,0,0,0,0,0,0,0.5,0,0,0,12,0,0,0,0,0,0,0.5,0,0,12,8,0,12,0,0,0]
[301,1,-2.7,0,0,0,16,0,0,0,0,0,0,0.5,0,0,0,12,0,0,0,0,0,0,0.5,0,0,12,8,0,12,0,0,0]
[302,1,-2,0,0,0,16,0,0,0,0,0,0,0.5,0,0,0,12,0,0,0,0,0,0,0.5,0,0,12,8,0,12,0,0,0]
[303,1,-1.6,0,0,0,16,0,0,0,0,0,0,0.5,0,0,0,12,0,0,0,0,0,0,0.5,0,0,12,8,0,12,0,0,0]
[304,1,-1.3,0,0,0,16,0,0,0,0,0,0,0.5,0,0,0,12,0,0,0,0,0,0,0.5,0,0,12,8,0,12,0,0,0]
[305,1,-1.2,0,0,0,16,0,0,0,0,0,0,0.5,0,0,0,12,0,0,0,0,0,0,0.5,0,0,12,8,0,12,0,0,0]
[306,1,-1.7,0,0,0,16,0,0,0,0,0,0,0.5,0,0,0,12,0,0,0,0,0,0,0.5,0,0,12,8,0,12,0,0,0]
[307,1,-1.8,0,0,0,16,0,0,0,0,0,0,0.5,0,0,0,12,0,0,0,0,0,0,0.5,0,0,12,8,0,12,0,0,0]
[308,1,-1.7,0,0,0,16,0,0,0,0,0,0,0.5,0,0,0,12,0,0,0,0,0,0,0.5,0,0,12,8,0,12,0,0,0]
[309,1,-1.6,0,0,0,16,0,0,0,0,0,0,0.5,0,0,0,12,0,0,0,0,0,0,0.5,0,0,12,8,0,12,0,0,0]
[310,1,-1.4,0,0,0,16,0,0,0,0,0,0,0.5,0,0,0,12,0,0,0,0,0,0,0.5,0,0,12,8,0,12,0,0,0]
[311,1,-1.5,0,0,0,16,0,0,0,0,0,0,0.5,0,0,0,12,0,0,0,0,0,0,0.5,0,0,12,8,0,12,0,0,0]
[312,1,-1.4,0,0,0,16,0,0,0,0,0,0,0.5,0,0,0,12,0,0,0,0,0,0,0.5,0,0,12,8,0,12,0,0,0]
[313,1,-1.3,0,0,0,16,0,0,0,0,0,0,0.5,0,0,0,12,0,0,0,0,0,0,0.5,0,0,12,8,0,12,0,0,0]
[314,1,-1.2,0,0,0,16,0,0,0,0,0,0,0.5,0,0,0,12,0,0,0,0,0,0,0.5,0,0,12,8,0,12,0,0,0]
[315,1,-1,0,0,0,16,0,0,0,0,0,0,0.5,0,0,0,12,0,0,0,0,0,0,0.5,0,0,12,8,0,12,0,0,0]
[316,1,-1,0,0,0,16,0,0,0,0,0,0,0.5,0,0,0,12,0,0,0,0,0,0,0.5,0,0,12,8,0,12,0,0,0]
[317,1,-0.7,0,0,0,16,0,0,0,0,0,0,0.5,0,0,0,12,0,0,0,0,0,0,0.5,0,0,12,8,0,12,0,0,0]
[318,1,-0.8,0,0,0,16,0,0,0,0,0,0,0.5,0,0,0,12,0,0,0,0,0,0,0.5,0,0,12,8,0,12,0,0,0]
[319,1,-1,0,0,0,16,0,0,0,0,0,0,0.5,0,0,0,12,0,0,0,0,0,0,0.5,0,0,12,8,0,12,0,0,0]
[320,1,-0.9,0,0,0,16,0,0,0,0,0,0,0.5,0,0,0,12,0,0,0,0,0,0,0.5,0,0,12,8,0,12,0,0,0]
[321,1,0.1,0,0,0,16,0,0,0,0,0,0,0.5,0,0,0,12,{"$f":"0.05*O334","v":0},{"$f":"0.05*P334","v":0},0,0,0,0,0.5,0,0,12,8,0,12,0,0,0]
[322,1,0.9,0,0,0,16,{"$f":"0.05*D335","v":0},{"$f":"0.05*E335","v":0},0,0,0,0,0.5,0,0,0,12,0,0,0,0,0,0,0.5,0,0,12,8,0,12,0,0,{"$f":"0.05*AF335","v":0}]
[323,1,1.3,0,0,0,16,0,0,0,0,0,0,0.5,0,0,0,12,0,0,0,0,0,0,0.5,0,0,12,8,0,12,0,0,0]
[324,1,1.7,0,0,0,16,0,0,0,0,0,0,0.5,0,0,0,12,0,0,0,0,0,0,0.5,0,0,12,8,0,12,0,0,0]
[325,1,2.6,0,0,0,16,0,0,0,0,0,0,0.5,0,0,0,12,0,0,0,0,0,0,0.5,0,0,12,8,0,12,0,0,0]
[326,1,3.6,0,0,0,16,0,0,0,0,0,0,0.5,0,0,0,12,0,0,0,0,0,0,0.5,0,0,12,8,0,12,0,0,0]
[327,1,3.3,0,0,0,16,0,0,0,0,0,0,0.5,0,0,0,12,0,0,0,0,0,0,0.5,0,0,12,8,0,12,0,0,0]
[328,1,2.9,0,0,0,16,0,0,0,0,0,0,0.5,0,0,0,12,0,0,0,0,0,0,0.5,0,0,12,8,0,12,0,0,0]
[329,1,1.7,0,0,0,16,0,0,0,0,0,0,0.5,0,0,0,12,0,0,0,0,0,0,0.5,0,0,12,8,0,12,0,0,0]
[330,1,0.3,0,0,0,16,0,0,0,0,0,0,0.5,0,0,0,12,0,0,0,0,0,0,0.5,0,0,12,8,0,12,0,0,0]
[331,1,0.5,0,0,0,16,0,0,0,0,0,0,0.5,0,0,0,12,0,0,0,0,0,0,0.5,0,0,12,8,0,12,0,0,0]
[332,1,0.7,0,0,0,16,0,0,0,0,0,0,0.5,0,0,0,12,0,0,0,0,0,0,0.5,0,0,12,8,0,12,0,0,0]
[333,1,0.6,0,0,0,16,0,0,0,0,0,0,0.5,0,0,0,12,0,0,0,0,0,0,0.5,0,0,12,8,0,12,0,0,0]
[334,1,0.6,0,0,0,16,0,0,0,0,0,0,0.5,0,0,0,12,0,0,0,0,0,0,0.5,0,0,12,8,0,12,0,0,0]
[335,1,0.7,0,0,0,16,0,0,0,0,0,0,0.5,0,0,0,12,0,0,0,0,0,0,0.5,0,0,12,8,0,12,0,0,0]
[336,1,0.8,0,0,0,16,0,0,0,0,0,0,0.5,0,0,0,12,0,0,0,0,0,0,0.5,0,0,12,8,0,12,0,0,0]
[337,1,1,0,0,0,16,0,0,0,0,0,0,0.5,0,0,0,12,0,0,0,0,0,0,0.5,0,0,12,8,0,12,0,0,0]
[338,1,1,0,0,0,16,0,0,0,0,0,0,0.5,0,0,0,12,0,0,0,0,0,0,0.5,0,0,12,8,0,12,0,0,0]
[339,1,1.1000000000000001,0,0,0,16,0,0,0,0,0,0,0.5,0,0,0,12,0,0,0,0,0,0,0.5,0,0,12,8,0,12,0,0,0]
[340,1,1.2,0,0,0,16,0,0,0,0,0,0,0.5,0,0,0,12,0,0,0,0,0,0,0.5,0,0,12,8,0,12,0,0,0]
[341,1,1,0,0,0,16,0,0,0,0,0,0,0.5,0,0,0,12,0,0,0,0,0,0,0.5,0,0,12,8,0,12,0,0,0]
[342,1,1.3,0,0,0,16,0,0,0,0,0,0,0.5,0,0,0,12,0,0,0,0,0,0,0.5,0,0,12,8,0,12,0,0,0]
[343,1,1.4,0,0,0,16,0,0,0,0,0,0,0.5,0,0,0,12,0,0,0,0,0,0,0.5,0,0,12,8,0,12,0,0,0]
[344,1,1.5,0,0,0,16,0,0,0,0,0,0,0.5,0,0,0,12,0,0,0,0,0,0,0.5,0,0,12,8,0,12,0,0,0]
[345,1,1.6,0,0,0,16,0,0,0,0,0,0,0.5,0,0,0,12,0,0,0,0,0,0,0.5,0,0,12,8,0,12,0,0,0]
[346,1,1.8,0,0,0,16,0,0,0,0,0,0,0.5,0,0,0,12,0,0,0,0,0,0,0.5,0,0,12,8,0,12,0,0,0]
[347,1,1.8,0,0,0,16,0,0,0,0,0,0,0.5,0,0,0,12,0,0,0,0,0,0,0.5,0,0,12,8,0,12,0,0,0]
[348,1,1.9,0,0,0,16,0,0,0,0,0,0,0.5,0,0,0,12,0,0,0,0,0,0,0.5,0,0,12,8,0,12,0,0,0]
[349,1,2,0,0,0,16,0,0,0,0,0,0,0.5,0,0,0,12,0,0,0,0,0,0,0.5,0,0,12,8,0,12,0,0,0]
[350,1,2.1,0,0,0,16,0,0,0,0,0,0,0.5,0,0,0,12,0,0,0,0,0,0,0.5,0,0,12,8,0,12,0,0,0]
[351,1,2.2000000000000002,0,0,0,16,0,0,0,0,0,0,0.5,0,0,0,12,0,0,0,0,0,0,0.5,0,0,12,8,0,12,0,0,0]
[352,1,1.2,0,0,0,16,0,0,0,0,0,0,0.5,0,0,0,12,0,0,0,0,0,0,0.5,0,0,12,8,0,12,0,0,0]
[353,1,0.7,0,0,0,16,0,0,0,0,0,0,0.5,0,0,0,12,0,0,0,0,0,0,0.5,0,0,12,8,0,12,0,0,0]
[354,1,0.6,0,0,0,16,0,0,0,0,0,0,0.5,0,0,0,12,0,0,0,0,0,0,0.5,0,0,12,8,0,12,0,0,0]
[355,1,0.3,0,0,0,16,0,0,0,0,0,0,0.5,0,0,0,12,0,0,0,0,0,0,0.5,0,0,12,8,0,12,0,0,0]
[356,1,0.3,0,0,0,16,0,0,0,0,0,0,0.5,0,0,0,12,0,0,0,0,0,0,0.5,0,0,12,8,0,12,0,0,0]
[357,1,0.1,0,0,0,16,0,0,0,0,0,0,0.5,0,0,0,12,0,0,0,0,0,0,0.5,0,0,12,8,0,12,0,0,0]
[358,1,0.2,0,0,0,16,0,0,0,0,0,0,0.5,0,0,0,12,0,0,0,0,0,0,0.5,0,0,12,8,0,12,0,0,0]
[359,1,-0.3,0,0,0,16,0,0,0,0,0,0,0.5,0,0,0,12,0,0,0,0,0,0,0.5,0,0,12,8,0,12,0,0,0]
[360,1,-0.8,0,0,0,16,0,0,0,0,0,0,0.5,0,0,0,12,0,0,0,0,0,0,0.5,0,0,12,8,0,12,0,0,0]
[361,1,-1,0,0,0,16,0,0,0,0,0,0,0.5,0,0,0,12,0,0,0,0,0,0,0.5,0,0,12,8,0,12,0,0,0]
[362,1,-1.3,0,0,0,16,0,0,0,0,0,0,0.5,0,0,0,12,0,0,0,0,0,0,0.5,0,0,12,8,0,12,0,0,0]
[363,1,-1.1000000000000001,0,0,0,16,0,0,0,0,0,0,0.5,0,0,0,12,0,0,0,0,0,0,0.5,0,0,12,8,0,12,0,0,0]
[364,1,-1.2,0,0,0,16,0,0,0,0,0,0,0.5,0,0,0,12,0,0,0,0,0,0,0.5,0,0,12,8,0,12,0,0,0]
[365,1,-1.1000000000000001,0,0,0,16,0,0,0,0,0,0,0.5,0,0,0,12,0,0,0,0,0,0,0.5,0,0,12,8,0,12,0,0,0]
[366,1,-0.7,0,0,0,16,0,0,0,0,0,0,0.5,0,0,0,12,0,0,0,0,0,0,0.5,0,0,12,8,0,12,0,0,0]
[367,1,-0.3,0,0,0,16,0,0,0,0,0,0,0.5,0,0,0,12,0,0,0,0,0,0,0.5,0,0,12,8,0,12,0,0,0]
[368,1,0.1,0,0,0,16,0,0,0,0,0,0,0.5,0,0,0,12,0,0,0,0,0,0,0.5,0,0,12,8,0,12,0,0,0]
[369,1,0.5,0,0,0,16,0,0,0,0,0,0,0.5,0,0,0,12,0,0,0,0,0,0,0.5,0,0,12,8,0,12,0,0,0]
[370,1,0.7,0,0,0,16,0,0,0,0,0,0,0.5,0,0,0,12,0,0,0,0,0,0,0.5,0,0,12,8,0,12,0,0,0]
[371,1,1.3,0,0,0,16,0,0,0,0,0,0,0.5,0,0,0,12,0,0,0,0,0,0,0.5,0,0,12,8,0,12,0,0,0]
[372,1,1.7,0,0,0,16,0,0,0,0,0,0,0.5,0,0,0,12,0,0,0,0,0,0,0.5,0,0,12,8,0,12,0,0,0]
[373,1,1.7,0,0,0,16,0,0,0,0,0,0,0.5,0,0,0,12,0,0,0,0,0,0,0.5,0,0,12,8,0,12,0,0,0]
[374,1,2.1,0,0,0,16,0,0,0,0,0,0,0.5,0,0,0,12,0,0,0,0,0,0,0.5,0,0,12,8,0,12,0,0,0]
[375,1,2.5,0,0,0,16,0,0,0,0,0,0,0.5,0,0,0,12,0,0,0,0,0,0,0.5,0,0,12,8,0,12,0,0,0]
[376,1,2.6,0,0,0,16,0,0,0,0,0,0,0.5,0,0,0,12,0,0,0,0,0,0,0.5,0,0,12,8,0,12,0,0,0]
[377,1,2.1,0,0,0,16,0,0,0,0,0,0,0.5,0,0,0,12,0,0,0,0,0,0,0.5,0,0,12,8,0,12,0,0,0]
[378,1,1.7,0,0,0,16,0,0,0,0,0,0,0.5,0,0,0,12,0,0,0,0,0,0,0.5,0,0,12,8,0,12,0,0,0]
[379,1,1.7,0,0,0,16,0,0,0,0,0,0,0.5,0,0,0,12,0,0,0,0,0,0,0.5,0,0,12,8,0,12,0,0,0]
[380,1,1.6,0,0,0,16,0,0,0,0,0,0,0.5,0,0,0,12,0,0,0,0,0,0,0.5,0,0,12,8,0,12,0,0,0]
[381,1,1.5,0,0,0,16,0,0,0,0,0,0,0.5,0,0,0,12,0,0,0,0,0,0,0.5,0,0,12,8,0,12,0,0,0]
[382,1,1.5,0,0,0,16,0,0,0,0,0,0,0.5,0,0,0,12,0,0,0,0,0,0,0.5,0,0,12,8,0,12,0,0,0]
[383,1,1,0,0,0,16,0,0,0,0,0,0,0.5,0,0,0,12,0,0,0,0,0,0,0.5,0,0,12,8,0,12,0,0,0]
[384,1,1,0,0,0,16,0,0,0,0,0,0,0.5,0,0,0,12,0,0,0,0,0,0,0.5,0,0,12,8,0,12,0,0,0]
[385,1,1,0,0,0,16,0,0,0,0,0,0,0.5,0,0,0,12,{"$f":"0.05*O398","v":0},{"$f":"0.05*P398","v":0},0,0,0,0,0.5,0,0,12,8,0,12,0,0,0]
[386,1,1,0,0,0,16,{"$f":"0.05*D399","v":0},{"$f":"0.05*E399","v":0},0,0,0,0,0.5,0,0,0,12,0,0,0,0,0,0,0.5,0,0,12,8,0,12,0,0,{"$f":"0.05*AF399","v":0}]
[387,1,1,0,0,0,16,0,0,0,0,0,0,0.5,0,0,0,12,0,0,0,0,0,0,0.5,0,0,12,8,0,12,0,0,0]
[388,1,1,0,0,0,16,0,0,0,0,0,0,0.5,0,0,0,12,0,0,0,0,0,0,0.5,0,0,12,8,0,12,0,0,0]
[389,1,0.7,0,0,0,16,0,0,0,0,0,0,0.5,0,0,0,12,0,0,0,0,0,0,0.5,0,0,12,8,0,12,0,0,0]
[390,1,0.5,0,0,0,16,0,0,0,0,0,0,0.5,0,0,0,12,0,0,0,0,0,0,0.5,0,0,12,8,0,12,0,0,0]
[391,1,-0.3,0,0,0,16,0,0,0,0,0,0,0.5,0,0,0,12,0,0,0,0,0,0,0.5,0,0,12,8,0,12,0,0,0]
[392,1,-1.2,0,0,0,16,0,0,0,0,0,0,0.5,0,0,0,12,0,0,0,0,0,0,0.5,0,0,12,8,0,12,0,0,0]
[393,1,-1,0,0,0,16,0,0,0,0,0,0,0.5,0,0,0,12,0,0,0,0,0,0,0.5,0,0,12,8,0,12,0,0,0]
[394,1,0.4,0,0,0,16,0,0,0,0,0,0,0.5,0,0,0,12,0,0,0,0,0,0,0.5,0,0,12,8,0,12,0,0,0]
[395,1,1.2,0,0,0,16,0,0,0,0,0,0,0.5,0,0,0,12,0,0,0,0,0,0,0.5,0,0,12,8,0,12,0,0,0]
[396,1,2,0,0,0,16,0,0,0,0,0,0,0.5,0,0,0,12,0,0,0,0,0,0,0.5,0,0,12,8,0,12,0,0,0]
[397,1,2.5,0,0,0,16,0,0,0,0,0,0,0.5,0,0,0,12,0,0,0,0,0,0,0.5,0,0,12,8,0,12,0,0,0]
[398,1,2.9,0,0,0,16,0,0,0,0,0,0,0.5,0,0,0,12,0,0,0,0,0,0,0.5,0,0,12,8,0,12,0,0,0]
[399,1,2.5,0,0,0,16,0,0,0,0,0,0,0.5,0,0,0,12,0,0,0,0,0,0,0.5,0,0,12,8,0,12,0,0,0]
[400,1,1.5,0,0,0,16,0,0,0,0,0,0,0.5,0,0,0,12,0,0,0,0,0,0,0.5,0,0,12,8,0,12,0,0,0]
[401,1,0.5,0,0,0,16,0,0,0,0,0,0,0.5,0,0,0,12,0,0,0,0,0,0,0.5,0,0,12,8,0,12,0,0,0]
[402,1,-0.5,0,0,0,16,0,0,0,0,0,0,0.5,0,0,0,12,0,0,0,0,0,0,0.5,0,0,12,8,0,12,0,0,0]
[403,1,-1.2,0,0,0,16,0,0,0,0,0,0,0.5,0,0,0,12,0,0,0,0,0,0,0.5,0,0,12,8,0,12,0,0,0]
[404,1,-1.6,0,0,0,16,0,0,0,0,0,0,0.5,0,0,0,12,0,0,0,0,0,0,0.5,0,0,12,8,0,12,0,0,0]
[405,1,-1.7,0,0,0,16,0,0,0,0,0,0,0.5,0,0,0,12,0,0,0,0,0,0,0.5,0,0,12,8,0,12,0,0,0]
[406,1,-1.9,0,0,0,16,0,0,0,0,0,0,0.5,0,0,0,12,0,0,0,0,0,0,0.5,0,0,12,8,0,12,0,0,0]
[407,1,-2.2000000000000002,0,0,0,16,0,0,0,0,0,0,0.5,0,0,0,12,0,0,0,0,0,0,0.5,0,0,12,8,0,12,0,0,0]
[408,1,-2.5,0,0,0,16,0,0,0,0,0,0,0.5,0,0,0,12,0,0,0,0,0,0,0.5,0,0,12,8,0,12,0,0,0]
[409,1,-2.5,0,0,0,16,0,0,0,0,0,0,0.5,0,0,0,12,0,0,0,0,0,0,0.5,0,0,12,8,0,12,0,0,0]
[410,1,-3.1,0,0,0,16,0,0,0,0,0,0,0.5,0,0,0,12,0,0,0,0,0,0,0.5,0,0,12,8,0,12,0,0,0]
[411,1,-3.3,0,0,0,16,0,0,0,0,0,0,0.5,0,0,0,12,0,0,0,0,0,0,0.5,0,0,12,8,0,12,0,0,0]
[412,1,-1.9,0,0,0,16,0,0,0,0,0,0,0.5,0,0,0,12,0,0,0,0,0,0,0.5,0,0,12,8,0,12,0,0,0]
[413,1,-1.1000000000000001,0,0,0,16,0,0,0,0,0,0,0.5,0,0,0,12,0,0,0,0,0,0,0.5,0,0,12,8,0,12,0,0,0]
[414,1,-1.1000000000000001,0,0,0,16,0,0,0,0,0,0,0.5,0,0,0,12,0,0,0,0,0,0,0.5,0,0,12,8,0,12,0,0,0]
[415,1,-0.9,0,0,0,16,0,0,0,0,0,0,0.5,0,0,0,12,0,0,0,0,0,0,0.5,0,0,12,8,0,12,0,0,0]
[416,1,-1.1000000000000001,0,0,0,16,0,0,0,0,0,0,0.5,0,0,0,12,0,0,0,0,0,0,0.5,0,0,12,8,0,12,0,0,0]
[417,1,-0.7,0,0,0,16,0,0,0,0,0,0,0.5,0,0,0,12,0,0,0,0,0,0,0.5,0,0,12,8,0,12,0,0,0]
[418,1,2.1,0,0,0,16,0,0,0,0,0,0,0.5,0,0,0,12,0,0,0,0,0,0,0.5,0,0,12,8,0,12,0,0,0]
[419,1,3.6,0,0,0,16,0,0,0,0,0,0,0.5,0,0,0,12,0,0,0,0,0,0,0.5,0,0,12,8,0,12,0,0,0]
[420,1,4.5,0,0,0,16,0,0,0,0,0,0,0.5,0,0,0,12,0,0,0,0,0,0,0.5,0,0,12,8,0,12,0,0,0]
[421,1,4.9000000000000004,0,0,0,16,0,0,0,0,0,0,0.5,0,0,0,12,0,0,0,0,0,0,0.5,0,0,12,8,0,12,0,0,0]
[422,1,5.7,0,0,0,16,0,0,0,0,0,0,0.5,0,0,0,12,0,0,0,0,0,0,0.5,0,0,12,8,0,12,0,0,0]
[423,1,5.0999999999999996,0,0,0,16,0,0,0,0,0,0,0.5,0,0,0,12,0,0,0,0,0,0,0.5,0,0,12,8,0,12,0,0,0]
[424,1,3.2,0,0,0,16,0,0,0,0,0,0,0.5,0,0,0,12,0,0,0,0,0,0,0.5,0,0,12,8,0,12,0,0,0]
[425,1,0.8,0,0,0,16,0,0,0,0,0,0,0.5,0,0,0,12,0,0,0,0,0,0,0.5,0,0,12,8,0,12,0,0,0]
[426,1,-0.2,0,0,0,16,0,0,0,0,0,0,0.5,0,0,0,12,0,0,0,0,0,0,0.5,0,0,12,8,0,12,0,0,0]
[427,1,-0.4,0,0,0,16,0,0,0,0,0,0,0.5,0,0,0,12,0,0,0,0,0,0,0.5,0,0,12,8,0,12,0,0,0]
[428,1,-0.9,0,0,0,16,0,0,0,0,0,0,0.5,0,0,0,12,0,0,0,0,0,0,0.5,0,0,12,8,0,12,0,0,0]
[429,1,-1.2,0,0,0,16,0,0,0,0,0,0,0.5,0,0,0,12,0,0,0,0,0,0,0.5,0,0,12,8,0,12,0,0,0]
[430,1,-1.8,0,0,0,16,0,0,0,0,0,0,0.5,0,0,0,12,0,0,0,0,0,0,0.5,0,0,12,8,0,12,0,0,0]
[431,1,-2,0,0,0,16,0,0,0,0,0,0,0.5,0,0,0,12,0,0,0,0,0,0,0.5,0,0,12,8,0,12,0,0,0]
[432,1,-2.2000000000000002,0,0,0,16,0,0,0,0,0,0,0.5,0,0,0,12,0,0,0,0,0,0,0.5,0,0,12,8,0,12,0,0,0]
[433,1,-2.5,0,0,0,16,0,0,0,0,0,0,0.5,0,0,0,12,0,0,0,0,0,0,0.5,0,0,12,8,0,12,0,0,0]
[434,1,-2.9,0,0,0,16,0,0,0,0,0,0,0.5,0,0,0,12,0,0,0,0,0,0,0.5,0,0,12,8,0,12,0,0,0]
[435,1,-2.6,0,0,0,16,0,0,0,0,0,0,0.5,0,0,0,12,0,0,0,0,0,0,0.5,0,0,12,8,0,12,0,0,0]
[436,1,-2.7,0,0,0,16,0,0,0,0,0,0,0.5,0,0,0,12,0,0,0,0,0,0,0.5,0,0,12,8,0,12,0,0,0]
[437,1,-3.4,0,0,0,16,0,0,0,0,0,0,0.5,0,0,0,12,0,0,0,0,0,0,0.5,0,0,12,8,0,12,0,0,0]
[438,1,-3,0,0,0,16,0,0,0,0,0,0,0.5,0,0,0,12,0,0,0,0,0,0,0.5,0,0,12,8,0,12,0,0,0]
[439,1,-3.5,0,0,0,16,0,0,0,0,0,0,0.5,0,0,0,12,0,0,0,0,0,0,0.5,0,0,12,8,0,12,0,0,0]
[440,1,-3.3,0,0,0,16,0,0,0,0,0,0,0.5,0,0,0,12,0,0,0,0,0,0,0.5,0,0,12,8,0,12,0,0,0]
[441,1,-2.9,0,0,0,16,0,0,0,0,0,0,0.5,0,0,0,12,0,0,0,0,0,0,0.5,0,0,12,8,0,12,0,0,0]
[442,1,-2.6,0,0,0,16,0,0,0,0,0,0,0.5,0,0,0,12,0,0,0,0,0,0,0.5,0,0,12,8,0,12,0,0,0]
[443,1,-2.1,0,0,0,16,0,0,0,0,0,0,0.5,0,0,0,12,0,0,0,0,0,0,0.5,0,0,12,8,0,12,0,0,0]
[444,1,-0.6,0,0,0,16,0,0,0,0,0,0,0.5,0,0,0,12,0,0,0,0,0,0,0.5,0,0,12,8,0,12,0,0,0]
[445,1,0.3,0,0,0,16,0,0,0,0,0,0,0.5,0,0,0,12,0,0,0,0,0,0,0.5,0,0,12,8,0,12,0,0,0]
[446,1,1.6,0,0,0,16,0,0,0,0,0,0,0.5,0,0,0,12,0,0,0,0,0,0,0.5,0,0,12,8,0,12,0,0,0]
[447,1,1.9,0,0,0,16,0,0,0,0,0,0,0.5,0,0,0,12,0,0,0,0,0,0,0.5,0,0,12,8,0,12,0,0,0]
[448,1,1.4,0,0,0,16,0,0,0,0,0,0,0.5,0,0,0,12,0,0,0,0,0,0,0.5,0,0,12,8,0,12,0,0,0]
[449,1,1,0,0,0,16,0,0,0,0,0,0,0.5,0,0,0,12,{"$f":"0.05*O462","v":0},{"$f":"0.05*P462","v":0},0,0,0,0,0.5,0,0,12,8,0,12,0,0,0]
[450,1,0.6,0,0,0,16,{"$f":"0.05*D463","v":0},{"$f":"0.05*E463","v":0},0,0,0,0,0.5,0,0,0,12,0,0,0,0,0,0,0.5,0,0,12,8,0,12,0,0,{"$f":"0.05*AF463","v":0}]
[451,1,1,0,0,0,16,0,0,0,0,0,0,0.5,0,0,0,12,0,0,0,0,0,0,0.5,0,0,12,8,0,12,0,0,0]
[452,1,1.4,0,0,0,16,0,0,0,0,0,0,0.5,0,0,0,12,0,0,0,0,0,0,0.5,0,0,12,8,0,12,0,0,0]
[453,1,1.4,0,0,0,16,0,0,0,0,0,0,0.5,0,0,0,12,0,0,0,0,0,0,0.5,0,0,12,8,0,12,0,0,0]
[454,1,1.6,0,0,0,16,0,0,0,0,0,0,0.5,0,0,0,12,0,0,0,0,0,0,0.5,0,0,12,8,0,12,0,0,0]
[455,1,2.8,0,0,0,16,0,0,0,0,0,0,0.5,0,0,0,12,0,0,0,0,0,0,0.5,0,0,12,8,0,12,0,0,0]
[456,1,2.2000000000000002,0,0,0,16,0,0,0,0,0,0,0.5,0,0,0,12,0,0,0,0,0,0,0.5,0,0,12,8,0,12,0,0,0]
[457,1,1.8,0,0,0,16,0,0,0,0,0,0,0.5,0,0,0,12,0,0,0,0,0,0,0.5,0,0,12,8,0,12,0,0,0]
[458,1,1.4,0,0,0,16,0,0,0,0,0,0,0.5,0,0,0,12,0,0,0,0,0,0,0.5,0,0,12,8,0,12,0,0,0]
[459,1,1.4,0,0,0,16,0,0,0,0,0,0,0.5,0,0,0,12,0,0,0,0,0,0,0.5,0,0,12,8,0,12,0,0,0]
[460,1,1,0,0,0,16,0,0,0,0,0,0,0.5,0,0,0,12,0,0,0,0,0,0,0.5,0,0,12,8,0,12,0,0,0]
[461,1,0.9,0,0,0,16,0,0,0,0,0,0,0.5,0,0,0,12,0,0,0,0,0,0,0.5,0,0,12,8,0,12,0,0,0]
[462,1,0.9,0,0,0,16,0,0,0,0,0,0,0.5,0,0,0,12,0,0,0,0,0,0,0.5,0,0,12,8,0,12,0,0,0]
[463,1,0.4,0,0,0,16,0,0,0,0,0,0,0.5,0,0,0,12,0,0,0,0,0,0,0.5,0,0,12,8,0,12,0,0,0]
[464,1,0.1,0,0,0,16,0,0,0,0,0,0,0.5,0,0,0,12,0,0,0,0,0,0,0.5,0,0,12,8,0,12,0,0,0]
[465,1,0.6,0,0,0,16,0,0,0,0,0,0,0.5,0,0,0,12,0,0,0,0,0,0,0.5,0,0,12,8,0,12,0,0,0]
[466,1,3.3,0,0,0,16,0,0,0,0,0,0,0.5,0,0,0,12,0,0,0,0,0,0,0.5,0,0,12,8,0,12,0,0,0]
[467,1,4.5999999999999996,0,0,0,16,0,0,0,0,0,0,0.5,0,0,0,12,0,0,0,0,0,0,0.5,0,0,12,8,0,12,0,0,0]
[468,1,5.0999999999999996,0,0,0,16,0,0,0,0,0,0,0.5,0,0,0,12,0,0,0,0,0,0,0.5,0,0,12,8,0,12,0,0,0]
[469,1,5.3,0,0,0,16,0,0,0,0,0,0,0.5,0,0,0,12,0,0,0,0,0,0,0.5,0,0,12,8,0,12,0,0,0]
[470,1,5.6,0,0,0,16,0,0,0,0,0,0,0.5,0,0,0,12,0,0,0,0,0,0,0.5,0,0,12,8,0,12,0,0,0]
[471,1,4.5,0,0,0,16,0,0,0,0,0,0,0.5,0,0,0,12,0,0,0,0,0,0,0.5,0,0,12,8,0,12,0,0,0]
[472,1,3.3,0,0,0,16,0,0,0,0,0,0,0.5,0,0,0,12,0,0,0,0,0,0,0.5,0,0,12,8,0,12,0,0,0]
[473,1,2,0,0,0,16,0,0,0,0,0,0,0.5,0,0,0,12,0,0,0,0,0,0,0.5,0,0,12,8,0,12,0,0,0]
[474,1,1,0,0,0,16,0,0,0,0,0,0,0.5,0,0,0,12,0,0,0,0,0,0,0.5,0,0,12,8,0,12,0,0,0]
[475,1,0.5,0,0,0,16,0,0,0,0,0,0,0.5,0,0,0,12,0,0,0,0,0,0,0.5,0,0,12,8,0,12,0,0,0]
[476,1,-0.1,0,0,0,16,0,0,0,0,0,0,0.5,0,0,0,12,0,0,0,0,0,0,0.5,0,0,12,8,0,12,0,0,0]
[477,1,0.1,0,0,0,16,0,0,0,0,0,0,0.5,0,0,0,12,0,0,0,0,0,0,0.5,0,0,12,8,0,12,0,0,0]
[478,1,-0.5,0,0,0,16,0,0,0,0,0,0,0.5,0,0,0,12,0,0,0,0,0,0,0.5,0,0,12,8,0,12,0,0,0]
[479,1,-0.6,0,0,0,16,0,0,0,0,0,0,0.5,0,0,0,12,0,0,0,0,0,0,0.5,0,0,12,8,0,12,0,0,0]
[480,1,-0.6,0,0,0,16,0,0,0,0,0,0,0.5,0,0,0,12,0,0,0,0,0,0,0.5,0,0,12,8,0,12,0,0,0]
[481,1,-0.5,0,0,0,16,0,0,0,0,0,0,0.5,0,0,0,12,0,0,0,0,0,0,0.5,0,0,12,8,0,12,0,0,0]
[482,1,0.2,0,0,0,16,0,0,0,0,0,0,0.5,0,0,0,12,0,0,0,0,0,0,0.5,0,0,12,8,0,12,0,0,0]
[483,1,1,0,0,0,16,0,0,0,0,0,0,0.5,0,0,0,12,0,0,0,0,0,0,0.5,0,0,12,8,0,12,0,0,0]
[484,1,0.4,0,0,0,16,0,0,0,0,0,0,0.5,0,0,0,12,0,0,0,0,0,0,0.5,0,0,12,8,0,12,0,0,0]
[485,1,-0.5,0,0,0,16,0,0,0,0,0,0,0.5,0,0,0,12,0,0,0,0,0,0,0.5,0,0,12,8,0,12,0,0,0]
[486,1,0.1,0,0,0,16,0,0,0,0,0,0,0.5,0,0,0,12,0,0,0,0,0,0,0.5,0,0,12,8,0,12,0,0,0]
[487,1,0.6,0,0,0,16,0,0,0,0,0,0,0.5,0,0,0,12,0,0,0,0,0,0,0.5,0,0,12,8,0,12,0,0,0]
[488,1,0.9,0,0,0,16,0,0,0,0,0,0,0.5,0,0,0,12,0,0,0,0,0,0,0.5,0,0,12,8,0,12,0,0,0]
[489,1,0.9,0,0,0,16,0,0,0,0,0,0,0.5,0,0,0,12,0,0,0,0,0,0,0.5,0,0,12,8,0,12,0,0,0]
[490,1,1.8,0,0,0,16,0,0,0,0,0,0,0.5,0,0,0,12,0,0,0,0,0,0,0.5,0,0,12,8,0,12,0,0,0]
[491,1,2.7,0,0,0,16,0,0,0,0,0,0,0.5,0,0,0,12,0,0,0,0,0,0,0.5,0,0,12,8,0,12,0,0,0]
[492,1,4,0,0,0,16,0,0,0,0,0,0,0.5,0,0,0,12,0,0,0,0,0,0,0.5,0,0,12,8,0,12,0,0,0]
[493,1,4.7,0,0,0,16,0,0,0,0,0,0,0.5,0,0,0,12,0,0,0,0,0,0,0.5,0,0,12,8,0,12,0,0,0]
[494,1,5.3,0,0,0,16,0,0,0,0,0,0,0.5,0,0,0,12,0,0,0,0,0,0,0.5,0,0,12,8,0,12,0,0,0]
[495,1,5.0999999999999996,0,0,0,16,0,0,0,0,0,0,0.5,0,0,0,12,0,0,0,0,0,0,0.5,0,0,12,8,0,12,0,0,0]
[496,1,4.9000000000000004,0,0,0,16,0,0,0,0,0,0,0.5,0,0,0,12,0,0,0,0,0,0,0.5,0,0,12,8,0,12,0,0,0]
[497,1,4.5999999999999996,0,0,0,16,0,0,0,0,0,0,0.5,0,0,0,12,0,0,0,0,0,0,0.5,0,0,12,8,0,12,0,0,0]
[498,1,4.8,0,0,0,16,0,0,0,0,0,0,0.5,0,0,0,12,0,0,0,0,0,0,0.5,0,0,12,8,0,12,0,0,0]
[499,1,4,0,0,0,16,0,0,0,0,0,0,0.5,0,0,0,12,0,0,0,0,0,0,0.5,0,0,12,8,0,12,0,0,0]
[500,1,3.6,0,0,0,16,0,0,0,0,0,0,0.5,0,0,0,12,0,0,0,0,0,0,0.5,0,0,12,8,0,12,0,0,0]
[501,1,2.4,0,0,0,16,0,0,0,0,0,0,0.5,0,0,0,12,0,0,0,0,0,0,0.5,0,0,12,8,0,12,0,0,0]
[502,1,1.6,0,0,0,16,0,0,0,0,0,0,0.5,0,0,0,12,0,0,0,0,0,0,0.5,0,0,12,8,0,12,0,0,0]
[503,1,1.7,0,0,0,16,0,0,0,0,0,0,0.5,0,0,0,12,0,0,0,0,0,0,0.5,0,0,12,8,0,12,0,0,0]
[504,1,1,0,0,0,16,0,0,0,0,0,0,0.5,0,0,0,12,0,0,0,0,0,0,0.5,0,0,12,8,0,12,0,0,0]
[505,1,1,0,0,0,16,0,0,0,0,0,0,0.5,0,0,0,12,0,0,0,0,0,0,0.5,0,0,12,8,0,12,0,0,0]
[506,1,0.8,0,0,0,16,0,0,0,0,0,0,0.5,0,0,0,12,0,0,0,0,0,0,0.5,0,0,12,8,0,12,0,0,0]
[507,1,0.3,0,0,0,16,0,0,0,0,0,0,0.5,0,0,0,12,0,0,0,0,0,0,0.5,0,0,12,8,0,12,0,0,0]
[508,1,1,0,0,0,16,0,0,0,0,0,0,0.5,0,0,0,12,0,0,0,0,0,0,0.5,0,0,12,8,0,12,0,0,0]
[509,1,1.3,0,0,0,16,0,0,0,0,0,0,0.5,0,0,0,12,0,0,0,0,0,0,0.5,0,0,12,8,0,12,0,0,0]
[510,1,2,0,0,0,16,0,0,0,0,0,0,0.5,0,0,0,12,0,0,0,0,0,0,0.5,0,0,12,8,0,12,0,0,0]
[511,1,2.6,0,0,0,16,0,0,0,0,0,0,0.5,0,0,0,12,0,0,0,0,0,0,0.5,0,0,12,8,0,12,0,0,0]
[512,1,1,0,0,0,16,0,0,0,0,0,0,0.5,0,0,0,12,0,0,0,0,0,0,0.5,0,0,12,8,0,12,0,0,0]
[513,1,1.5,0,0,0,16,0,0,0,0,0,0,0.5,0,0,0,12,{"$f":"0.05*O526","v":0},{"$f":"0.05*P526","v":0},0,0,0,0,0.5,0,0,12,8,0,12,0,0,0]
[514,1,3.7,0,0,0,16,{"$f":"0.05*D527","v":0},{"$f":"0.05*E527","v":0},0,0,0,0,0.5,0,0,0,12,0,0,0,0,0,0,0.5,0,0,12,8,0,12,0,0,{"$f":"0.05*AF527","v":0}]
[515,1,5.7,0,0,0,16,0,0,0,0,0,0,0.5,0,0,0,12,0,0,0,0,0,0,0.5,0,0,12,8,0,12,0,0,0]
[516,1,6.7,0,0,0,16,0,0,0,0,0,0,0.5,0,0,0,12,0,0,0,0,0,0,0.5,0,0,12,8,0,12,0,0,0]
[517,1,6.8,0,0,0,16,0,0,0,0,0,0,0.5,0,0,0,12,0,0,0,0,0,0,0.5,0,0,12,8,0,12,0,0,0]
[518,1,6.4,0,0,0,16,0,0,0,0,0,0,0.5,0,0,0,12,0,0,0,0,0,0,0.5,0,0,12,8,0,12,0,0,0]
[519,1,6.1,0,0,0,16,0,0,0,0,0,0,0.5,0,0,0,12,0,0,0,0,0,0,0.5,0,0,12,8,0,12,0,0,0]
[520,1,5.7,0,0,0,16,0,0,0,0,0,0,0.5,0,0,0,12,0,0,0,0,0,0,0.5,0,0,12,8,0,12,0,0,0]
[521,1,4.7,0,0,0,16,0,0,0,0,0,0,0.5,0,0,0,12,0,0,0,0,0,0,0.5,0,0,12,8,0,12,0,0,0]
[522,1,3.8,0,0,0,16,0,0,0,0,0,0,0.5,0,0,0,12,0,0,0,0,0,0,0.5,0,0,12,8,0,12,0,0,0]
[523,1,3.2,0,0,0,16,0,0,0,0,0,0,0.5,0,0,0,12,0,0,0,0,0,0,0.5,0,0,12,8,0,12,0,0,0]
[524,1,3.6,0,0,0,16,0,0,0,0,0,0,0.5,0,0,0,12,0,0,0,0,0,0,0.5,0,0,12,8,0,12,0,0,0]
[525,1,3.9,0,0,0,16,0,0,0,0,0,0,0.5,0,0,0,12,0,0,0,0,0,0,0.5,0,0,12,8,0,12,0,0,0]
[526,1,3.3,0,0,0,16,0,0,0,0,0,0,0.5,0,0,0,12,0,0,0,0,0,0,0.5,0,0,12,8,0,12,0,0,0]
[527,1,2.2000000000000002,0,0,0,16,0,0,0,0,0,0,0.5,0,0,0,12,0,0,0,0,0,0,0.5,0,0,12,8,0,12,0,0,0]
[528,1,1.8,0,0,0,16,0,0,0,0,0,0,0.5,0,0,0,12,0,0,0,0,0,0,0.5,0,0,12,8,0,12,0,0,0]
[529,1,2.7,0,0,0,16,0,0,0,0,0,0,0.5,0,0,0,12,0,0,0,0,0,0,0.5,0,0,12,8,0,12,0,0,0]
[530,1,2.9,0,0,0,16,0,0,0,0,0,0,0.5,0,0,0,12,0,0,0,0,0,0,0.5,0,0,12,8,0,12,0,0,0]
[531,1,3.1,0,0,0,16,0,0,0,0,0,0,0.5,0,0,0,12,0,0,0,0,0,0,0.5,0,0,12,8,0,12,0,0,0]
[532,1,2.7,0,0,0,16,0,0,0,0,0,0,0.5,0,0,0,12,0,0,0,0,0,0,0.5,0,0,12,8,0,12,0,0,0]
[533,1,2.7,0,0,0,16,0,0,0,0,0,0,0.5,0,0,0,12,0,0,0,0,0,0,0.5,0,0,12,8,0,12,0,0,0]
[534,1,2.9,0,0,0,16,0,0,0,0,0,0,0.5,0,0,0,12,0,0,0,0,0,0,0.5,0,0,12,8,0,12,0,0,0]
[535,1,2.4,0,0,0,16,0,0,0,0,0,0,0.5,0,0,0,12,0,0,0,0,0,0,0.5,0,0,12,8,0,12,0,0,0]
[536,1,2.2999999999999998,0,0,0,16,0,0,0,0,0,0,0.5,0,0,0,12,0,0,0,0,0,0,0.5,0,0,12,8,0,12,0,0,0]
[537,1,2.5,0,0,0,16,0,0,0,0,0,0,0.5,0,0,0,12,0,0,0,0,0,0,0.5,0,0,12,8,0,12,0,0,0]
[538,1,3.2,0,0,0,16,0,0,0,0,0,0,0.5,0,0,0,12,0,0,0,0,0,0,0.5,0,0,12,8,0,12,0,0,0]
[539,1,5.3,0,0,0,16,0,0,0,0,0,0,0.5,0,0,0,12,0,0,0,0,0,0,0.5,0,0,12,8,0,12,0,0,0]
[540,1,6.3,0,0,0,16,0,0,0,0,0,0,0.5,0,0,0,12,0,0,0,0,0,0,0.5,0,0,12,8,0,12,0,0,0]
[541,1,5.9,0,0,0,16,0,0,0,0,0,0,0.5,0,0,0,12,0,0,0,0,0,0,0.5,0,0,12,8,0,12,0,0,0]
[542,1,5.4,0,0,0,16,0,0,0,0,0,0,0.5,0,0,0,12,0,0,0,0,0,0,0.5,0,0,12,8,0,12,0,0,0]
[543,1,5.0999999999999996,0,0,0,16,0,0,0,0,0,0,0.5,0,0,0,12,0,0,0,0,0,0,0.5,0,0,12,8,0,12,0,0,0]
[544,1,4.9000000000000004,0,0,0,16,0,0,0,0,0,0,0.5,0,0,0,12,0,0,0,0,0,0,0.5,0,0,12,8,0,12,0,0,0]
[545,1,4.2,0,0,0,16,0,0,0,0,0,0,0.5,0,0,0,12,0,0,0,0,0,0,0.5,0,0,12,8,0,12,0,0,0]
[546,1,3.7,0,0,0,16,0,0,0,0,0,0,0.5,0,0,0,12,0,0,0,0,0,0,0.5,0,0,12,8,0,12,0,0,0]
[547,1,4.0999999999999996,0,0,0,16,0,0,0,0,0,0,0.5,0,0,0,12,0,0,0,0,0,0,0.5,0,0,12,8,0,12,0,0,0]
[548,1,3.5,0,0,0,16,0,0,0,0,0,0,0.5,0,0,0,12,0,0,0,0,0,0,0.5,0,0,12,8,0,12,0,0,0]
[549,1,3,0,0,0,16,0,0,0,0,0,0,0.5,0,0,0,12,0,0,0,0,0,0,0.5,0,0,12,8,0,12,0,0,0]
[550,1,2.9,0,0,0,16,0,0,0,0,0,0,0.5,0,0,0,12,0,0,0,0,0,0,0.5,0,0,12,8,0,12,0,0,0]
[551,1,2.5,0,0,0,16,0,0,0,0,0,0,0.5,0,0,0,12,0,0,0,0,0,0,0.5,0,0,12,8,0,12,0,0,0]
[552,1,2,0,0,0,16,0,0,0,0,0,0,0.5,0,0,0,12,0,0,0,0,0,0,0.5,0,0,12,8,0,12,0,0,0]
[553,1,1.5,0,0,0,16,0,0,0,0,0,0,0.5,0,0,0,12,0,0,0,0,0,0,0.5,0,0,12,8,0,12,0,0,0]
[554,1,1.1000000000000001,0,0,0,16,0,0,0,0,0,0,0.5,0,0,0,12,0,0,0,0,0,0,0.5,0,0,12,8,0,12,0,0,0]
[555,1,0.7,0,0,0,16,0,0,0,0,0,0,0.5,0,0,0,12,0,0,0,0,0,0,0.5,0,0,12,8,0,12,0,0,0]
[556,1,0.9,0,0,0,16,0,0,0,0,0,0,0.5,0,0,0,12,0,0,0,0,0,0,0.5,0,0,12,8,0,12,0,0,0]
[557,1,1.1000000000000001,0,0,0,16,0,0,0,0,0,0,0.5,0,0,0,12,0,0,0,0,0,0,0.5,0,0,12,8,0,12,0,0,0]
[558,1,1.1000000000000001,0,0,0,16,0,0,0,0,0,0,0.5,0,0,0,12,0,0,0,0,0,0,0.5,0,0,12,8,0,12,0,0,0]
[559,1,1.2,0,0,0,16,0,0,0,0,0,0,0.5,0,0,0,12,0,0,0,0,0,0,0.5,0,0,12,8,0,12,0,0,0]
[560,1,1.7,0,0,0,16,0,0,0,0,0,0,0.5,0,0,0,12,0,0,0,0,0,0,0.5,0,0,12,8,0,12,0,0,0]
[561,1,2.1,0,0,0,16,0,0,0,0,0,0,0.5,0,0,0,12,0,0,0,0,0,0,0.5,0,0,12,8,0,12,0,0,0]
[562,1,2.7,0,0,0,16,0,0,0,0,0,0,0.5,0,0,0,12,0,0,0,0,0,0,0.5,0,0,12,8,0,12,0,0,0]
[563,1,2.9,0,0,0,16,0,0,0,0,0,0,0.5,0,0,0,12,0,0,0,0,0,0,0.5,0,0,12,8,0,12,0,0,0]
[564,1,3.6,0,0,0,16,0,0,0,0,0,0,0.5,0,0,0,12,0,0,0,0,0,0,0.5,0,0,12,8,0,12,0,0,0]
[565,1,3.4,0,0,0,16,0,0,0,0,0,0,0.5,0,0,0,12,0,0,0,0,0,0,0.5,0,0,12,8,0,12,0,0,0]
[566,1,3.3,0,0,0,16,0,0,0,0,0,0,0.5,0,0,0,12,0,0,0,0,0,0,0.5,0,0,12,8,0,12,0,0,0]
[567,1,3.3,0,0,0,16,0,0,0,0,0,0,0.5,0,0,0,12,0,0,0,0,0,0,0.5,0,0,12,8,0,12,0,0,0]
[568,1,3.2,0,0,0,16,0,0,0,0,0,0,0.5,0,0,0,12,0,0,0,0,0,0,0.5,0,0,12,8,0,12,0,0,0]
[569,1,2.9,0,0,0,16,0,0,0,0,0,0,0.5,0,0,0,12,0,0,0,0,0,0,0.5,0,0,12,8,0,12,0,0,0]
[570,1,2.5,0,0,0,16,0,0,0,0,0,0,0.5,0,0,0,12,0,0,0,0,0,0,0.5,0,0,12,8,0,12,0,0,0]
[571,1,2.2999999999999998,0,0,0,16,0,0,0,0,0,0,0.5,0,0,0,12,0,0,0,0,0,0,0.5,0,0,12,8,0,12,0,0,0]
[572,1,2.1,0,0,0,16,0,0,0,0,0,0,0.5,0,0,0,12,0,0,0,0,0,0,0.5,0,0,12,8,0,12,0,0,0]
[573,1,1.8,0,0,0,16,0,0,0,0,0,0,0.5,0,0,0,12,0,0,0,0,0,0,0.5,0,0,12,8,0,12,0,0,0]
[574,1,1.7,0,0,0,16,0,0,0,0,0,0,0.5,0,0,0,12,0,0,0,0,0,0,0.5,0,0,12,8,0,12,0,0,0]
[575,1,1.6,0,0,0,16,0,0,0,0,0,0,0.5,0,0,0,12,0,0,0,0,0,0,0.5,0,0,12,8,0,12,0,0,0]
[576,1,1.6,0,0,0,16,0,0,0,0,0,0,0.5,0,0,0,12,0,0,0,0,0,0,0.5,0,0,12,8,0,12,0,0,0]
[577,1,1.4,0,0,0,16,0,0,0,0,0,0,0.5,0,0,0,12,{"$f":"0.05*O590","v":0},{"$f":"0.05*P590","v":0},0,0,0,0,0.5,0,0,12,8,0,12,0,0,0]
[578,1,1.4,0,0,0,16,{"$f":"0.05*D591","v":0},{"$f":"0.05*E591","v":0},0,0,0,0,0.5,0,0,0,12,0,0,0,0,0,0,0.5,0,0,12,8,0,12,0,0,{"$f":"0.05*AF591","v":0}]
[579,1,1.3,0,0,0,16,0,0,0,0,0,0,0.5,0,0,0,12,0,0,0,0,0,0,0.5,0,0,12,8,0,12,0,0,0]
[580,1,1.1000000000000001,0,0,0,16,0,0,0,0,0,0,0.5,0,0,0,12,0,0,0,0,0,0,0.5,0,0,12,8,0,12,0,0,0]
[581,1,1,0,0,0,16,0,0,0,0,0,0,0.5,0,0,0,12,0,0,0,0,0,0,0.5,0,0,12,8,0,12,0,0,0]
[582,1,1,0,0,0,16,0,0,0,0,0,0,0.5,0,0,0,12,0,0,0,0,0,0,0.5,0,0,12,8,0,12,0,0,0]
[583,1,1,0,0,0,16,0,0,0,0,0,0,0.5,0,0,0,12,0,0,0,0,0,0,0.5,0,0,12,8,0,12,0,0,0]
[584,1,1,0,0,0,16,0,0,0,0,0,0,0.5,0,0,0,12,0,0,0,0,0,0,0.5,0,0,12,8,0,12,0,0,0]
[585,1,1,0,0,0,16,0,0,0,0,0,0,0.5,0,0,0,12,0,0,0,0,0,0,0.5,0,0,12,8,0,12,0,0,0]
[586,1,1.3,0,0,0,16,0,0,0,0,0,0,0.5,0,0,0,12,0,0,0,0,0,0,0.5,0,0,12,8,0,12,0,0,0]
[587,1,1.5,0,0,0,16,0,0,0,0,0,0,0.5,0,0,0,12,0,0,0,0,0,0,0.5,0,0,12,8,0,12,0,0,0]
[588,1,1.9,0,0,0,16,0,0,0,0,0,0,0.5,0,0,0,12,0,0,0,0,0,0,0.5,0,0,12,8,0,12,0,0,0]
[589,1,2.2999999999999998,0,0,0,16,0,0,0,0,0,0,0.5,0,0,0,12,0,0,0,0,0,0,0.5,0,0,12,8,0,12,0,0,0]
[590,1,2.6,0,0,0,16,0,0,0,0,0,0,0.5,0,0,0,12,0,0,0,0,0,0,0.5,0,0,12,8,0,12,0,0,0]
[591,1,2.8,0,0,0,16,0,0,0,0,0,0,0.5,0,0,0,12,0,0,0,0,0,0,0.5,0,0,12,8,0,12,0,0,0]
[592,1,2.8,0,0,0,16,0,0,0,0,0,0,0.5,0,0,0,12,0,0,0,0,0,0,0.5,0,0,12,8,0,12,0,0,0]
[593,1,2.6,0,0,0,16,0,0,0,0,0,0,0.5,0,0,0,12,0,0,0,0,0,0,0.5,0,0,12,8,0,12,0,0,0]
[594,1,2.2999999999999998,0,0,0,16,0,0,0,0,0,0,0.5,0,0,0,12,0,0,0,0,0,0,0.5,0,0,12,8,0,12,0,0,0]
[595,1,2.4,0,0,0,16,0,0,0,0,0,0,0.5,0,0,0,12,0,0,0,0,0,0,0.5,0,0,12,8,0,12,0,0,0]
[596,1,2,0,0,0,16,0,0,0,0,0,0,0.5,0,0,0,12,0,0,0,0,0,0,0.5,0,0,12,8,0,12,0,0,0]
[597,1,1.3,0,0,0,16,0,0,0,0,0,0,0.5,0,0,0,12,0,0,0,0,0,0,0.5,0,0,12,8,0,12,0,0,0]
[598,1,0.8,0,0,0,16,0,0,0,0,0,0,0.5,0,0,0,12,0,0,0,0,0,0,0.5,0,0,12,8,0,12,0,0,0]
[599,1,-0.6,0,0,0,16,0,0,0,0,0,0,0.5,0,0,0,12,0,0,0,0,0,0,0.5,0,0,12,8,0,12,0,0,0]
[600,1,-1.1000000000000001,0,0,0,16,0,0,0,0,0,0,0.5,0,0,0,12,0,0,0,0,0,0,0.5,0,0,12,8,0,12,0,0,0]
[601,1,-1.3,0,0,0,16,0,0,0,0,0,0,0.5,0,0,0,12,0,0,0,0,0,0,0.5,0,0,12,8,0,12,0,0,0]
[602,1,-0.6,0,0,0,16,0,0,0,0,0,0,0.5,0,0,0,12,0,0,0,0,0,0,0.5,0,0,12,8,0,12,0,0,0]
[603,1,-0.3,0,0,0,16,0,0,0,0,0,0,0.5,0,0,0,12,0,0,0,0,0,0,0.5,0,0,12,8,0,12,0,0,0]
[604,1,-0.3,0,0,0,16,0,0,0,0,0,0,0.5,0,0,0,12,0,0,0,0,0,0,0.5,0,0,12,8,0,12,0,0,0]
[605,1,-0.1,0,0,0,16,0,0,0,0,0,0,0.5,0,0,0,12,0,0,0,0,0,0,0.5,0,0,12,8,0,12,0,0,0]
[606,1,0.4,0,0,0,16,0,0,0,0,0,0,0.5,0,0,0,12,0,0,0,0,0,0,0.5,0,0,12,8,0,12,0,0,0]
[607,1,0.2,0,0,0,16,0,0,0,0,0,0,0.5,0,0,0,12,0,0,0,0,0,0,0.5,0,0,12,8,0,12,0,0,0]
[608,1,0,0,0,0,16,0,0,0,0,0,0,0.5,0,0,0,12,0,0,0,0,0,0,0.5,0,0,12,8,0,12,0,0,0]
[609,1,0.3,0,0,0,16,0,0,0,0,0,0,0.5,0,0,0,12,0,0,0,0,0,0,0.5,0,0,12,8,0,12,0,0,0]
[610,1,0.6,0,0,0,16,0,0,0,0,0,0,0.5,0,0,0,12,0,0,0,0,0,0,0.5,0,0,12,8,0,12,0,0,0]
[611,1,0.8,0,0,0,16,0,0,0,0,0,0,0.5,0,0,0,12,0,0,0,0,0,0,0.5,0,0,12,8,0,12,0,0,0]
[612,1,1.5,0,0,0,16,0,0,0,0,0,0,0.5,0,0,0,12,0,0,0,0,0,0,0.5,0,0,12,8,0,12,0,0,0]
[613,1,2,0,0,0,16,0,0,0,0,0,0,0.5,0,0,0,12,0,0,0,0,0,0,0.5,0,0,12,8,0,12,0,0,0]
[614,1,2.5,0,0,0,16,0,0,0,0,0,0,0.5,0,0,0,12,0,0,0,0,0,0,0.5,0,0,12,8,0,12,0,0,0]
[615,1,2.6,0,0,0,16,0,0,0,0,0,0,0.5,0,0,0,12,0,0,0,0,0,0,0.5,0,0,12,8,0,12,0,0,0]
[616,1,2.5,0,0,0,16,0,0,0,0,0,0,0.5,0,0,0,12,0,0,0,0,0,0,0.5,0,0,12,8,0,12,0,0,0]
[617,1,2.1,0,0,0,16,0,0,0,0,0,0,0.5,0,0,0,12,0,0,0,0,0,0,0.5,0,0,12,8,0,12,0,0,0]
[618,1,1.5,0,0,0,16,0,0,0,0,0,0,0.5,0,0,0,12,0,0,0,0,0,0,0.5,0,0,12,8,0,12,0,0,0]
[619,1,1,0,0,0,16,0,0,0,0,0,0,0.5,0,0,0,12,0,0,0,0,0,0,0.5,0,0,12,8,0,12,0,0,0]
[620,1,1,0,0,0,16,0,0,0,0,0,0,0.5,0,0,0,12,0,0,0,0,0,0,0.5,0,0,12,8,0,12,0,0,0]
[621,1,1.2,0,0,0,16,0,0,0,0,0,0,0.5,0,0,0,12,0,0,0,0,0,0,0.5,0,0,12,8,0,12,0,0,0]
[622,1,1.1000000000000001,0,0,0,16,0,0,0,0,0,0,0.5,0,0,0,12,0,0,0,0,0,0,0.5,0,0,12,8,0,12,0,0,0]
[623,1,0.9,0,0,0,16,0,0,0,0,0,0,0.5,0,0,0,12,0,0,0,0,0,0,0.5,0,0,12,8,0,12,0,0,0]
[624,1,1,0,0,0,16,0,0,0,0,0,0,0.5,0,0,0,12,0,0,0,0,0,0,0.5,0,0,12,8,0,12,0,0,0]
[625,1,0.9,0,0,0,16,0,0,0,0,0,0,0.5,0,0,0,12,0,0,0,0,0,0,0.5,0,0,12,8,0,12,0,0,0]
[626,1,1.2,0,0,0,16,0,0,0,0,0,0,0.5,0,0,0,12,0,0,0,0,0,0,0.5,0,0,12,8,0,12,0,0,0]
[627,1,1.2,0,0,0,16,0,0,0,0,0,0,0.5,0,0,0,12,0,0,0,0,0,0,0.5,0,0,12,8,0,12,0,0,0]
[628,1,1.1000000000000001,0,0,0,16,0,0,0,0,0,0,0.5,0,0,0,12,0,0,0,0,0,0,0.5,0,0,12,8,0,12,0,0,0]
[629,1,1.2,0,0,0,16,0,0,0,0,0,0,0.5,0,0,0,12,0,0,0,0,0,0,0.5,0,0,12,8,0,12,0,0,0]
[630,1,1.1000000000000001,0,0,0,16,0,0,0,0,0,0,0.5,0,0,0,12,0,0,0,0,0,0,0.5,0,0,12,8,0,12,0,0,0]
[631,1,1.3,0,0,0,16,0,0,0,0,0,0,0.5,0,0,0,12,0,0,0,0,0,0,0.5,0,0,12,8,0,12,0,0,0]
[632,1,1.6,0,0,0,16,0,0,0,0,0,0,0.5,0,0,0,12,0,0,0,0,0,0,0.5,0,0,12,8,0,12,0,0,0]
[633,1,2,0,0,0,16,0,0,0,0,0,0,0.5,0,0,0,12,0,0,0,0,0,0,0.5,0,0,12,8,0,12,0,0,0]
[634,1,2.5,0,0,0,16,0,0,0,0,0,0,0.5,0,0,0,12,0,0,0,0,0,0,0.5,0,0,12,8,0,12,0,0,0]
[635,1,2.7,0,0,0,16,0,0,0,0,0,0,0.5,0,0,0,12,0,0,0,0,0,0,0.5,0,0,12,8,0,12,0,0,0]
[636,1,3.1,0,0,0,16,0,0,0,0,0,0,0.5,0,0,0,12,0,0,0,0,0,0,0.5,0,0,12,8,0,12,0,0,0]
[637,1,3.3,0,0,0,16,0,0,0,0,0,0,0.5,0,0,0,12,0,0,0,0,0,0,0.5,0,0,12,8,0,12,0,0,0]
[638,1,3.5,0,0,0,16,0,0,0,0,0,0,0.5,0,0,0,12,0,0,0,0,0,0,0.5,0,0,12,8,0,12,0,0,0]
[639,1,3.7,0,0,0,16,0,0,0,0,0,0,0.5,0,0,0,12,0,0,0,0,0,0,0.5,0,0,12,8,0,12,0,0,0]
[640,1,3.8,0,0,0,16,0,0,0,0,0,0,0.5,0,0,0,12,0,0,0,0,0,0,0.5,0,0,12,8,0,12,0,0,0]
[641,1,3.9,0,0,0,16,0,0,0,0,0,0,0.5,0,0,0,12,{"$f":"0.05*O654","v":0},{"$f":"0.05*P654","v":0},0,0,0,0,0.5,0,0,12,8,0,12,0,0,0]
[642,1,3.8,0,0,0,16,{"$f":"0.05*D655","v":0},{"$f":"0.05*E655","v":0},0,0,0,0,0.5,0,0,0,12,0,0,0,0,0,0,0.5,0,0,12,8,0,12,0,0,{"$f":"0.05*AF655","v":0}]
[643,1,3.9,0,0,0,16,0,0,0,0,0,0,0.5,0,0,0,12,0,0,0,0,0,0,0.5,0,0,12,8,0,12,0,0,0]
[644,1,3.9,0,0,0,16,0,0,0,0,0,0,0.5,0,0,0,12,0,0,0,0,0,0,0.5,0,0,12,8,0,12,0,0,0]
[645,1,4,0,0,0,16,0,0,0,0,0,0,0.5,0,0,0,12,0,0,0,0,0,0,0.5,0,0,12,8,0,12,0,0,0]
[646,1,3.8,0,0,0,16,0,0,0,0,0,0,0.5,0,0,0,12,0,0,0,0,0,0,0.5,0,0,12,8,0,12,0,0,0]
[647,1,3.8,0,0,0,16,0,0,0,0,0,0,0.5,0,0,0,12,0,0,0,0,0,0,0.5,0,0,12,8,0,12,0,0,0]
[648,1,3.8,0,0,0,16,0,0,0,0,0,0,0.5,0,0,0,12,0,0,0,0,0,0,0.5,0,0,12,8,0,12,0,0,0]
[649,1,3.4,0,0,0,16,0,0,0,0,0,0,0.5,0,0,0,12,0,0,0,0,0,0,0.5,0,0,12,8,0,12,0,0,0]
[650,1,3.2,0,0,0,16,0,0,0,0,0,0,0.5,0,0,0,12,0,0,0,0,0,0,0.5,0,0,12,8,0,12,0,0,0]
[651,1,1.7,0,0,0,16,0,0,0,0,0,0,0.5,0,0,0,12,0,0,0,0,0,0,0.5,0,0,12,8,0,12,0,0,0]
[652,1,1.4,0,0,0,16,0,0,0,0,0,0,0.5,0,0,0,12,0,0,0,0,0,0,0.5,0,0,12,8,0,12,0,0,0]
[653,1,1.1000000000000001,0,0,0,16,0,0,0,0,0,0,0.5,0,0,0,12,0,0,0,0,0,0,0.5,0,0,12,8,0,12,0,0,0]
[654,1,1.4,0,0,0,16,0,0,0,0,0,0,0.5,0,0,0,12,0,0,0,0,0,0,0.5,0,0,12,8,0,12,0,0,0]
[655,1,3.1,0,0,0,16,0,0,0,0,0,0,0.5,0,0,0,12,0,0,0,0,0,0,0.5,0,0,12,8,0,12,0,0,0]
[656,1,4,0,0,0,16,0,0,0,0,0,0,0.5,0,0,0,12,0,0,0,0,0,0,0.5,0,0,12,8,0,12,0,0,0]
[657,1,9.6,0,0,0,16,0,0,0,0,0,0,0.5,0,0,0,12,0,0,0,0,0,0,0.5,0,0,12,8,0,12,0,0,0]
[658,1,9.9,0,0,0,16,0,0,0,0,0,0,0.5,0,0,0,12,0,0,0,0,0,0,0.5,0,0,12,8,0,12,0,0,0]
[659,1,9.8000000000000007,0,0,0,16,0,0,0,0,0,0,0.5,0,0,0,12,0,0,0,0,0,0,0.5,0,0,12,8,0,12,0,0,0]
[660,1,8.1999999999999993,0,0,0,16,0,0,0,0,0,0,0.5,0,0,0,12,0,0,0,0,0,0,0.5,0,0,12,8,0,12,0,0,0]
[661,1,5.5,0,0,0,16,0,0,0,0,0,0,0.5,0,0,0,12,0,0,0,0,0,0,0.5,0,0,12,8,0,12,0,0,0]
[662,1,6.5,0,0,0,16,0,0,0,0,0,0,0.5,0,0,0,12,0,0,0,0,0,0,0.5,0,0,12,8,0,12,0,0,0]
[663,1,6,0,0,0,16,0,0,0,0,0,0,0.5,0,0,0,12,0,0,0,0,0,0,0.5,0,0,12,8,0,12,0,0,0]
[664,1,5.3,0,0,0,16,0,0,0,0,0,0,0.5,0,0,0,12,0,0,0,0,0,0,0.5,0,0,12,8,0,12,0,0,0]
[665,1,5.2,0,0,0,16,0,0,0,0,0,0,0.5,0,0,0,12,0,0,0,0,0,0,0.5,0,0,12,8,0,12,0,0,0]
[666,1,4.3,0,0,0,16,0,0,0,0,0,0,0.5,0,0,0,12,0,0,0,0,0,0,0.5,0,0,12,8,0,12,0,0,0]
[667,1,4.3,0,0,0,16,0,0,0,0,0,0,0.5,0,0,0,12,0,0,0,0,0,0,0.5,0,0,12,8,0,12,0,0,0]
[668,1,4.8,0,0,0,16,0,0,0,0,0,0,0.5,0,0,0,12,0,0,0,0,0,0,0.5,0,0,12,8,0,12,0,0,0]
[669,1,4.3,0,0,0,16,0,0,0,0,0,0,0.5,0,0,0,12,0,0,0,0,0,0,0.5,0,0,12,8,0,12,0,0,0]
[670,1,3.9,0,0,0,16,0,0,0,0,0,0,0.5,0,0,0,12,0,0,0,0,0,0,0.5,0,0,12,8,0,12,0,0,0]
[671,1,3.8,0,0,0,16,0,0,0,0,0,0,0.5,0,0,0,12,0,0,0,0,0,0,0.5,0,0,12,8,0,12,0,0,0]
[672,1,4.7,0,0,0,16,0,0,0,0,0,0,0.5,0,0,0,12,0,0,0,0,0,0,0.5,0,0,12,8,0,12,0,0,0]
[673,1,5,0,0,0,16,0,0,0,0,0,0,0.5,0,0,0,12,0,0,0,0,0,0,0.5,0,0,12,8,0,12,0,0,0]
[674,1,4.2,0,0,0,16,0,0,0,0,0,0,0.5,0,0,0,12,0,0,0,0,0,0,0.5,0,0,12,8,0,12,0,0,0]
[675,1,3,0,0,0,16,0,0,0,0,0,0,0.5,0,0,0,12,0,0,0,0,0,0,0.5,0,0,12,8,0,12,0,0,0]
[676,1,1.5,0,0,0,16,0,0,0,0,0,0,0.5,0,0,0,12,0,0,0,0,0,0,0.5,0,0,12,8,0,12,0,0,0]
[677,1,2.2999999999999998,0,0,0,16,0,0,0,0,0,0,0.5,0,0,0,12,0,0,0,0,0,0,0.5,0,0,12,8,0,12,0,0,0]
[678,1,2.2000000000000002,0,0,0,16,0,0,0,0,0,0,0.5,0,0,0,12,0,0,0,0,0,0,0.5,0,0,12,8,0,12,0,0,0]
[679,1,2.4,0,0,0,16,0,0,0,0,0,0,0.5,0,0,0,12,0,0,0,0,0,0,0.5,0,0,12,8,0,12,0,0,0]
[680,1,2.5,0,0,0,16,0,0,0,0,0,0,0.5,0,0,0,12,0,0,0,0,0,0,0.5,0,0,12,8,0,12,0,0,0]
[681,1,2.9,0,0,0,16,0,0,0,0,0,0,0.5,0,0,0,12,0,0,0,0,0,0,0.5,0,0,12,8,0,12,0,0,0]
[682,1,3.1,0,0,0,16,0,0,0,0,0,0,0.5,0,0,0,12,0,0,0,0,0,0,0.5,0,0,12,8,0,12,0,0,0]
[683,1,3.4,0,0,0,16,0,0,0,0,0,0,0.5,0,0,0,12,0,0,0,0,0,0,0.5,0,0,12,8,0,12,0,0,0]
[684,1,4,0,0,0,16,0,0,0,0,0,0,0.5,0,0,0,12,0,0,0,0,0,0,0.5,0,0,12,8,0,12,0,0,0]
[685,1,3.5,0,0,0,16,0,0,0,0,0,0,0.5,0,0,0,12,0,0,0,0,0,0,0.5,0,0,12,8,0,12,0,0,0]
[686,1,3,0,0,0,16,0,0,0,0,0,0,0.5,0,0,0,12,0,0,0,0,0,0,0.5,0,0,12,8,0,12,0,0,0]
[687,1,2.4,0,0,0,16,0,0,0,0,0,0,0.5,0,0,0,12,0,0,0,0,0,0,0.5,0,0,12,8,0,12,0,0,0]
[688,1,3.2,0,0,0,16,0,0,0,0,0,0,0.5,0,0,0,12,0,0,0,0,0,0,0.5,0,0,12,8,0,12,0,0,0]
[689,1,3.1,0,0,0,16,0,0,0,0,0,0,0.5,0,0,0,12,0,0,0,0,0,0,0.5,0,0,12,8,0,12,0,0,0]
[690,1,2.2000000000000002,0,0,0,16,0,0,0,0,0,0,0.5,0,0,0,12,0,0,0,0,0,0,0.5,0,0,12,8,0,12,0,0,0]
[691,1,2.2999999999999998,0,0,0,16,0,0,0,0,0,0,0.5,0,0,0,12,0,0,0,0,0,0,0.5,0,0,12,8,0,12,0,0,0]
[692,1,3,0,0,0,16,0,0,0,0,0,0,0.5,0,0,0,12,0,0,0,0,0,0,0.5,0,0,12,8,0,12,0,0,0]
[693,1,2.5,0,0,0,16,0,0,0,0,0,0,0.5,0,0,0,12,0,0,0,0,0,0,0.5,0,0,12,8,0,12,0,0,0]
[694,1,1.7,0,0,0,16,0,0,0,0,0,0,0.5,0,0,0,12,0,0,0,0,0,0,0.5,0,0,12,8,0,12,0,0,0]
[695,1,2,0,0,0,16,0,0,0,0,0,0,0.5,0,0,0,12,0,0,0,0,0,0,0.5,0,0,12,8,0,12,0,0,0]
[696,1,2.2999999999999998,0,0,0,16,0,0,0,0,0,0,0.5,0,0,0,12,0,0,0,0,0,0,0.5,0,0,12,8,0,12,0,0,0]
[697,1,2.4,0,0,0,16,0,0,0,0,0,0,0.5,0,0,0,12,0,0,0,0,0,0,0.5,0,0,12,8,0,12,0,0,0]
[698,1,0.8,0,0,0,16,0,0,0,0,0,0,0.5,0,0,0,12,0,0,0,0,0,0,0.5,0,0,12,8,0,12,0,0,0]
[699,1,1.4,0,0,0,16,0,0,0,0,0,0,0.5,0,0,0,12,0,0,0,0,0,0,0.5,0,0,12,8,0,12,0,0,0]
[700,1,1.3,0,0,0,16,0,0,0,0,0,0,0.5,0,0,0,12,0,0,0,0,0,0,0.5,0,0,12,8,0,12,0,0,0]
[701,1,1.3,0,0,0,16,0,0,0,0,0,0,0.5,0,0,0,12,0,0,0,0,0,0,0.5,0,0,12,8,0,12,0,0,0]
[702,1,1.2,0,0,0,16,0,0,0,0,0,0,0.5,0,0,0,12,0,0,0,0,0,0,0.5,0,0,12,8,0,12,0,0,0]
[703,1,0.6,0,0,0,16,0,0,0,0,0,0,0.5,0,0,0,12,0,0,0,0,0,0,0.5,0,0,12,8,0,12,0,0,0]
[704,1,0.2,0,0,0,16,0,0,0,0,0,0,0.5,0,0,0,12,0,0,0,0,0,0,0.5,0,0,12,8,0,12,0,0,0]
[705,1,0.8,0,0,0,16,0,0,0,0,0,0,0.5,0,0,0,12,{"$f":"0.05*O718","v":0},{"$f":"0.05*P718","v":0},0,0,0,0,0.5,0,0,12,8,0,12,0,0,0]
[706,1,1.1000000000000001,0,0,0,16,{"$f":"0.05*D719","v":0},{"$f":"0.05*E719","v":0},0,0,0,0,0.5,0,0,0,12,0,0,0,0,0,0,0.5,0,0,12,8,0,12,0,0,{"$f":"0.05*AF719","v":0}]
[707,1,1.6,0,0,0,16,0,0,0,0,0,0,0.5,0,0,0,12,0,0,0,0,0,0,0.5,0,0,12,8,0,12,0,0,0]
[708,1,1.1000000000000001,0,0,0,16,0,0,0,0,0,0,0.5,0,0,0,12,0,0,0,0,0,0,0.5,0,0,12,8,0,12,0,0,0]
[709,1,-0.5,0,0,0,16,0,0,0,0,0,0,0.5,0,0,0,12,0,0,0,0,0,0,0.5,0,0,12,8,0,12,0,0,0]
[710,1,-0.2,0,0,0,16,0,0,0,0,0,0,0.5,0,0,0,12,0,0,0,0,0,0,0.5,0,0,12,8,0,12,0,0,0]
[711,1,-0.2,0,0,0,16,0,0,0,0,0,0,0.5,0,0,0,12,0,0,0,0,0,0,0.5,0,0,12,8,0,12,0,0,0]
[712,1,0.2,0,0,0,16,0,0,0,0,0,0,0.5,0,0,0,12,0,0,0,0,0,0,0.5,0,0,12,8,0,12,0,0,0]
[713,1,-0.3,0,0,0,16,0,0,0,0,0,0,0.5,0,0,0,12,0,0,0,0,0,0,0.5,0,0,12,8,0,12,0,0,0]
[714,1,-1.2,0,0,0,16,0,0,0,0,0,0,0.5,0,0,0,12,0,0,0,0,0,0,0.5,0,0,12,8,0,12,0,0,0]
[715,1,-1.5,0,0,0,16,0,0,0,0,0,0,0.5,0,0,0,12,0,0,0,0,0,0,0.5,0,0,12,8,0,12,0,0,0]
[716,1,-1.5,0,0,0,16,0,0,0,0,0,0,0.5,0,0,0,12,0,0,0,0,0,0,0.5,0,0,12,8,0,12,0,0,0]
[717,1,-1.8,0,0,0,16,0,0,0,0,0,0,0.5,0,0,0,12,0,0,0,0,0,0,0.5,0,0,12,8,0,12,0,0,0]
[718,1,-1.9,0,0,0,16,0,0,0,0,0,0,0.5,0,0,0,12,0,0,0,0,0,0,0.5,0,0,12,8,0,12,0,0,0]
[719,1,-2.1,0,0,0,16,0,0,0,0,0,0,0.5,0,0,0,12,0,0,0,0,0,0,0.5,0,0,12,8,0,12,0,0,0]
[720,1,-2.1,0,0,0,16,0,0,0,0,0,0,0.5,0,0,0,12,0,0,0,0,0,0,0.5,0,0,12,8,0,12,0,0,0]
[721,1,-2.6,0,0,0,16,0,0,0,0,0,0,0.5,0,0,0,12,0,0,0,0,0,0,0.5,0,0,12,8,0,12,0,0,0]
[722,1,-2.5,0,0,0,16,0,0,0,0,0,0,0.5,0,0,0,12,0,0,0,0,0,0,0.5,0,0,12,8,0,12,0,0,0]
[723,1,-2.4,0,0,0,16,0,0,0,0,0,0,0.5,0,0,0,12,0,0,0,0,0,0,0.5,0,0,12,8,0,12,0,0,0]
[724,1,-2.2999999999999998,0,0,0,16,0,0,0,0,0,0,0.5,0,0,0,12,0,0,0,0,0,0,0.5,0,0,12,8,0,12,0,0,0]
[725,1,-2.2999999999999998,0,0,0,16,0,0,0,0,0,0,0.5,0,0,0,12,0,0,0,0,0,0,0.5,0,0,12,8,0,12,0,0,0]
[726,1,-2.4,0,0,0,16,0,0,0,0,0,0,0.5,0,0,0,12,0,0,0,0,0,0,0.5,0,0,12,8,0,12,0,0,0]
[727,1,-2.6,0,0,0,16,0,0,0,0,0,0,0.5,0,0,0,12,0,0,0,0,0,0,0.5,0,0,12,8,0,12,0,0,0]
[728,1,-2.6,0,0,0,16,0,0,0,0,0,0,0.5,0,0,0,12,0,0,0,0,0,0,0.5,0,0,12,8,0,12,0,0,0]
[729,1,-2.7,0,0,0,16,0,0,0,0,0,0,0.5,0,0,0,12,0,0,0,0,0,0,0.5,0,0,12,8,0,12,0,0,0]
[730,1,-2.5,0,0,0,16,0,0,0,0,0,0,0.5,0,0,0,12,0,0,0,0,0,0,0.5,0,0,12,8,0,12,0,0,0]
[731,1,-1.9,0,0,0,16,0,0,0,0,0,0,0.5,0,0,0,12,0,0,0,0,0,0,0.5,0,0,12,8,0,12,0,0,0]
[732,1,-1.7,0,0,0,16,0,0,0,0,0,0,0.5,0,0,0,12,0,0,0,0,0,0,0.5,0,0,12,8,0,12,0,0,0]
[733,1,-2.2000000000000002,0,0,0,16,0,0,0,0,0,0,0.5,0,0,0,12,0,0,0,0,0,0,0.5,0,0,12,8,0,12,0,0,0]
[734,1,-2.5,0,0,0,16,0,0,0,0,0,0,0.5,0,0,0,12,0,0,0,0,0,0,0.5,0,0,12,8,0,12,0,0,0]
[735,1,-3.4,0,0,0,16,0,0,0,0,0,0,0.5,0,0,0,12,0,0,0,0,0,0,0.5,0,0,12,8,0,12,0,0,0]
[736,1,-4.5,0,0,0,16,0,0,0,0,0,0,0.5,0,0,0,12,0,0,0,0,0,0,0.5,0,0,12,8,0,12,0,0,0]
[737,1,-5.2,0,0,0,16,0,0,0,0,0,0,0.5,0,0,0,12,0,0,0,0,0,0,0.5,0,0,12,8,0,12,0,0,0]
[738,1,-5.8,0,0,0,16,0,0,0,0,0,0,0.5,0,0,0,12,0,0,0,0,0,0,0.5,0,0,12,8,0,12,0,0,0]
[739,1,-6.2,0,0,0,16,0,0,0,0,0,0,0.5,0,0,0,12,0,0,0,0,0,0,0.5,0,0,12,8,0,12,0,0,0]
[740,1,-6.8,0,0,0,16,0,0,0,0,0,0,0.5,0,0,0,12,0,0,0,0,0,0,0.5,0,0,12,8,0,12,0,0,0]
[741,1,-7,0,0,0,16,0,0,0,0,0,0,0.5,0,0,0,12,0,0,0,0,0,0,0.5,0,0,12,8,0,12,0,0,0]
[742,1,-6.7,0,0,0,16,0,0,0,0,0,0,0.5,0,0,0,12,0,0,0,0,0,0,0.5,0,0,12,8,0,12,0,0,0]
[743,1,-6.5,0,0,0,16,0,0,0,0,0,0,0.5,0,0,0,12,0,0,0,0,0,0,0.5,0,0,12,8,0,12,0,0,0]
[744,1,-5.8,0,0,0,16,0,0,0,0,0,0,0.5,0,0,0,12,0,0,0,0,0,0,0.5,0,0,12,8,0,12,0,0,0]
[745,1,-5,0,0,0,16,0,0,0,0,0,0,0.5,0,0,0,12,0,0,0,0,0,0,0.5,0,0,12,8,0,12,0,0,0]
[746,1,-4.0999999999999996,0,0,0,16,0,0,0,0,0,0,0.5,0,0,0,12,0,0,0,0,0,0,0.5,0,0,12,8,0,12,0,0,0]
[747,1,-3.5,0,0,0,16,0,0,0,0,0,0,0.5,0,0,0,12,0,0,0,0,0,0,0.5,0,0,12,8,0,12,0,0,0]
[748,1,-2.8,0,0,0,16,0,0,0,0,0,0,0.5,0,0,0,12,0,0,0,0,0,0,0.5,0,0,12,8,0,12,0,0,0]
[749,1,-2.4,0,0,0,16,0,0,0,0,0,0,0.5,0,0,0,12,0,0,0,0,0,0,0.5,0,0,12,8,0,12,0,0,0]
[750,1,-2.2999999999999998,0,0,0,16,0,0,0,0,0,0,0.5,0,0,0,12,0,0,0,0,0,0,0.5,0,0,12,8,0,12,0,0,0]
[751,1,-2.1,0,0,0,16,0,0,0,0,0,0,0.5,0,0,0,12,0,0,0,0,0,0,0.5,0,0,12,8,0,12,0,0,0]
[752,1,-1.8,0,0,0,16,0,0,0,0,0,0,0.5,0,0,0,12,0,0,0,0,0,0,0.5,0,0,12,8,0,12,0,0,0]
[753,1,-1.7,0,0,0,16,0,0,0,0,0,0,0.5,0,0,0,12,0,0,0,0,0,0,0.5,0,0,12,8,0,12,0,0,0]
[754,1,-1.3,0,0,0,16,0,0,0,0,0,0,0.5,0,0,0,12,0,0,0,0,0,0,0.5,0,0,12,8,0,12,0,0,0]
[755,1,-1,0,0,0,16,0,0,0,0,0,0,0.5,0,0,0,12,0,0,0,0,0,0,0.5,0,0,12,8,0,12,0,0,0]
[756,1,-1,0,0,0,16,0,0,0,0,0,0,0.5,0,0,0,12,0,0,0,0,0,0,0.5,0,0,12,8,0,12,0,0,0]
[757,1,-0.7,0,0,0,16,0,0,0,0,0,0,0.5,0,0,0,12,0,0,0,0,0,0,0.5,0,0,12,8,0,12,0,0,0]
[758,1,-0.5,0,0,0,16,0,0,0,0,0,0,0.5,0,0,0,12,0,0,0,0,0,0,0.5,0,0,12,8,0,12,0,0,0]
[759,1,-0.5,0,0,0,16,0,0,0,0,0,0,0.5,0,0,0,12,0,0,0,0,0,0,0.5,0,0,12,8,0,12,0,0,0]
[760,1,-0.5,0,0,0,16,0,0,0,0,0,0,0.5,0,0,0,12,0,0,0,0,0,0,0.5,0,0,12,8,0,12,0,0,0]
[761,1,-0.5,0,0,0,16,0,0,0,0,0,0,0.5,0,0,0,12,0,0,0,0,0,0,0.5,0,0,12,8,0,12,0,0,0]
[762,1,-0.7,0,0,0,16,0,0,0,0,0,0,0.5,0,0,0,12,0,0,0,0,0,0,0.5,0,0,12,8,0,12,0,0,0]
[763,1,-1,0,0,0,16,0,0,0,0,0,0,0.5,0,0,0,12,0,0,0,0,0,0,0.5,0,0,12,8,0,12,0,0,0]
[764,1,-1.1000000000000001,0,0,0,16,0,0,0,0,0,0,0.5,0,0,0,12,0,0,0,0,0,0,0.5,0,0,12,8,0,12,0,0,0]
[765,1,-1.4,0,0,0,16,0,0,0,0,0,0,0.5,0,0,0,12,0,0,0,0,0,0,0.5,0,0,12,8,0,12,0,0,0]
[766,1,-1.5,0,0,0,16,0,0,0,0,0,0,0.5,0,0,0,12,0,0,0,0,0,0,0.5,0,0,12,8,0,12,0,0,0]
[767,1,-1.8,0,0,0,16,0,0,0,0,0,0,0.5,0,0,0,12,0,0,0,0,0,0,0.5,0,0,12,8,0,12,0,0,0]
[768,1,-2.2000000000000002,0,0,0,16,0,0,0,0,0,0,0.5,0,0,0,12,0,0,0,0,0,0,0.5,0,0,12,8,0,12,0,0,0]
[769,1,-2.4,0,0,0,16,0,0,0,0,0,0,0.5,0,0,0,12,{"$f":"0.05*O782","v":0},{"$f":"0.05*P782","v":0},0,0,0,0,0.5,0,0,12,8,0,12,0,0,0]
[770,1,-2.8,0,0,0,16,{"$f":"0.05*D783","v":0},{"$f":"0.05*E783","v":0},0,0,0,0,0.5,0,0,0,12,0,0,0,0,0,0,0.5,0,0,12,8,0,12,0,0,{"$f":"0.05*AF783","v":0}]
[771,1,-2.6,0,0,0,16,0,0,0,0,0,0,0.5,0,0,0,12,0,0,0,0,0,0,0.5,0,0,12,8,0,12,0,0,0]
[772,1,-2.6,0,0,0,16,0,0,0,0,0,0,0.5,0,0,0,12,0,0,0,0,0,0,0.5,0,0,12,8,0,12,0,0,0]
[773,1,-2.8,0,0,0,16,0,0,0,0,0,0,0.5,0,0,0,12,0,0,0,0,0,0,0.5,0,0,12,8,0,12,0,0,0]
[774,1,-3.1,0,0,0,16,0,0,0,0,0,0,0.5,0,0,0,12,0,0,0,0,0,0,0.5,0,0,12,8,0,12,0,0,0]
[775,1,-2.9,0,0,0,16,0,0,0,0,0,0,0.5,0,0,0,12,0,0,0,0,0,0,0.5,0,0,12,8,0,12,0,0,0]
[776,1,-3.1,0,0,0,16,0,0,0,0,0,0,0.5,0,0,0,12,0,0,0,0,0,0,0.5,0,0,12,8,0,12,0,0,0]
[777,1,-2.7,0,0,0,16,0,0,0,0,0,0,0.5,0,0,0,12,0,0,0,0,0,0,0.5,0,0,12,8,0,12,0,0,0]
[778,1,-2.4,0,0,0,16,0,0,0,0,0,0,0.5,0,0,0,12,0,0,0,0,0,0,0.5,0,0,12,8,0,12,0,0,0]
[779,1,-2,0,0,0,16,0,0,0,0,0,0,0.5,0,0,0,12,0,0,0,0,0,0,0.5,0,0,12,8,0,12,0,0,0]
[780,1,-1,0,0,0,16,0,0,0,0,0,0,0.5,0,0,0,12,0,0,0,0,0,0,0.5,0,0,12,8,0,12,0,0,0]
[781,1,-0.2,0,0,0,16,0,0,0,0,0,0,0.5,0,0,0,12,0,0,0,0,0,0,0.5,0,0,12,8,0,12,0,0,0]
[782,1,0.3,0,0,0,16,0,0,0,0,0,0,0.5,0,0,0,12,0,0,0,0,0,0,0.5,0,0,12,8,0,12,0,0,0]
[783,1,0.5,0,0,0,16,0,0,0,0,0,0,0.5,0,0,0,12,0,0,0,0,0,0,0.5,0,0,12,8,0,12,0,0,0]
[784,1,0.1,0,0,0,16,0,0,0,0,0,0,0.5,0,0,0,12,0,0,0,0,0,0,0.5,0,0,12,8,0,12,0,0,0]
[785,1,-0.3,0,0,0,16,0,0,0,0,0,0,0.5,0,0,0,12,0,0,0,0,0,0,0.5,0,0,12,8,0,12,0,0,0]
[786,1,-0.8,0,0,0,16,0,0,0,0,0,0,0.5,0,0,0,12,0,0,0,0,0,0,0.5,0,0,12,8,0,12,0,0,0]
[787,1,-1,0,0,0,16,0,0,0,0,0,0,0.5,0,0,0,12,0,0,0,0,0,0,0.5,0,0,12,8,0,12,0,0,0]
[788,1,-0.7,0,0,0,16,0,0,0,0,0,0,0.5,0,0,0,12,0,0,0,0,0,0,0.5,0,0,12,8,0,12,0,0,0]
[789,1,-0.6,0,0,0,16,0,0,0,0,0,0,0.5,0,0,0,12,0,0,0,0,0,0,0.5,0,0,12,8,0,12,0,0,0]
[790,1,-1.7,0,0,0,16,0,0,0,0,0,0,0.5,0,0,0,12,0,0,0,0,0,0,0.5,0,0,12,8,0,12,0,0,0]
[791,1,-1.7,0,0,0,16,0,0,0,0,0,0,0.5,0,0,0,12,0,0,0,0,0,0,0.5,0,0,12,8,0,12,0,0,0]
[792,1,-2.2000000000000002,0,0,0,16,0,0,0,0,0,0,0.5,0,0,0,12,0,0,0,0,0,0,0.5,0,0,12,8,0,12,0,0,0]
[793,1,-2.8,0,0,0,16,0,0,0,0,0,0,0.5,0,0,0,12,0,0,0,0,0,0,0.5,0,0,12,8,0,12,0,0,0]
[794,1,-2.9,0,0,0,16,0,0,0,0,0,0,0.5,0,0,0,12,0,0,0,0,0,0,0.5,0,0,12,8,0,12,0,0,0]
[795,1,-2.5,0,0,0,16,0,0,0,0,0,0,0.5,0,0,0,12,0,0,0,0,0,0,0.5,0,0,12,8,0,12,0,0,0]
[796,1,-2.4,0,0,0,16,0,0,0,0,0,0,0.5,0,0,0,12,0,0,0,0,0,0,0.5,0,0,12,8,0,12,0,0,0]
[797,1,-2.8,0,0,0,16,0,0,0,0,0,0,0.5,0,0,0,12,0,0,0,0,0,0,0.5,0,0,12,8,0,12,0,0,0]
[798,1,-3.2,0,0,0,16,0,0,0,0,0,0,0.5,0,0,0,12,0,0,0,0,0,0,0.5,0,0,12,8,0,12,0,0,0]
[799,1,-3.6,0,0,0,16,0,0,0,0,0,0,0.5,0,0,0,12,0,0,0,0,0,0,0.5,0,0,12,8,0,12,0,0,0]
[800,1,-3.4,0,0,0,16,0,0,0,0,0,0,0.5,0,0,0,12,0,0,0,0,0,0,0.5,0,0,12,8,0,12,0,0,0]
[801,1,-2.2000000000000002,0,0,0,16,0,0,0,0,0,0,0.5,0,0,0,12,0,0,0,0,0,0,0.5,0,0,12,8,0,12,0,0,0]
[802,1,-1.2,0,0,0,16,0,0,0,0,0,0,0.5,0,0,0,12,0,0,0,0,0,0,0.5,0,0,12,8,0,12,0,0,0]
[803,1,-0.2,0,0,0,16,0,0,0,0,0,0,0.5,0,0,0,12,0,0,0,0,0,0,0.5,0,0,12,8,0,12,0,0,0]
[804,1,0.6,0,0,0,16,0,0,0,0,0,0,0.5,0,0,0,12,0,0,0,0,0,0,0.5,0,0,12,8,0,12,0,0,0]
[805,1,1.3,0,0,0,16,0,0,0,0,0,0,0.5,0,0,0,12,0,0,0,0,0,0,0.5,0,0,12,8,0,12,0,0,0]
[806,1,1.7,0,0,0,16,0,0,0,0,0,0,0.5,0,0,0,12,0,0,0,0,0,0,0.5,0,0,12,8,0,12,0,0,0]
[807,1,1.9,0,0,0,16,0,0,0,0,0,0,0.5,0,0,0,12,0,0,0,0,0,0,0.5,0,0,12,8,0,12,0,0,0]
[808,1,2.1,0,0,0,16,0,0,0,0,0,0,0.5,0,0,0,12,0,0,0,0,0,0,0.5,0,0,12,8,0,12,0,0,0]
[809,1,4.3,0,0,0,16,0,0,0,0,0,0,0.5,0,0,0,12,0,0,0,0,0,0,0.5,0,0,12,8,0,12,0,0,0]
[810,1,7.2,0,0,0,16,0,0,0,0,0,0,0.5,0,0,0,12,0,0,0,0,0,0,0.5,0,0,12,8,0,12,0,0,0]
[811,1,6.5,0,0,0,16,0,0,0,0,0,0,0.5,0,0,0,12,0,0,0,0,0,0,0.5,0,0,12,8,0,12,0,0,0]
[812,1,5.0999999999999996,0,0,0,16,0,0,0,0,0,0,0.5,0,0,0,12,0,0,0,0,0,0,0.5,0,0,12,8,0,12,0,0,0]
[813,1,3.8,0,0,0,16,0,0,0,0,0,0,0.5,0,0,0,12,0,0,0,0,0,0,0.5,0,0,12,8,0,12,0,0,0]
[814,1,3.2,0,0,0,16,0,0,0,0,0,0,0.5,0,0,0,12,0,0,0,0,0,0,0.5,0,0,12,8,0,12,0,0,0]
[815,1,2.7,0,0,0,16,0,0,0,0,0,0,0.5,0,0,0,12,0,0,0,0,0,0,0.5,0,0,12,8,0,12,0,0,0]
[816,1,4.3,0,0,0,16,0,0,0,0,0,0,0.5,0,0,0,12,0,0,0,0,0,0,0.5,0,0,12,8,0,12,0,0,0]
[817,1,5,0,0,0,16,0,0,0,0,0,0,0.5,0,0,0,12,0,0,0,0,0,0,0.5,0,0,12,8,0,12,0,0,0]
[818,1,4.7,0,0,0,16,0,0,0,0,0,0,0.5,0,0,0,12,0,0,0,0,0,0,0.5,0,0,12,8,0,12,0,0,0]
[819,1,4.3,0,0,0,16,0,0,0,0,0,0,0.5,0,0,0,12,0,0,0,0,0,0,0.5,0,0,12,8,0,12,0,0,0]
[820,1,3.6,0,0,0,16,0,0,0,0,0,0,0.5,0,0,0,12,0,0,0,0,0,0,0.5,0,0,12,8,0,12,0,0,0]
[821,1,3.6,0,0,0,16,0,0,0,0,0,0,0.5,0,0,0,12,0,0,0,0,0,0,0.5,0,0,12,8,0,12,0,0,0]
[822,1,3.5,0,0,0,16,0,0,0,0,0,0,0.5,0,0,0,12,0,0,0,0,0,0,0.5,0,0,12,8,0,12,0,0,0]
[823,1,4.2,0,0,0,16,0,0,0,0,0,0,0.5,0,0,0,12,0,0,0,0,0,0,0.5,0,0,12,8,0,12,0,0,0]
[824,1,4.5,0,0,0,16,0,0,0,0,0,0,0.5,0,0,0,12,0,0,0,0,0,0,0.5,0,0,12,8,0,12,0,0,0]
[825,1,3.9,0,0,0,16,0,0,0,0,0,0,0.5,0,0,0,12,0,0,0,0,0,0,0.5,0,0,12,8,0,12,0,0,0]
[826,1,3.4,0,0,0,16,0,0,0,0,0,0,0.5,0,0,0,12,0,0,0,0,0,0,0.5,0,0,12,8,0,12,0,0,0]
[827,1,3,0,0,0,16,0,0,0,0,0,0,0.5,0,0,0,12,0,0,0,0,0,0,0.5,0,0,12,8,0,12,0,0,0]
[828,1,2.7,0,0,0,16,0,0,0,0,0,0,0.5,0,0,0,12,0,0,0,0,0,0,0.5,0,0,12,8,0,12,0,0,0]
[829,1,3.1,0,0,0,16,0,0,0,0,0,0,0.5,0,0,0,12,0,0,0,0,0,0,0.5,0,0,12,8,0,12,0,0,0]
[830,1,3.7,0,0,0,16,0,0,0,0,0,0,0.5,0,0,0,12,0,0,0,0,0,0,0.5,0,0,12,8,0,12,0,0,0]
[831,1,5.2,0,0,0,16,0,0,0,0,0,0,0.5,0,0,0,12,0,0,0,0,0,0,0.5,0,0,12,8,0,12,0,0,0]
[832,1,5.8,0,0,0,16,0,0,0,0,0,0,0.5,0,0,0,12,0,0,0,0,0,0,0.5,0,0,12,8,0,12,0,0,0]
[833,1,6,0,0,0,16,0,0,0,0,0,0,0.5,0,0,0,12,{"$f":"0.05*O846","v":0},{"$f":"0.05*P846","v":0},0,0,0,0,0.5,0,0,12,8,0,12,0,0,0]
[834,1,6.2,0,0,0,16,{"$f":"0.05*D847","v":0},{"$f":"0.05*E847","v":0},0,0,0,0,0.5,0,0,0,12,0,0,0,0,0,0,0.5,0,0,12,8,0,12,0,0,{"$f":"0.05*AF847","v":0}]
[835,1,6.4,0,0,0,16,0,0,0,0,0,0,0.5,0,0,0,12,0,0,0,0,0,0,0.5,0,0,12,8,0,12,0,0,0]
[836,1,6.1,0,0,0,16,0,0,0,0,0,0,0.5,0,0,0,12,0,0,0,0,0,0,0.5,0,0,12,8,0,12,0,0,0]
[837,1,5.8,0,0,0,16,0,0,0,0,0,0,0.5,0,0,0,12,0,0,0,0,0,0,0.5,0,0,12,8,0,12,0,0,0]
[838,1,5.6,0,0,0,16,0,0,0,0,0,0,0.5,0,0,0,12,0,0,0,0,0,0,0.5,0,0,12,8,0,12,0,0,0]
[839,1,5.7,0,0,0,16,0,0,0,0,0,0,0.5,0,0,0,12,0,0,0,0,0,0,0.5,0,0,12,8,0,12,0,0,0]
[840,1,6,0,0,0,16,0,0,0,0,0,0,0.5,0,0,0,12,0,0,0,0,0,0,0.5,0,0,12,8,0,12,0,0,0]
[841,1,6.4,0,0,0,16,0,0,0,0,0,0,0.5,0,0,0,12,0,0,0,0,0,0,0.5,0,0,12,8,0,12,0,0,0]
[842,1,5.9,0,0,0,16,0,0,0,0,0,0,0.5,0,0,0,12,0,0,0,0,0,0,0.5,0,0,12,8,0,12,0,0,0]
[843,1,5.7,0,0,0,16,0,0,0,0,0,0,0.5,0,0,0,12,0,0,0,0,0,0,0.5,0,0,12,8,0,12,0,0,0]
[844,1,5.5,0,0,0,16,0,0,0,0,0,0,0.5,0,0,0,12,0,0,0,0,0,0,0.5,0,0,12,8,0,12,0,0,0]
[845,1,5.5,0,0,0,16,0,0,0,0,0,0,0.5,0,0,0,12,0,0,0,0,0,0,0.5,0,0,12,8,0,12,0,0,0]
[846,1,5.6,0,0,0,16,0,0,0,0,0,0,0.5,0,0,0,12,0,0,0,0,0,0,0.5,0,0,12,8,0,12,0,0,0]
[847,1,5.5,0,0,0,16,0,0,0,0,0,0,0.5,0,0,0,12,0,0,0,0,0,0,0.5,0,0,12,8,0,12,0,0,0]
[848,1,5.5,0,0,0,16,0,0,0,0,0,0,0.5,0,0,0,12,0,0,0,0,0,0,0.5,0,0,12,8,0,12,0,0,0]
[849,1,5.5,0,0,0,16,0,0,0,0,0,0,0.5,0,0,0,12,0,0,0,0,0,0,0.5,0,0,12,8,0,12,0,0,0]
[850,1,5.5,0,0,0,16,0,0,0,0,0,0,0.5,0,0,0,12,0,0,0,0,0,0,0.5,0,0,12,8,0,12,0,0,0]
[851,1,5.9,0,0,0,16,0,0,0,0,0,0,0.5,0,0,0,12,0,0,0,0,0,0,0.5,0,0,12,8,0,12,0,0,0]
[852,1,6,0,0,0,16,0,0,0,0,0,0,0.5,0,0,0,12,0,0,0,0,0,0,0.5,0,0,12,8,0,12,0,0,0]
[853,1,6,0,0,0,16,0,0,0,0,0,0,0.5,0,0,0,12,0,0,0,0,0,0,0.5,0,0,12,8,0,12,0,0,0]
[854,1,6.3,0,0,0,16,0,0,0,0,0,0,0.5,0,0,0,12,0,0,0,0,0,0,0.5,0,0,12,8,0,12,0,0,0]
[855,1,6.4,0,0,0,16,0,0,0,0,0,0,0.5,0,0,0,12,0,0,0,0,0,0,0.5,0,0,12,8,0,12,0,0,0]
[856,1,6.5,0,0,0,16,0,0,0,0,0,0,0.5,0,0,0,12,0,0,0,0,0,0,0.5,0,0,12,8,0,12,0,0,0]
[857,1,6.1,0,0,0,16,0,0,0,0,0,0,0.5,0,0,0,12,0,0,0,0,0,0,0.5,0,0,12,8,0,12,0,0,0]
[858,1,5.4,0,0,0,16,0,0,0,0,0,0,0.5,0,0,0,12,0,0,0,0,0,0,0.5,0,0,12,8,0,12,0,0,0]
[859,1,5.4,0,0,0,16,0,0,0,0,0,0,0.5,0,0,0,12,0,0,0,0,0,0,0.5,0,0,12,8,0,12,0,0,0]
[860,1,5.2,0,0,0,16,0,0,0,0,0,0,0.5,0,0,0,12,0,0,0,0,0,0,0.5,0,0,12,8,0,12,0,0,0]
[861,1,4.8,0,0,0,16,0,0,0,0,0,0,0.5,0,0,0,12,0,0,0,0,0,0,0.5,0,0,12,8,0,12,0,0,0]
[862,1,4.5999999999999996,0,0,0,16,0,0,0,0,0,0,0.5,0,0,0,12,0,0,0,0,0,0,0.5,0,0,12,8,0,12,0,0,0]
[863,1,4.3,0,0,0,16,0,0,0,0,0,0,0.5,0,0,0,12,0,0,0,0,0,0,0.5,0,0,12,8,0,12,0,0,0]
[864,1,4.3,0,0,0,16,0,0,0,0,0,0,0.5,0,0,0,12,0,0,0,0,0,0,0.5,0,0,12,8,0,12,0,0,0]
[865,1,4.4000000000000004,0,0,0,16,0,0,0,0,0,0,0.5,0,0,0,12,0,0,0,0,0,0,0.5,0,0,12,8,0,12,0,0,0]
[866,1,4.5999999999999996,0,0,0,16,0,0,0,0,0,0,0.5,0,0,0,12,0,0,0,0,0,0,0.5,0,0,12,8,0,12,0,0,0]
[867,1,4.3,0,0,0,16,0,0,0,0,0,0,0.5,0,0,0,12,0,0,0,0,0,0,0.5,0,0,12,8,0,12,0,0,0]
[868,1,4.3,0,0,0,16,0,0,0,0,0,0,0.5,0,0,0,12,0,0,0,0,0,0,0.5,0,0,12,8,0,12,0,0,0]
[869,1,4.5999999999999996,0,0,0,16,0,0,0,0,0,0,0.5,0,0,0,12,0,0,0,0,0,0,0.5,0,0,12,8,0,12,0,0,0]
[870,1,5.2,0,0,0,16,0,0,0,0,0,0,0.5,0,0,0,12,0,0,0,0,0,0,0.5,0,0,12,8,0,12,0,0,0]
[871,1,4.9000000000000004,0,0,0,16,0,0,0,0,0,0,0.5,0,0,0,12,0,0,0,0,0,0,0.5,0,0,12,8,0,12,0,0,0]
[872,1,5,0,0,0,16,0,0,0,0,0,0,0.5,0,0,0,12,0,0,0,0,0,0,0.5,0,0,12,8,0,12,0,0,0]
[873,1,5.0999999999999996,0,0,0,16,0,0,0,0,0,0,0.5,0,0,0,12,0,0,0,0,0,0,0.5,0,0,12,8,0,12,0,0,0]
[874,1,4.9000000000000004,0,0,0,16,0,0,0,0,0,0,0.5,0,0,0,12,0,0,0,0,0,0,0.5,0,0,12,8,0,12,0,0,0]
[875,1,5.4,0,0,0,16,0,0,0,0,0,0,0.5,0,0,0,12,0,0,0,0,0,0,0.5,0,0,12,8,0,12,0,0,0]
[876,1,6.1,0,0,0,16,0,0,0,0,0,0,0.5,0,0,0,12,0,0,0,0,0,0,0.5,0,0,12,8,0,12,0,0,0]
[877,1,6.5,0,0,0,16,0,0,0,0,0,0,0.5,0,0,0,12,0,0,0,0,0,0,0.5,0,0,12,8,0,12,0,0,0]
[878,1,6.6,0,0,0,16,0,0,0,0,0,0,0.5,0,0,0,12,0,0,0,0,0,0,0.5,0,0,12,8,0,12,0,0,0]
[879,1,6.7,0,0,0,16,0,0,0,0,0,0,0.5,0,0,0,12,0,0,0,0,0,0,0.5,0,0,12,8,0,12,0,0,0]
[880,1,6.7,0,0,0,16,0,0,0,0,0,0,0.5,0,0,0,12,0,0,0,0,0,0,0.5,0,0,12,8,0,12,0,0,0]
[881,1,6.5,0,0,0,16,0,0,0,0,0,0,0.5,0,0,0,12,0,0,0,0,0,0,0.5,0,0,12,8,0,12,0,0,0]
[882,1,5.8,0,0,0,16,0,0,0,0,0,0,0.5,0,0,0,12,0,0,0,0,0,0,0.5,0,0,12,8,0,12,0,0,0]
[883,1,4.8,0,0,0,16,0,0,0,0,0,0,0.5,0,0,0,12,0,0,0,0,0,0,0.5,0,0,12,8,0,12,0,0,0]
[884,1,3.5,0,0,0,16,0,0,0,0,0,0,0.5,0,0,0,12,0,0,0,0,0,0,0.5,0,0,12,8,0,12,0,0,0]
[885,1,2,0,0,0,16,0,0,0,0,0,0,0.5,0,0,0,12,0,0,0,0,0,0,0.5,0,0,12,8,0,12,0,0,0]
[886,1,1.8,0,0,0,16,0,0,0,0,0,0,0.5,0,0,0,12,0,0,0,0,0,0,0.5,0,0,12,8,0,12,0,0,0]
[887,1,1.1000000000000001,0,0,0,16,0,0,0,0,0,0,0.5,0,0,0,12,0,0,0,0,0,0,0.5,0,0,12,8,0,12,0,0,0]
[888,1,0.8,0,0,0,16,0,0,0,0,0,0,0.5,0,0,0,12,0,0,0,0,0,0,0.5,0,0,12,8,0,12,0,0,0]
[889,1,1.1000000000000001,0,0,0,16,0,0,0,0,0,0,0.5,0,0,0,12,0,0,0,0,0,0,0.5,0,0,12,8,0,12,0,0,0]
[890,1,1.3,0,0,0,16,0,0,0,0,0,0,0.5,0,0,0,12,0,0,0,0,0,0,0.5,0,0,12,8,0,12,0,0,0]
[891,1,1.1000000000000001,0,0,0,16,0,0,0,0,0,0,0.5,0,0,0,12,0,0,0,0,0,0,0.5,0,0,12,8,0,12,0,0,0]
[892,1,0.8,0,0,0,16,0,0,0,0,0,0,0.5,0,0,0,12,0,0,0,0,0,0,0.5,0,0,12,8,0,12,0,0,0]
[893,1,1.2,0,0,0,16,0,0,0,0,0,0,0.5,0,0,0,12,0,0,0,0,0,0,0.5,0,0,12,8,0,12,0,0,0]
[894,1,1.9,0,0,0,16,0,0,0,0,0,0,0.5,0,0,0,12,0,0,0,0,0,0,0.5,0,0,12,8,0,12,0,0,0]
[895,1,1.8,0,0,0,16,0,0,0,0,0,0,0.5,0,0,0,12,0,0,0,0,0,0,0.5,0,0,12,8,0,12,0,0,0]
[896,1,1.7,0,0,0,16,0,0,0,0,0,0,0.5,0,0,0,12,0,0,0,0,0,0,0.5,0,0,12,8,0,12,0,0,0]
[897,1,1.6,0,0,0,16,0,0,0,0,0,0,0.5,0,0,0,12,{"$f":"0.05*O910","v":0},{"$f":"0.05*P910","v":0},0,0,0,0,0.5,0,0,12,8,0,12,0,0,0]
[898,1,1.8,0,0,0,16,{"$f":"0.05*D911","v":0},{"$f":"0.05*E911","v":0},0,0,0,0,0.5,0,0,0,12,0,0,0,0,0,0,0.5,0,0,12,8,0,12,0,0,{"$f":"0.05*AF911","v":0}]
[899,1,2,0,0,0,16,0,0,0,0,0,0,0.5,0,0,0,12,0,0,0,0,0,0,0.5,0,0,12,8,0,12,0,0,0]
[900,1,2.1,0,0,0,16,0,0,0,0,0,0,0.5,0,0,0,12,0,0,0,0,0,0,0.5,0,0,12,8,0,12,0,0,0]
[901,1,2.2999999999999998,0,0,0,16,0,0,0,0,0,0,0.5,0,0,0,12,0,0,0,0,0,0,0.5,0,0,12,8,0,12,0,0,0]
[902,1,2.4,0,0,0,16,0,0,0,0,0,0,0.5,0,0,0,12,0,0,0,0,0,0,0.5,0,0,12,8,0,12,0,0,0]
[903,1,2.5,0,0,0,16,0,0,0,0,0,0,0.5,0,0,0,12,0,0,0,0,0,0,0.5,0,0,12,8,0,12,0,0,0]
[904,1,2.4,0,0,0,16,0,0,0,0,0,0,0.5,0,0,0,12,0,0,0,0,0,0,0.5,0,0,12,8,0,12,0,0,0]
[905,1,2.2999999999999998,0,0,0,16,0,0,0,0,0,0,0.5,0,0,0,12,0,0,0,0,0,0,0.5,0,0,12,8,0,12,0,0,0]
[906,1,2.2999999999999998,0,0,0,16,0,0,0,0,0,0,0.5,0,0,0,12,0,0,0,0,0,0,0.5,0,0,12,8,0,12,0,0,0]
[907,1,2.1,0,0,0,16,0,0,0,0,0,0,0.5,0,0,0,12,0,0,0,0,0,0,0.5,0,0,12,8,0,12,0,0,0]
[908,1,2,0,0,0,16,0,0,0,0,0,0,0.5,0,0,0,12,0,0,0,0,0,0,0.5,0,0,12,8,0,12,0,0,0]
[909,1,1.7,0,0,0,16,0,0,0,0,0,0,0.5,0,0,0,12,0,0,0,0,0,0,0.5,0,0,12,8,0,12,0,0,0]
[910,1,1.4,0,0,0,16,0,0,0,0,0,0,0.5,0,0,0,12,0,0,0,0,0,0,0.5,0,0,12,8,0,12,0,0,0]
[911,1,1.4,0,0,0,16,0,0,0,0,0,0,0.5,0,0,0,12,0,0,0,0,0,0,0.5,0,0,12,8,0,12,0,0,0]
[912,1,1.3,0,0,0,16,0,0,0,0,0,0,0.5,0,0,0,12,0,0,0,0,0,0,0.5,0,0,12,8,0,12,0,0,0]
[913,1,1.2,0,0,0,16,0,0,0,0,0,0,0.5,0,0,0,12,0,0,0,0,0,0,0.5,0,0,12,8,0,12,0,0,0]
[914,1,0.8,0,0,0,16,0,0,0,0,0,0,0.5,0,0,0,12,0,0,0,0,0,0,0.5,0,0,12,8,0,12,0,0,0]
[915,1,0.6,0,0,0,16,0,0,0,0,0,0,0.5,0,0,0,12,0,0,0,0,0,0,0.5,0,0,12,8,0,12,0,0,0]
[916,1,0.4,0,0,0,16,0,0,0,0,0,0,0.5,0,0,0,12,0,0,0,0,0,0,0.5,0,0,12,8,0,12,0,0,0]
[917,1,0.2,0,0,0,16,0,0,0,0,0,0,0.5,0,0,0,12,0,0,0,0,0,0,0.5,0,0,12,8,0,12,0,0,0]
[918,1,0,0,0,0,16,0,0,0,0,0,0,0.5,0,0,0,12,0,0,0,0,0,0,0.5,0,0,12,8,0,12,0,0,0]
[919,1,0.2,0,0,0,16,0,0,0,0,0,0,0.5,0,0,0,12,0,0,0,0,0,0,0.5,0,0,12,8,0,12,0,0,0]
[920,1,0.1,0,0,0,16,0,0,0,0,0,0,0.5,0,0,0,12,0,0,0,0,0,0,0.5,0,0,12,8,0,12,0,0,0]
[921,1,0,0,0,0,16,0,0,0,0,0,0,0.5,0,0,0,12,0,0,0,0,0,0,0.5,0,0,12,8,0,12,0,0,0]
[922,1,0.3,0,0,0,16,0,0,0,0,0,0,0.5,0,0,0,12,0,0,0,0,0,0,0.5,0,0,12,8,0,12,0,0,0]
[923,1,0.5,0,0,0,16,0,0,0,0,0,0,0.5,0,0,0,12,0,0,0,0,0,0,0.5,0,0,12,8,0,12,0,0,0]
[924,1,0.9,0,0,0,16,0,0,0,0,0,0,0.5,0,0,0,12,0,0,0,0,0,0,0.5,0,0,12,8,0,12,0,0,0]
[925,1,1,0,0,0,16,0,0,0,0,0,0,0.5,0,0,0,12,0,0,0,0,0,0,0.5,0,0,12,8,0,12,0,0,0]
[926,1,1.4,0,0,0,16,0,0,0,0,0,0,0.5,0,0,0,12,0,0,0,0,0,0,0.5,0,0,12,8,0,12,0,0,0]
[927,1,1.4,0,0,0,16,0,0,0,0,0,0,0.5,0,0,0,12,0,0,0,0,0,0,0.5,0,0,12,8,0,12,0,0,0]
[928,1,1.3,0,0,0,16,0,0,0,0,0,0,0.5,0,0,0,12,0,0,0,0,0,0,0.5,0,0,12,8,0,12,0,0,0]
[929,1,1.3,0,0,0,16,0,0,0,0,0,0,0.5,0,0,0,12,0,0,0,0,0,0,0.5,0,0,12,8,0,12,0,0,0]
[930,1,1.2,0,0,0,16,0,0,0,0,0,0,0.5,0,0,0,12,0,0,0,0,0,0,0.5,0,0,12,8,0,12,0,0,0]
[931,1,0.8,0,0,0,16,0,0,0,0,0,0,0.5,0,0,0,12,0,0,0,0,0,0,0.5,0,0,12,8,0,12,0,0,0]
[932,1,0.3,0,0,0,16,0,0,0,0,0,0,0.5,0,0,0,12,0,0,0,0,0,0,0.5,0,0,12,8,0,12,0,0,0]
[933,1,0.3,0,0,0,16,0,0,0,0,0,0,0.5,0,0,0,12,0,0,0,0,0,0,0.5,0,0,12,8,0,12,0,0,0]
[934,1,0.1,0,0,0,16,0,0,0,0,0,0,0.5,0,0,0,12,0,0,0,0,0,0,0.5,0,0,12,8,0,12,0,0,0]
[935,1,-0.1,0,0,0,16,0,0,0,0,0,0,0.5,0,0,0,12,0,0,0,0,0,0,0.5,0,0,12,8,0,12,0,0,0]
[936,1,-0.5,0,0,0,16,0,0,0,0,0,0,0.5,0,0,0,12,0,0,0,0,0,0,0.5,0,0,12,8,0,12,0,0,0]
[937,1,-0.9,0,0,0,16,0,0,0,0,0,0,0.5,0,0,0,12,0,0,0,0,0,0,0.5,0,0,12,8,0,12,0,0,0]
[938,1,-1.3,0,0,0,16,0,0,0,0,0,0,0.5,0,0,0,12,0,0,0,0,0,0,0.5,0,0,12,8,0,12,0,0,0]
[939,1,-1.4,0,0,0,16,0,0,0,0,0,0,0.5,0,0,0,12,0,0,0,0,0,0,0.5,0,0,12,8,0,12,0,0,0]
[940,1,-1.6,0,0,0,16,0,0,0,0,0,0,0.5,0,0,0,12,0,0,0,0,0,0,0.5,0,0,12,8,0,12,0,0,0]
[941,1,-1.9,0,0,0,16,0,0,0,0,0,0,0.5,0,0,0,12,0,0,0,0,0,0,0.5,0,0,12,8,0,12,0,0,0]
[942,1,-2,0,0,0,16,0,0,0,0,0,0,0.5,0,0,0,12,0,0,0,0,0,0,0.5,0,0,12,8,0,12,0,0,0]
[943,1,-2.5,0,0,0,16,0,0,0,0,0,0,0.5,0,0,0,12,0,0,0,0,0,0,0.5,0,0,12,8,0,12,0,0,0]
[944,1,-2.6,0,0,0,16,0,0,0,0,0,0,0.5,0,0,0,12,0,0,0,0,0,0,0.5,0,0,12,8,0,12,0,0,0]
[945,1,-2.2999999999999998,0,0,0,16,0,0,0,0,0,0,0.5,0,0,0,12,0,0,0,0,0,0,0.5,0,0,12,8,0,12,0,0,0]
[946,1,-1.8,0,0,0,16,0,0,0,0,0,0,0.5,0,0,0,12,0,0,0,0,0,0,0.5,0,0,12,8,0,12,0,0,0]
[947,1,-1.3,0,0,0,16,0,0,0,0,0,0,0.5,0,0,0,12,0,0,0,0,0,0,0.5,0,0,12,8,0,12,0,0,0]
[948,1,-0.6,0,0,0,16,0,0,0,0,0,0,0.5,0,0,0,12,0,0,0,0,0,0,0.5,0,0,12,8,0,12,0,0,0]
[949,1,0.8,0,0,0,16,0,0,0,0,0,0,0.5,0,0,0,12,0,0,0,0,0,0,0.5,0,0,12,8,0,12,0,0,0]
[950,1,1.8,0,0,0,16,0,0,0,0,0,0,0.5,0,0,0,12,0,0,0,0,0,0,0.5,0,0,12,8,0,12,0,0,0]
[951,1,2.1,0,0,0,16,0,0,0,0,0,0,0.5,0,0,0,12,0,0,0,0,0,0,0.5,0,0,12,8,0,12,0,0,0]
[952,1,1.8,0,0,0,16,0,0,0,0,0,0,0.5,0,0,0,12,0,0,0,0,0,0,0.5,0,0,12,8,0,12,0,0,0]
[953,1,0.6,0,0,0,16,0,0,0,0,0,0,0.5,0,0,0,12,0,0,0,0,0,0,0.5,0,0,12,8,0,12,0,0,0]
[954,1,0.1,0,0,0,16,0,0,0,0,0,0,0.5,0,0,0,12,0,0,0,0,0,0,0.5,0,0,12,8,0,12,0,0,0]
[955,1,-0.4,0,0,0,16,0,0,0,0,0,0,0.5,0,0,0,12,0,0,0,0,0,0,0.5,0,0,12,8,0,12,0,0,0]
[956,1,-0.7,0,0,0,16,0,0,0,0,0,0,0.5,0,0,0,12,0,0,0,0,0,0,0.5,0,0,12,8,0,12,0,0,0]
[957,1,-0.7,0,0,0,16,0,0,0,0,0,0,0.5,0,0,0,12,0,0,0,0,0,0,0.5,0,0,12,8,0,12,0,0,0]
[958,1,-1.1000000000000001,0,0,0,16,0,0,0,0,0,0,0.5,0,0,0,12,0,0,0,0,0,0,0.5,0,0,12,8,0,12,0,0,0]
[959,1,-1.4,0,0,0,16,0,0,0,0,0,0,0.5,0,0,0,12,0,0,0,0,0,0,0.5,0,0,12,8,0,12,0,0,0]
[960,1,-0.7,0,0,0,16,0,0,0,0,0,0,0.5,0,0,0,12,0,0,0,0,0,0,0.5,0,0,12,8,0,12,0,0,0]
[961,1,-0.9,0,0,0,16,0,0,0,0,0,0,0.5,0,0,0,12,{"$f":"0.05*O974","v":0},{"$f":"0.05*P974","v":0},0,0,0,0,0.5,0,0,12,8,0,12,0,0,0]
[962,1,0.1,0,0,0,16,{"$f":"0.05*D975","v":0},{"$f":"0.05*E975","v":0},0,0,0,0,0.5,0,0,0,12,0,0,0,0,0,0,0.5,0,0,12,8,0,12,0,0,{"$f":"0.05*AF975","v":0}]
[963,1,4.0999999999999996,0,0,0,16,0,0,0,0,0,0,0.5,0,0,0,12,0,0,0,0,0,0,0.5,0,0,12,8,0,12,0,0,0]
[964,1,3.6,0,0,0,16,0,0,0,0,0,0,0.5,0,0,0,12,0,0,0,0,0,0,0.5,0,0,12,8,0,12,0,0,0]
[965,1,3.6,0,0,0,16,0,0,0,0,0,0,0.5,0,0,0,12,0,0,0,0,0,0,0.5,0,0,12,8,0,12,0,0,0]
[966,1,3.2,0,0,0,16,0,0,0,0,0,0,0.5,0,0,0,12,0,0,0,0,0,0,0.5,0,0,12,8,0,12,0,0,0]
[967,1,3,0,0,0,16,0,0,0,0,0,0,0.5,0,0,0,12,0,0,0,0,0,0,0.5,0,0,12,8,0,12,0,0,0]
[968,1,2.8,0,0,0,16,0,0,0,0,0,0,0.5,0,0,0,12,0,0,0,0,0,0,0.5,0,0,12,8,0,12,0,0,0]
[969,1,3.4,0,0,0,16,0,0,0,0,0,0,0.5,0,0,0,12,0,0,0,0,0,0,0.5,0,0,12,8,0,12,0,0,0]
[970,1,4.8,0,0,0,16,0,0,0,0,0,0,0.5,0,0,0,12,0,0,0,0,0,0,0.5,0,0,12,8,0,12,0,0,0]
[971,1,6.9,0,0,0,16,0,0,0,0,0,0,0.5,0,0,0,12,0,0,0,0,0,0,0.5,0,0,12,8,0,12,0,0,0]
[972,1,7.5,0,0,0,16,0,0,0,0,0,0,0.5,0,0,0,12,0,0,0,0,0,0,0.5,0,0,12,8,0,12,0,0,0]
[973,1,8,0,0,0,16,0,0,0,0,0,0,0.5,0,0,0,12,0,0,0,0,0,0,0.5,0,0,12,8,0,12,0,0,0]
[974,1,8.3000000000000007,0,0,0,16,0,0,0,0,0,0,0.5,0,0,0,12,0,0,0,0,0,0,0.5,0,0,12,8,0,12,0,0,0]
[975,1,7.6,0,0,0,16,0,0,0,0,0,0,0.5,0,0,0,12,0,0,0,0,0,0,0.5,0,0,12,8,0,12,0,0,0]
[976,1,6.1,0,0,0,16,0,0,0,0,0,0,0.5,0,0,0,12,0,0,0,0,0,0,0.5,0,0,12,8,0,12,0,0,0]
[977,1,5.8,0,0,0,16,0,0,0,0,0,0,0.5,0,0,0,12,0,0,0,0,0,0,0.5,0,0,12,8,0,12,0,0,0]
[978,1,3.9,0,0,0,16,0,0,0,0,0,0,0.5,0,0,0,12,0,0,0,0,0,0,0.5,0,0,12,8,0,12,0,0,0]
[979,1,1.9,0,0,0,16,0,0,0,0,0,0,0.5,0,0,0,12,0,0,0,0,0,0,0.5,0,0,12,8,0,12,0,0,0]
[980,1,1.3,0,0,0,16,0,0,0,0,0,0,0.5,0,0,0,12,0,0,0,0,0,0,0.5,0,0,12,8,0,12,0,0,0]
[981,1,0.7,0,0,0,16,0,0,0,0,0,0,0.5,0,0,0,12,0,0,0,0,0,0,0.5,0,0,12,8,0,12,0,0,0]
[982,1,-0.3,0,0,0,16,0,0,0,0,0,0,0.5,0,0,0,12,0,0,0,0,0,0,0.5,0,0,12,8,0,12,0,0,0]
[983,1,-0.5,0,0,0,16,0,0,0,0,0,0,0.5,0,0,0,12,0,0,0,0,0,0,0.5,0,0,12,8,0,12,0,0,0]
[984,1,-0.9,0,0,0,16,0,0,0,0,0,0,0.5,0,0,0,12,0,0,0,0,0,0,0.5,0,0,12,8,0,12,0,0,0]
[985,1,-1.2,0,0,0,16,0,0,0,0,0,0,0.5,0,0,0,12,0,0,0,0,0,0,0.5,0,0,12,8,0,12,0,0,0]
[986,1,-0.9,0,0,0,16,0,0,0,0,0,0,0.5,0,0,0,12,0,0,0,0,0,0,0.5,0,0,12,8,0,12,0,0,0]
[987,1,-0.1,0,0,0,16,0,0,0,0,0,0,0.5,0,0,0,12,0,0,0,0,0,0,0.5,0,0,12,8,0,12,0,0,0]
[992,1,1.5,0,0,0,16,0,0,0,0,0,0,0.5,0,0,0,12,0,0,0,0,0,0,0.5,0,0,12,8,0,12,0,0,0]
[997,1,4.8,0,0,0,16,0,0,0,0,0,0,0.5,0,0,0,12,0,0,0,0,0,0,0.5,0,0,12,8,0,12,0,0,0]
[1006,1,3.6,0,0,0,16,0,0,0,0,0,0,0.5,0,0,0,12,0,0,0,0,0,0,0.5,0,0,12,8,0,12,0,0,0]
[1014,1,4,0,0,0,16,0,0,0,0,0,0,0.5,0,0,0,12,0,0,0,0,0,0,0.5,0,0,12,8,0,12,0,0,0]
[1020,1,7.9,0,0,0,16,0,0,0,0,0,0,0.5,0,0,0,12,0,0,0,0,0,0,0.5,0,0,12,8,0,12,0,0,0]
[1031,1,4.4000000000000004,0,0,0,16,0,0,0,0,0,0,0.5,0,0,0,12,0,0,0,0,0,0,0.5,0,0,12,8,0,12,0,0,0]
[1034,1,3.6,0,0,0,16,0,0,0,0,0,0,0.5,0,0,0,12,0,0,0,0,0,0,0.5,0,0,12,8,0,12,0,0,0]
[1040,1,3.2,0,0,0,16,0,0,0,0,0,0,0.5,0,0,0,12,0,0,0,0,0,0,0.5,0,0,12,8,0,12,0,0,0]
[1048,1,5.6,0,0,0,16,0,0,0,0,0,0,0.5,0,0,0,12,0,0,0,0,0,0,0.5,0,0,12,8,0,12,0,0,0]
[1057,1,3.7,0,0,0,16,0,0,0,0,0,0,0.5,0,0,0,12,0,0,0,0,0,0,0.5,0,0,12,8,0,12,0,0,0]
[1065,1,4.4000000000000004,0,0,0,16,0,0,0,0,0,0,0.5,0,0,0,12,0,0,0,0,0,0,0.5,0,0,12,8,0,12,0,0,0]
[1074,1,4.2,0,0,0,16,0,0,0,0,0,0,0.5,0,0,0,12,0,0,0,0,0,0,0.5,0,0,12,8,0,12,0,0,0]
[1079,1,0.3,0,0,0,16,0,0,0,0,0,0,0.5,0,0,0,12,0,0,0,0,0,0,0.5,0,0,12,8,0,12,0,0,0]
[1091,1,3.8,0,0,0,16,0,0,0,0,0,0,0.5,0,0,0,12,0,0,0,0,0,0,0.5,0,0,12,8,0,12,0,0,0]
[1093,1,5,0,0,0,16,0,0,0,0,0,0,0.5,0,0,0,12,0,0,0,0,0,0,0.5,0,0,12,8,0,12,0,0,0]
[1100,1,4,0,0,0,16,0,0,0,0,0,0,0.5,0,0,0,12,0,0,0,0,0,0,0.5,0,0,12,8,0,12,0,0,0]
[1114,1,4.7,0,0,0,16,0,0,0,0,0,0,0.5,0,0,0,12,0,0,0,0,0,0,0.5,0,0,12,8,0,12,0,0,0]
[1117,1,5.8,0,0,0,16,0,0,0,0,0,0,0.5,0,0,0,12,0,0,0,0,0,0,0.5,0,0,12,8,0,12,0,0,0]
[1124,1,2.2000000000000002,0,0,0,16,0,0,0,0,0,0,0.5,0,0,0,12,0,0,0,0,0,0,0.5,0,0,12,8,0,12,0,0,0]
[1134,1,0.3,0,0,0,16,0,0,0,0,0,0,0.5,0,0,0,12,0,0,0,0,0,0,0.5,0,0,12,8,0,12,0,0,0]
[1143,1,0.1,0,0,0,16,0,0,0,0,0,0,0.5,0,0,0,12,0,0,0,0,0,0,0.5,0,0,12,8,0,12,0,0,0]
[1151,1,-0.7,0,0,0,16,0,0,0,0,0,0,0.5,0,0,0,12,0,0,0,0,0,0,0.5,0,0,12,8,0,12,0,0,0]
[1160,1,-3.5,0,0,0,16,0,0,0,0,0,0,0.5,0,0,0,12,0,0,0,0,0,0,0.5,0,0,12,8,0,12,0,0,0]
[1161,1,-3.4,0,0,0,16,0,0,0,0,0,0,0.5,0,0,0,12,0,0,0,0,0,0,0.5,0,0,12,8,0,12,0,0,0]
[1169,1,-2.2000000000000002,0,0,0,16,0,0,0,0,0,0,0.5,0,0,0,12,0,0,0,0,0,0,0.5,0,0,12,8,0,12,0,0,0]
[1182,1,-6.2,0,0,0,16,0,0,0,0,0,0,0.5,0,0,0,12,0,0,0,0,0,0,0.5,0,0,12,8,0,12,0,0,0]
[1186,1,-5.8,0,0,0,16,0,0,0,0,0,0,0.5,0,0,0,12,0,0,0,0,0,0,0.5,0,0,12,8,0,12,0,0,0]
[1196,1,-5.4,0,0,0,16,0,0,0,0,0,0,0.5,0,0,0,12,0,0,0,0,0,0,0.5,0,0,12,8,0,12,0,0,0]
[1203,1,-5.5,0,0,0,16,0,0,0,0,0,0,0.5,0,0,0,12,0,0,0,0,0,0,0.5,0,0,12,8,0,12,0,0,0]
[1210,1,-6.4,0,0,0,16,0,0,0,0,0,0,0.5,0,0,0,12,0,0,0,0,0,0,0.5,0,0,12,8,0,12,0,0,0]
[1220,1,-2,0,0,0,16,0,0,0,0,0,0,0.5,0,0,0,12,0,0,0,0,0,0,0.5,0,0,12,8,0,12,0,0,0]
[1227,1,-6.1,0,0,0,16,0,0,0,0,0,0,0.5,0,0,0,12,0,0,0,0,0,0,0.5,0,0,12,8,0,12,0,0,0]
[1229,1,-6.7,0,0,0,16,0,0,0,0,0,0,0.5,0,0,0,12,0,0,0,0,0,0,0.5,0,0,12,8,0,12,0,0,0]
[1241,1,0.4,0,0,0,16,0,0,0,0,0,0,0.5,0,0,0,12,0,0,0,0,0,0,0.5,0,0,12,8,0,12,0,0,0]
[1246,1,-3.3,0,0,0,16,0,0,0,0,0,0,0.5,0,0,0,12,0,0,0,0,0,0,0.5,0,0,12,8,0,12,0,0,0]
[1255,1,-5.5,0,0,0,16,0,0,0,0,0,0,0.5,0,0,0,12,0,0,0,0,0,0,0.5,0,0,12,8,0,12,0,0,0]
[1263,1,3.5,0,0,0,16,0,0,0,0,0,0,0.5,0,0,0,12,0,0,0,0,0,0,0.5,0,0,12,8,0,12,0,0,0]
[1269,1,0.2,0,0,0,16,0,0,0,0,0,0,0.5,0,0,0,12,0,0,0,0,0,0,0.5,0,0,12,8,0,12,0,0,0]
[1280,1,0.3,0,0,0,16,0,0,0,0,0,0,0.5,0,0,0,12,0,0,0,0,0,0,0.5,0,0,12,8,0,12,0,0,0]
[1281,1,1.8,0,0,0,16,0,0,0,0,0,0,0.5,0,0,0,12,{"$f":"0.05*O1294","v":0},{"$f":"0.05*P1294","v":0},0,0,0,0,0.5,0,0,12,8,0,12,0,0,0]
[1292,1,1.6,0,0,0,16,0,0,0,0,0,0,0.5,0,0,0,12,0,0,0,0,0,0,0.5,0,0,12,8,0,12,0,0,0]
[1298,1,-1.4,0,0,0,16,0,0,0,0,0,0,0.5,0,0,0,12,0,0,0,0,0,0,0.5,0,0,12,8,0,12,0,0,0]
[1306,1,3,0,0,0,16,0,0,0,0,0,0,0.5,0,0,0,12,0,0,0,0,0,0,0.5,0,0,12,8,0,12,0,0,0]
[1315,1,2.9,0,0,0,16,0,0,0,0,0,0,0.5,0,0,0,12,0,0,0,0,0,0,0.5,0,0,12,8,0,12,0,0,0]
[1323,1,0.5,0,0,0,16,0,0,0,0,0,0,0.5,0,0,0,12,0,0,0,0,0,0,0.5,0,0,12,8,0,12,0,0,0]
[1332,1,6.5,0,0,0,16,0,0,0,0,0,0,0.5,0,0,0,12,0,0,0,0,0,0,0.5,0,0,12,8,0,12,0,0,0]
[1337,1,7.5,0,0,0,16,0,0,0,0,0,0,0.5,0,0,0,12,0,0,0,0,0,0,0.5,0,0,12,8,0,12,0,0,0]
[1341,1,3.9,0,0,0,16,0,0,0,0,0,0,0.5,0,0,0,12,0,0,0,0,0,0,0.5,0,0,12,8,0,12,0,0,0]
[1351,1,3,0,0,0,16,0,0,0,0,0,0,0.5,0,0,0,12,0,0,0,0,0,0,0.5,0,0,12,8,0,12,0,0,0]
[1358,1,10.7,0,0,0,16,0,0,0,0,0,0,0.5,0,0,0,12,0,0,0,0,0,0,0.5,0,0,12,8,0,12,0,0,0]
[1365,1,3.7,0,0,0,16,0,0,0,0,0,0,0.5,0,0,0,12,0,0,0,0,0,0,0.5,0,0,12,8,0,12,0,0,0]
[1375,1,-0.2,0,0,0,16,0,0,0,0,0,0,0.5,0,0,0,12,0,0,0,0,0,0,0.5,0,0,12,8,0,12,0,0,0]
[1382,1,10,0,0,0,16,0,0,0,0,0,0,0.5,0,0,0,12,0,0,0,0,0,0,0.5,0,0,12,8,0,12,0,0,0]
[1392,1,1.9,0,0,0,16,0,0,0,0,0,0,0.5,0,0,0,12,0,0,0,0,0,0,0.5,0,0,12,8,0,12,0,0,0]
[1396,1,0.2,0,0,0,16,0,0,0,0,0,0,0.5,0,0,0,12,0,0,0,0,0,0,0.5,0,0,12,8,0,12,0,0,0]
[1401,1,2.9,0,0,0,16,0,0,0,0,0,0,0.5,0,0,0,12,0,0,0,0,0,0,0.5,0,0,12,8,0,12,0,0,0]
[1410,1,8.1,0,0,0,16,{"$f":"0.05*D1423","v":0},{"$f":"0.05*E1423","v":0},0,0,0,0,0.5,0,0,0,12,0,0,0,0,0,0,0.5,0,0,12,8,0,12,0,0,{"$f":"0.05*AF1423","v":0}]
[1418,1,1.9,0,0,0,16,0,0,0,0,0,0,0.5,0,0,0,12,0,0,0,0,0,0,0.5,0,0,12,8,0,12,0,0,0]
[1427,1,6.7,0,0,0,16,0,0,0,0,0,0,0.5,0,0,0,12,0,0,0,0,0,0,0.5,0,0,12,8,0,12,0,0,0]
[1433,1,8,0,0,0,16,0,0,0,0,0,0,0.5,0,0,0,12,0,0,0,0,0,0,0.5,0,0,12,8,0,12,0,0,0]
[1444,1,2.7,0,0,0,16,0,0,0,0,0,0,0.5,0,0,0,12,0,0,0,0,0,0,0.5,0,0,12,8,0,12,0,0,0]
[1447,1,2.2999999999999998,0,0,0,16,0,0,0,0,0,0,0.5,0,0,0,12,0,0,0,0,0,0,0.5,0,0,12,8,0,12,0,0,0]
[1461,1,4.4000000000000004,0,0,0,16,0,0,0,0,0,0,0.5,0,0,0,12,0,0,0,0,0,0,0.5,0,0,12,8,0,12,0,0,0]
[1468,1,3.4,0,0,0,16,0,0,0,0,0,0,0.5,0,0,0,12,0,0,0,0,0,0,0.5,0,0,12,8,0,12,0,0,0]
[1470,1,2.9,0,0,0,16,0,0,0,0,0,0,0.5,0,0,0,12,0,0,0,0,0,0,0.5,0,0,12,8,0,12,0,0,0]
[1478,1,4.7,0,0,0,16,0,0,0,0,0,0,0.5,0,0,0,12,0,0,0,0,0,0,0.5,0,0,12,8,0,12,0,0,0]
[1487,1,-0.2,0,0,0,16,0,0,0,0,0,0,0.5,0,0,0,12,0,0,0,0,0,0,0.5,0,0,12,8,0,12,0,0,0]
[1492,1,-1.1000000000000001,0,0,0,16,0,0,0,0,0,0,0.5,0,0,0,12,0,0,0,0,0,0,0.5,0,0,12,8,0,12,0,0,0]
[1504,1,6.4,0,0,0,16,0,0,0,0,0,0,0.5,0,0,0,12,0,0,0,0,0,0,0.5,0,0,12,8,0,12,0,0,0]
[1513,1,-0.3,0,0,0,16,0,0,0,0,0,0,0.5,0,0,0,12,0,0,0,0,0,0,0.5,0,0,12,8,0,12,0,0,0]
[1521,1,0.6,0,0,0,16,0,0,0,0,0,0,0.5,0,0,0,12,0,0,0,0,0,0,0.5,0,0,12,8,0,12,0,0,0]
[1527,1,9,0,0,0,16,0,0,0,0,0,0,0.5,0,0,0,12,0,0,0,0,0,0,0.5,0,0,12,8,0,12,0,0,0]
[1530,1,6.9,0,0,0,16,0,0,0,0,0,0,0.5,0,0,0,12,0,0,0,0,0,0,0.5,0,0,12,8,0,12,0,0,0]
[1537,1,3.4,0,0,0,16,0,0,0,0,0,0,0.5,0,0,0,12,{"$f":"0.05*O1550","v":0},{"$f":"0.05*P1550","v":0},0,0,0,0,0.5,0,0,12,8,0,12,0,0,0]
[1547,1,5.5,0,0,0,16,0,0,0,0,0,0,0.5,0,0,0,12,0,0,0,0,0,0,0.5,0,0,12,8,0,12,0,0,0]
[1558,1,6.8,0,0,0,16,0,0,0,0,0,0,0.5,0,0,0,12,0,0,0,0,0,0,0.5,0,0,12,8,0,12,0,0,0]
[1564,1,5,0,0,0,16,0,0,0,0,0,0,0.5,0,0,0,12,0,0,0,0,0,0,0.5,0,0,12,8,0,12,0,0,0]
[1573,1,13.8,0,0,1.5072490000000001,16,0,0,0,0,2.1398790000000001E-2,6.5131659999999997E-4,0.5,0,0,0.66697249999999997,12,0,0,0,0,5.7466300000000002E-7,5.74663E-4,0.5,0,2.1962338544629998,12,8,0,12,0,0,0]
[1581,1,10.3,0,0,0,16,0,0,0,0,0,0,0.5,0,0,0,12,0,0,0,0,0,0,0.5,0,0,12,8,0,12,0,0,0]
[1582,1,9.9,0,0,0,16,0,0,0,0,0,0,0.5,0,0,0,12,0,0,0,0,0,0,0.5,0,0,12,8,0,12,0,0,0]
[1595,1,11.6,0,0,0.66140329999999992,16,0,0,0,0,2.065212E-2,6.5131659999999997E-4,0.5,0,0,0.60904990000000003,12,0,0,0,0,5.7466300000000002E-7,5.74663E-4,0.5,0,1.2917188844630001,12,8,0,12,0,0,0]
[1599,1,14.8,0,0,3.9285450000000002,16,0,0,0,0,-1.8969189999999999E-3,6.5131659999999997E-4,0.5,0,0,3.4137600000000003,12,0,0,0,0,5.7466300000000002E-7,5.74663E-4,0.5,0,7.341021645463,12,8,0,12,0,0,0]
[1609,1,3.5,0,0,0,16,0,0,0,0,0,0,0.5,0,0,0,12,0,0,0,0,0,0,0.5,0,0,12,8,0,12,0,0,0]
[1616,1,4.5999999999999996,0,0,0,16,0,0,0,0,0,0,0.5,0,0,0,12,0,0,0,0,0,0,0.5,0,0,12,8,0,12,0,0,0]
[1623,1,14.1,0,0,2.9457440000000004,16,0,0,0,0,-1.9886129999999998E-3,6.5131659999999997E-4,0.5,0,0,2.557175,12,0,0,0,0,5.7466300000000002E-7,5.74663E-4,0.5,0,5.5015439514630007,12,8,0,12,0,0,0]
[1633,1,9.5,0,0,0,16,0,0,0,0,0,0,0.5,0,0,0,12,0,0,0,0,0,0,0.5,0,0,12,8,0,12,0,0,0]
[1640,1,6.4,0,0,0,16,0,0,0,0,0,0,0.5,0,0,0,12,0,0,0,0,0,0,0.5,0,0,12,8,0,12,0,0,0]
[1642,1,9.1999999999999993,0,0,0,16,0,0,0,0,0,0,0.5,0,0,0,12,0,0,0,0,0,0,0.5,0,0,12,8,0,12,0,0,0]
[1654,1,4.5,0,0,0,16,0,0,0,0,0,0,0.5,0,0,0,12,0,0,0,0,0,0,0.5,0,0,12,8,0,12,0,0,0]
[1659,1,1.9,0,0,0,16,0,0,0,0,0,0,0.5,0,0,0,12,0,0,0,0,0,0,0.5,0,0,12,8,0,12,0,0,0]
[1668,1,12.5,0,0,1.0264090000000001,16,0,0,0,0,-1.726029E-3,6.5131659999999997E-4,0.5,0,0,1.028551,12,0,0,0,0,5.7466300000000002E-7,5.74663E-4,0.5,0,2.0538475354630004,12,8,0,12,0,0,0]
[1676,1,7.5,0,0,0,16,0,0,0,0,0,0,0.5,0,0,0,12,0,0,0,0,0,0,0.5,0,0,12,8,0,12,0,0,0]
[1682,1,3.8,0,0,0,16,0,0,0,0,0,0,0.5,0,0,0,12,0,0,0,0,0,0,0.5,0,0,12,8,0,12,0,0,0]
[1693,1,15.5,0,0,0,16,0,0,0,0,0,0,0.5,0,0,0,12,0,0,0,0,0,0,0.5,0,0,12,8,0,12,0,0,0]
[1699,1,11.3,0,0,0,16,0,0,0,0,0,0,0.5,0,0,0,12,0,0,0,0,0,0,0.5,0,0,12,8,0,12,0,0,0]
[1702,1,7.7,0,0,0,16,0,0,0,0,0,0,0.5,0,0,0,12,0,0,0,0,0,0,0.5,0,0,12,8,0,12,0,0,0]
[1711,1,5.9,0,0,0,16,0,0,0,0,0,0,0.5,0,0,0,12,0,0,0,0,0,0,0.5,0,0,12,8,0,12,0,0,0]
[1719,1,18.600000000000001,0,0,0,16,0,0,0,0,0,0,0.5,0,0,0,12,0,0,0,0,0,0,0.5,0,0,12,8,0,12,0,0,0]
[1728,1,6.7,0,0,0,16,0,0,0,0,0,0,0.5,0,0,0,12,0,0,0,0,0,0,0.5,0,0,12,8,0,12,0,0,0]
[1736,1,7.4,0,0,0,16,0,0,0,0,0,0,0.5,0,0,0,12,0,0,0,0,0,0,0.5,0,0,12,8,0,12,0,0,0]
[1745,1,12.1,0,0,0.13383119999999998,16,0,0,0,0,-2.6100139999999999E-3,6.5131659999999997E-4,0.5,0,0,0.86484230000000006,12,0,0,0,0,5.7466300000000002E-7,5.74663E-4,0.5,0,0.99667705046300004,12,8,0,12,0,0,0]
[1750,1,6.3,0,0,0,16,0,0,0,0,0,0,0.5,0,0,0,12,0,0,0,0,0,0,0.5,0,0,12,8,0,12,0,0,0]
[1762,1,5.9,0,0,0,16,0,0,0,0,0,0,0.5,0,0,0,12,0,0,0,0,0,0,0.5,0,0,12,8,0,12,0,0,0]
[1764,1,7.7,0,0,0,16,0,0,0,0,0,0,0.5,0,0,0,12,0,0,0,0,0,0,0.5,0,0,12,8,0,12,0,0,0]
[1771,1,8.6,0,0,0,16,0,0,0,0,0,0,0.5,0,0,0,12,0,0,0,0,0,0,0.5,0,0,12,8,0,12,0,0,0]
[1778,1,4.3,0,0,0,16,0,0,0,0,0,0,0.5,0,0,0,12,0,0,0,0,0,0,0.5,0,0,12,8,0,12,0,0,0]
[1788,1,12.7,0,0,1.1290100000000001,16,0,0,0,0,-1.573395E-3,6.5131659999999997E-4,0.5,0,0,1.0745989999999999,12,0,0,0,0,5.7466300000000002E-7,5.74663E-4,0.5,0,2.2026491694630002,12,8,0,12,0,0,0]
[1795,1,10.5,0,0,0,16,0,0,0,0,0,0,0.5,0,0,0,12,0,0,0,0,0,0,0.5,0,0,12,8,0,12,0,0,0]
[1805,1,4,0,0,0,16,0,0,0,0,0,0,0.5,0,0,0,12,0,0,0,0,0,0,0.5,0,0,12,8,0,12,0,0,0]
[1809,1,9.1999999999999993,0,0,0,16,0,0,0,0,0,0,0.5,0,0,0,12,0,0,0,0,0,0,0.5,0,0,12,8,0,12,0,0,0]
[1822,1,9.6,0,0,0,16,0,0,0,0,0,0,0.5,0,0,0,12,0,0,0,0,0,0,0.5,0,0,12,8,0,12,0,0,0]
[1823,1,8.8000000000000007,0,0,0,16,0,0,0,0,0,0,0.5,0,0,0,12,0,0,0,0,0,0,0.5,0,0,12,8,0,12,0,0,0]
[1831,1,4.0999999999999996,0,0,0,16,0,0,0,0,0,0,0.5,0,0,0,12,0,0,0,0,0,0,0.5,0,0,12,8,0,12,0,0,0]
[1844,1,12.3,0,0,0,16,0,0,0,0,0,0,0.5,0,0,0,12,0,0,0,0,0,0,0.5,0,0,12,8,0,12,0,0,0]
[1848,1,11.5,0,0,0,16,0,0,0,0,0,0,0.5,0,0,0,12,0,0,0,0,0,0,0.5,0,0,12,8,0,12,0,0,0]
[1857,1,14.4,0,0,0,16,0,0,0,0,0,0,0.5,0,0,0,12,{"$f":"0.05*O1870","v":0},{"$f":"0.05*P1870","v":0},0,0,0,0,0.5,0,0,12,8,0,12,0,0,0]
[1867,1,14.4,0,0,0,16,0,0,0,0,0,0,0.5,0,0,0,12,0,0,0,0,0,0,0.5,0,0,12,8,0,12,0,0,0]
[1874,1,14.5,0,0,0,16,0,0,0,0,0,0,0.5,0,0,0,12,0,0,0,0,0,0,0.5,0,0,12,8,0,12,0,0,0]
[1881,1,15.8,0,0,0,16,0,0,0,0,0,0,0.5,0,0,0,12,0,0,0,0,0,0,0.5,0,0,12,8,0,12,0,0,0]
[1883,1,16.600000000000001,0,0,0,16,0,0,0,0,0,0,0.5,0,0,0,12,0,0,0,0,0,0,0.5,0,0,12,8,0,12,0,0,0]
[1891,1,15.9,0,0,0,16,0,0,0,0,0,0,0.5,0,0,0,12,0,0,0,0,0,0,0.5,0,0,12,8,0,12,0,0,0]
[1900,1,14.4,0,0,0,16,0,0,0,0,0,0,0.5,0,0,0,12,0,0,0,0,0,0,0.5,0,0,12,8,0,12,0,0,0]
[1912,1,18.8,0,0,1.214126,16,0,0,0,0,-2.3634720000000002E-4,6.5131659999999997E-4,0.5,0,0,2.0238740000000002,12,0,0,0,0,5.7466300000000002E-7,5.74663E-4,0.5,0,-7.807945876725995,4,8,11.046323093988995,4,1.3824519876953738,0,6.9122599384768696E-2]
[1917,1,13.6,0,0,0,16,0,0,0,0,0,0,0.5,0,0,0,12,0,0,0,0,0,0,0.5,0,0,12,8,0,12,0,0,0]
[1926,1,9,0,0,0,16,0,0,0,0,0,0,0.5,0,0,0,12,0,0,0,0,0,0,0.5,0,0,12,8,0,12,0,0,0]
[1934,1,12.2,0,0,1.0189980000000001,16,0,0,0,0,-1.814389E-3,6.5131659999999997E-4,0.5,0,0,0.32166420000000001,12,0,0,0,0,5.7466300000000002E-7,5.74663E-4,0.5,0,1.339461375463,12,8,0,12,0,0,0]
[1940,1,9.5,0,0,0,16,0,0,0,0,0,0,0.5,0,0,0,12,0,0,0,0,0,0,0.5,0,0,12,8,0,12,0,0,0]
[1943,1,6.7,0,0,0,16,0,0,0,0,0,0,0.5,0,0,0,12,0,0,0,0,0,0,0.5,0,0,12,8,0,12,0,0,0]
[1957,1,4.9000000000000004,0,0,0,16,0,0,0,0,0,0,0.5,0,0,0,12,0,0,0,0,0,0,0.5,0,0,12,8,0,12,0,0,0]
[1960,1,4.8,0,0,0,16,0,0,0,0,0,0,0.5,0,0,0,12,0,0,0,0,0,0,0.5,0,0,12,8,0,12,0,0,0]
[1971,1,1,0,0,0,16,0,0,0,0,0,0,0.5,0,0,0,12,0,0,0,0,0,0,0.5,0,0,12,8,0,12,0,0,0]
[1977,1,2.2000000000000002,0,0,0,16,0,0,0,0,0,0,0.5,0,0,0,12,0,0,0,0,0,0,0.5,0,0,12,8,0,12,0,0,0]
[1985,1,3.8,0,0,0,16,0,0,0,0,0,0,0.5,0,0,0,12,{"$f":"0.05*O1998","v":0},{"$f":"0.05*P1998","v":0},0,0,0,0,0.5,0,0,12,8,0,12,0,0,0]
[1994,1,0.2,0,0,0,16,0,0,0,0,0,0,0.5,0,0,0,12,0,0,0,0,0,0,0.5,0,0,12,8,0,12,0,0,0]
[2003,1,4.2,0,0,0,16,0,0,0,0,0,0,0.5,0,0,0,12,0,0,0,0,0,0,0.5,0,0,12,8,0,12,0,0,0]
[2008,1,5.7,0,0,0,16,0,0,0,0,0,0,0.5,0,0,0,12,0,0,0,0,0,0,0.5,0,0,12,8,0,12,0,0,0]
[2012,1,2.9,0,0,0,16,0,0,0,0,0,0,0.5,0,0,0,12,0,0,0,0,0,0,0.5,0,0,12,8,0,12,0,0,0]
[2022,1,-2.9,0,0,0,16,0,0,0,0,0,0,0.5,0,0,0,12,0,0,0,0,0,0,0.5,0,0,12,8,0,12,0,0,0]
[2029,1,6.8,0,0,0,16,0,0,0,0,0,0,0.5,0,0,0,12,0,0,0,0,0,0,0.5,0,0,12,8,0,12,0,0,0]
[2036,1,3.7,0,0,0,16,0,0,0,0,0,0,0.5,0,0,0,12,0,0,0,0,0,0,0.5,0,0,12,8,0,12,0,0,0]
[2046,1,-0.9,0,0,0,16,0,0,0,0,0,0,0.5,0,0,0,12,0,0,0,0,0,0,0.5,0,0,12,8,0,12,0,0,0]
[2053,1,4.0999999999999996,0,0,0,16,0,0,0,0,0,0,0.5,0,0,0,12,0,0,0,0,0,0,0.5,0,0,12,8,0,12,0,0,0]
[2063,1,2.2999999999999998,0,0,0,16,0,0,0,0,0,0,0.5,0,0,0,12,0,0,0,0,0,0,0.5,0,0,12,8,0,12,0,0,0]
[2067,1,-0.8,0,0,0,16,0,0,0,0,0,0,0.5,0,0,0,12,0,0,0,0,0,0,0.5,0,0,12,8,0,12,0,0,0]
[2072,1,0.7,0,0,0,16,0,0,0,0,0,0,0.5,0,0,0,12,0,0,0,0,0,0,0.5,0,0,12,8,0,12,0,0,0]
[2081,1,10.7,0,0,0,16,0,0,0,0,0,0,0.5,0,0,0.60717600000000005,12,0,0,0,0,5.7466300000000002E-7,5.74663E-4,0.5,0,0.60746390616300006,12,8,0,12,0,0,0]
[2089,1,2.2999999999999998,0,0,0,16,0,0,0,0,0,0,0.5,0,0,0,12,0,0,0,0,0,0,0.5,0,0,12,8,0,12,0,0,0]
[2095,1,0.2,0,0,0,16,0,0,0,0,0,0,0.5,0,0,0,12,0,0,0,0,0,0,0.5,0,0,12,8,0,12,0,0,0]
[2106,1,13.9,0,0,1.9464440000000001,16,0,0,0,0,-2.5797530000000002E-3,6.5131659999999997E-4,0.5,0,0,0.8308854,12,0,0,0,0,5.7466300000000002E-7,5.74663E-4,0.5,0,2.775363211463,12,8,0,12,0,0,0]
[2112,1,3.7,0,0,0,16,0,0,0,0,0,0,0.5,0,0,0,12,0,0,0,0,0,0,0.5,0,0,12,8,0,12,0,0,0]
[2123,1,7.9,0,0,0,16,0,0,0,0,0,0,0.5,0,0,0,12,0,0,0,0,0,0,0.5,0,0,12,8,0,12,0,0,0]
[2126,1,9.9,0,0,0,16,0,0,0,0,0,0,0.5,0,0,6.0993779999999999E-3,12,0,0,0,0,5.7466300000000002E-7,5.74663E-4,0.5,0,6.3872841629999998E-3,12,8,0,12,0,0,0]
[2132,1,5.7,0,0,0,16,0,0,0,0,0,0,0.5,0,0,0,12,0,0,0,0,0,0,0.5,0,0,12,8,0,12,0,0,0]
[2141,1,1.6,0,0,0,16,0,0,0,0,0,0,0.5,0,0,0,12,0,0,0,0,0,0,0.5,0,0,12,8,0,12,0,0,0]
[2149,1,14.9,0,0,2.8844569999999998,16,0,0,0,0,-1.5520130000000001E-3,6.5131659999999997E-4,0.5,0,0,1.0726169999999999,12,0,0,0,0,5.7466300000000002E-7,5.74663E-4,0.5,0,3.9561355514629999,12,8,0,12,0,0,0]
[2158,1,6.5,0,0,0,16,0,0,0,0,0,0,0.5,0,0,0,12,0,0,0,0,0,0,0.5,0,0,12,8,0,12,0,0,0]
[2163,1,4.4000000000000004,0,0,0,16,0,0,0,0,0,0,0.5,0,0,0,12,0,0,0,0,0,0,0.5,0,0,12,8,0,12,0,0,0]
[2175,1,18.399999999999999,0,0,7.2701850000000006,16,0,0,0,0,-1.9652229999999999E-3,7.0920789999999998E-4,0.5,0,0,5.3228590000000002,12,0,0,0,0,5.7466300000000002E-7,5.74663E-4,0.5,0,12.591721287113,12,8,0,12,0,0,0]
[2177,1,17.399999999999999,0,0,5.7849449999999996,16,0,0,0,0,-2.579394E-3,6.5131659999999997E-4,0.5,0,0,3.3198290000000004,12,{"$f":"0.05*O2190","v":0},{"$f":"0.05*P2190","v":0},0,0,5.7466300000000002E-7,5.74663E-4,0.5,0,9.1028081704629997,12,8,0,12,0,0,0]
[2184,1,12.1,0,0,0,16,0,0,0,0,0,0,0.5,0,0,0,12,0,0,0,0,0,0,0.5,0,0,12,8,0,12,0,0,0]
[2198,1,17.2,0,0,0,16,0,0,0,0,0,0,0.5,0,0,0,12,0,0,0,0,0,0,0.5,0,0,12,8,0,12,0,0,0]
[2201,1,15.9,0,0,0,16,0,0,0,0,0,0,0.5,0,0,0,12,0,0,0,0,0,0,0.5,0,0,12,8,0,12,0,0,0]
[2208,1,7.7,0,0,0,16,0,0,0,0,0,0,0.5,0,0,0,12,0,0,0,0,0,0,0.5,0,0,12,8,0,12,0,0,0]
[2218,1,12.3,0,0,0,16,0,0,0,0,0,0,0.5,0,0,0,12,0,0,0,0,0,0,0.5,0,0,12,8,0,12,0,0,0]
[2222,1,17.8,0,0,0,16,0,0,0,0,0,0,0.5,0,0,0,12,0,0,0,0,0,0,0.5,0,0,12,8,0,12,0,0,0]
[2235,1,5.9,0,0,0,16,0,0,0,0,0,0,0.5,0,0,0,12,0,0,0,0,0,0,0.5,0,0,12,8,0,12,0,0,0]
[2243,1,16.5,0,0,5.2036549999999995,16,0,0,0,0,-1.3625359999999999E-3,6.5131659999999997E-4,0.5,0,0,6.4435440000000002,12,0,0,0,0,5.7466300000000002E-7,5.74663E-4,0.5,0,11.646450028463001,12,8,0,12,0,0,0]
[2244,1,18.899999999999999,0,0,1.439038,16,0,0,0,0,-1.343868E-3,6.5131659999999997E-4,0.5,0,0,0.61675400000000002,12,0,0,0,0,5.7466300000000002E-7,5.74663E-4,0.5,0,2.055061696463,12,8,0,12,0,0,0]
[2257,1,9.1,0,0,0,16,0,0,0,0,0,0,0.5,0,0,0,12,0,0,0,0,0,0,0.5,0,0,12,8,0,12,0,0,0]
[2261,1,7,0,0,0,16,0,0,0,0,0,0,0.5,0,0,0,12,0,0,0,0,0,0,0.5,0,0,12,8,0,12,0,0,0]
[2267,1,13.5,0,0,2.5373180000000004,16,0,0,0,0,-2.158302E-3,6.5131659999999997E-4,0.5,0,0,3.0775990000000002,12,0,0,0,0,5.7466300000000002E-7,5.74663E-4,0.5,0,5.6133722624630007,12,8,0,12,0,0,0]
[2278,1,11.8,0,0,0,16,0,0,0,0,0,0,0.5,0,0,0,12,0,0,0,0,0,0,0.5,0,0,12,8,0,12,0,0,0]
[2288,1,8.9,0,0,0,16,0,0,0,0,0,0,0.5,0,0,0,12,0,0,0,0,0,0,0.5,0,0,12,8,0,12,0,0,0]
[2295,1,8.5,0,0,0,16,0,0,0,0,0,0,0.5,0,0,0,12,0,0,0,0,0,0,0.5,0,0,12,8,0,12,0,0,0]
[2304,1,7.8,0,0,0,16,0,0,0,0,0,0,0.5,0,0,0,12,0,0,0,0,0,0,0.5,0,0,12,8,0,12,0,0,0]
[2311,1,3.8,0,0,0,16,0,0,0,0,0,0,0.5,0,0,0,12,0,0,0,0,0,0,0.5,0,0,12,8,0,12,0,0,0]
[2313,1,8.5,0,0,0,16,0,0,0,0,0,0,0.5,0,0,0,12,0,0,0,0,0,0,0.5,0,0,12,8,0,12,0,0,0]
[2325,1,9.6999999999999993,0,0,0,16,0,0,0,0,0,0,0.5,0,0,0,12,0,0,0,0,0,0,0.5,0,0,12,8,0,12,0,0,0]
[2330,1,10.4,0,0,0,16,0,0,0,0,0,0,0.5,0,0,0,12,0,0,0,0,0,0,0.5,0,0,12,8,0,12,0,0,0]
[2339,1,8.3000000000000007,0,0,0,16,0,0,0,0,0,0,0.5,0,0,0,12,0,0,0,0,0,0,0.5,0,0,12,8,0,12,0,0,0]
[2347,1,8.1,0,0,0,16,0,0,0,0,0,0,0.5,0,0,0,12,0,0,0,0,0,0,0.5,0,0,12,8,0,12,0,0,0]
[2353,1,4.7,0,0,0,16,0,0,0,0,0,0,0.5,0,0,0,12,0,0,0,0,0,0,0.5,0,0,12,8,0,12,0,0,0]
[2364,1,8.6,0,0,0,16,0,0,0,0,0,0,0.5,0,0,0,12,0,0,0,0,0,0,0.5,0,0,12,8,0,12,0,0,0]
[2370,1,11.2,0,0,0,16,{"$f":"0.05*D2383","v":0},{"$f":"0.05*E2383","v":0},0,0,0,0,0.5,0,0,0,12,0,0,0,0,0,0,0.5,0,0,12,8,0,12,0,0,{"$f":"0.05*AF2383","v":0}]
[2373,1,7.8,0,0,0,16,0,0,0,0,0,0,0.5,0,0,0,12,0,0,0,0,0,0,0.5,0,0,12,8,0,12,0,0,0]
[2384,1,7,0,0,0,16,0,0,0,0,0,0,0.5,0,0,0,12,0,0,0,0,0,0,0.5,0,0,12,8,0,12,0,0,0]
[2390,1,8.6999999999999993,0,0,0,16,0,0,0,0,0,0,0.5,0,0,0,12,0,0,0,0,0,0,0.5,0,0,12,8,0,12,0,0,0]
[2398,1,5.4,0,0,0,16,0,0,0,0,0,0,0.5,0,0,0,12,0,0,0,0,0,0,0.5,0,0,12,8,0,12,0,0,0]
[2407,1,5.6,0,0,0,16,0,0,0,0,0,0,0.5,0,0,0,12,0,0,0,0,0,0,0.5,0,0,12,8,0,12,0,0,0]
[2412,1,10.4,0,0,0,16,0,0,0,0,0,0,0.5,0,0,0.46810010000000002,12,0,0,0,0,5.7466300000000002E-7,5.74663E-4,0.5,0,0.46838800616300003,12,8,0,12,0,0,0]
[2424,1,4.8,0,0,0,16,0,0,0,0,0,0,0.5,0,0,0,12,0,0,0,0,0,0,0.5,0,0,12,8,0,12,0,0,0]
[2429,1,4.5999999999999996,0,0,0,16,0,0,0,0,0,0,0.5,0,0,0,12,0,0,0,0,0,0,0.5,0,0,12,8,0,12,0,0,0]
[2433,1,5.3,0,0,0,16,0,0,0,0,0,0,0.5,0,0,0,12,{"$f":"0.05*O2446","v":0},{"$f":"0.05*P2446","v":0},0,0,0,0,0.5,0,0,12,8,0,12,0,0,0]
[2442,1,6.4,0,0,0,16,0,0,0,0,0,0,0.5,0,0,0,12,0,0,0,0,0,0,0.5,0,0,12,8,0,12,0,0,0]
[2449,1,4.8,0,0,0,16,0,0,0,0,0,0,0.5,0,0,0,12,0,0,0,0,0,0,0.5,0,0,12,8,0,12,0,0,0]
[2459,1,8.3000000000000007,0,0,0,16,0,0,0,0,0,0,0.5,0,0,0,12,0,0,0,0,0,0,0.5,0,0,12,8,0,12,0,0,0]
[2466,1,7.1,0,0,0,16,0,0,0,0,0,0,0.5,0,0,0,12,0,0,0,0,0,0,0.5,0,0,12,8,0,12,0,0,0]
[2476,1,4.5999999999999996,0,0,0,16,0,0,0,0,0,0,0.5,0,0,0,12,0,0,0,0,0,0,0.5,0,0,12,8,0,12,0,0,0]
[2480,1,4.7,0,0,0,16,0,0,0,0,0,0,0.5,0,0,0,12,0,0,0,0,0,0,0.5,0,0,12,8,0,12,0,0,0]
[2485,1,10,0,0,0,16,0,0,0,0,0,0,0.5,0,0,7.6964450000000004E-2,12,0,0,0,0,5.7466300000000002E-7,5.74663E-4,0.5,0,7.7252356163000011E-2,12,8,0,12,0,0,0]
[2494,1,5.0999999999999996,0,0,0,16,0,0,0,0,0,0,0.5,0,0,0,12,0,0,0,0,0,0,0.5,0,0,12,8,0,12,0,0,0]
[2502,1,3.8,0,0,0,16,0,0,0,0,0,0,0.5,0,0,0,12,0,0,0,0,0,0,0.5,0,0,12,8,0,12,0,0,0]
[2508,1,7,0,0,0,16,0,0,0,0,0,0,0.5,0,0,0,12,0,0,0,0,0,0,0.5,0,0,12,8,0,12,0,0,0]
[2519,1,5.2,0,0,0,16,0,0,0,0,0,0,0.5,0,0,0,12,0,0,0,0,0,0,0.5,0,0,12,8,0,12,0,0,0]
[2525,1,2.5,0,0,0,16,0,0,0,0,0,0,0.5,0,0,0,12,0,0,0,0,0,0,0.5,0,0,12,8,0,12,0,0,0]
[2536,1,8.9,0,0,0,16,0,0,0,0,0,0,0.5,0,0,0,12,0,0,0,0,0,0,0.5,0,0,12,8,0,12,0,0,0]
[2539,1,6.2,0,0,0,16,0,0,0,0,0,0,0.5,0,0,0,12,0,0,0,0,0,0,0.5,0,0,12,8,0,12,0,0,0]
[2545,1,5.7,0,0,0,16,0,0,0,0,0,0,0.5,0,0,0,12,0,0,0,0,0,0,0.5,0,0,12,8,0,12,0,0,0]
[2553,1,8.1,0,0,0,16,0,0,0,0,0,0,0.5,0,0,0,12,0,0,0,0,0,0,0.5,0,0,12,8,0,12,0,0,0]
[2562,1,10.8,0,0,0,16,{"$f":"0.05*D2575","v":0},{"$f":"0.05*E2575","v":0},0,0,0,0,0.5,0,0,0,12,0,0,0,0,0,0,0.5,0,0,12,8,0,12,0,0,{"$f":"0.05*AF2575","v":0}]
[2574,1,2.9,0,0,0,16,0,0,0,0,0,0,0.5,0,0,0,12,0,0,0,0,0,0,0.5,0,0,12,8,0,12,0,0,0]
[2579,1,9,0,0,0,16,0,0,0,0,0,0,0.5,0,0,0,12,0,0,0,0,0,0,0.5,0,0,12,8,0,12,0,0,0]
[2588,1,9.5,0,0,0,16,0,0,0,0,0,0,0.5,0,0,0,12,0,0,0,0,0,0,0.5,0,0,12,8,0,12,0,0,0]
[2597,1,2.4,0,0,0,16,0,0,0,0,0,0,0.5,0,0,0,12,0,0,0,0,0,0,0.5,0,0,12,8,0,12,0,0,0]
[2605,1,13.1,0,0,1.267995,16,0,0,0,0,-1.61301E-3,6.5131659999999997E-4,0.5,0,0,0.66831620000000003,12,0,0,0,0,5.7466300000000002E-7,5.74663E-4,0.5,0,1.9353117544630001,12,8,0,12,0,0,0]
[2611,1,12.3,0,0,0,16,0,0,0,0,0,0,0.5,0,0,0,12,0,0,0,0,0,0,0.5,0,0,12,8,0,12,0,0,0]
[2614,1,8.1,0,0,0,16,0,0,0,0,0,0,0.5,0,0,0,12,0,0,0,0,0,0,0.5,0,0,12,8,0,12,0,0,0]
[2621,1,3.5,0,0,0,16,0,0,0,0,0,0,0.5,0,0,0,12,0,0,0,0,0,0,0.5,0,0,12,8,0,12,0,0,0]
[2631,1,19.899999999999999,0,0,3.6881460000000001,16,0,0,0,0,2.272121E-4,6.5131659999999997E-4,0.5,0,0,2.7509510000000001,12,0,0,0,0,5.7466300000000002E-7,5.74663E-4,0.5,0,6.4399377765630001,12,8,0,12,0,0,0]
[2642,1,8.8000000000000007,0,0,0,16,0,0,0,0,0,0,0.5,0,0,0,12,0,0,0,0,0,0,0.5,0,0,12,8,0,12,0,0,0]
[2648,1,12.3,0,0,0.64102840000000005,16,0,0,0,0,2.0889700000000001E-2,6.5131659999999997E-4,0.5,0,0,0,12,0,0,0,0,0,0,0.5,0,0.66224375830000004,12,8,0,12,0,0,0]
[2656,1,19.899999999999999,0,0,3.6881460000000001,16,0,0,0,0,-1.1987899999999999E-3,6.5131659999999997E-4,0.5,0,0,4.771604,12,0,0,0,0,5.7466300000000002E-7,5.74663E-4,0.5,0,8.4591647744629999,12,8,0,12,0,0,0]
[2665,1,10.8,0,0,0,16,0,0,0,0,0,0,0.5,0,0,0,12,0,0,0,0,0,0,0.5,0,0,12,8,0,12,0,0,0]
[2670,1,8.6,0,0,0,16,0,0,0,0,0,0,0.5,0,0,0,12,0,0,0,0,0,0,0.5,0,0,12,8,0,12,0,0,0]
[2674,1,14.4,0,0,3.7267250000000001,16,0,0,0,0,-1.3987419999999999E-3,6.5131659999999997E-4,0.5,0,0,3.0024459999999999,12,0,0,0,0,5.7466300000000002E-7,5.74663E-4,0.5,0,6.7283858224630002,12,8,0,12,0,0,0]
[2687,1,12.7,0,0,0,16,0,0,0,0,0,0,0.5,0,0,0,12,0,0,0,0,0,0,0.5,0,0,12,8,0,12,0,0,0]
[2691,1,9.6,0,0,0,16,0,0,0,0,0,0,0.5,0,0,0,12,0,0,0,0,0,0,0.5,0,0,12,8,0,12,0,0,0]
[2701,1,15.7,0,0,0,16,0,0,0,0,0,0,0.5,0,0,0,12,0,0,0,0,0,0,0.5,0,0,12,8,0,12,0,0,0]
[2708,1,10.1,0,0,0,16,0,0,0,0,0,0,0.5,0,0,0,12,0,0,0,0,0,0,0.5,0,0,12,8,0,12,0,0,0]
[2715,1,5.7,0,0,0,16,0,0,0,0,0,0,0.5,0,0,0,12,0,0,0,0,0,0,0.5,0,0,12,8,0,12,0,0,0]
[2725,1,5.6,0,0,0,16,0,0,0,0,0,0,0.5,0,0,0,12,0,0,0,0,0,0,0.5,0,0,12,8,0,12,0,0,0]
[2726,1,6.5,0,0,0,16,0,0,0,0,0,0,0.5,0,0,0,12,0,0,0,0,0,0,0.5,0,0,12,8,0,12,0,0,0]
[2738,1,1.4,0,0,0,16,0,0,0,0,0,0,0.5,0,0,0,12,0,0,0,0,0,0,0.5,0,0,12,8,0,12,0,0,0]
[2743,1,2,0,0,0,16,0,0,0,0,0,0,0.5,0,0,0,12,0,0,0,0,0,0,0.5,0,0,12,8,0,12,0,0,0]
[2752,1,14.2,0,0,3.2983389999999999,16,0,0,0,0,-2.193399E-3,6.5131659999999997E-4,0.5,0,0,4.0217169999999998,12,0,0,0,0,5.7466300000000002E-7,5.74663E-4,0.5,0,7.3184761654630002,12,8,0,12,0,0,0]
[2760,1,6.7,0,0,0,16,0,0,0,0,0,0,0.5,0,0,0,12,0,0,0,0,0,0,0.5,0,0,12,8,0,12,0,0,0]
[2766,1,4.5,0,0,0,16,0,0,0,0,0,0,0.5,0,0,0,12,0,0,0,0,0,0,0.5,0,0,12,8,0,12,0,0,0]
[2777,1,5.0999999999999996,0,0,0,16,0,0,0,0,0,0,0.5,0,0,0,12,0,0,0,0,0,0,0.5,0,0,12,8,0,12,0,0,0]
[2783,1,4.2,0,0,0,16,0,0,0,0,0,0,0.5,0,0,0,12,0,0,0,0,0,0,0.5,0,0,12,8,0,12,0,0,0]
[2786,1,4.2,0,0,0,16,0,0,0,0,0,0,0.5,0,0,0,12,0,0,0,0,0,0,0.5,0,0,12,8,0,12,0,0,0]
[2797,1,10.8,0,0,0,16,0,0,0,0,0,0,0.5,0,0,0.1190278,12,0,0,0,0,5.7466300000000002E-7,5.74663E-4,0.5,0,0.11931570616300001,12,8,0,12,0,0,0]
[2803,1,11.2,0,0,0,16,0,0,0,0,0,0,0.5,0,0,0,12,0,0,0,0,0,0,0.5,0,0,12,8,0,12,0,0,0]
[2811,1,5.0999999999999996,0,0,0,16,0,0,0,0,0,0,0.5,0,0,0,12,0,0,0,0,0,0,0.5,0,0,12,8,0,12,0,0,0]
[2820,1,1.6,0,0,0,16,0,0,0,0,0,0,0.5,0,0,0,12,0,0,0,0,0,0,0.5,0,0,12,8,0,12,0,0,0]
[2825,1,4.2,0,0,0,16,0,0,0,0,0,0,0.5,0,0,0,12,0,0,0,0,0,0,0.5,0,0,12,8,0,12,0,0,0]
[2837,1,0.6,0,0,0,16,0,0,0,0,0,0,0.5,0,0,0,12,0,0,0,0,0,0,0.5,0,0,12,8,0,12,0,0,0]
[2842,1,3.9,0,0,0,16,0,0,0,0,0,0,0.5,0,0,0,12,0,0,0,0,0,0,0.5,0,0,12,8,0,12,0,0,0]
[2846,1,7.5,0,0,0,16,0,0,0,0,0,0,0.5,0,0,0,12,0,0,0,0,0,0,0.5,0,0,12,8,0,12,0,0,0]
[2856,1,4.9000000000000004,0,0,0,16,0,0,0,0,0,0,0.5,0,0,0,12,0,0,0,0,0,0,0.5,0,0,12,8,0,12,0,0,0]
[2863,1,6.3,0,0,0,16,0,0,0,0,0,0,0.5,0,0,0,12,0,0,0,0,0,0,0.5,0,0,12,8,0,12,0,0,0]
[2872,1,7.8,0,0,0,16,0,0,0,0,0,0,0.5,0,0,0,12,0,0,0,0,0,0,0.5,0,0,12,8,0,12,0,0,0]
[2879,1,7.7,0,0,0,16,0,0,0,0,0,0,0.5,0,0,0,12,0,0,0,0,0,0,0.5,0,0,12,8,0,12,0,0,0]
[2889,1,10.7,0,0,0,16,0,0,0,0,0,0,0.5,0,0,0,12,0,0,0,0,0,0,0.5,0,0,12,8,0,12,0,0,0]
[2893,1,15.8,0,0,0,16,0,0,0,0,0,0,0.5,0,0,0,12,0,0,0,0,0,0,0.5,0,0,12,8,0,12,0,0,0]
[2906,1,9.6999999999999993,0,0,0,16,0,0,0,0,0,0,0.5,0,0,0,12,0,0,0,0,0,0,0.5,0,0,12,8,0,12,0,0,0]
[2907,1,9.6999999999999993,0,0,0,16,0,0,0,0,0,0,0.5,0,0,0,12,0,0,0,0,0,0,0.5,0,0,12,8,0,12,0,0,0]
[2915,1,6.2,0,0,0,16,0,0,0,0,0,0,0.5,0,0,0,12,0,0,0,0,0,0,0.5,0,0,12,8,0,12,0,0,0]
[2928,1,2.8,0,0,0,16,0,0,0,0,0,0,0.5,0,0,0,12,0,0,0,0,0,0,0.5,0,0,12,8,0,12,0,0,0]
[2932,1,2.2000000000000002,0,0,0,16,0,0,0,0,0,0,0.5,0,0,0,12,0,0,0,0,0,0,0.5,0,0,12,8,0,12,0,0,0]
[2938,1,5.0999999999999996,0,0,0,16,0,0,0,0,0,0,0.5,0,0,0,12,0,0,0,0,0,0,0.5,0,0,12,8,0,12,0,0,0]
[2949,1,5.4,0,0,0,16,0,0,0,0,0,0,0.5,0,0,0,12,0,0,0,0,0,0,0.5,0,0,12,8,0,12,0,0,0]
[2952,1,2.1,0,0,0,16,0,0,0,0,0,0,0.5,0,0,0,12,0,0,0,0,0,0,0.5,0,0,12,8,0,12,0,0,0]
[2966,1,10.3,0,0,0,16,0,0,0,0,0,0,0.5,0,0,0.2090968,12,0,0,0,0,5.7466300000000002E-7,5.74663E-4,0.5,0,0.20938470616299998,12,8,0,12,0,0,0]
[2973,1,9.3000000000000007,0,0,0,16,0,0,0,0,0,0,0.5,0,0,0,12,0,0,0,0,0,0,0.5,0,0,12,8,0,12,0,0,0]
[2975,1,8.1,0,0,0,16,0,0,0,0,0,0,0.5,0,0,0,12,0,0,0,0,0,0,0.5,0,0,12,8,0,12,0,0,0]
[2987,1,12.6,0,0,0.93975160000000002,16,0,0,0,0,2.099152E-2,6.5131659999999997E-4,0.5,0,0,1.47485,12,0,0,0,0,5.7466300000000002E-7,5.74663E-4,0.5,0,2.4362066844630004,12,8,0,12,0,0,0]
[2992,1,15.7,0,0,4.4142150000000004,16,0,0,0,0,-1.937102E-3,6.5131659999999997E-4,0.5,0,0,4.4886170000000005,12,0,0,0,0,5.7466300000000002E-7,5.74663E-4,0.5,0,8.901508462463001,12,8,0,12,0,0,0]
[2997,1,12.9,0,0,0,16,0,0,0,0,0,0,0.5,0,0,0,12,0,0,0,0,0,0,0.5,0,0,12,8,0,12,0,0,0]
[3009,1,11.5,0,0,0,16,0,0,0,0,0,0,0.5,0,0,0.26301950000000002,12,{"$f":"0.05*O3022","v":0},{"$f":"0.05*P3022","v":0},0,0,5.7466300000000002E-7,5.74663E-4,0.5,0,0.26330740616300002,12,8,0,12,0,0,0]
[3018,1,17,0,0,5.2495089999999998,16,0,0,0,0,-2.195992E-4,6.5131659999999997E-4,0.5,0,0,1.709902,12,0,0,0,0,5.7466300000000002E-7,5.74663E-4,0.5,0,6.9598049652630003,12,8,0,12,0,0,0]
[3024,1,10.1,0,0,0,16,0,0,0,0,0,0,0.5,0,0,0,12,0,0,0,0,0,0,0.5,0,0,12,8,0,12,0,0,0]
[3027,1,8.1,0,0,0,16,0,0,0,0,0,0,0.5,0,0,0,12,0,0,0,0,0,0,0.5,0,0,12,8,0,12,0,0,0]
[3041,1,12,0,0,0,16,0,0,0,0,0,0,0.5,0,0,0,12,0,0,0,0,0,0,0.5,0,0,12,8,0,12,0,0,0]
[3044,1,11.2,0,0,0,16,0,0,0,0,0,0,0.5,0,0,0,12,0,0,0,0,0,0,0.5,0,0,12,8,0,12,0,0,0]
[3055,1,7.4,0,0,0,16,0,0,0,0,0,0,0.5,0,0,0,12,0,0,0,0,0,0,0.5,0,0,12,8,0,12,0,0,0]
[3061,1,8.6999999999999993,0,0,0,16,0,0,0,0,0,0,0.5,0,0,0,12,0,0,0,0,0,0,0.5,0,0,12,8,0,12,0,0,0]
[3069,1,8,0,0,0,16,0,0,0,0,0,0,0.5,0,0,0,12,0,0,0,0,0,0,0.5,0,0,12,8,0,12,0,0,0]
[3078,1,7,0,0,0,16,0,0,0,0,0,0,0.5,0,0,0,12,0,0,0,0,0,0,0.5,0,0,12,8,0,12,0,0,0]
[3083,1,9.5,0,0,0,16,0,0,0,0,0,0,0.5,0,0,0,12,0,0,0,0,0,0,0.5,0,0,12,8,0,12,0,0,0]
[3087,1,9.8000000000000007,0,0,0,16,0,0,0,0,0,0,0.5,0,0,0,12,0,0,0,0,0,0,0.5,0,0,12,8,0,12,0,0,0]
[3100,1,6.7,0,0,0,16,0,0,0,0,0,0,0.5,0,0,0,12,0,0,0,0,0,0,0.5,0,0,12,8,0,12,0,0,0]
[3104,1,8.6999999999999993,0,0,0,16,0,0,0,0,0,0,0.5,0,0,0,12,0,0,0,0,0,0,0.5,0,0,12,8,0,12,0,0,0]
[3114,1,12.1,0,0,0,16,0,0,0,0,0,0,0.5,0,0,0.18372989999999997,12,0,0,0,0,5.7466300000000002E-7,5.74663E-4,0.5,0,0.18401780616299995,12,8,0,12,0,0,0]
[3121,1,9.1,0,0,0,16,0,0,0,0,0,0,0.5,0,0,0,12,0,0,0,0,0,0,0.5,0,0,12,8,0,12,0,0,0]
[3128,1,10.5,0,0,0,16,0,0,0,0,0,0,0.5,0,0,0,12,0,0,0,0,0,0,0.5,0,0,12,8,0,12,0,0,0]
[3138,1,15.3,0,0,3.2162169999999999,16,{"$f":"0.05*D3151","v":0},{"$f":"0.05*E3151","v":0},0,0,-2.26231E-3,6.5131659999999997E-4,0.5,0,0,1.0860970000000001,12,0,0,0,0,5.7466300000000002E-7,5.74663E-4,0.5,0,2.4430737668729883,12,8,1.8575914875900121,12,0.10102690546542172,0,{"$f":"0.05*AF3151","v":5.0513452732710859E-3}]
[3142,1,11.4,0,0,0,16,0,0,0,0,0,0,0.5,0,0,0,12,0,0,0,0,0,0,0.5,0,0,12,8,0,12,0,0,0]
[3147,1,9.6,0,0,0,16,0,0,0,0,0,0,0.5,0,0,0,12,0,0,0,0,0,0,0.5,0,0,12,8,0,12,0,0,0]
[3156,1,14.3,0,0,3.1957840000000002,16,0,0,0,0,-1.674811E-3,6.5131659999999997E-4,0.5,0,0,1.631443,12,0,0,0,0,5.7466300000000002E-7,5.74663E-4,0.5,0,4.826165753463,12,8,0,12,0,0,0]
[3165,1,10.6,0,0,0,16,0,0,0,0,0,0,0.5,0,0,0,12,0,0,0,0,0,0,0.5,0,0,12,8,0,12,0,0,0]
[3173,1,8,0,0,0,16,0,0,0,0,0,0,0.5,0,0,0,12,0,0,0,0,0,0,0.5,0,0,12,8,0,12,0,0,0]
[3179,1,16,0,0,4.6084840000000007,16,0,0,0,0,-1.3952599999999999E-3,6.5131659999999997E-4,0.5,0,0,4.7316250000000002,12,0,0,0,0,5.7466300000000002E-7,5.74663E-4,0.5,0,9.3393273044630014,12,8,0,12,0,0,0]
[3190,1,14.7,0,0,0,16,0,0,0,0,0,0,0.5,0,0,0,12,0,0,0,0,0,0,0.5,0,0,12,8,0,12,0,0,0]
[3196,1,10.6,0,0,0,16,0,0,0,0,0,0,0.5,0,0,0,12,0,0,0,0,0,0,0.5,0,0,12,8,0,12,0,0,0]
[3207,1,18.100000000000001,0,0,0,16,0,0,0,0,0,0,0.5,0,0,0,12,0,0,0,0,0,0,0.5,0,0,12,8,0,12,0,0,0]
[3210,1,17.399999999999999,0,0,0,16,0,0,0,0,0,0,0.5,0,0,0,12,0,0,0,0,0,0,0.5,0,0,12,8,0,12,0,0,0]
[3216,1,11.9,0,0,0,16,0,0,0,0,0,0,0.5,0,0,0,12,0,0,0,0,0,0,0.5,0,0,12,8,0,12,0,0,0]
[3224,1,12.9,0,0,0,16,0,0,0,0,0,0,0.5,0,0,0,12,0,0,0,0,0,0,0.5,0,0,12,8,0,12,0,0,0]
[3233,1,18.600000000000001,0,0,0,16,0,0,0,0,0,0,0.5,0,0,0,12,0,0,0,0,0,0,0.5,0,0,12,8,0,12,0,0,0]
[3238,1,13,0,0,0,16,0,0,0,0,0,0,0.5,0,0,0,12,0,0,0,0,0,0,0.5,0,0,12,8,0,12,0,0,0]
[3250,1,15.7,0,0,5.7443819999999999,16,0,0,0,0,-1.793387E-3,6.5131659999999997E-4,0.5,0,0,3.6245610000000004,12,0,0,0,0,5.7466300000000002E-7,5.74663E-4,0.5,0,-7.4406757357629942,4,8,16.808438913225995,4,1.7900684041161259,0,8.9503420205806303E-2]
[3255,1,21.3,0,0,6.2236279999999997,16,0,0,0,0,-8.6520000000000005E-5,6.5131659999999997E-4,0.5,0,0,3.5665790000000004,12,0,0,0,0,5.7466300000000002E-7,5.74663E-4,0.5,0,9.7907340444630009,11.959999999999997,8,0,11.959999999999997,0,0,0]
[3267,1,11,0,0,0,16,0,0,0,0,0,0,0.5,0,0,0,12,0,0,0,0,0,0,0.5,0,0,12,8,0,12,0,0,0]
[3269,1,10.7,0,0,0,16,0,0,0,0,0,0,0.5,0,0,0,12,0,0,0,0,0,0,0.5,0,0,12,8,0,12,0,0,0]
[3276,1,18.8,0,0,1.214126,16,0,0,0,0,-2.104243E-3,6.5131659999999997E-4,0.5,0,0,0.37658449999999999,12,0,0,0,0,5.7466300000000002E-7,5.74663E-4,0.5,0,-48.410780178537003,4,8,50,4,6.2575210589651027,0,0.31287605294825516]
[3283,1,19.399999999999999,0,0,2.5635920000000003,16,0,0,0,0,-7.3080440000000007E-4,6.5131659999999997E-4,0.5,0,0,0,12,0,0,0,0,0,0,0.5,0,2.5631868539000005,12,8,0,12,0,0,0]
[3293,1,15.1,0,0,0,16,0,0,0,0,0,0,0.5,0,0,0,12,0,0,0,0,0,0,0.5,0,0,12,8,0,12,0,0,0]
[3302,1,16.899999999999999,0,0,7.0491250000000001,16,0,0,0,0,-2.7490909999999999E-3,6.5632359999999999E-4,0.5,0,0,2.5413019999999999,12,0,0,0,0,5.7466300000000002E-7,5.74663E-4,0.5,0,-40.411706023036999,4,8,50,4,5.6859205776173276,0,0.28429602888086641]
[3306,1,15.1,0,0,5.2380020000000007,16,0,0,0,0,-2.9472499999999998E-3,6.5131659999999997E-4,0.5,0,0,1.9398199999999999,12,0,0,0,0,5.7466300000000002E-7,5.74663E-4,0.5,0,7.1754883144630011,12,8,0,12,0,0,0]
[3319,1,14.2,0,0,3.4322240000000002,16,0,0,0,0,2.153455E-2,6.5131659999999997E-4,0.5,0,0,0,12,0,0,0,0,0,0,0.5,0,3.4540842083000003,12,8,0,12,0,0,0]
[3327,1,21.7,0,0,6.934571,16,0,0,0,0,-7.2956410000000007E-4,6.5131659999999997E-4,0.5,0,0,3.993099,12,0,0,0,0,5.7466300000000002E-7,5.74663E-4,0.5,0,10.927554000362999,11.64,8,0,11.64,0,0,0]
[3328,1,21.4,0,0,6.4013619999999998,16,0,0,0,0,-1.1855519999999999E-3,6.5131659999999997E-4,0.5,0,0,6.1972969999999998,12,0,0,0,0,5.7466300000000002E-7,5.74663E-4,0.5,0,12.598087012463001,11.879999999999999,8,0,11.879999999999999,0,0,0]
[3341,1,11.9,0,0,0,16,0,0,0,0,0,0,0.5,0,0,0,12,0,0,0,0,0,0,0.5,0,0,12,8,0,12,0,0,0]
[3345,1,15.1,0,0,5.0845730000000007,16,0,0,0,0,-1.907253E-3,6.5131659999999997E-4,0.5,0,0,2.0056769999999999,12,0,0,0,0,5.7466300000000002E-7,5.74663E-4,0.5,0,7.0889563114630008,12,8,0,12,0,0,0]
[3351,1,17.8,0,0,8.3927600000000009,16,0,0,0,0,5.1664730000000002E-5,1.0161830000000001E-3,0.5,0,0,5.1987800000000002,12,0,0,0,0,5.7466300000000002E-7,5.74663E-4,0.5,0,13.592387662393001,12,8,0,12,0,0,0]
[3362,1,11.2,0,0,0,16,0,0,0,0,0,0,0.5,0,0,0,12,0,0,0,0,0,0,0.5,0,0,12,8,0,12,0,0,0]
[3372,1,15,0,0,0,16,0,0,0,0,0,0,0.5,0.694561608,0.165943008,0,12,3.47280804E-2,8.2971503999999998E-3,0.17279999999999998,8.6399999999999991E-2,5.7466300000000002E-7,5.74663E-4,0.5,0,0.90381775296300004,12,8,0,12,0,0,0]
[3379,1,11.8,0,0,0,16,0,0,0,0,0,0,0.5,0,0,0,12,0,0,0,0,0,0,0.5,0,0,12,8,0,12,0,0,0]
[3386,1,10.4,0,0,0,16,0,0,0,0,0,0,0.5,0,0,0,12,0,0,0,0,0,0,0.5,0,0,12,8,0,12,0,0,0]
[3388,1,9.6999999999999993,0,0,0,16,0,0,0,0,0,0,0.5,0,0,0,12,0,0,0,0,0,0,0.5,0,0,12,8,0,12,0,0,0]
[3400,1,12.9,0,0,0,16,0,0,0,0,0,0,0.5,0,0,0,12,0,0,0,0,0,0,0.5,0,0,12,8,0,12,0,0,0]
[3405,1,10.6,0,0,0,16,0,0,0,0,0,0,0.5,0,0,0,12,0,0,0,0,0,0,0.5,0,0,12,8,0,12,0,0,0]
[3417,1,13.6,0,0,2.4783059999999999,16,0,0,0,0,-1.3683970000000001E-3,6.5131659999999997E-4,0.5,0,0,1.040483,12,0,0,0,0,5.7466300000000002E-7,5.74663E-4,0.5,0,3.518034167463,12,8,0,12,0,0,0]
[3422,1,16.5,0,0,5.9681350000000002,16,0,0,0,0,-2.1017480000000001E-3,6.5131659999999997E-4,0.5,0,0,2.1276080000000004,12,0,0,0,0,5.7466300000000002E-7,5.74663E-4,0.5,0,8.0942548164629997,12,8,0,12,0,0,0]
[3431,1,9,0,0,0,16,0,0,0,0,0,0,0.5,0,0,0,12,0,0,0,0,0,0,0.5,0,0,12,8,0,12,0,0,0]
[3439,1,10.3,0,0,0,16,0,0,0,0,0,0,0.5,0,0,0,12,0,0,0,0,0,0,0.5,0,0,12,8,0,12,0,0,0]
[3448,1,21.5,0,0,6.5791000000000004,16,0,0,0,0,-3.0174260000000001E-4,6.5131659999999997E-4,0.5,0,0,6.3750349999999996,12,0,0,0,0,5.7466300000000002E-7,5.74663E-4,0.5,0,12.954446821863002,11.8,8,0,11.8,0,0,0]
[3454,1,13.6,0,0,0,16,0,0,0,0,0,0,0.5,0,0,0,12,0,0,0,0,0,0,0.5,0,0,12,8,0,12,0,0,0]
[3457,1,10.9,0,0,0,16,0,0,0,0,0,0,0.5,0,0,0,12,{"$f":"0.05*O3470","v":0},{"$f":"0.05*P3470","v":0},0,0,0,0,0.5,0,0,12,8,0,12,0,0,0]
[3468,1,21.9,0,0,7.2900450000000001,16,0,0,0,0,-2.3702139999999999E-4,7.1448619999999992E-4,0.5,0,0,2.8064270000000002,12,0,0,0,0,5.7466300000000002E-7,5.74663E-4,0.5,0,10.096880127862999,11.48,8,0,11.48,0,0,0]
[3474,1,24.4,0,0,11.61641,16,0,0,0,0,-2.036362E-4,2.290149E-3,0.5,0,0,3.825968,12,0,0,0,0,5.7466300000000002E-7,5.74663E-4,0.5,0,-12.499984854546,4,8,27.943592199009,4,4.438693345690961,0,0.22193466728454805]
[3482,1,13.1,0,0,0,16,0,0,0,0,0,0,0.5,0,0,0,12,0,0,0,0,0,0,0.5,0,0,12,8,0,12,0,0,0]
[3491,1,23.5,0,0,10.13382,16,0,0,0,0,-4.7320040000000004E-4,1.6277429999999999E-3,0.5,0,0,9.9297559999999994,12,0,0,0,0,8.5722549999999988E-7,8.5722549999999993E-4,0.5,0,20.064346141075497,10.199999999999999,8,0,10.199999999999999,0,0,0]
[3496,1,26.5,0,0,14.410690000000001,16,0,0,0,0,0,3.9256859999999994E-3,0.5,0,0,13.316360000000001,12,0,0,0,0,1.784132E-6,1.7841320000000001E-3,0.5,0,-22.270093306867999,4,8,50,4,8.5740072202166075,0,0.42870036101083042]
[3508,1,13.1,0,0,0,16,0,0,0,0,0,0,0.5,0,0,0,12,0,0,0,0,0,0,0.5,0,0,12,8,0,12,0,0,0]
[3513,1,21.3,0,0,6.2236279999999997,16,0,0,0,0,1.061022E-3,6.5131659999999997E-4,0.5,0,0,1.9899449999999999,12,0,0,0,0,5.7466300000000002E-7,5.74663E-4,0.5,0,8.2152475864630006,11.959999999999997,8,0,11.959999999999997,0,0,0]
[3517,1,26,0,0,13.795909999999999,16,0,0,0,0,0,3.5202950000000001E-3,0.5,0,0,4.5395089999999998,12,0,0,0,0,5.7466300000000002E-7,5.74663E-4,0.5,0,18.337467053662998,9,8,0,9,0,0,0]
[3527,1,14.1,0,0,0,16,0,0,0,0,0,0,0.5,0,0,0,12,0,0,0,0,0,0,0.5,0,0,12,8,0,12,0,0,0]
[3534,1,13.7,0,0,0,16,0,0,0,0,0,0,0.5,0,0,0,12,0,0,0,0,0,0,0.5,0,0,12,8,0,12,0,0,0]
[3541,1,17.899999999999999,2.00560464,0.87339096000000005,0,16,0.10028023200000001,4.3669548000000002E-2,0.17279999999999998,8.6399999999999991E-2,2.2790299999999999E-2,6.5131659999999997E-4,0.5,1.17608256,0.26409423600000004,0,12,5.8804128000000004E-2,1.3204711800000003E-2,0.17279999999999998,8.6399999999999991E-2,5.7466300000000002E-7,5.74663E-4,0.5,0,4.5585348802630001,12,8,0,12,0,0,0]
[3551,1,13.9,0,0,0,16,0,0,0,0,0,0,0.5,0,0,0,12,0,0,0,0,0,0,0.5,0,0,12,8,0,12,0,0,0]
[3555,1,12.2,0,0,0,16,0,0,0,0,0,0,0.5,0,0,0,12,0,0,0,0,0,0,0.5,0,0,12,8,0,12,0,0,0]
[3568,1,12.7,0,0,0,16,0,0,0,0,0,0,0.5,0,0,0,12,0,0,0,0,0,0,0.5,0,0,12,8,0,12,0,0,0]
[3569,1,12.5,0,0,0,16,0,0,0,0,0,0,0.5,0,0,0,12,0,0,0,0,0,0,0.5,0,0,12,8,0,12,0,0,0]
[3577,1,11.9,0,0,0,16,0,0,0,0,0,0,0.5,0,0,0,12,0,0,0,0,0,0,0.5,0,0,12,8,0,12,0,0,0]
[3586,1,13.7,0,0,2.9091939999999998,16,{"$f":"0.05*D3599","v":0},{"$f":"0.05*E3599","v":0},0,0,-1.90434E-3,6.5131659999999997E-4,0.5,0,0,2.2521970000000002,12,0,0,0,0,5.7466300000000002E-7,5.74663E-4,0.5,0,5.1601002244630001,12,8,0,12,0,0,{"$f":"0.05*AF3599","v":0}]
[3594,1,16.600000000000001,0,0,5.5533710000000003,16,0,0,0,0,-2.4803920000000001E-3,6.5131659999999997E-4,0.5,0,0,2.175335,12,0,0,0,0,5.7466300000000002E-7,5.74663E-4,0.5,0,-23.240273372676,4,8,30.967112545139003,4,3.4656335339325244,0,0.17328167669662622]
[3603,1,13.3,0,0,0,16,0,0,0,0,0,0,0.5,0,0,0,12,0,0,0,0,0,0,0.5,0,0,12,8,0,12,0,0,0]
[3609,1,15.9,0,0,4.9920460000000002,16,0,0,0,0,-2.046071E-3,6.5131659999999997E-4,0.5,0,0,1.9030359999999999,12,0,0,0,0,5.7466300000000002E-7,5.74663E-4,0.5,0,6.893649493463001,12,8,0,12,0,0,0]
[3620,1,18.600000000000001,0,0,0,16,0,0,0,0,0,0,0.5,0,0,0,12,0,0,0,0,0,0,0.5,0,-50,4,8,50,4,6.1973525872442847,0,0.30986762936221424]
[3623,1,14.7,0,0,0,16,0,0,0,0,0,0,0.5,0,0,0,12,0,0,0,0,0,0,0.5,0,0,12,8,0,12,0,0,0]
[3629,1,9.9,0,0,0,16,0,0,0,0,0,0,0.5,0,0,0,12,0,0,0,0,0,0,0.5,0,0,12,8,0,12,0,0,0]
[3637,1,20.3,0,0,4.4462659999999996,16,0,0,0,0,4.4713970000000002E-6,6.5131659999999997E-4,0.5,0,0,1.3976790000000001,12,0,0,0,0,5.7466300000000002E-7,5.74663E-4,0.5,0,5.8445630358600003,12,8,0,12,0,0,0]
[3646,1,15.6,0,0,0,16,0,0,0,0,0,0,0.5,0,0,0,12,0,0,0,0,0,0,0.5,0,0,12,8,0,12,0,0,0]
[3658,1,20.6,0,0,4.9794750000000008,16,0,0,0,0,-1.4933320000000002E-3,6.5131659999999997E-4,0.5,0,0,4.7754089999999998,12,0,0,0,0,5.7466300000000002E-7,5.74663E-4,0.5,0,9.7540042324630001,12,8,0,12,0,0,0]
[3663,1,25.8,0,0,14.20965,16,0,0,0,0,0,3.790201E-3,0.5,0,0,13.055959999999999,12,0,0,0,0,1.6988160000000002E-6,1.6988160000000001E-3,0.5,0,-22.731643792684,4,8,50,4,8.3634175691937429,0,0.41817087845968715]
[3668,1,19,0,0,0,16,0,0,0,0,0,0,0.5,0,0,0,12,0,0,0,0,0,0,0.5,0,0,12,8,0,12,0,0,0]
[3680,1,15.5,0,0,6.4376559999999996,16,0,0,0,0,-2.5011079999999997E-3,6.5131659999999997E-4,0.5,0,0,0,12,0,0,0,0,0,0,0.5,0,6.4354805503000003,12,8,0,12,0,0,0]
[3682,1,15.6,0,0,7.6724269999999999,16,0,0,0,0,-3.1903030000000002E-3,8.1111759999999997E-4,0.5,0,0,6.9412830000000003,12,0,0,0,0,5.7466300000000002E-7,5.74663E-4,0.5,0,14.611213161963001,12,8,0,12,0,0,0]
[3689,1,20.7,0,0,5.1572149999999999,16,0,0,0,0,-1.459393E-3,6.5131659999999997E-4,0.5,0,0,3.256945,12,0,0,0,0,5.7466300000000002E-7,5.74663E-4,0.5,0,-41.586685828537,4,8,50,4,6.829121540312876,0,0.34145607701564384]
[3703,1,17.100000000000001,0,0,0,16,0,0,0,0,0,0,0.5,0,0,0,12,0,0,0,0,0,0,0.5,0,0,12,8,0,12,0,0,0]
[3706,1,20.6,0,0,0,16,0,0,0,0,0,0,0.5,0,0,0,12,0,0,0,0,0,0,0.5,0,0,12,8,0,12,0,0,0]
[3717,1,20,0,0,0,16,0,0,0,0,0,0,0.5,0,0,0,12,0,0,0,0,0,0,0.5,0,0,12,8,0,12,0,0,0]
[3723,1,19.3,0,0,0,16,0,0,0,0,0,0,0.5,0,0,0,12,0,0,0,0,0,0,0.5,0,0,12,8,0,12,0,0,0]
[3731,1,26.3,3.9132784799999998,1.29747996,0,16,0.19566392399999999,6.4873998000000002E-2,0.17279999999999998,8.6399999999999991E-2,7.1665059999999998E-4,6.5131659999999997E-4,0.5,7.2357191999999992,2.7165751199999999,0,12,0.36178595999999996,0.13582875599999999,0.17279999999999998,8.6399999999999991E-2,8.6176969999999994E-7,8.6176969999999999E-4,0.5,0,-34.077320546480301,4,8,50,4,8.5138387484957878,0,0.42569193742478939]
[3740,1,23.3,0.19686009600000001,0,0,16,9.843004800000001E-3,0,0.17279999999999998,0,1.237405E-3,6.5131659999999997E-4,0.5,6.9875805599999997E-3,0,0,12,3.4937902800000003E-4,0,0.17279999999999998,0,5.7466300000000002E-7,5.74663E-4,0.5,0,0.215891029851,10.36,8,0,10.36,0,0,0]
[3749,1,18.100000000000001,0.67658738399999996,0,0,16,3.3829369200000001E-2,0,0.17279999999999998,0,2.2858180000000002E-2,6.5131659999999997E-4,0.5,0,0,0,12,0,0,0,0,0,0,0.5,0,0.7336005914999999,12,8,0,12,0,0,0]
[3754,1,27.3,3.5461591199999996,0,16.082319999999999,16,0.17730795599999999,0,0.17279999999999998,0,0,8.5000189999999993E-3,0.5,5.8530261599999998,0,15.147629999999999,12,0.292651308,0,0.17279999999999998,0,5.5719310000000006E-6,5.5719310000000005E-3,0.5,0,-8.8938639090690046,4,8,50,4,8.8146811070998794,0,0.44073405535499399]
[3758,1,30,6.0464447999999997,1.93787172,17.271819999999998,16,0.30232224000000002,9.6893586000000004E-2,0.17279999999999998,8.6399999999999991E-2,0,1.596324E-2,0.5,2.3522515199999998,0.53889335999999999,5.4663819999999994,12,0.117612576,2.6944668000000001E-2,0.17279999999999998,8.6399999999999991E-2,5.7466300000000002E-7,5.74663E-4,0.5,0,-15.834294003837002,4,8,50,4,9.6269554753309272,0,0.48134777376654636]
[3771,1,15.8,2.1365373599999998E-2,0,0,16,1.0682686799999999E-3,0,0.17279999999999998,0,-6.8881150000000006E-4,6.5131659999999997E-4,0.5,9.5501231999999991E-2,8.8105284000000006E-2,0,12,4.7750615999999999E-3,4.4052642000000008E-3,0.17279999999999998,8.6399999999999991E-2,5.7466300000000002E-7,5.74663E-4,0.5,0,0.21514523704299998,12,8,0,12,0,0,0]
[3775,1,18,0,3.7814687999999999,9.8974460000000004,16,0,0.18907344000000001,0,8.6399999999999991E-2,-2.3757579999999999E-3,3.4446400000000001E-3,0.5,0,1.6043705999999998,0,12,0,8.0218529999999996E-2,0,8.6399999999999991E-2,5.7466300000000002E-7,5.74663E-4,0.5,0,15.552211838163002,12,8,0,12,0,0,0]
[3785,1,17.100000000000001,0,0.11333098799999999,9.5490370000000002,16,0,5.6665494E-3,0,8.6399999999999991E-2,-2.6812120000000001E-3,1.4441459999999999E-3,0.5,0,0.95254236000000003,6.914568,12,0,4.7627118000000003E-2,0,8.6399999999999991E-2,5.7466300000000002E-7,5.74663E-4,0.5,0,17.581100782562999,12,8,0,12,0,0,0]
[3792,1,13.3,0,0,0,16,0,0,0,0,0,0,0.5,0,0,0,12,0,0,0,0,0,0,0.5,0,0,12,8,0,12,0,0,0]
[3799,1,13.3,0,0,4.1352659999999997,16,0,0,0,0,-1.669399E-3,6.5131659999999997E-4,0.5,0,0,0,12,0,0,0,0,0,0,0.5,0,4.1339222593000002,12,8,0,12,0,0,0]
[3809,1,18.7,0,0,0.98921479999999995,16,0,0,0,0,-2.1381820000000002E-3,6.5131659999999997E-4,0.5,0,9.6588287999999994E-2,0.47846759999999999,12,0,4.8294143999999999E-3,0,8.6399999999999991E-2,5.7466300000000002E-7,5.74663E-4,0.5,0,1.5675754848629999,12,8,0,12,0,0,0]
[3813,1,15,0,0,0,16,0,0,0,0,0,0,0.5,0,0.13355027999999999,0,12,0,6.6775139999999998E-3,0,8.6399999999999991E-2,5.7466300000000002E-7,5.74663E-4,0.5,0,0.14051570016299997,12,8,0,12,0,0,0]
[3818,1,11.7,0,0,0,16,0,0,0,0,0,0,0.5,0,0,0,12,0,0,0,0,0,0,0.5,0,0,12,8,0,12,0,0,0]
[3827,1,20.9,0,0,5.512683,16,0,0,0,0,2.8788379999999999E-5,6.5131659999999997E-4,0.5,0,0,9.1885300000000001,12,0,0,0,0,7.0608119999999999E-7,7.0608119999999996E-4,0.5,0,11.081982616376994,12,8,3.6199385769842074,12,0.31542154852084614,0,1.5771077426042307E-2]
[3835,1,21.3,0,0,6.2236279999999997,16,0,0,0,0,-1.2557590000000002E-3,6.5131659999999997E-4,0.5,0,0,0,12,0,0,0,0,0,0,0.5,0,6.2226978992999999,11.959999999999997,8,0,11.959999999999997,0,0,0]
[3844,1,14.8,0,0,0,16,0,0,0,0,0,0,0.5,0,0,0,12,0,0,0,0,0,0,0.5,0,0,12,8,0,12,0,0,0]
[3852,1,16.100000000000001,0,0,8.6222999999999992,16,0,0,0,0,-1.5106850000000001E-3,1.086603E-3,0.5,0,0,6.0089880000000004,12,0,0,0,0,5.7466300000000002E-7,5.74663E-4,0.5,0,14.630608522663,12,8,0,12,0,0,0]
[3858,1,15.2,0,0,6.8619650000000005,16,0,0,0,0,-3.32606E-3,6.5131659999999997E-4,0.5,0,0,2.6964769999999998,12,0,0,0,0,5.7466300000000002E-7,5.74663E-4,0.5,0,9.5557295044630006,12,8,0,12,0,0,0]
[3869,1,12.5,3.5391506399999995,1.495989,0,16,0.17695753199999997,7.4799450000000003E-2,0.17279999999999998,8.6399999999999991E-2,-3.9037080000000001E-3,6.5131659999999997E-4,0.5,2.30998824,0.82302552000000007,0,12,0.11549941200000001,4.1151276000000007E-2,0.17279999999999998,8.6399999999999991E-2,5.7466300000000002E-7,5.74663E-4,0.5,0,8.5732709264629996,12,8,0,12,0,0,0]
[3872,1,12.5,3.11922144,1.2736324800000001,0,16,0.15596107200000001,6.3681624000000006E-2,0.17279999999999998,8.6399999999999991E-2,-3.812953E-3,6.5131659999999997E-4,0.5,2.1250425599999998,0.74445299999999992,0,12,0.106252128,3.7222649999999996E-2,0.17279999999999998,8.6399999999999991E-2,5.7466300000000002E-7,5.74663E-4,0.5,0,7.6222675654630008,12,8,0,12,0,0,0]
[3878,1,12.5,2.16160416,0.83843855999999994,0,16,0.10808020800000001,4.1921927999999997E-2,0.17279999999999998,8.6399999999999991E-2,-4.2424239999999998E-3,6.5131659999999997E-4,0.5,1.3368225599999999,0.41000651999999993,0,12,6.6841128E-2,2.0500325999999999E-2,0.17279999999999998,8.6399999999999991E-2,5.7466300000000002E-7,5.74663E-4,0.5,0,-45.019413469537,4,8,50,4,4.3622141997593271,0,0.21811070998796636]
[3887,1,8.5,0,0,0,16,0,0,0,0,0,0,0.5,0,0,0,12,0,0,0,0,0,0,0.5,0,0,12,8,0,12,0,0,0]
[3895,1,8.9,0,0,0,16,0,0,0,0,0,0,0.5,0,0,0,12,0,0,0,0,0,0,0.5,0,0,12,8,0,12,0,0,0]
[3904,1,9.6,0,0,0,16,0,0,0,0,0,0,0.5,0,0,0,12,0,0,0,0,0,0,0.5,0,0,12,8,0,12,0,0,0]
[3909,1,8,0,0,0,16,0,0,0,0,0,0,0.5,0,0,0,12,0,0,0,0,0,0,0.5,0,0,12,8,0,12,0,0,0]
[3921,1,11.6,0,0,0.86768920000000005,16,0,0,0,0,2.065212E-2,6.5131659999999997E-4,0.5,0,0,0.47492720000000005,12,0,0,0,0,5.7466300000000002E-7,5.74663E-4,0.5,0,1.3638820844630002,12,8,0,12,0,0,0]
[3926,1,15,0,0,4.5851869999999995,16,0,0,0,0,-1.99629E-3,6.5131659999999997E-4,0.5,0,0,1.545771,12,0,0,0,0,5.7466300000000002E-7,5.74663E-4,0.5,0,6.1295752744629999,12,8,0,12,0,0,0]
[3930,1,15.1,0,0,4.3712920000000004,16,0,0,0,0,-2.652218E-3,6.5131659999999997E-4,0.5,0,0,1.7061169999999999,12,0,0,0,0,5.7466300000000002E-7,5.74663E-4,0.5,0,6.0753703464630009,12,8,0,12,0,0,0]
[3940,1,9.3000000000000007,0,0,0,16,0,0,0,0,0,0,0.5,0,0,0,12,0,0,0,0,0,0,0.5,0,0,12,8,0,12,0,0,0]
[3947,1,15.2,0,0,5.4780990000000003,16,0,0,0,0,-2.3472469999999998E-3,6.5131659999999997E-4,0.5,0,0,7.4493140000000002,12,0,0,0,0,5.7466300000000002E-7,5.74663E-4,0.5,0,12.925679317463,12,8,0,12,0,0,0]
[3954,1,14.5,0,0,3.744462,16,0,0,0,0,-3.5636370000000001E-3,6.5131659999999997E-4,0.5,0,0,1.5024310000000001,12,0,0,0,0,5.7466300000000002E-7,5.74663E-4,0.5,0,5.2439429274630003,12,8,0,12,0,0,0]
[3964,1,11.2,0,0,0,16,0,0,0,0,0,0,0.5,0,0,0,12,0,0,0,0,0,0,0.5,0,0,12,8,0,12,0,0,0]
[3968,1,12.8,0,0,2.3325909999999999,16,0,0,0,0,-1.7551380000000001E-3,6.5131659999999997E-4,0.5,0,0,0,12,0,0,0,0,0,0,0.5,0,2.3311615202999998,12,8,0,12,0,0,0]
[3981,1,13.1,0,0,0,16,0,0,0,0,0,0,0.5,0,0,0,12,0,0,0,0,0,0,0.5,0,0,12,8,0,12,0,0,0]
[3989,1,10.9,0,0,0,16,0,0,0,0,0,0,0.5,0,0,0,12,0,0,0,0,0,0,0.5,0,0,12,8,0,12,0,0,0]
[3990,1,11.2,0,0,0,16,0,0,0,0,0,0,0.5,0,0,0,12,0,0,0,0,0,0,0.5,0,0,12,8,0,12,0,0,0]
[3999,1,17.8,4.0643963999999997,0,8.7292810000000003,16,0.20321982,0,0.17279999999999998,0,-2.4067490000000001E-3,2.9139870000000003E-3,0.5,1.6077398400000002E-2,0,7.9879369999999996,12,8.0386992000000014E-4,0,0.17279999999999998,0,5.7466300000000002E-7,5.74663E-4,0.5,0,21.001053638982999,12,8,0,12,0,0,0]
[4007,1,11.8,0,0,0,16,0,0,0,0,0,0,0.5,0,0,0,12,0,0,0,0,0,0,0.5,0,0,12,8,0,12,0,0,0]
[4013,1,9.9,0,0,0,16,0,0,0,0,0,0,0.5,0,0,0,12,0,0,0,0,0,0,0.5,0,0,12,8,0,12,0,0,0]
[4024,1,18.899999999999999,1.96982568,0,1.439038,16,9.8491284000000012E-2,0,0.17279999999999998,0,-1.1275370000000001E-3,6.5131659999999997E-4,0.5,0,0,2.3987440000000002,12,0,0,0,0,5.7466300000000002E-7,5.74663E-4,0.5,0,5.9055849914629999,12,8,0,12,0,0,0]
[4033,1,13,0,0,0,16,0,0,0,0,0,0,0.5,0,0,0,12,{"$f":"0.05*O4046","v":0},{"$f":"0.05*P4046","v":0},0,0,0,0,0.5,0,0,12,8,0,12,0,0,0]
[4036,1,11.2,0,0,0,16,0,0,0,0,0,0,0.5,0,0,0,12,0,0,0,0,0,0,0.5,0,0,12,8,0,12,0,0,0]
[4050,1,20.3,0,0,0,16,0,0,0,0,0,0,0.5,0,0,0,12,0,0,0,0,0,0,0.5,0,0,12,8,0,12,0,0,0]
[4057,1,12.1,0,0,0,16,0,0,0,0,0,0,0.5,0,0,0,12,0,0,0,0,0,0,0.5,0,0,12,8,0,12,0,0,0]
[4059,1,10.9,0,0,0,16,0,0,0,0,0,0,0.5,0,0,0,12,0,0,0,0,0,0,0.5,0,0,12,8,0,12,0,0,0]
[4071,1,25.5,4.2827630399999999,0.75430512000000005,0,16,0.214138152,3.7715256000000003E-2,0.17279999999999998,8.6399999999999991E-2,7.9602749999999999E-4,6.5131659999999997E-4,0.5,0.77393303999999996,0,0,12,3.8696651999999998E-2,0,0.17279999999999998,0,5.7466300000000002E-7,5.74663E-4,0.5,0,-43.897039148037003,4,8,50,4,8.273164861612516,0,0.41365824308062582]
[4076,1,21.2,0,0,0,16,0,0,0,0,0,0,0.5,0,0,0,12,0,0,0,0,0,0,0.5,0,0,12,8,0,12,0,0,0]
[4081,1,15,0,0,0,16,0,0,0,0,0,0,0.5,0,0,0,12,0,0,0,0,0,0,0.5,0,0,12,8,0,12,0,0,0]
[4093,1,27.6,1.6935861599999997,0.32564685599999998,15.806809999999999,16,8.4679307999999995E-2,1.6282342799999999E-2,0.17279999999999998,8.6399999999999991E-2,0,6.6809929999999997E-3,0.5,0,0,4.9710829999999993,12,0,0,0,0,5.7466300000000002E-7,5.74663E-4,0.5,0,-27.098283930537001,4,8,50,4,8.9049338146811081,0,0.44524669073405543]
[4102,1,20.7,0.81301391999999995,0.16616538,0,16,4.0650696E-2,8.3082690000000001E-3,0.17279999999999998,8.6399999999999991E-2,5.8585719999999992E-4,6.5131659999999997E-4,0.5,1.0234598399999999E-2,0,0,12,5.1172991999999995E-4,0,0.17279999999999998,0,5.7466300000000002E-7,5.74663E-4,0.5,0,1.0400840149829997,12,8,0,12,0,0,0]
[4110,1,18.2,5.3807356799999999,2.2550608799999998,0,16,0.26903678400000003,0.112753044,0.17279999999999998,8.6399999999999991E-2,4.3049989999999997E-4,8.0241770000000006E-4,0.5,0,0,0,12,0,0,0,0,0,0,0.5,0,8.0184180967500005,12,8,0,12,0,0,0]
[4116,1,29,2.1906417600000001,0,16.83127,16,0.10953208800000001,0,0.17279999999999998,0,0,7.8584829999999994E-3,0.5,6.7138250399999997,1.04424228,10.73939,12,0.335691252,5.2212114000000004E-2,0.17279999999999998,8.6399999999999991E-2,4.0562920000000002E-6,4.0562920000000004E-3,0.5,0,-11.977234022208002,4,8,50,4,9.3261131167268356,0,0.46630565583634181]
[4119,1,31,10.181159999999998,0.58301819999999993,17.712389999999999,16,0.5090579999999999,2.9150909999999999E-2,0.17279999999999998,8.6399999999999991E-2,0,2.1548770000000002E-2,0.5,8.8093152000000003,0,17.00311,12,0.44046576000000004,0,0.17279999999999998,0,9.329354E-6,9.3293539999999998E-3,0.5,0,0,9,8,50,9,8.2742316784869985,0,0.41371158392434992]
[4130,1,19.100000000000001,0,0,0,16,0,0,0,0,0,0,0.5,0,0,0,12,0,0,0,0,0,0,0.5,0,0,12,8,0,12,0,0,0]
[4136,1,21.9,0,1.67777208,7.2900450000000001,16,0,8.3888604000000006E-2,0,8.6399999999999991E-2,-1.0521199999999999E-3,1.1989279999999999E-3,0.5,0,1.08874728,0,12,0,5.4437364000000002E-2,0,8.6399999999999991E-2,5.7466300000000002E-7,5.74663E-4,0.5,0,10.194725578163,11.48,8,0,11.48,0,0,0]
[4144,1,23.1,5.9516575199999995,0,9.4228749999999994,16,0.297582876,0,0.17279999999999998,0,-6.4484790000000002E-4,4.6149049999999999E-3,0.5,9.1679543999999993,0,15.70594,12,0.45839772000000001,0,0.17279999999999998,0,8.5038869999999994E-6,8.5038869999999999E-3,0.5,0,-8.0245755003190027,4,8,49.034906068306,4,7.4053919513506665,0,0.37026959756753336]
[4153,1,17,0,0,0,16,0,0,0,0,0,0,0.5,0,0,0,12,0,0,0,0,0,0,0.5,0,0,12,8,0,12,0,0,0]
[4161,1,18.7,0,0,0.98921479999999995,16,0,0,0,0,2.3825650000000001E-5,6.5131659999999997E-4,0.5,0,0,0.2456295,12,{"$f":"0.05*O4174","v":0},{"$f":"0.05*P4174","v":0},0,0,5.7466300000000002E-7,5.74663E-4,0.5,0,1.2354816901129999,12,8,0,12,0,0,0]
[4170,1,22.4,0,0,8.1787209999999995,16,0,0,0,0,-8.8242339999999994E-4,9.5235709999999996E-4,0.5,0,0,2.6414360000000001,12,0,0,0,0,5.7466300000000002E-7,5.74663E-4,0.5,0,10.820038661312999,11.080000000000002,8,0,11.080000000000002,0,0,0]
[4171,1,21.7,0,1.7367105599999999,6.934571,16,0,8.6835527999999995E-2,0,8.6399999999999991E-2,-1.119999E-3,1.102228E-3,0.5,0,2.2076186399999997,0,12,0,0.11038093199999999,0,8.6399999999999991E-2,5.7466300000000002E-7,5.74663E-4,0.5,0,11.075835681162999,11.64,8,0,11.64,0,0,0]
[4184,1,18.600000000000001,0,2.7176180399999996,0.76430330000000002,16,0,0.135880902,0,8.6399999999999991E-2,-2.1721219999999999E-3,6.5131659999999997E-4,0.5,0,0.93657636,0,12,0,4.6828818000000001E-2,0,8.6399999999999991E-2,5.7466300000000002E-7,5.74663E-4,0.5,0,4.599648862462999,12,8,0,12,0,0,0]
[4188,1,23.5,0,0,10.13382,16,0,0,0,0,-5.0909040000000005E-4,1.6277280000000002E-3,0.5,3.5317778400000002,0.57615444000000005,6.5744210000000001,12,0.17658889200000003,2.8807722000000004E-2,0.17279999999999998,8.6399999999999991E-2,1.0283599999999999E-6,1.0283599999999999E-3,0.5,0,-28.977610124040002,4,8,50,4,7.6714801444043319,0,0.38357400722021662]
[4198,1,19.399999999999999,0.87051239999999996,0.41749776,0,16,4.3525620000000001E-2,2.0874888000000001E-2,0.17279999999999998,8.6399999999999991E-2,-5.3811650000000002E-5,6.5131659999999997E-4,0.5,1.2090333600000001,0.53440919999999992,0,12,6.0451668000000007E-2,2.6720459999999998E-2,0.17279999999999998,8.6399999999999991E-2,5.7466300000000002E-7,5.74663E-4,0.5,0,3.1835851088130003,12,8,0,12,0,0,0]
[4205,1,15,0,0,0,16,0,0,0,0,0,0,0.5,0,0,0,12,0,0,0,0,0,0,0.5,0,0,12,8,0,12,0,0,0]
[4212,1,25.7,3.3668963999999999,1.4739681600000001,0,16,0.16834482000000001,7.3698408000000007E-2,0.17279999999999998,8.6399999999999991E-2,0,6.5131659999999997E-4,0.5,9.3173256000000002,4.4314739999999997,0,12,0.46586628000000002,0.22157369999999998,0.17279999999999998,8.6399999999999991E-2,1.9323980000000003E-6,1.9323980000000001E-3,0.5,0,-30.479558842301998,4,8,50,4,8.3333333333333339,0,0.41666666666666674]
[4222,1,19.3,0,0,0,16,0,0,0,0,0,0,0.5,0,0,0,12,0,0,0,0,0,0,0.5,0,0,12,8,0,12,0,0,0]
[4226,1,18.600000000000001,2.3078109599999999,1.1331111599999999,0,16,{"$f":"0.05*D4239","v":0.115390548},{"$f":"0.05*E4239","v":5.6655557999999995E-2},0.17279999999999998,8.6399999999999991E-2,-1.1484160000000002E-3,6.5131659999999997E-4,0.5,2.3892069600000001,1.17041616,0,12,0.11946034800000001,5.8520808000000007E-2,0.17279999999999998,8.6399999999999991E-2,5.7466300000000002E-7,5.74663E-4,0.5,0,3.2745159964616022E-2,12,8,7.3172924904983843,12,0.53916892035251263,0,{"$f":"0.05*AF4239","v":2.6958446017625634E-2}]
[4231,1,18.2,6.2308310399999991,2.9749463999999999,0,16,0.311541552,0.14874731999999999,0.17279999999999998,8.6399999999999991E-2,-2.3078789999999997E-3,1.279624E-3,0.5,3.2669791199999998,1.4888170799999998,0,12,0.16334895599999999,7.4440853999999987E-2,0.17279999999999998,8.6399999999999991E-2,5.7466300000000002E-7,5.74663E-4,0.5,0,14.658272161162998,12,8,0,12,0,0,0]
[4240,1,18.600000000000001,1.1750176800000001,0.41689547999999998,0,16,5.8750884000000003E-2,2.0844774E-2,0.17279999999999998,8.6399999999999991E-2,-1.6932400000000002E-3,6.5131659999999997E-4,0.5,0.9711827999999999,0.31114220399999998,0,12,4.8559140000000001E-2,1.55571102E-2,0.17279999999999998,8.6399999999999991E-2,5.7466300000000002E-7,5.74663E-4,0.5,0,3.0168703966630002,12,8,0,12,0,0,0]
[4248,1,18.100000000000001,0,0,0,16,0,0,0,0,0,0,0.5,0,0,0,12,0,0,0,0,0,0,0.5,0,0,12,8,0,12,0,0,0]
[4257,1,21.1,0,0,5.8681540000000005,16,0,0,0,0,3.6564920000000002E-4,6.5131659999999997E-4,0.5,0,0,1.8714919999999999,12,0,0,0,0,5.7466300000000002E-7,5.74663E-4,0.5,0,7.7406252136630007,12,8,0,12,0,0,0]
[4265,1,24.1,0,0,11.200239999999999,16,0,0,0,0,-3.0545430000000003E-4,2.0904610000000001E-3,0.5,0,0,7.2853079999999997,12,0,0,0,0,5.7466300000000002E-7,5.74663E-4,0.5,0,18.486575682363,9.7199999999999989,8,0,9.7199999999999989,0,0,0]
[4271,1,16.899999999999999,0,0,0,16,0,0,0,0,0,0,0.5,0,0,0,12,0,0,0,0,0,0,0.5,0,0,12,8,0,12,0,0,0]
[4282,1,18.399999999999999,4.6181966399999999,0,9.845028000000001,16,0.23090983200000001,0,0.17279999999999998,0,-2.2400000000000002E-3,3.9600270000000005E-3,0.5,3.9568975199999996,0,9.7850840000000012,12,0.197844876,0,0.17279999999999998,0,1.9301200000000001E-6,1.93012E-3,0.5,0,28.634667871620003,12,8,0,12,0,0,0]
[4285,1,18.5,0,0.24426640799999996,0.53939179999999998,16,0,1.2213320399999998E-2,0,8.6399999999999991E-2,-2.206061E-3,6.5131659999999997E-4,0.5,0,0,9.5725679999999994E-2,12,0,0,0,0,5.7466300000000002E-7,5.74663E-4,0.5,0,0.89000471186300001,12,8,0,12,0,0,0]
[4291,1,16.899999999999999,0,0.70106327999999996,7.3321339999999999,16,0,3.5053163999999998E-2,0,8.6399999999999991E-2,-2.7490909999999999E-3,9.1002430000000005E-4,0.5,0,0.46784087999999996,0,12,0,2.3392044000000001E-2,0,8.6399999999999991E-2,5.7466300000000002E-7,5.74663E-4,0.5,0,8.557477195313,12,8,0,12,0,0,0]
[4299,1,16.399999999999999,0,0,0,16,0,0,0,0,0,0,0.5,0,0,0,12,0,0,0,0,0,0,0.5,0,0,12,8,0,12,0,0,0]
[4308,1,22.7,0,0,8.7119339999999994,16,0,0,0,0,-5.3208159999999999E-4,1.115382E-3,0.5,0,0,5.6265700000000001,12,0,0,0,0,5.7466300000000002E-7,5.74663E-4,0.5,0,14.338817515562999,10.84,8,0,10.84,0,0,0]
[4317,1,20.3,0,0,0,16,0,0,0,0,0,0,0.5,0,0,0,12,0,0,0,0,0,0,0.5,0,0,12,8,0,12,0,0,0]
[4322,1,15,0,0,0,16,0,0,0,0,0,0,0.5,0,0,0,12,0,0,0,0,0,0,0.5,0,0,12,8,0,12,0,0,0]
[4334,1,24,3.53770776,0.33497323200000001,11.022500000000001,16,0.176885388,1.6748661600000003E-2,0.17279999999999998,8.6399999999999991E-2,-3.393936E-4,4.2637669999999999E-3,0.5,0,0,3.5890629999999999,12,0,0,0,0,5.7466300000000002E-7,5.74663E-4,0.5,0,13.427774066927999,9.7999999999999972,8,5.2521843707350016,9.7999999999999972,0.62526004413511937,0,3.1263002206755972E-2]
[4339,1,21.9,0,0.65239776000000005,7.2900450000000001,16,0,3.2619888000000007E-2,0,8.6399999999999991E-2,-1.0521199999999999E-3,8.8500340000000001E-4,0.5,0,0,0,12,0,0,0,0,0,0,0.5,0,-1.2416587170100115,4,8,9.2161117467100127,4,1.3253012680286962,0,6.6265063401434815E-2]
[4351,1,17.5,0,0.43613964,8.8610319999999998,16,0,2.1806982000000003E-2,0,8.6399999999999991E-2,-9.6945349999999996E-4,1.312101E-3,0.5,0,0,0,12,0,0,0,0,0,0,0.5,0,9.3186652189999997,12,8,0,12,0,0,0]
[4353,1,18.899999999999999,0,0,1.439038,16,0,0,0,0,-2.0703040000000002E-3,6.5131659999999997E-4,0.5,0,0,0.3955322,12,{"$f":"0.05*O4366","v":0},{"$f":"0.05*P4366","v":0},0,0,5.7466300000000002E-7,5.74663E-4,0.5,0,1.8331134604629999,12,8,0,12,0,0,0]
[4360,1,24.5,3.1129084799999998,0,11.91118,16,0.155645424,0,0.17279999999999998,0,-1.696968E-4,4.3567410000000008E-3,0.5,2.11731552,0,11.707120000000002,12,0.10586577600000001,0,0.17279999999999998,0,1.9591200000000001E-6,1.95912E-3,0.5,0,-20.886974607180001,4,8,50,4,7.9723225030084235,0,0.39861612515042122]
[4367,1,19.600000000000001,0,0,0,16,0,0,0,0,0,0,0.5,0,0,0,12,0,0,0,0,0,0,0.5,0,0,12,8,0,12,0,0,0]
[4377,1,14.9,2.7355284000000002,1.3991867999999998,0,16,0.13677642000000001,6.9959339999999995E-2,0.17279999999999998,8.6399999999999991E-2,-1.9195150000000001E-3,6.5131659999999997E-4,0.5,2.54524536,1.2178929599999999,0,12,0.12726226800000001,6.0894647999999996E-2,0.17279999999999998,8.6399999999999991E-2,5.7466300000000002E-7,5.74663E-4,0.5,0,8.2914402454630007,12,8,0,12,0,0,0]
[4388,1,17,0,0,0,16,0,0,0,0,0,0,0.5,0,0,0,12,0,0,0,0,0,0,0.5,0,-50,4,8,50,4,5.7160048134777384,0,0.28580024067388693]
[4394,1,16.100000000000001,0,0,0,16,0,0,0,0,0,0,0.5,0,0,0,12,0,0,0,0,0,0,0.5,0,0,12,8,0,12,0,0,0]
[4402,1,19.5,0,0,0,16,0,0,0,0,0,0,0.5,1.4858222400000001,0.11294755199999999,0,12,7.4291112000000006E-2,5.6473775999999996E-3,0.17279999999999998,8.6399999999999991E-2,5.7466300000000002E-7,5.74663E-4,0.5,0,1.6789961877630002,12,8,0,12,0,0,0]
[4411,1,15.1,0,0,0,16,0,0,0,0,0,0,0.5,0,0,0,12,0,0,0,0,0,0,0.5,0,0,12,8,0,12,0,0,0]
[4412,1,14.7,0,0,0,16,0,0,0,0,0,0,0.5,0,0,0,12,0,0,0,0,0,0,0.5,0,0,12,8,0,12,0,0,0]
[4420,1,13.4,0,0,0,16,0,0,0,0,0,0,0.5,0,0,0,12,0,0,0,0,0,0,0.5,0,0,12,8,0,12,0,0,0]
[4433,1,20.2,0,0,4.2685320000000004,16,0,0,0,0,-8.13542E-4,6.5131659999999997E-4,0.5,0,0,1.5981110000000001,12,0,0,0,0,5.7466300000000002E-7,5.74663E-4,0.5,0,5.8664430224630006,12,8,0,12,0,0,0]
[4437,1,17.5,0,0,0,16,0,0,0,0,0,0,0.5,0,0,0,12,0,0,0,0,0,0,0.5,0,0,12,8,0,12,0,0,0]
[4447,1,16.2,0,0,5.8704610000000006,16,0,0,0,0,2.221333E-2,6.5131659999999997E-4,0.5,0,0,0,12,0,0,0,0,0,0,0.5,0,5.8929999883000006,12,8,0,12,0,0,0]
[4454,1,21.7,0,0,6.934571,16,0,0,0,0,-7.2973359999999998E-4,6.5131659999999997E-4,0.5,0,0,2.2268509999999999,12,0,0,0,0,5.7466300000000002E-7,5.74663E-4,0.5,0,9.1613058308630002,11.64,8,0,11.64,0,0,0]
[4463,1,16.399999999999999,0,0,0,16,0,0,0,0,0,0,0.5,0,0,0,12,0,0,0,0,0,0,0.5,0,0,12,8,0,12,0,0,0]
[4470,1,14.8,0,0,0,16,0,0,0,0,0,0,0.5,0,0,0,12,0,0,0,0,0,0,0.5,0,0,12,8,0,12,0,0,0]
[4472,1,18.3,0,0,9.0299869999999984,16,0,0,0,0,-2.2739399999999999E-3,1.2194039999999999E-3,0.5,0,0,0,12,0,0,0,0,0,0,0.5,0,9.0283227619999984,12,8,0,12,0,0,0]
[4484,1,21.8,0,0,0,16,0,0,0,0,0,0,0.5,0,0,0,12,0,0,0,0,0,0,0.5,0,-27.735383211626001,4,8,27.735383211626001,4,3.9717335766347706,0,0.19858667883173853]
[4489,1,15.8,0,6.3085212000000002E-2,0,16,0,3.1542606000000001E-3,0,8.6399999999999991E-2,2.2077579999999999E-2,6.5131659999999997E-4,0.5,0.60019048799999997,0.51284232000000007,0,12,3.0009524400000001E-2,2.5642116000000006E-2,0.17279999999999998,8.6399999999999991E-2,5.7466300000000002E-7,5.74663E-4,0.5,0,1.2576150654630003,12,8,0,12,0,0,0]
[4501,1,20.399999999999999,0.84400416,1.1032761599999998,4.6239999999999997,16,4.2200208000000003E-2,5.5163807999999995E-2,0.17279999999999998,8.6399999999999991E-2,3.3315580000000002E-4,6.5131659999999997E-4,0.5,0,0,1.456904,12,0,0,0,0,5.7466300000000002E-7,5.74663E-4,0.5,0,8.1264950562629998,12,8,0,12,0,0,0]
[4506,1,16.399999999999999,0,0,7.89595,16,0,0,0,0,-2.9187880000000003E-3,8.715913E-4,0.5,0,0,2.8900380000000001,12,0,0,0,0,5.7466300000000002E-7,5.74663E-4,0.5,0,-33.611510503703002,4,8,44.395303417516004,4,4.9150035071136848,0,0.24575017535568425]
[4515,1,11.1,0.32046696000000002,0.52551359999999991,0,16,1.6023348000000003E-2,2.6275679999999996E-2,0.17279999999999998,8.6399999999999991E-2,-2.649392E-3,6.5131659999999997E-4,0.5,0.19534017599999998,0.36984023999999999,0,12,9.7670087999999992E-3,1.8492011999999999E-2,0.17279999999999998,8.6399999999999991E-2,5.7466300000000002E-7,5.74663E-4,0.5,0,1.4796831972629998,12,8,0,12,0,0,0]
[4523,1,13.8,3.09281184,0.88271460000000002,4.6201270000000001,16,0.15464059200000002,4.4135730000000005E-2,0.17279999999999998,8.6399999999999991E-2,-3.8012130000000003E-3,1.0775079999999998E-3,0.5,2.1689294399999999,0.44254763999999996,5.1674979999999993,12,0.108446472,2.2127382000000001E-2,0.17279999999999998,8.6399999999999991E-2,5.7466300000000002E-7,5.74663E-4,0.5,0,16.701004143163001,12,8,0,12,0,0,0]
[4529,1,16.3,0,1.2633749999999999,6.7309409999999996,16,0,6.3168749999999996E-2,0,8.6399999999999991E-2,-2.952727E-3,8.9899150000000009E-4,0.5,0,1.40115564,3.0991810000000002,12,0,7.0057781999999999E-2,0,8.6399999999999991E-2,5.7466300000000002E-7,5.74663E-4,0.5,0,-13.911673805130391,4,8,26.537337652043391,4,2.9219812216148862,0,0.1460990610807443]
[4532,1,13.8,0,0,0,16,0,0,0,0,0,0,0.5,0,0,0,12,0,0,0,0,0,0,0.5,0,0,12,8,0,12,0,0,0]
[4543,1,13.7,0.29441354399999997,0,0,16,1.4720677199999999E-2,0,0.17279999999999998,0,2.1364850000000001E-2,6.5131659999999997E-4,0.5,0,0,0,12,0,0,0,0,0,0,0.5,0,0.33082472949999991,12,8,0,12,0,0,0]
[4549,1,17.2,0,0,0,16,0,0,0,0,0,0,0.5,0,0,0,12,0,0,0,0,0,0,0.5,0,0,12,8,0,12,0,0,0]
[4557,1,16.3,0,0,0,16,0,0,0,0,0,0,0.5,0,0,0,12,0,0,0,0,0,0,0.5,0,0,12,8,0,12,0,0,0]
[4566,1,14.6,0,0,0,16,0,0,0,0,0,0,0.5,0,0,0,12,0,0,0,0,0,0,0.5,0,0,12,8,0,12,0,0,0]
[4574,1,20.3,0.75767183999999999,0,0,16,3.7883592000000001E-2,0,0.17279999999999998,0,7.9331719999999994E-4,6.5131659999999997E-4,0.5,1.77581952,0.25580062799999997,0,12,8.8790976000000008E-2,1.2790031399999999E-2,0.17279999999999998,8.6399999999999991E-2,5.7466300000000002E-7,5.74663E-4,0.5,0,2.9301634690629994,12,8,0,12,0,0,0]
[4583,1,17,0,0,0,16,0,0,0,0,0,0,0.5,0,0,0,12,0,0,0,0,0,0,0.5,0,0,12,8,0,12,0,0,0]
[4588,1,17.3,0,0,0,16,0,0,0,0,0,0,0.5,0,0,0,12,0,0,0,0,0,0,0.5,0,0,12,8,0,12,0,0,0]
[4592,1,19.600000000000001,0,0,3.0134150000000002,16,0,0,0,0,2.9481180000000002E-4,6.5131659999999997E-4,0.5,0,0,0,12,0,0,0,0,0,0,0.5,0,3.0140354701000001,12,8,0,12,0,0,0]
[4601,1,23.1,0,0,9.4228749999999994,16,0,0,0,0,-6.4484790000000002E-4,1.357025E-3,0.5,0,0,3.659357,12,0,0,0,0,5.7466300000000002E-7,5.74663E-4,0.5,0,13.082553570763,10.52,8,0,10.52,0,0,0]
[4611,1,17.8,0,0,0,16,0,0,0,0,0,0,0.5,0,0,0,12,0,0,0,0,0,0,0.5,0,0,12,8,0,12,0,0,0]
[4618,1,22.3,0,0,8.0009870000000003,16,0,0,0,0,-4.555111E-4,9.0157249999999996E-4,0.5,0,0,4.6328819999999995,12,0,0,0,0,5.7466300000000002E-7,5.74663E-4,0.5,0,12.634152181312999,11.16,8,0,11.16,0,0,0]
[4625,1,28.6,0,0.70324164,16.43093,16,0,3.5162082000000004E-2,0,8.6399999999999991E-2,0,6.0514710000000001E-3,0.5,0.71390066399999996,2.5286018399999999,6.392239,12,3.5695033199999997E-2,0.12643009199999999,0.17279999999999998,8.6399999999999991E-2,7.9465070000000009E-7,7.9465070000000007E-4,0.5,0,26.969624206700701,9,8,0,9,0,0,0]
[4635,1,15,0,0,0,16,0,0,0,0,0,0,0.5,0,0,0,12,0,0,0,0,0,0,0.5,0,0,12,8,0,12,0,0,0]
[4639,1,19,0,0.81097560000000002,1.6639490000000001,16,0,4.0548780000000006E-2,0,8.6399999999999991E-2,-3.9453369999999999E-4,6.5131659999999997E-4,0.5,0,0,0,12,0,0,0,0,0,0,0.5,0,2.5154045046000002,12,8,0,12,0,0,0]
[4652,1,17.2,0,0,0,16,0,0,0,0,0,0,0.5,0,0,0,12,0,0,0,0,0,0,0.5,0,0,12,8,0,12,0,0,0]
[4653,1,16.399999999999999,0,0,0,16,0,0,0,0,0,0,0.5,0,0,0,12,0,0,0,0,0,0,0.5,0,0,12,8,0,12,0,0,0]
[4661,1,12.8,0,0,0,16,0,0,0,0,0,0,0.5,0,0,0,12,0,0,0,0,0,0,0.5,0,0,12,8,0,12,0,0,0]
[4670,1,19.8,3.6839635199999994,1.7036006400000001,3.4632350000000001,16,0.18419817599999999,8.5180032000000017E-2,0.17279999999999998,8.6399999999999991E-2,-1.0379300000000001E-3,1.1601980000000001E-3,0.5,0,0,1.0700959999999999,12,0,0,0,0,5.7466300000000002E-7,5.74663E-4,0.5,0,-27.347521087349008,4,8,37.537624530512005,4,4.9237076700671594,0,0.24618538350335797]
[4678,1,15.7,0,0,0,16,0,0,0,0,0,0,0.5,0,0,0,12,0,0,0,0,0,0,0.5,0,0,12,8,0,12,0,0,0]
[4684,1,12.1,0,0,0,16,0,0,0,0,0,0,0.5,0,0,0,12,0,0,0,0,0,0,0.5,0,0,12,8,0,12,0,0,0]
[4695,1,20.9,1.2725474400000001,0,5.512683,16,6.3627372000000001E-2,0,0.17279999999999998,0,-2.9277710000000001E-4,6.5131659999999997E-4,0.5,0,0,3.1400569999999997,12,0,0,0,0,5.7466300000000002E-7,5.74663E-4,0.5,0,-40.010764400637001,4,8,50,4,6.889290012033694,0,0.34446450060168471]
[4698,1,19.899999999999999,0,0,3.6881460000000001,16,0,0,0,0,-1.2292819999999999E-3,6.5131659999999997E-4,0.5,0,0,1.1450480000000001,12,0,0,0,0,5.7466300000000002E-7,5.74663E-4,0.5,0,4.8325782824630004,12,8,0,12,0,0,0]
[4712,1,15.3,2.0271160799999999,1.1869750799999998,0,16,0.10135580399999999,5.9348753999999997E-2,0.17279999999999998,8.6399999999999991E-2,-1.233881E-3,6.5131659999999997E-4,0.5,0,9.7905707999999994E-2,0,12,0,4.8952854000000002E-3,0,8.6399999999999991E-2,5.7466300000000002E-7,5.74663E-4,0.5,0,3.4769763948629997,12,8,0,12,0,0,0]
[4719,1,17.3,1.4755586399999998,0.74654675999999998,0,16,7.3777931999999991E-2,3.7327338000000002E-2,0.17279999999999998,8.6399999999999991E-2,-1.9832880000000002E-3,6.5131659999999997E-4,0.5,1.1170756799999999,0.55919052000000002,0,12,5.5853783999999997E-2,2.7959526000000002E-2,0.17279999999999998,8.6399999999999991E-2,5.7466300000000002E-7,5.74663E-4,0.5,0,4.0919204564629998,12,8,0,12,0,0,0]
[4721,1,16.100000000000001,0,0,0,16,0,0,0,0,0,0,0.5,0,0,0,12,0,0,0,0,0,0,0.5,0,0,12,8,0,12,0,0,0]
[4729,1,14.5,0,0,0,16,0,0,0,0,0,0,0.5,0,0,0,12,0,0,0,0,0,0,0.5,0,0,12,8,0,12,0,0,0]
[4738,1,20.2,0,0,0,16,{"$f":"0.05*D4751","v":0},{"$f":"0.05*E4751","v":0},0,0,0,0,0.5,0,0,0,12,0,0,0,0,0,0,0.5,0,0,12,8,0,12,0,0,{"$f":"0.05*AF4751","v":0}]
[4747,1,23.2,0,0,0,16,0,0,0,0,0,0,0.5,0.39911032799999996,0,0,12,1.9955516399999998E-2,0,0.17279999999999998,0,5.7466300000000002E-7,5.74663E-4,0.5,0,0.41935375056299995,10.440000000000001,8,0,10.440000000000001,0,0,0]
[4752,1,18.399999999999999,0,0,0,16,0,0,0,0,0,0,0.5,0,0,0,12,0,0,0,0,0,0,0.5,0,0,12,8,0,12,0,0,0]
[4764,1,25.4,0,0,13.504760000000001,16,0,0,0,0,0,3.3374939999999999E-3,0.5,0,0.63038483999999995,5.2917120000000004,12,0,3.1519241999999996E-2,0,8.6399999999999991E-2,5.7466300000000002E-7,5.74663E-4,0.5,0,19.460332735163,9,8,0,9,0,0,0]
[4766,1,26,0.30255220799999999,0.11542982399999999,14.562100000000001,16,1.51276104E-2,5.7714911999999993E-3,0.17279999999999998,8.6399999999999991E-2,0,4.3250299999999997E-3,0.5,0,0,4.7685269999999997,12,0,0,0,0,5.7466300000000002E-7,5.74663E-4,0.5,0,0.7372549387719971,9,8,19.034703615991006,9,2.5874597113935769,0,0.12937298556967886]
[4773,1,20.399999999999999,0,0,0,16,0,0,0,0,0,0,0.5,0,0,0,12,0,0,0,0,0,0,0.5,0,0,12,8,0,12,0,0,0]
[4787,1,25.2,0.21201732000000001,0,13.15231,16,1.0600866E-2,0,0.17279999999999998,0,0,3.2514079999999999E-3,0.5,0.90016991999999985,0,12.94825,12,4.5008495999999995E-2,0,0.17279999999999998,0,1.96803E-6,1.96803E-3,0.5,0,27.270968289030002,9,8,0,9,0,0,0]
[4790,1,28.6,3.8406268799999999,1.9811210399999999,16.636209999999998,16,0.19203134399999999,9.9056052000000006E-2,0.17279999999999998,8.6399999999999991E-2,0,1.190225E-2,0.5,0,7.3691675999999998E-2,5.3318919999999999,12,0,3.6845838000000002E-3,0,8.6399999999999991E-2,5.7466300000000002E-7,5.74663E-4,0.5,0,-21.835447393037001,4,8,50,4,9.2057761732851997,0,0.46028880866426003]
[4801,1,20.3,0.137673504,0,0,16,6.8836752000000006E-3,0,0.17279999999999998,0,7.9562839999999997E-4,6.5131659999999997E-4,0.5,0.13024432799999999,0,0,12,{"$f":"0.05*O4814","v":6.5122163999999996E-3},{"$f":"0.05*P4814","v":0},0.17279999999999998,0,5.7466300000000002E-7,5.74663E-4,0.5,0,0.28272291646299996,12,8,0,12,0,0,0]
[4807,1,21.9,0,3.0689395199999998,7.2900450000000001,16,0,0.15344697600000001,0,8.6399999999999991E-2,-1.0521199999999999E-3,1.7194370000000001E-3,0.5,0,1.0763834399999999,0,12,0,5.3819171999999998E-2,0,8.6399999999999991E-2,5.7466300000000002E-7,5.74663E-4,0.5,0,11.642729612662999,11.48,8,0,11.48,0,0,0]
[4815,1,33,8.2184831999999997,3.0832124400000001,18.593509999999998,16,0.41092415999999998,0.15416062200000002,0.17279999999999998,8.6399999999999991E-2,0,2.4333649999999998E-2,0.5,7.0183799999999996,2.7519555599999999,10.451219999999999,12,0.35091899999999998,0.137597778,0.17279999999999998,8.6399999999999991E-2,5.068331E-6,5.0683309999999997E-3,0.5,0,0,9,8,50,9,8.8652482269503547,0,0.44326241134751776]
[4824,1,21.2,1.1965384799999998,0.30120832800000003,0,16,5.9826923999999997E-2,1.5060416400000002E-2,0.17279999999999998,8.6399999999999991E-2,5.219065000000001E-4,6.5131659999999997E-4,0.5,1.08504936,0.32435762400000001,0,12,5.4252467999999998E-2,1.6217881200000003E-2,0.17279999999999998,8.6399999999999991E-2,5.7466300000000002E-7,5.74663E-4,0.5,0,3.0536469525629997,12,8,0,12,0,0,0]
[4832,1,25.7,0,3.6521783999999999,14.033430000000001,16,0,0.18260892000000001,0,8.6399999999999991E-2,0,6.5501869999999998E-3,0.5,0,2.6141698799999999,0,12,0,0.13070849400000001,0,8.6399999999999991E-2,5.7466300000000002E-7,5.74663E-4,0.5,0,20.616658693662998,9,8,0,9,0,0,0]
[4833,1,26.9,1.3658176799999999,0.77236632000000005,15.89268,16,6.8290883999999996E-2,3.8618316000000007E-2,0.17279999999999998,8.6399999999999991E-2,0,6.8745539999999997E-3,0.5,0,0.131742576,5.1685799999999995,12,0,6.5871288000000005E-3,0,8.6399999999999991E-2,5.7466300000000002E-7,5.74663E-4,0.5,0,9.7039871395870101,9,8,13.744420948375993,9,1.9414400748592566,0,9.7072003742962834E-2]
[4846,1,18.600000000000001,0,0,0,16,0,0,0,0,0,0,0.5,0,0,0,12,0,0,0,0,0,0,0.5,0,0,12,8,0,12,0,0,0]
[4850,1,18.5,0,0,0,16,0,0,0,0,0,0,0.5,0,0,0,12,0,0,0,0,0,0,0.5,0,0,12,8,0,12,0,0,0]
[4860,1,22.9,0,0,9.0674039999999998,16,0,0,0,0,-4.6423090000000003E-4,1.2326939999999999E-3,0.5,2.4224810400000001,2.5994066399999998,3.5172020000000002,12,0.12112405200000001,0.12997033199999999,0.17279999999999998,8.6399999999999991E-2,5.8763900000000001E-7,5.8763900000000004E-4,0.5,0,17.858034587238997,10.68,8,0,10.68,0,0,0]
[4867,1,21.6,0,1.4705305199999998,6.7568370000000009,16,0,7.3526525999999995E-2,0,8.6399999999999991E-2,-1.153938E-3,9.6650320000000003E-4,0.5,0,2.5532917199999998,0,12,0,0.127664586,0,8.6399999999999991E-2,5.7466300000000002E-7,5.74663E-4,0.5,0,-5.6959492824699964,4,8,16.677416854232995,4,2.3681530551137104,0,0.11840765275568553]
[4874,1,17.7,0,0,0,16,0,0,0,0,0,0,0.5,0,0,0,12,0,0,0,0,0,0,0.5,0,0,12,8,0,12,0,0,0]
[4884,1,27.9,3.9399170400000001,1.8571604399999999,0,16,0.19699585200000003,9.2858021999999998E-2,0.17279999999999998,8.6399999999999991E-2,0,6.5131659999999997E-4,0.5,10.473876000000001,5.0425667999999995,0,12,0.5236938000000001,0.25212834000000001,0.17279999999999998,8.6399999999999991E-2,2.6144310000000001E-6,2.614431E-3,0.5,0,22.136732547340891,9,8,0.24409923489010765,9,3.5922405134537115E-2,0,1.7961202567268559E-3]
[4891,1,25.9,2.3864148000000003,1.1034529200000001,0,16,0.11932074000000002,5.5172646000000006E-2,0.17279999999999998,8.6399999999999991E-2,4.6840059999999999E-4,6.5131659999999997E-4,0.5,4.6051919999999997,2.17294236,0,12,0.23025960000000001,0.108647118,0.17279999999999998,8.6399999999999991E-2,5.7466300000000002E-7,5.74663E-4,0.5,0,10.782484149063,9,8,0,9,0,0,0]
[4893,1,22.6,0,0,0,16,0,0,0,0,0,0,0.5,0,0,0,12,0,0,0,0,0,0,0.5,0,0,10.919999999999998,8,0,10.919999999999998,0,0,0]
[4902,1,18.5,1.7755725600000001,0.61926119999999996,0,16,8.8778628000000012E-2,3.0963060000000001E-2,0.17279999999999998,8.6399999999999991E-2,2.2993939999999997E-2,6.5131659999999997E-4,0.5,0,0,0,12,0,0,0,0,0,0,0.5,0,2.5378950463000001,12,8,0,12,0,0,0]
[4911,1,23.8,5.6197130399999997,2.6704339199999998,0,16,0.28098565199999997,0.133521696,0.17279999999999998,8.6399999999999991E-2,-4.0727229999999997E-4,9.8527110000000005E-4,0.5,7.5015935999999996,3.56128884,0,12,0.37507968000000003,0.17806444200000002,0.17279999999999998,8.6399999999999991E-2,1.123135E-6,1.1231349999999999E-3,0.5,0,-29.678671076115002,4,8,50,4,7.7617328519855606,0,0.38808664259927805]
[4919,1,20.3,0,0,0,16,0,0,0,0,0,0,0.5,0,0,0,12,0,0,0,0,0,0,0.5,0,0,12,8,0,12,0,0,0]
[4928,1,19.3,0,0,2.3386799999999996,16,0,0,0,0,1.929937E-4,6.5131659999999997E-4,0.5,0,0,0,12,0,0,0,0,0,0,0.5,0,2.3391986519999994,12,8,0,12,0,0,0]
[4936,1,23.6,1.05252192,0,10.31156,16,5.2626096000000004E-2,0,0.17279999999999998,0,-4.7515109999999997E-4,2.1676730000000002E-3,0.5,0,0,10.10749,12,0,0,0,0,8.9583860000000001E-7,8.9583860000000003E-4,0.5,0,21.283639836176008,10.119999999999997,8,0.2416156803625924,10.119999999999997,2.7707176306061631E-2,0,1.3853588153030817E-3]
[4942,1,17.399999999999999,0,0,0,16,0,0,0,0,0,0,0.5,0,0,0,12,0,0,0,0,0,0,0.5,0,0,12,8,0,12,0,0,0]
[4953,1,20.5,0,0,4.8017370000000001,16,0,0,0,0,-1.0165390000000001E-4,6.5131659999999997E-4,0.5,0,0,1.516132,12,0,0,0,0,5.7466300000000002E-7,5.74663E-4,0.5,0,6.3183809105630004,12,8,0,12,0,0,0]
[4956,1,24.8,0,0,12.44439,16,0,0,0,0,-6.7878719999999999E-5,2.720391E-3,0.5,1.2785687999999999,1.7233685999999999,4.8676750000000002,12,6.3928440000000003E-2,8.6168430000000004E-2,0.17279999999999998,8.6399999999999991E-2,5.7466300000000002E-7,5.74663E-4,0.5,0,20.465679492943,9.1599999999999966,8,0,9.1599999999999966,0,0,0]
[4962,1,26.1,0,0,14.73832,16,0,0,0,0,0,4.1526339999999997E-3,0.5,1.3239734399999998,1.9998864000000001,4.8272459999999997,12,6.6198672E-2,9.9994320000000012E-2,0.17279999999999998,8.6399999999999991E-2,5.7466300000000002E-7,5.74663E-4,0.5,0,-26.942016944837,4,8,50,4,8.4536702767749716,0,0.42268351383874858]
[4970,1,18.899999999999999,4.2714892799999999,2.3514321599999999,0,16,0.21357446400000002,0.11757160799999999,0.17279999999999998,8.6399999999999991E-2,-2.0703040000000002E-3,6.5131659999999997E-4,0.5,4.1413363199999997,2.2585723199999999,0,12,0.20706681599999999,0.112928616,0.17279999999999998,8.6399999999999991E-2,5.7466300000000002E-7,5.74663E-4,0.5,0,13.672514844462999,12,8,0,12,0,0,0]
[4979,1,18.3,0,0,10.077159999999999,16,0,0,0,0,1.315945E-4,1.605324E-3,0.5,0,0,9.9562600000000003,12,0,0,0,0,8.6295449999999995E-7,8.6295449999999993E-4,0.5,0,-2.0500251511259933,4,8,22.084811747830493,4,2.6974830233511375,0,0.13487415116755688]
[4987,1,19.899999999999999,0,1.2683714399999999,3.6881460000000001,16,0,6.3418571999999993E-2,0,8.6399999999999991E-2,-4.0060200000000001E-4,6.5131659999999997E-4,0.5,0,2.8446271199999997,0,12,0,0.142231356,0,8.6399999999999991E-2,5.7466300000000002E-7,5.74663E-4,0.5,0,8.007007450463,12,8,0,12,0,0,0]
[4996,1,16,0,0,0,16,0,0,0,0,0,0,0.5,0,0,0,12,0,0,0,0,0,0,0.5,0,0,12,8,0,12,0,0,0]
[5001,1,18.899999999999999,0,0,1.439038,16,0,0,0,0,-2.0703040000000002E-3,6.5131659999999997E-4,0.5,0,0,0.3955322,12,0,0,0,0,5.7466300000000002E-7,5.74663E-4,0.5,0,1.8331134604629999,12,8,0,12,0,0,0]
[5013,1,16.8,0,0,0,16,0,0,0,0,0,0,0.5,0,0,0,12,0,0,0,0,0,0,0.5,0,0,12,8,0,12,0,0,0]
[5015,1,16,0,0,0,16,0,0,0,0,0,0,0.5,0,0,0,12,0,0,0,0,0,0,0.5,0,0,12,8,0,12,0,0,0]
[5022,1,15.8,0,0,0,16,0,0,0,0,0,0,0.5,0,0,0,12,0,0,0,0,0,0,0.5,0,0,12,8,0,12,0,0,0]
[5029,1,23.4,0,0,9.9560840000000006,16,0,0,0,0,-5.4302980000000005E-4,1.557276E-3,0.5,0,0,3.2337020000000001,12,0,0,0,0,5.7466300000000002E-7,5.74663E-4,0.5,0,13.190309514363001,10.280000000000001,8,0,10.280000000000001,0,0,0]
[5039,1,17.399999999999999,0,0,0,16,0,0,0,0,0,0,0.5,0,0,0,12,0,0,0,0,0,0,0.5,0,0,12,8,0,12,0,0,0]
[5048,1,20.2,1.9705788000000002,0.7558196399999999,0,16,9.8528940000000009E-2,3.7790982000000001E-2,0.17279999999999998,8.6399999999999991E-2,1.0980719999999999E-3,6.5131659999999997E-4,0.5,0,0,0,12,0,0,0,0,0,0,0.5,0,2.8641420923000003,12,8,0,12,0,0,0]
[5052,1,25,0.275334048,2.5361733599999998E-2,0,16,1.3766702400000001E-2,1.26808668E-3,0.17279999999999998,8.6399999999999991E-2,1.853073E-3,6.5131659999999997E-4,0.5,4.8617323199999998,2.09007108,0,12,0.24308661600000001,0.104503554,0.17279999999999998,8.6399999999999991E-2,5.7466300000000002E-7,5.74663E-4,0.5,0,7.6175907781429997,9,8,0,9,0,0,0]
[5065,1,15.7,3.7255492800000001,2.27773476,0,16,0.186277464,0.113886738,0.17279999999999998,8.6399999999999991E-2,2.204364E-2,6.5131659999999997E-4,0.5,3.6642585600000004,2.1580088399999999,0,12,0.18321292800000002,0.107900442,0.17279999999999998,8.6399999999999991E-2,5.7466300000000002E-7,5.74663E-4,0.5,0,12.439486216462999,12,8,0,12,0,0,0]
[5073,1,15.8,2.5111519200000001,1.2482762399999998,0,16,0.12555759600000002,6.2413811999999992E-2,0.17279999999999998,8.6399999999999991E-2,-8.6397969999999998E-4,6.5131659999999997E-4,0.5,2.17982232,1.0550682,0,12,0.108991116,5.2753410000000001E-2,0.17279999999999998,8.6399999999999991E-2,5.7466300000000002E-7,5.74663E-4,0.5,0,7.3437841987630001,12,8,0,12,0,0,0]
[5074,1,16.399999999999999,2.71532448,1.3320432,0,16,0.13576622400000002,6.6602160000000007E-2,0.17279999999999998,8.6399999999999991E-2,-1.616901E-3,6.5131659999999997E-4,0.5,2.4206291999999996,1.1603188799999999,0,12,0.12103145999999998,5.8015944E-2,0.17279999999999998,8.6399999999999991E-2,5.7466300000000002E-7,5.74663E-4,0.5,0,8.0087282114630014,12,8,0,12,0,0,0]
[5083,1,18.3,0.317310912,6.4481003999999995E-2,0,16,1.5865545599999999E-2,3.2240502000000001E-3,0.17279999999999998,8.6399999999999991E-2,-3.9363779999999996E-4,6.5131659999999997E-4,0.5,1.5393585599999999,0.66799655999999996,0,12,7.6967928000000005E-2,3.3399827999999999E-2,0.17279999999999998,8.6399999999999991E-2,5.7466300000000002E-7,5.74663E-4,0.5,0,-14.651352727825994,4,8,17.370177042288994,4,2.1216281224937825,0,0.10608140612468914]
[5091,1,16.3,0,0,0,16,0,0,0,0,0,0,0.5,0,0,0,12,0,0,0,0,0,0,0.5,0,0,12,8,0,12,0,0,0]
[5097,1,18.8,0,0,1.214126,16,0,0,0,0,-2.104243E-3,6.5131659999999997E-4,0.5,0,0,0.3205808,12,0,0,0,0,5.7466300000000002E-7,5.74663E-4,0.5,0,1.533216121463,12,8,0,12,0,0,0]
[5108,1,17.3,0,0,0,16,0,0,0,0,0,0,0.5,0,0,0,12,0,0,0,0,0,0,0.5,0,-50,4,8,50,4,5.8062575210589662,0,0.29031287605294831]
[5118,1,14.9,0,0,0,16,0,0,0,0,0,0,0.5,0,0,0,12,0,0,0,0,0,0,0.5,0,0,12,8,0,12,0,0,0]
[5125,1,17.7,0,0,7.8852820000000001,16,0,0,0,0,-2.477576E-3,8.6877099999999995E-4,0.5,0,0,2.9583550000000001,12,0,0,0,0,5.7466300000000002E-7,5.74663E-4,0.5,0,10.841881715663,12,8,0,12,0,0,0]
[5132,1,15.1,0,0,0,16,0,0,0,0,0,0,0.5,0,0,0,12,0,0,0,0,0,0,0.5,0,0,12,8,0,12,0,0,0]
[5134,1,14.8,0,0,0,16,0,0,0,0,0,0,0.5,0,0,0,12,0,0,0,0,0,0,0.5,0,0,12,8,0,12,0,0,0]
[5142,1,15,0,0,0,16,0,0,0,0,0,0,0.5,0,0,0,12,0,0,0,0,0,0,0.5,0,0,12,8,0,12,0,0,0]
[5151,1,16.899999999999999,0,0,7.0458280000000002,16,0,0,0,0,-2.5861589999999998E-3,6.5559400000000001E-4,0.5,0,0,4.5833389999999996,12,0,0,0,0,5.7466300000000002E-7,5.74663E-4,0.5,0,11.627196544162999,12,8,0,12,0,0,0]
[5163,1,16.600000000000001,0,0,0,16,0,0,0,0,0,0,0.5,0,0,0,12,0,0,0,0,0,0,0.5,0,0,12,8,0,12,0,0,0]
[5168,1,17.7,0,0,6.5274300000000007,16,0,0,0,0,-1.883724E-3,6.5131659999999997E-4,0.5,0,0,0,12,0,0,0,0,0,0,0.5,0,6.5258719343000013,12,8,0,12,0,0,0]
[5177,1,19.8,0,0,3.4632350000000001,16,0,0,0,0,-5.2435909999999999E-4,6.5131659999999997E-4,0.5,0,0,1.2760590000000001,12,0,0,0,0,5.7466300000000002E-7,5.74663E-4,0.5,0,4.7393832053630005,12,8,0,12,0,0,0]
[5185,1,16.399999999999999,0,0,0,16,0,0,0,0,0,0,0.5,0,0,0,12,{"$f":"0.05*O5198","v":0},{"$f":"0.05*P5198","v":0},0,0,0,0,0.5,0,0,12,8,0,12,0,0,0]
[5194,1,19.399999999999999,0,0,2.5635920000000003,16,0,0,0,0,5.9552900000000002E-4,6.5131659999999997E-4,0.5,0,0,1.370771,12,0,0,0,0,5.7466300000000002E-7,5.74663E-4,0.5,0,3.9355720934630005,12,8,0,12,0,0,0]
[5200,1,23.4,0,0,9.9560840000000006,16,0,0,0,0,-5.4302980000000005E-4,1.557276E-3,0.5,0,0,9.7520190000000007,12,0,0,0,0,8.1922769999999993E-7,8.1922769999999998E-4,0.5,0,-26.487758932525992,4,8,46.196507973803691,4,7.0601161404008046,0,0.35300580702004025]
[5203,1,20.8,0,0,5.3349449999999994,16,0,0,0,0,-1.4254560000000001E-3,6.5131659999999997E-4,0.5,0,0,0,12,0,0,0,0,0,0,0.5,0,5.3338452023,12,8,0,12,0,0,0]
[5214,1,13.1,0,0,0,16,0,0,0,0,0,0,0.5,0,0,0,12,0,0,0,0,0,0,0.5,0,0,12,8,0,12,0,0,0]
[5220,1,22.9,0,0,0,16,0,0,0,0,0,0,0.5,0,0,0,12,0,0,0,0,0,0,0.5,0,0,10.68,8,0,10.68,0,0,0]
[5228,1,19.3,0,0,0,16,0,0,0,0,0,0,0.5,0,0,0,12,0,0,0,0,0,0,0.5,0,0,12,8,0,12,0,0,0]
[5237,1,13.1,0,0,0,16,0,0,0,0,0,0,0.5,0,0,0,12,0,0,0,0,0,0,0.5,0,0,12,8,0,12,0,0,0]
[5245,1,26.2,4.3804151999999998,1.4663761200000001,0,16,0.21902076000000001,7.3318806E-2,0.17279999999999998,8.6399999999999991E-2,2.52E-2,6.5131659999999997E-4,0.5,0,0,0,12,0,0,0,0,0,0,0.5,0,6.1646565442999997,9,8,0,9,0,0,0]
[5254,1,18.5,0,0,0,16,0,0,0,0,0,0,0.5,0,0,0,12,0,0,0,0,0,0,0.5,0,0,12,8,0,12,0,0,0]
[5259,1,15.6,0,0,0,16,0,0,0,0,0,0,0.5,0,0,0,12,0,0,0,0,0,0,0.5,0,0,12,8,0,12,0,0,0]
[5263,1,17.8,0,1.04195664,9.0641970000000001,16,0,5.2097832000000004E-2,0,8.6399999999999991E-2,2.275636E-2,1.6259619999999999E-3,0.5,0,0,0,12,0,0,0,0,0,0,0.5,0,1.4203704074711183,12,8,8.7614504055288815,12,0.60459131453357196,0,3.0229565726678599E-2]
[5273,1,28.6,0,1.56713148,16.58933,16,0,7.8356574000000012E-2,0,8.6399999999999991E-2,0,6.9948990000000006E-3,0.5,3.5089221599999998E-2,2.0493935999999997,6.392239,12,1.75446108E-3,0.10246967999999999,0.17279999999999998,8.6399999999999991E-2,5.7704619999999992E-7,5.7704619999999996E-4,0.5,0,-23.1804494336738,4,8,50,4,9.2057761732851997,0,0.46028880866426003]
[5280,1,19.399999999999999,0,0,0,16,0,0,0,0,0,0,0.5,0,0,0,12,0,0,0,0,0,0,0.5,0,0,12,8,0,12,0,0,0]
[5287,1,20.3,0,2.8176825599999997,4.4462659999999996,16,0,0.140884128,0,8.6399999999999991E-2,1.5483000000000001E-4,7.082042E-4,0.5,0,0,0,12,0,0,0,0,0,0,0.5,0,7.4053416200999989,12,8,0,12,0,0,0]
[5297,1,31.3,1.6274426399999997,2.8680263999999998,17.844549999999998,16,8.1372131999999986E-2,0.14340132,0.17279999999999998,8.6399999999999991E-2,0,1.1746600000000001E-2,0.5,3.4411435199999993,4.033836,6.711741,12,0.17205717599999998,0.2016918,0.17279999999999998,8.6399999999999991E-2,2.0899200000000002E-6,2.0899200000000003E-3,0.5,0,-12.86781766208,4,8,50,4,10.018050541516246,0,0.50090252707581229]
[5304,1,20.3,0.70917443999999996,9.7675523999999986E-2,0,16,3.5458721999999998E-2,4.8837761999999995E-3,0.17279999999999998,8.6399999999999991E-2,6.122476E-4,6.5131659999999997E-4,0.5,0.43406121600000003,6.4391759999999992E-2,0,12,2.1703060800000003E-2,3.2195879999999998E-3,0.17279999999999998,8.6399999999999991E-2,5.7466300000000002E-7,5.74663E-4,0.5,0,1.3717938990629999,12,8,0,12,0,0,0]
[5314,1,25.9,3.3130663199999995,0.6108904799999999,14.385879999999998,16,{"$f":"0.05*D5327","v":0.16565331599999999},{"$f":"0.05*E5327","v":3.0544523999999997E-2},0.17279999999999998,8.6399999999999991E-2,0,7.143557E-3,0.5,1.7650944,0.35443724399999998,8.4633950000000002,12,8.8254720000000009E-2,1.7721862200000001E-2,0.17279999999999998,8.6399999999999991E-2,1.005265E-6,1.005265E-3,0.5,0,26.140269587046017,9,8,3.0587436954189791,9,0.4139789044036325,0,{"$f":"0.05*AF5327","v":2.0698945220181626E-2}]
[5318,1,31.7,4.8451608000000004,2.1932452800000002,18.020779999999998,16,0.24225804000000004,0.10966226400000001,0.17279999999999998,8.6399999999999991E-2,0,1.5653840000000002E-2,0.5,2.84543064,1.6176340799999998,5.6296970000000002,12,0.14227153200000001,8.0881703999999999E-2,0.17279999999999998,8.6399999999999991E-2,8.9270840000000002E-7,8.9270840000000001E-4,0.5,0,-14.2647044930916,4,8,50,4,10.138387484957883,0,0.50691937424789424]
[5323,1,26.4,0,2.64238668,14.716040000000001,16,0,0.132119334,0,8.6399999999999991E-2,0,6.2514329999999998E-3,0.5,0,2.8625867999999999,0,12,0,0.14312933999999999,0,8.6399999999999991E-2,5.7466300000000002E-7,5.74663E-4,0.5,0,20.499675776663004,9,8,0,9,0,0,0]
[5332,1,19.2,0,0,0,16,0,0,0,0,0,0,0.5,0,0,0,12,0,0,0,0,0,0,0.5,0,0,12,8,0,12,0,0,0]
[5341,1,32.4,4.6833213599999999,2.7975661199999999,18.31296,16,0.234166068,0.13987830600000001,0.17279999999999998,8.6399999999999991E-2,0,1.6826509999999999E-2,0.5,0,0.83034971999999996,5.6969409999999998,12,0,4.1517485999999999E-2,0,8.6399999999999991E-2,5.7466300000000002E-7,5.74663E-4,0.5,0,-17.254598778837,4,8,50,4,10.348977135980746,0,0.51744885679903729]
[5349,1,23.8,3.2044881599999999,1.28756844,0,16,0.16022440800000001,6.4378422000000005E-2,0.17279999999999998,8.6399999999999991E-2,-1.5619849999999999E-5,6.5131659999999997E-4,0.5,2.9633133600000003,1.3079534399999999,0,12,0.14816566800000003,6.5397672000000004E-2,0.17279999999999998,8.6399999999999991E-2,5.7466300000000002E-7,5.74663E-4,0.5,0,9.2020875146129999,9.9599999999999973,8,0,9.9599999999999973,0,0,0]
[5355,1,20.100000000000001,0,0,0,16,0,0,0,0,0,0,0.5,0,0,0,12,0,0,0,0,0,0,0.5,0,0,12,8,0,12,0,0,0]
[5366,1,33,6.7407083999999999,3.1739511599999997,18.593509999999998,16,0.33703542000000003,0.15869755799999999,0.17279999999999998,8.6399999999999991E-2,0,2.160861E-2,0.5,2.6725730400000001,1.5063839999999999,5.7545820000000001,12,0.13362865200000001,7.5319200000000003E-2,0.17279999999999998,8.6399999999999991E-2,8.5784550000000006E-7,8.5784550000000005E-4,0.5,0,-10.842376484404497,4,8,50,4,10.529482551143202,0,0.52647412755716017]
[5369,1,28.3,0,1.6006571999999999,16.40662,16,0,8.0032859999999997E-2,0,8.6399999999999991E-2,0,6.8520940000000004E-3,0.5,0,1.7440891199999999,6.3567389999999993,12,0,8.7204456E-2,0,8.6399999999999991E-2,5.7466300000000002E-7,5.74663E-4,0.5,0,-23.720943410837002,4,8,50,4,9.115523465703971,0,0.45577617328519859]
[5375,1,23.1,1.8929066399999999,0.63161676,0,16,9.4645331999999999E-2,3.1580838E-2,0.17279999999999998,8.6399999999999991E-2,1.005749E-3,6.5131659999999997E-4,0.5,1.6044156000000001,0.62790480000000004,0,12,8.0220780000000005E-2,3.1395240000000005E-2,0.17279999999999998,8.6399999999999991E-2,5.7466300000000002E-7,5.74663E-4,0.5,0,4.9963053034629992,10.52,8,0,10.52,0,0,0]
[5383,1,20.8,0,0,0,16,0,0,0,0,0,0,0.5,0,0,0,12,0,0,0,0,0,0,0.5,0,0,12,8,0,12,0,0,0]
[5392,1,24.9,5.2137604800000004,2.4521317200000001,0,16,0.26068802400000002,0.12260658600000002,0.17279999999999998,8.6399999999999991E-2,-3.393936E-5,8.1022449999999997E-4,0.5,6.4695268800000001,3.0940563600000002,0,12,0.32347634400000003,0.15470281800000002,0.17279999999999998,8.6399999999999991E-2,7.8005890000000004E-7,7.8005890000000001E-4,0.5,0,18.091711194398897,9.0799999999999983,8,0,9.0799999999999983,0,0,0]
[5400,1,19.899999999999999,0,0,0,16,0,0,0,0,0,0,0.5,0,0,0,12,0,0,0,0,0,0,0.5,0,0,12,8,0,12,0,0,0]
[5409,1,19.3,3.4944976799999994,1.4683967999999998,0,16,0.17472488399999997,7.341984E-2,0.17279999999999998,8.6399999999999991E-2,-9.4863319999999998E-5,6.5131659999999997E-4,0.5,2.0191895999999998,0.64965815999999998,0,12,0.10095947999999999,3.2482907999999998E-2,0.17279999999999998,8.6399999999999991E-2,5.7466300000000002E-7,5.74663E-4,0.5,0,8.0138480531429988,12,8,0,12,0,0,0]
[5414,1,24.8,6.6482798399999998,3.1519443600000003,0,16,0.33241399199999999,0.15759721800000004,0.17279999999999998,8.6399999999999991E-2,-6.7878719999999999E-5,1.497221E-3,0.5,4.5926762399999994,2.0939108399999999,0,12,0.22963381199999999,0.104695542,0.17279999999999998,8.6399999999999991E-2,5.7466300000000002E-7,5.74663E-4,0.5,0,4.2389148923238071,9.1599999999999966,8,13.073205589619191,9.1599999999999966,1.6710623343691486,0,8.3553116718457443E-2]
[5426,1,15.8,0,0,0,16,0,0,0,0,0,0,0.5,0,0,0,12,0,0,0,0,0,0,0.5,0,0,12,8,0,12,0,0,0]
[5428,1,14.6,0,0,0,16,0,0,0,0,0,0,0.5,0,0,0,12,0,0,0,0,0,0,0.5,0,0,12,8,0,12,0,0,0]
[5435,1,23.4,0,0,9.9560840000000006,16,0,0,0,0,-5.4302980000000005E-4,1.557276E-3,0.5,0,0,9.7520190000000007,12,0,0,0,0,8.1932749999999995E-7,8.1932749999999996E-4,0.5,0,19.708749091277504,10.280000000000001,8,0,10.280000000000001,0,0,0]
[5449,1,17.600000000000001,0,0,0,16,0,0,0,0,0,0,0.5,0,0,0,12,0,0,0,0,0,0,0.5,0,0,12,8,0,12,0,0,0]
[5452,1,16.7,0,0,0,16,0,0,0,0,0,0,0.5,0,0,0,12,0,0,0,0,0,0,0.5,0,0,12,8,0,12,0,0,0]
[5459,1,26.5,1.50915456,0,15.44322,16,7.5457728000000002E-2,0,0.17279999999999998,0,0,5.8922340000000005E-3,0.5,3.03162624,0,14.97106,12,0.15158131200000002,0,0.17279999999999998,0,3.7907520000000001E-6,3.7907520000000001E-3,0.5,0,35.186945123751997,9,8,0,9,0,0,0]
[5469,1,21.6,1.8216806399999999,0.80292600000000003,0,16,9.1084031999999995E-2,4.0146300000000003E-2,0.17279999999999998,8.6399999999999991E-2,7.0152480000000008E-5,6.5131659999999997E-4,0.5,1.6634692799999999,0.79024679999999992,0,12,8.3173464000000003E-2,3.951234E-2,0.17279999999999998,8.6399999999999991E-2,5.7466300000000002E-7,5.74663E-4,0.5,0,5.3329225729429997,11.719999999999999,8,0,11.719999999999999,0,0,0]
[5478,1,17.100000000000001,1.26324288,0.36611999999999995,0,16,6.3162144000000003E-2,1.8305999999999999E-2,0.17279999999999998,8.6399999999999991E-2,2.251879E-2,6.5131659999999997E-4,0.5,0,0,0,12,0,0,0,0,0,0,0.5,0,1.7336754722999999,12,8,0,12,0,0,0]
[5486,1,29.6,4.4202491999999998,2.0274652799999999,17.095599999999997,16,0.22101245999999999,0.101373264,0.17279999999999998,8.6399999999999991E-2,0,1.339284E-2,0.5,1.5593738399999999,1.1067998400000001,5.4279579999999994,12,7.7968692000000006E-2,5.5339992000000005E-2,0.17279999999999998,8.6399999999999991E-2,5.7466300000000002E-7,5.74663E-4,0.5,0,-17.899875105836998,4,8,50,4,9.5066185318892913,0,0.47533092659446458]
[5495,1,20.6,0.90864504000000001,0.25715930399999998,0,16,4.5432252000000006E-2,1.28579652E-2,0.17279999999999998,8.6399999999999991E-2,5.5864700000000001E-4,6.5131659999999997E-4,0.5,0.57924180000000003,0.29281071599999997,0,12,2.8962090000000003E-2,1.46405358E-2,0.17279999999999998,8.6399999999999991E-2,5.7466300000000002E-7,5.74663E-4,0.5,0,2.1409219144630001,12,8,0,12,0,0,0]
[5496,1,20.8,0.68626346400000005,0.14940140399999999,0,16,3.4313173200000005E-2,7.4700701999999997E-3,0.17279999999999998,8.6399999999999991E-2,9.0964699999999997E-4,6.5131659999999997E-4,0.5,0.39758997599999996,0.180420948,0,12,1.9879498799999999E-2,9.0210474000000009E-3,0.17279999999999998,8.6399999999999991E-2,5.7466300000000002E-7,5.74663E-4,0.5,0,1.4858827930629999,12,8,0,12,0,0,0]
[5504,1,19.899999999999999,0,1.11640104,3.6881460000000001,16,0,5.5820052000000002E-2,0,8.6399999999999991E-2,2.67679E-4,6.5131659999999997E-4,0.5,0,1.1222539199999999,0,12,0,5.6112695999999997E-2,0,8.6399999999999991E-2,5.7466300000000002E-7,5.74663E-4,0.5,0,6.0396149514630011,12,8,0,12,0,0,0]
[5517,1,18.399999999999999,0.22349865599999999,9.795765599999999E-2,0,16,1.1174932800000001E-2,4.8978827999999995E-3,0.17279999999999998,8.6399999999999991E-2,1.750481E-4,6.5131659999999997E-4,0.5,0,0,0,12,0,0,0,0,0,0,0.5,0,0.33802983399999992,12,8,0,12,0,0,0]
[5521,1,18.100000000000001,0,0,0,16,0,0,0,0,0,0,0.5,0,0,0,12,0,0,0,0,0,0,0.5,0,0,12,8,0,12,0,0,0]
[5531,1,22.9,0,0,9.0674039999999998,16,0,0,0,0,-7.1272659999999999E-4,1.2326100000000001E-3,0.5,0,0,8.8633389999999999,12,0,0,0,0,6.4531050000000007E-7,6.4531050000000002E-4,0.5,0,17.9309698789605,10.68,8,0,10.68,0,0,0]
[5538,1,24.3,0,0,11.555709999999999,16,0,0,0,0,-2.375755E-4,2.2603339999999997E-3,0.5,0,0,3.7667410000000001,12,0,0,0,0,5.7466300000000002E-7,5.74663E-4,0.5,0,15.323631497662999,9.5599999999999987,8,0,9.5599999999999987,0,0,0]
[5545,1,16.7,0,0,0,16,0,0,0,0,0,0,0.5,0,0,0,12,0,0,0,0,0,0,0.5,0,0,12,8,0,12,0,0,0]
[5555,1,24,2.3662699200000001,1.15660944,0,16,0.11831349600000002,5.7830472000000001E-2,0.17279999999999998,8.6399999999999991E-2,6.988144E-4,6.5131659999999997E-4,0.5,5.3202664799999999,2.5072455599999999,0,12,0.266013324,0.12536227799999999,0.17279999999999998,8.6399999999999991E-2,5.7466300000000002E-7,5.74663E-4,0.5,0,11.919223348863,9.7999999999999972,8,0,9.7999999999999972,0,0,0]
[5562,1,24,1.053774,0.48276468,0,16,5.2688700000000005E-2,2.4138234000000001E-2,0.17279999999999998,8.6399999999999991E-2,9.1205820000000006E-4,6.5131659999999997E-4,0.5,0.77743943999999998,0.30374809199999997,0,12,3.8871972000000005E-2,1.5187404599999999E-2,0.17279999999999998,8.6399999999999991E-2,5.7466300000000002E-7,5.74663E-4,0.5,0,2.750138145263,9.7999999999999972,8,0,9.7999999999999972,0,0,0]
[5564,1,22.1,0,0,0,16,0,0,0,0,0,0,0.5,0,0,0,12,0,0,0,0,0,0,0.5,0,0,11.319999999999997,8,0,11.319999999999997,0,0,0]
[5576,1,19.600000000000001,0.42650215199999997,3.8376863999999997E-2,0,16,2.13251076E-2,1.9188432E-3,0.17279999999999998,8.6399999999999991E-2,2.3367270000000002E-2,6.5131659999999997E-4,0.5,0,0,0,12,0,0,0,0,0,0,0.5,0,0.51181589510000003,12,8,0,12,0,0,0]
[5581,1,19.899999999999999,1.8409802399999999,0.79842096000000007,0,16,9.2049012E-2,3.9921048000000008E-2,0.17279999999999998,8.6399999999999991E-2,5.5974580000000003E-5,6.5131659999999997E-4,0.5,1.4964854399999998,0.59026283999999996,0,12,7.4824271999999997E-2,2.9513141999999999E-2,0.17279999999999998,8.6399999999999991E-2,5.7466300000000002E-7,5.74663E-4,0.5,0,4.9631264930429992,12,8,0,12,0,0,0]
[5590,1,15.7,0,0,0,16,0,0,0,0,0,0,0.5,0,0,0,12,0,0,0,0,0,0,0.5,0,0,12,8,0,12,0,0,0]
[5598,1,15.5,0,0,0,16,0,0,0,0,0,0,0.5,0,0,0,12,0,0,0,0,0,0,0.5,0,0,12,8,0,12,0,0,0]
[5604,1,19.399999999999999,0,0.78955523999999999,2.5635920000000003,16,0,3.9477762E-2,0,8.6399999999999991E-2,-1.9006069999999999E-3,6.5131659999999997E-4,0.5,0,0.32424465600000002,0.91626859999999999,12,0,1.62122328E-2,0,8.6399999999999991E-2,5.7466300000000002E-7,5.74663E-4,0.5,0,4.6480634482630006,12,8,0,12,0,0,0]
[5615,1,16.7,0,0,0,16,0,0,0,0,0,0,0.5,0,0,0,12,0,0,0,0,0,0,0.5,0,0,12,8,0,12,0,0,0]
[5616,1,17.399999999999999,0,0,0,16,0,0,0,0,0,0,0.5,0,0,0,12,0,0,0,0,0,0,0.5,0,0,12,8,0,12,0,0,0]
[5627,1,17.399999999999999,0,0,8.7111809999999998,16,0,0,0,0,-2.579394E-3,1.114486E-3,0.5,0,0,8.5916879999999995,12,0,0,0,0,5.9666179999999996E-7,5.9666180000000001E-4,0.5,0,17.3011457765618,12,8,0,12,0,0,0]
[5633,1,20.8,0,0,5.3349449999999994,16,0,0,0,0,-1.1767049999999999E-3,6.5131659999999997E-4,0.5,0,0,2.0245739999999999,12,{"$f":"0.05*O5646","v":0},{"$f":"0.05*P5646","v":0},0,0,5.7466300000000002E-7,5.74663E-4,0.5,0,-42.641044140536998,4,8,50,4,6.8592057761732859,0,0.3429602888086643]
[5641,1,13.7,0,0,0,16,0,0,0,0,0,0,0.5,0,0,0,12,0,0,0,0,0,0,0.5,0,0,12,8,0,12,0,0,0]
[5650,1,18.7,0,0,0.98921479999999995,16,0,0,0,0,-2.0999590000000002E-3,6.5131659999999997E-4,0.5,0,0,0.42622409999999999,12,0,0,0,0,5.7466300000000002E-7,5.74663E-4,0.5,0,1.413952505463,12,8,0,12,0,0,0]
[5658,1,15.1,0,0,5.5731520000000003,16,0,0,0,0,-2.7575400000000002E-3,6.5131659999999997E-4,0.5,0,0,2.3593660000000001,12,0,0,0,0,5.7466300000000002E-7,5.74663E-4,0.5,0,7.930374024463001,12,8,0,12,0,0,0]
[5667,1,13.4,0,0,0,16,0,0,0,0,0,0,0.5,0,0,0,12,0,0,0,0,0,0,0.5,0,0,12,8,0,12,0,0,0]
[5672,1,15.7,0,0,5.7285389999999996,16,0,0,0,0,-1.7232209999999998E-3,6.5131659999999997E-4,0.5,0,0,0,12,0,0,0,0,0,0,0.5,0,-44.272858562700002,4,8,50,4,5.3249097472924189,0,0.26624548736462095]
[5676,1,18.100000000000001,0,0,8.9130789999999998,16,0,0,0,0,-2.3418190000000002E-3,1.1802870000000001E-3,0.5,0,0,3.9753380000000003,12,0,0,0,0,5.7466300000000002E-7,5.74663E-4,0.5,0,12.886953230663,12,8,0,12,0,0,0]
[5686,1,13.8,0,0,0,16,0,0,0,0,0,0,0.5,0,0,0,12,0,0,0,0,0,0,0.5,0,0,12,8,0,12,0,0,0]
[5693,1,10.1,0,0,0,16,0,0,0,0,0,0,0.5,0,0,0,12,0,0,0,0,0,0,0.5,0,0,12,8,0,12,0,0,0]
[5700,1,21.3,0,0,6.2236279999999997,16,0,0,0,0,7.4885559999999997E-5,6.5131659999999997E-4,0.5,0,0,2.3799619999999999,12,0,0,0,0,5.7466300000000002E-7,5.74663E-4,0.5,0,-41.395721549976997,4,8,50,4,7.0096269554753317,0,0.3504813477737666]
[5710,1,14.9,0,0,0,16,0,0,0,0,0,0,0.5,0,0,0,12,0,0,0,0,0,0,0.5,0,0,12,8,0,12,0,0,0]
[5717,1,14.3,0,0,0,16,0,0,0,0,0,0,0.5,0,0,0,12,0,0,0,0,0,0,0.5,0,0,12,8,0,12,0,0,0]
[5727,1,13.7,0,0,0,16,0,0,0,0,0,0,0.5,0,0,0,12,0,0,0,0,0,0,0.5,0,0,12,8,0,12,0,0,0]
[5731,1,13.1,0,0,0,16,0,0,0,0,0,0,0.5,0,0,0,12,0,0,0,0,0,0,0.5,0,0,12,8,0,12,0,0,0]
[5736,1,11.4,0,0,0,16,0,0,0,0,0,0,0.5,0,0,0,12,0,0,0,0,0,0,0.5,0,0,12,8,0,12,0,0,0]
[5745,1,12.5,0,0,0,16,0,0,0,0,0,0,0.5,0,0,0,12,0,0,0,0,0,0,0.5,0,0,12,8,0,12,0,0,0]
[5753,1,16.100000000000001,0,0,0,16,0,0,0,0,0,0,0.5,0,0,0,12,0,0,0,0,0,0,0.5,0,0,12,8,0,12,0,0,0]
[5762,1,11.1,0,0,0,16,{"$f":"0.05*D5775","v":0},{"$f":"0.05*E5775","v":0},0,0,0,0,0.5,0,0,0,12,0,0,0,0,0,0,0.5,0,0,12,8,0,12,0,0,{"$f":"0.05*AF5775","v":0}]
[5768,1,11.5,0,0,0.52939689999999995,16,0,0,0,0,2.061818E-2,6.5131659999999997E-4,0.5,0,0,0,12,0,0,0,0,0,0,0.5,0,0.55034073829999997,12,8,0,12,0,0,0]
[5779,1,14.5,0,0,3.076616,16,0,0,0,0,-2.636935E-3,6.5131659999999997E-4,0.5,0,0,0,12,0,0,0,0,0,0,0.5,0,3.0743047233,12,8,0,12,0,0,0]
[5782,1,11.4,0,0,0,16,0,0,0,0,0,0,0.5,0,0,0,12,0,0,0,0,0,0,0.5,0,0,12,8,0,12,0,0,0]
[5796,1,15.9,0,0,5.0325220000000002,16,0,0,0,0,-1.4868220000000001E-3,6.5131659999999997E-4,0.5,0,0,2.4152480000000001,12,0,0,0,0,5.7466300000000002E-7,5.74663E-4,0.5,0,7.4468967424630002,12,8,0,12,0,0,0]
[5803,1,16.8,0,0,4.888649,16,0,0,0,0,-2.6208119999999997E-3,6.5131659999999997E-4,0.5,0,0,0,12,0,0,0,0,0,0,0.5,0,-45.113646153700003,4,8,50,4,5.6558363417569204,0,0.28279181708784601]
[5805,1,13.2,0,0,0,16,0,0,0,0,0,0,0.5,0,0,0,12,0,0,0,0,0,0,0.5,0,-4.8863538462999969,4,8,4.8863538462999969,4,0.44688675369289982,0,2.2344337684644992E-2]
[5813,1,8.5,0,0,0,16,0,0,0,0,0,0,0.5,0,0,0,12,0,0,0,0,0,0,0.5,0,0,12,8,0,12,0,0,0]
[5822,1,21.7,0,0,6.934571,16,0,0,0,0,-4.4661240000000001E-4,6.5131659999999997E-4,0.5,0,0,2.2268509999999999,12,0,0,0,0,5.7466300000000002E-7,5.74663E-4,0.5,0,9.1615889520629992,11.64,8,0,11.64,0,0,0]
[5827,1,17.399999999999999,0,0,5.5817500000000004,16,0,0,0,0,-4.421917E-4,6.5131659999999997E-4,0.5,0,0,0,12,0,0,0,0,0,0,0.5,0,5.5816334666000005,12,8,0,12,0,0,0]
[5839,1,11,0,0,0,16,0,0,0,0,0,0,0.5,0,0,0,12,0,0,0,0,0,0,0.5,0,0,12,8,0,12,0,0,0]
[5848,1,18.7,0,0,0.98921479999999995,16,0,0,0,0,1.777277E-4,6.5131659999999997E-4,0.5,0,0,1.6490089999999999,12,0,0,0,0,5.7466300000000002E-7,5.74663E-4,0.5,0,2.639015092163,12,8,0,12,0,0,0]
[5856,1,11.2,0,0,0,16,0,0,0,0,0,0,0.5,0,0,0,12,0,0,0,0,0,0,0.5,0,0,12,8,0,12,0,0,0]
[5862,1,8.6,0,0,0,16,0,0,0,0,0,0,0.5,0,0,0,12,0,0,0,0,0,0,0.5,0,0,12,8,0,12,0,0,0]
[5865,1,12.9,0,0,2.8102279999999999,16,0,0,0,0,-1.8352640000000001E-3,6.5131659999999997E-4,0.5,0,0,1.0915760000000001,12,0,0,0,0,5.7466300000000002E-7,5.74663E-4,0.5,0,3.9005823004630003,12,8,0,12,0,0,0]
[5872,1,19,0,0,1.6639490000000001,16,0,0,0,0,-2.5820079999999999E-4,6.5131659999999997E-4,0.5,0,0,2.7736209999999999,12,0,0,0,0,5.7466300000000002E-7,5.74663E-4,0.5,0,4.4379253636630001,12,8,0,12,0,0,0]
[5882,1,11.4,0,0,0,16,0,0,0,0,0,0,0.5,0,0,0,12,0,0,0,0,0,0,0.5,0,0,12,8,0,12,0,0,0]
[5893,1,17.3,0,0,0,16,0,0,0,0,0,0,0.5,0,0,0,12,0,0,0,0,0,0,0.5,0,0,12,8,0,12,0,0,0]
[5899,1,14.6,0,0,0,16,0,0,0,0,0,0,0.5,0,0,0,12,0,0,0,0,0,0,0.5,0,0,12,8,0,12,0,0,0]
[5908,1,13.5,0,0,0,16,0,0,0,0,0,0,0.5,0,0,0,12,0,0,0,0,0,0,0.5,0,0,12,8,0,12,0,0,0]
[5916,1,11.5,0,0,0,16,0,0,0,0,0,0,0.5,0,0,0,12,0,0,0,0,0,0,0.5,0,0,12,8,0,12,0,0,0]
[5917,1,12.8,0,0,0,16,0,0,0,0,0,0,0.5,0,0,0,12,0,0,0,0,0,0,0.5,0,0,12,8,0,12,0,0,0]
[5930,1,9.9,0,0,0,16,0,0,0,0,0,0,0.5,0,0,0,12,0,0,0,0,0,0,0.5,0,0,12,8,0,12,0,0,0]
[5934,1,9.6999999999999993,0,0,0,16,0,0,0,0,0,0,0.5,0,0,0,12,0,0,0,0,0,0,0.5,0,0,12,8,0,12,0,0,0]
[5944,1,13.6,0,0,3.7344170000000001,16,0,0,0,0,-2.3138899999999999E-3,6.5131659999999997E-4,0.5,0,0,4.4934620000000001,12,0,0,0,0,5.7466300000000002E-7,5.74663E-4,0.5,0,8.2261786744630001,12,8,0,12,0,0,0]
[5951,1,9.3000000000000007,0,0,0,16,0,0,0,0,0,0,0.5,0,0,0,12,0,0,0,0,0,0,0.5,0,0,12,8,0,12,0,0,0]
[5958,1,6.6,0,0,0,16,0,0,0,0,0,0,0.5,0,0,0,12,0,0,0,0,0,0,0.5,0,0,12,8,0,12,0,0,0]
[5968,1,16.600000000000001,0,0,6.0940440000000002,16,0,0,0,0,-2.7370319999999999E-3,6.5131659999999997E-4,0.5,0,0,8.1318049999999999,12,0,0,0,0,5.7466300000000002E-7,5.74663E-4,0.5,0,14.223725532463,12,8,0,12,0,0,0]
[5975,1,11,0,0,0,16,0,0,0,0,0,0,0.5,0,0,0,12,0,0,0,0,0,0,0.5,0,0,12,8,0,12,0,0,0]
[5977,1,11.5,0,0,0,16,0,0,0,0,0,0,0.5,0,0,0,12,0,0,0,0,0,0,0.5,0,0,12,8,0,12,0,0,0]
[5989,1,21.6,0,0,6.7568370000000009,16,0,0,0,0,-1.972675E-4,6.5131659999999997E-4,0.5,0,0,2.1676250000000001,12,0,0,0,0,5.7466300000000002E-7,5.74663E-4,0.5,0,8.9248782969630014,11.719999999999999,8,0,11.719999999999999,0,0,0]
[5994,1,18.899999999999999,0,0,1.439038,16,0,0,0,0,-9.7124519999999999E-4,6.5131659999999997E-4,0.5,0,0,0.3955322,12,0,0,0,0,5.7466300000000002E-7,5.74663E-4,0.5,0,1.8342125192630001,12,8,0,12,0,0,0]
[6003,1,15.6,0,0,0,16,0,0,0,0,0,0,0.5,0,0,0,12,0,0,0,0,0,0,0.5,0,0,12,8,0,12,0,0,0]
[6011,1,17,0,0,6.4919640000000003,16,0,0,0,0,-2.2785739999999998E-3,6.5131659999999997E-4,0.5,0,0,8.6695790000000006,12,0,0,0,0,6.1024140000000004E-7,6.102414E-4,0.5,0,-17.552417542926008,4,8,32.712313358167407,4,3.7396748123055401,0,0.18698374061527701]
[6017,1,16.7,0,0,5.9780829999999998,16,0,0,0,0,-2.68659E-3,6.5131659999999997E-4,0.5,0,0,4.0484150000000003,12,{"$f":"0.05*O6030","v":0},{"$f":"0.05*P6030","v":0},0,0,5.7466300000000002E-7,5.74663E-4,0.5,0,10.024424974463001,12,8,0,12,0,0,0]
[6028,1,11.3,0,0,0,16,0,0,0,0,0,0,0.5,0,0,0,12,0,0,0,0,0,0,0.5,0,0,12,8,0,12,0,0,0]
[6034,1,16.399999999999999,0,0,5.857558,16,0,0,0,0,-1.459339E-3,6.5131659999999997E-4,0.5,0,0,4.968324,12,0,0,0,0,5.7466300000000002E-7,5.74663E-4,0.5,0,10.825036225463,12,8,0,12,0,0,0]
[6037,1,19.3,0,0,2.3386799999999996,16,0,0,0,0,6.5133940000000005E-4,6.5131659999999997E-4,0.5,0,0,0.69533860000000003,12,0,0,0,0,5.7466300000000002E-7,5.74663E-4,0.5,0,-46.964716496137001,4,8,50,4,6.4079422382671485,0,0.32039711191335746]
[6048,1,15.6,0,0,0,16,0,0,0,0,0,0,0.5,0,0,0,12,0,0,0,0,0,0,0.5,0,0,12,8,0,12,0,0,0]
[6054,1,12.4,0,0,0,16,0,0,0,0,0,0,0.5,0,0,0,12,0,0,0,0,0,0,0.5,0,0,12,8,0,12,0,0,0]
[6063,1,17.600000000000001,0,0,0,16,0,0,0,0,0,0,0.5,0,0,0,12,0,0,0,0,0,0,0.5,0,0,12,8,0,12,0,0,0]
[6071,1,12.9,0,0,0,16,0,0,0,0,0,0,0.5,0,0,0,12,0,0,0,0,0,0,0.5,0,0,12,8,0,12,0,0,0]
[6080,1,13.6,0,0,0,16,0,0,0,0,0,0,0.5,0,0,0,12,0,0,0,0,0,0,0.5,0,0,12,8,0,12,0,0,0]
[6085,1,18,0,0,0,16,0,0,0,0,0,0,0.5,0,0,0,12,0,0,0,0,0,0,0.5,0,0,12,8,0,12,0,0,0]
[6097,1,13.1,0,0,0,16,0,0,0,0,0,0,0.5,0,0,0,12,0,0,0,0,0,0,0.5,0,0,12,8,0,12,0,0,0]
[6099,1,13,0,0,0,16,0,0,0,0,0,0,0.5,0,0,0,12,0,0,0,0,0,0,0.5,0,0,12,8,0,12,0,0,0]
[6106,1,15.6,0,0,5.5720690000000008,16,0,0,0,0,-2.0658020000000003E-3,6.5131659999999997E-4,0.5,0,0,4.4717229999999999,12,0,0,0,0,5.7466300000000002E-7,5.74663E-4,0.5,0,10.042339762463001,12,8,0,12,0,0,0]
[6113,1,18,0,0,8.106954,16,0,0,0,0,-5.9598159999999999E-5,9.3183669999999993E-4,0.5,0,0,5.0399960000000004,12,0,0,0,0,5.7466300000000002E-7,5.74663E-4,0.5,0,13.147644226353002,12,8,0,12,0,0,0]
[6123,1,12.5,0,0,0,16,0,0,0,0,0,0,0.5,0,0,0,12,0,0,0,0,0,0,0.5,0,0,12,8,0,12,0,0,0]
[6130,1,16,0,0,6.522265,16,0,0,0,0,-2.3274119999999996E-3,6.5131659999999997E-4,0.5,0,0,5.2774380000000001,12,0,0,0,0,5.7466300000000002E-7,5.74663E-4,0.5,0,11.797989152463,12,8,0,12,0,0,0]
[6140,1,10.199999999999999,0,0,0,16,0,0,0,0,0,0,0.5,0,0,0,12,0,0,0,0,0,0,0.5,0,-2.4852112567629945,4,8,2.4852112567629945,4,0.18242826313182031,0,9.1214131565910163E-3]
[6144,1,10.9,0,0,0,16,0,0,0,0,0,0,0.5,0,0,0,12,0,0,0,0,0,0,0.5,0,0,12,8,0,12,0,0,0]
[6157,1,16.7,0,0,6.7701000000000002,16,0,0,0,0,-2.8169699999999998E-3,6.5131659999999997E-4,0.5,0,0,2.0891599999999997,12,0,0,0,0,5.7466300000000002E-7,5.74663E-4,0.5,0,8.8570565944629998,12,8,0,12,0,0,0]
[6158,1,16,0,0,6.2096030000000004,16,0,0,0,0,-2.9518930000000001E-3,6.5131659999999997E-4,0.5,0,0,1.8058559999999999,12,0,0,0,0,5.7466300000000002E-7,5.74663E-4,0.5,0,8.0131206714630014,12,8,0,12,0,0,0]
[6166,1,11.9,0,0,0,16,0,0,0,0,0,0,0.5,0,0,0,12,0,0,0,0,0,0,0.5,0,0,12,8,0,12,0,0,0]
[6179,1,17.100000000000001,0,0,7.6563790000000003,16,0,0,0,0,-2.2725620000000001E-3,8.0712310000000001E-4,0.5,0,0,9.8630619999999993,12,0,0,0,0,8.4236350000000002E-7,8.4236350000000001E-4,0.5,0,17.517994023663498,12,8,0,12,0,0,0]
[6183,1,17.399999999999999,0,0,7.9776829999999999,16,0,0,0,0,-2.579394E-3,8.9442570000000004E-4,0.5,0,0,6.3258770000000002,12,0,0,0,0,5.7466300000000002E-7,5.74663E-4,0.5,0,14.301715725013,12,8,0,12,0,0,0]
[6189,1,12.7,0,0,0,16,0,0,0,0,0,0,0.5,0,0,0,12,0,0,0,0,0,0,0.5,0,0,12,8,0,12,0,0,0]
[6200,1,15.8,0,0,4.9318070000000001,16,0,0,0,0,-1.454672E-3,6.5131659999999997E-4,0.5,0,0,0,12,0,0,0,0,0,0,0.5,0,4.9306779863000001,12,8,0,12,0,0,0]
[6209,1,17.3,0,0,7.4259970000000006,16,0,0,0,0,-2.6133329999999998E-3,7.476669E-4,0.5,0,0,4.6711200000000002,12,{"$f":"0.05*O6222","v":0},{"$f":"0.05*P6222","v":0},0,0,5.7466300000000002E-7,5.74663E-4,0.5,0,-37.904834593387001,4,8,50,4,5.8062575210589662,0,0.29031287605294831]
[6216,1,13.3,0,0,0,16,0,0,0,0,0,0,0.5,0,0,0,12,0,0,0,0,0,0,0.5,0,0,12,8,0,12,0,0,0]
[6218,1,12.6,0,0,0,16,0,0,0,0,0,0,0.5,0,0,0,12,0,0,0,0,0,0,0.5,0,0,12,8,0,12,0,0,0]
[6226,1,14.8,0,0,0,16,0,0,0,0,0,0,0.5,0,0,0,12,0,0,0,0,0,0,0.5,0,0,12,8,0,12,0,0,0]
[6235,1,14.7,0,0,0,16,0,0,0,0,0,0,0.5,0,0,0,12,0,0,0,0,0,0,0.5,0,0,12,8,0,12,0,0,0]
[6247,1,13.3,0,0,0,16,0,0,0,0,0,0,0.5,0,0,0,12,0,0,0,0,0,0,0.5,0,0,12,8,0,12,0,0,0]
[6252,1,15.4,0,0,0,16,0,0,0,0,0,0,0.5,0,0,0,12,0,0,0,0,0,0,0.5,0,0,12,8,0,12,0,0,0]
[6261,1,13.6,0,0,0,16,0,0,0,0,0,0,0.5,0,0,0,12,0,0,0,0,0,0,0.5,0,0,12,8,0,12,0,0,0]
[6269,1,13.7,0,0,0,16,0,0,0,0,0,0,0.5,0,0,0,12,0,0,0,0,0,0,0.5,0,0,12,8,0,12,0,0,0]
[6275,1,17.899999999999999,0,0,8.1171220000000002,16,0,0,0,0,-2.2917010000000002E-3,9.3411860000000005E-4,0.5,0,0,10.609299999999999,12,0,0,0,0,1.01078E-6,1.01078E-3,0.5,0,18.72510375908,12,8,0,12,0,0,0]
[6278,1,21.8,0,0,7.1123050000000001,16,0,0,0,0,-4.835304E-4,6.7166930000000006E-4,0.5,0,0,2.286076,12,0,0,0,0,5.7466300000000002E-7,5.74663E-4,0.5,0,9.3985212104129996,11.559999999999999,8,0,11.559999999999999,0,0,0]
[6292,1,13.2,0,0,0,16,0,0,0,0,0,0,0.5,0,0,0,12,0,0,0,0,0,0,0.5,0,0,12,8,0,12,0,0,0]
[6295,1,13.8,0,0,2.6291690000000001,16,0,0,0,0,2.1398790000000001E-2,6.5131659999999997E-4,0.5,0,0,0,12,0,0,0,0,0,0,0.5,0,2.6508934483000002,12,8,0,12,0,0,0]
[6306,1,20,0,0,3.9130579999999999,16,0,0,0,0,-1.6605510000000001E-3,6.5131659999999997E-4,0.5,0,0,1.2199990000000001,12,0,0,0,0,5.7466300000000002E-7,5.74663E-4,0.5,0,-44.867989986536998,4,8,50,4,6.6185318892900131,0,0.33092659446450068]
[6312,1,15.7,0,0,0,16,0,0,0,0,0,0,0.5,0,0,0,12,0,0,0,0,0,0,0.5,0,0,12,8,0,12,0,0,0]
[6320,1,16.399999999999999,0,0,6.5711170000000001,16,0,0,0,0,-1.643788E-3,6.5131659999999997E-4,0.5,0,0,0,12,0,0,0,0,0,0,0.5,0,6.5697988703000005,12,8,0,12,0,0,0]
[6329,1,21.8,0,0,7.1123050000000001,16,0,0,0,0,-1.08606E-3,6.71527E-4,0.5,0,0,4.5602349999999996,12,0,0,0,0,5.7466300000000002E-7,5.74663E-4,0.5,0,-38.327922390337001,4,8,50,4,7.1600481347773774,0,0.35800240673886891]
[6334,1,17.3,0,0,0,16,0,0,0,0,0,0,0.5,0,0,0,12,0,0,0,0,0,0,0.5,0,0,12,8,0,12,0,0,0]
[6338,1,15.8,0,0,0,16,{"$f":"0.05*D6351","v":0},{"$f":"0.05*E6351","v":0},0,0,0,0,0.5,0,0,0,12,0,0,0,0,0,0,0.5,0,0,12,8,0,12,0,0,{"$f":"0.05*AF6351","v":0}]
[6347,1,22.9,0,0,9.0674039999999998,16,0,0,0,0,3.2258410000000003E-5,1.2328630000000001E-3,0.5,0,0,15.113440000000001,12,0,0,0,0,2.448426E-6,2.4484260000000001E-3,0.5,0,24.182719351336001,10.68,8,0,10.68,0,0,0]
[6357,1,16.600000000000001,0,0,0,16,0,0,0,0,0,0,0.5,0,0,0,12,0,0,0,0,0,0,0.5,0,0,12,8,0,12,0,0,0]
[6364,1,15.1,0.33657278399999996,0,0,16,1.6828639199999999E-2,0,0.17279999999999998,0,-9.1500490000000006E-4,6.5131659999999997E-4,0.5,0,0,0,12,0,0,0,0,0,0,0.5,0,0.35281207659999991,12,8,0,12,0,0,0]
[6371,1,16.8,4.9131684,0,7.8940570000000001,16,0.24565842000000002,0,0.17279999999999998,0,-2.7830300000000001E-3,2.9214940000000002E-3,0.5,3.8589047999999999,0,10.911290000000001,12,0.19294524000000002,0,0.17279999999999998,0,2.3103259999999996E-6,2.3103259999999997E-3,0.5,0,28.015859050326,12,8,0,12,0,0,0]
[6381,1,17.100000000000001,0,0,0,16,0,0,0,0,0,0,0.5,0,0,0,12,0,0,0,0,0,0,0.5,0,0,12,8,0,12,0,0,0]
[6388,1,16,0,0,0,16,0,0,0,0,0,0,0.5,0,0,0,12,0,0,0,0,0,0,0.5,0,0,12,8,0,12,0,0,0]
[6398,1,18,0,0,0,16,0,0,0,0,0,0,0.5,0,0,0,12,0,0,0,0,0,0,0.5,0,0,12,8,0,12,0,0,0]
[6402,1,17.100000000000001,0,0,0,16,{"$f":"0.05*D6415","v":0},{"$f":"0.05*E6415","v":0},0,0,0,0,0.5,0,0,0,12,0,0,0,0,0,0,0.5,0,0,12,8,0,12,0,0,{"$f":"0.05*AF6415","v":0}]
[6407,1,15.8,0,0,0,16,0,0,0,0,0,0,0.5,0,0,0,12,0,0,0,0,0,0,0.5,0,0,12,8,0,12,0,0,0]
[6416,1,14,0,0,0,16,0,0,0,0,0,0,0.5,0,0,0,12,0,0,0,0,0,0,0.5,0,0,12,8,0,12,0,0,0]
[6424,1,13.6,0,0,0,16,0,0,0,0,0,0,0.5,0,0,0,12,0,0,0,0,0,0,0.5,0,0,12,8,0,12,0,0,0]
[6430,1,11.9,0,0,0,16,0,0,0,0,0,0,0.5,0,0,0,12,0,0,0,0,0,0,0.5,0,0,12,8,0,12,0,0,0]
[6441,1,10.4,0,0,0.24614659999999999,16,0,0,0,0,2.0244849999999998E-2,6.5131659999999997E-4,0.5,0,0,6.2693779999999991E-2,12,0,0,0,0,5.7466300000000002E-7,5.74663E-4,0.5,0,0.32969879446299993,12,8,0,12,0,0,0]
[6447,1,11.4,0,0,2.235201,16,0,0,0,0,-2.2954550000000001E-3,6.5131659999999997E-4,0.5,1.3433212799999998,0,1.5317129999999999,12,6.7166063999999998E-2,0,0.17279999999999998,0,5.7466300000000002E-7,5.74663E-4,0.5,0,5.1757194534629996,12,8,0,12,0,0,0]
[6458,1,8.6,0,0,0,16,0,0,0,0,0,0,0.5,0,0,0,12,0,0,0,0,0,0,0.5,0,0,12,8,0,12,0,0,0]
[6461,1,6.7,0,0,0,16,0,0,0,0,0,0,0.5,0,0,0,12,0,0,0,0,0,0,0.5,0,0,12,8,0,12,0,0,0]
[6467,1,13.2,0,0,2.9329769999999997,16,0,0,0,0,-2.0330879999999997E-3,6.5131659999999997E-4,0.5,0,0,3.1947350000000001,12,0,0,0,0,5.7466300000000002E-7,5.74663E-4,0.5,0,6.126292476463,12,8,0,12,0,0,0]
[6475,1,12.4,0,0,0.64516030000000002,16,0,0,0,0,-2.291983E-3,6.5131659999999997E-4,0.5,0,0,0,12,0,0,0,0,0,0,0.5,0,0.6431939753,12,8,0,12,0,0,0]
[6484,1,8.8000000000000007,0,0,0,16,0,0,0,0,0,0,0.5,0,0,0,12,0,0,0,0,0,0,0.5,0,0,12,8,0,12,0,0,0]
[6493,1,10.6,0,0,0.18803450000000002,16,0,0,0,0,-2.1410000000000001E-3,6.5131659999999997E-4,0.5,0,0,0.20111869999999998,12,0,0,0,0,5.7466300000000002E-7,5.74663E-4,0.5,0,0.38762576446300001,12,8,0,12,0,0,0]
[6498,1,9.6999999999999993,0,0,0,16,0,0,0,0,0,0,0.5,0,0,0,12,0,0,0,0,0,0,0.5,0,-50,4,8,50,4,3.5198555956678703,0,0.17599277978339353]
[6510,1,8.1999999999999993,0,0,0,16,0,0,0,0,0,0,0.5,0,0,0,12,0,0,0,0,0,0,0.5,0,0,12,8,0,12,0,0,0]
[6512,1,9.1999999999999993,0,0,0,16,0,0,0,0,0,0,0.5,0,0,0,12,0,0,0,0,0,0,0.5,0,0,12,8,0,12,0,0,0]
[6519,1,14.3,0,0,3.9741210000000002,16,0,0,0,0,-2.0402719999999997E-3,6.5131659999999997E-4,0.5,0,0,3.2112820000000002,12,0,0,0,0,5.7466300000000002E-7,5.74663E-4,0.5,0,7.1839762924630008,12,8,0,12,0,0,0]
[6533,1,6.8,0,0,0,16,0,0,0,0,0,0,0.5,0,0,0,12,0,0,0,0,0,0,0.5,0,0,12,8,0,12,0,0,0]
[6536,1,9.1999999999999993,0,0,0,16,0,0,0,0,0,0,0.5,0,0,0,12,0,0,0,0,0,0,0.5,0,0,12,8,0,12,0,0,0]
[6543,1,16.899999999999999,0,0,6.0606729999999995,16,0,0,0,0,-2.3085710000000001E-3,6.5131659999999997E-4,0.5,0,0,5.0676430000000003,12,0,0,0,0,5.7466300000000002E-7,5.74663E-4,0.5,0,11.126620993463,12,8,0,12,0,0,0]
[6553,1,8.4,0,0,0,16,0,0,0,0,0,0,0.5,0,0,0,12,0,0,0,0,0,0,0.5,0,0,12,8,0,12,0,0,0]
[6557,1,5.4,0,0,0,16,0,0,0,0,0,0,0.5,0,0,0,12,0,0,0,0,0,0,0.5,0,0,12,8,0,12,0,0,0]
[6570,1,12.6,0,0,0,16,0,0,0,0,0,0,0.5,0,0,0,12,0,0,0,0,0,0,0.5,0,0,12,8,0,12,0,0,0]
[6578,1,7.7,0,0,0,16,0,0,0,0,0,0,0.5,0,0,0,12,0,0,0,0,0,0,0.5,0,0,12,8,0,12,0,0,0]
[6579,1,7.3,0,0,0,16,0,0,0,0,0,0,0.5,0,0,0,12,0,0,0,0,0,0,0.5,0,0,12,8,0,12,0,0,0]
[6592,1,17.5,0,0,0,16,0,0,0,0,0,0,0.5,0,0,0,12,0,0,0,0,0,0,0.5,0,0,12,8,0,12,0,0,0]
[6596,1,11.5,0,0,0,16,0,0,0,0,0,0,0.5,0,0,0,12,0,0,0,0,0,0,0.5,0,0,12,8,0,12,0,0,0]
[6602,1,9.5,0,0,0,16,0,0,0,0,0,0,0.5,0,0,0,12,0,0,0,0,0,0,0.5,0,0,12,8,0,12,0,0,0]
[6613,1,18.899999999999999,0,0,1.439038,16,0,0,0,0,-1.9426950000000001E-3,6.5131659999999997E-4,0.5,0,0,0.3955322,12,0,0,0,0,5.7466300000000002E-7,5.74663E-4,0.5,0,1.8332410694629999,12,8,0,12,0,0,0]
[6623,1,11.2,0,0,0,16,0,0,0,0,0,0,0.5,0,0,0,12,0,0,0,0,0,0,0.5,0,0,12,8,0,12,0,0,0]
[6630,1,12,0,0,0,16,0,0,0,0,0,0,0.5,0,0,0,12,0,0,0,0,0,0,0.5,0,0,12,8,0,12,0,0,0]
[6639,1,14.7,0,0,3.4373020000000003,16,0,0,0,0,-1.7665700000000001E-3,6.5131659999999997E-4,0.5,0,0,2.581658,12,0,0,0,0,5.7466300000000002E-7,5.74663E-4,0.5,0,6.0178069944630002,12,8,0,12,0,0,0]
[6646,1,10.6,0,0,0,16,0,0,0,0,0,0,0.5,0,0,0,12,0,0,0,0,0,0,0.5,0,0,12,8,0,12,0,0,0]
[6648,1,10.1,0,0,0,16,0,0,0,0,0,0,0.5,0,0,0,12,0,0,0,0,0,0,0.5,0,0,12,8,0,12,0,0,0]
[6660,1,12.3,0,0,0.72763509999999998,16,0,0,0,0,-1.7038489999999999E-3,6.5131659999999997E-4,0.5,0,0,0.74342909999999995,12,0,0,0,0,5.7466300000000002E-7,5.74663E-4,0.5,0,1.469973915463,12,8,0,12,0,0,0]
[6665,1,12,0,0,0.22859350000000001,16,0,0,0,0,-2.372168E-3,6.5131659999999997E-4,0.5,0,0,0.83284950000000002,12,0,0,0,0,5.7466300000000002E-7,5.74663E-4,0.5,0,-8.7096239299259963,4,8,9.7693083263889964,4,0.82292609247560744,0,4.1146304623780376E-2]
[6674,1,10.1,0,0,0,16,0,0,0,0,0,0,0.5,0,0,0,12,0,0,0,0,0,0,0.5,0,0,12,8,0,12,0,0,0]
[6682,1,10.199999999999999,0,0,0,16,0,0,0,0,0,0,0.5,0,0,7.3874930000000005E-2,12,0,0,0,0,5.7466300000000002E-7,5.74663E-4,0.5,0,7.4162836163000012E-2,12,8,0,12,0,0,0]
[6688,1,10.3,0,0,9.4582340000000001E-2,16,0,0,0,0,2.0210909999999999E-2,6.5131659999999997E-4,0.5,0,0,0.51890779999999992,12,0,0,0,0,5.7466300000000002E-7,5.74663E-4,0.5,0,0.63431461446299997,12,8,0,12,0,0,0]
[6699,1,9,0,0,0,16,0,0,0,0,0,0,0.5,0,0,0,12,0,0,0,0,0,0,0.5,0,0,12,8,0,12,0,0,0]
[6705,1,9.6999999999999993,0,0,0,16,0,0,0,0,0,0,0.5,0,0,0,12,0,0,0,0,0,0,0.5,0,0,12,8,0,12,0,0,0]
[6708,1,11.4,0,0,0,16,0,0,0,0,0,0,0.5,0,0,0.27158980000000005,12,0,0,0,0,5.7466300000000002E-7,5.74663E-4,0.5,0,0.27187770616300005,12,8,0,12,0,0,0]
[6719,1,6.4,0,0,0,16,0,0,0,0,0,0,0.5,0,0,0,12,0,0,0,0,0,0,0.5,0,0,12,8,0,12,0,0,0]
[6725,1,6,0,0,0,16,0,0,0,0,0,0,0.5,0,0,0,12,0,0,0,0,0,0,0.5,0,0,12,8,0,12,0,0,0]
[6733,1,9.6,0,0,0,16,0,0,0,0,0,0,0.5,0,0,0,12,0,0,0,0,0,0,0.5,0,0,12,8,0,12,0,0,0]
[6742,1,6.5,0,0,0,16,0,0,0,0,0,0,0.5,0,0,0,12,0,0,0,0,0,0,0.5,0,0,12,8,0,12,0,0,0]
[6747,1,7.6,0,0,0,16,0,0,0,0,0,0,0.5,0,0,0,12,0,0,0,0,0,0,0.5,0,0,12,8,0,12,0,0,0]
[6759,1,10.3,0,0,0,16,0,0,0,0,0,0,0.5,0,0,0,12,0,0,0,0,0,0,0.5,0,0,12,8,0,12,0,0,0]
[6764,1,8.1,0,0,0,16,0,0,0,0,0,0,0.5,0,0,0,12,0,0,0,0,0,0,0.5,0,0,12,8,0,12,0,0,0]
[6768,1,8.5,0,0,0,16,0,0,0,0,0,0,0.5,0,0,0,12,0,0,0,0,0,0,0.5,0,0,12,8,0,12,0,0,0]
[6777,1,8.6999999999999993,0,0,0,16,0,0,0,0,0,0,0.5,0,0,0,12,0,0,0,0,0,0,0.5,0,0,12,8,0,12,0,0,0]
[6784,1,10.8,0,0,0,16,0,0,0,0,0,0,0.5,0,0,0.3810983,12,0,0,0,0,5.7466300000000002E-7,5.74663E-4,0.5,0,0.38138620616300001,12,8,0,12,0,0,0]
[6794,1,8.1,0,0,0,16,0,0,0,0,0,0,0.5,0,0,0,12,0,0,0,0,0,0,0.5,0,0,12,8,0,12,0,0,0]
[6801,1,9.1,0,0,0,16,0,0,0,0,0,0,0.5,0,0,0,12,0,0,0,0,0,0,0.5,0,0,12,8,0,12,0,0,0]
[6811,1,10.3,0,0,0,16,0,0,0,0,0,0,0.5,0,0,0,12,0,0,0,0,0,0,0.5,0,0,12,8,0,12,0,0,0]
[6815,1,9.4,0,0,0,16,0,0,0,0,0,0,0.5,0,0,0,12,0,0,0,0,0,0,0.5,0,0,12,8,0,12,0,0,0]
[6820,1,9.3000000000000007,0,0,0,16,0,0,0,0,0,0,0.5,0,0,0,12,0,0,0,0,0,0,0.5,0,0,12,8,0,12,0,0,0]
[6829,1,9.9,0,0,0,16,0,0,0,0,0,0,0.5,0,0,0,12,0,0,0,0,0,0,0.5,0,0,12,8,0,12,0,0,0]
[6837,1,10.1,0,0,0,16,0,0,0,0,0,0,0.5,0,0,0,12,0,0,0,0,0,0,0.5,0,0,12,8,0,12,0,0,0]
[6843,1,9.5,0,0,0,16,0,0,0,0,0,0,0.5,0,0,0,12,0,0,0,0,0,0,0.5,0,0,12,8,0,12,0,0,0]
[6854,1,13.8,0,0,1.85893,16,0,0,0,0,-1.5017419999999999E-3,6.5131659999999997E-4,0.5,0,0,0.72544680000000006,12,0,0,0,0,5.7466300000000002E-7,5.74663E-4,0.5,0,2.5834886224629998,12,8,0,12,0,0,0]
[6860,1,8.6,0,0,0,16,0,0,0,0,0,0,0.5,0,0,0,12,0,0,0,0,0,0,0.5,0,0,12,8,0,12,0,0,0]
[6871,1,9.9,0,0,0,16,0,0,0,0,0,0,0.5,0,0,0,12,0,0,0,0,0,0,0.5,0,0,12,8,0,12,0,0,0]
[6874,1,11.3,0,0,0,16,0,0,0,0,0,0,0.5,0,0,0.17298429999999998,12,0,0,0,0,5.7466300000000002E-7,5.74663E-4,0.5,0,0.17327220616299996,12,8,0,12,0,0,0]
[6880,1,11.8,0,0,0.89525509999999997,16,0,0,0,0,-1.9668429999999998E-3,6.5131659999999997E-4,0.5,0,0,1.5186300000000001,12,0,0,0,0,5.7466300000000002E-7,5.74663E-4,0.5,0,2.4125318214630003,12,8,0,12,0,0,0]
[6888,1,10,0,0,0,16,0,0,0,0,0,0,0.5,0,0,0,12,0,0,0,0,0,0,0.5,0,0,12,8,0,12,0,0,0]
[6897,1,12.2,0,0,0,16,0,0,0,0,0,0,0.5,0,0,0,12,0,0,0,0,0,0,0.5,0,0,12,8,0,12,0,0,0]
[6909,1,13.6,0,0,0,16,0,0,0,0,0,0,0.5,0,0,0,12,0,0,0,0,0,0,0.5,0,0,12,8,0,12,0,0,0]
[6914,1,12.7,0,0,0,16,{"$f":"0.05*D6927","v":0},{"$f":"0.05*E6927","v":0},0,0,0,0,0.5,0,0,0,12,0,0,0,0,0,0,0.5,0,0,12,8,0,12,0,0,{"$f":"0.05*AF6927","v":0}]
[6923,1,18.2,0,0,0,16,0,0,0,0,0,0,0.5,0,0,0,12,0,0,0,0,0,0,0.5,0,0,12,8,0,12,0,0,0]
[6932,1,15.7,0,0,0,16,0,0,0,0,0,0,0.5,0,0,0,12,0,0,0,0,0,0,0.5,0,0,12,8,0,12,0,0,0]
[6940,1,11.5,0,0,0,16,0,0,0,0,0,0,0.5,0,0,0,12,0,0,0,0,0,0,0.5,0,0,12,8,0,12,0,0,0]
[6946,1,11.7,0,0,0.19713319999999998,16,0,0,0,0,-1.7734319999999999E-3,6.5131659999999997E-4,0.5,0,0,0.60037159999999989,12,0,0,0,0,5.7466300000000002E-7,5.74663E-4,0.5,0,0.79634493246299987,12,8,0,12,0,0,0]
[6949,1,11.1,0,0,0,16,0,0,0,0,0,0,0.5,0,0,1.379558E-2,12,0,0,0,0,5.7466300000000002E-7,5.74663E-4,0.5,0,1.4083486163E-2,12,8,0,12,0,0,0]
[6956,1,9.3000000000000007,0,0,0,16,0,0,0,0,0,0,0.5,0,0,0,12,0,0,0,0,0,0,0.5,0,0,12,8,0,12,0,0,0]
[6966,1,7.8,0,0,0,16,0,0,0,0,0,0,0.5,0,0,0,12,0,0,0,0,0,0,0.5,0,0,12,8,0,12,0,0,0]
[6977,1,8.6999999999999993,0,0,0,16,0,0,0,0,0,0,0.5,0,0,0.28926689999999999,12,{"$f":"0.05*O6990","v":0},{"$f":"0.05*P6990","v":0},0,0,5.7466300000000002E-7,5.74663E-4,0.5,0,0.289554806163,12,8,0,12,0,0,0]
[6983,1,7.5,0,0,0,16,0,0,0,0,0,0,0.5,0,0,0,12,0,0,0,0,0,0,0.5,0,0,12,8,0,12,0,0,0]
[6991,1,7.4,0,0,0,16,0,0,0,0,0,0,0.5,0,0,0,12,0,0,0,0,0,0,0.5,0,0,12,8,0,12,0,0,0]
[7000,1,9.5,0,0,0,16,0,0,0,0,0,0,0.5,0,0,0,12,0,0,0,0,0,0,0.5,0,0,12,8,0,12,0,0,0]
[7005,1,4.5,0,0,0,16,0,0,0,0,0,0,0.5,0,0,0,12,0,0,0,0,0,0,0.5,0,0,12,8,0,12,0,0,0]
[7009,1,3.2,0,0,0,16,0,0,0,0,0,0,0.5,0,0,0,12,0,0,0,0,0,0,0.5,0,0,12,8,0,12,0,0,0]
[7022,1,8.8000000000000007,0,0,0,16,0,0,0,0,0,0,0.5,0,0,0,12,0,0,0,0,0,0,0.5,0,0,12,8,0,12,0,0,0]
[7026,1,7,0,0,0,16,0,0,0,0,0,0,0.5,0,0,0,12,0,0,0,0,0,0,0.5,0,0,12,8,0,12,0,0,0]
[7036,1,4.9000000000000004,0,0,0,16,0,0,0,0,0,0,0.5,0,0,0,12,0,0,0,0,0,0,0.5,0,0,12,8,0,12,0,0,0]
[7043,1,9,0,0,0,16,0,0,0,0,0,0,0.5,0,0,0,12,0,0,0,0,0,0,0.5,0,0,12,8,0,12,0,0,0]
[7050,1,10.8,0,0,0,16,0,0,0,0,0,0,0.5,0,0,0,12,0,0,0,0,0,0,0.5,0,0,12,8,0,12,0,0,0]
[7060,1,9.8000000000000007,0,0,0,16,0,0,0,0,0,0,0.5,0,0,0,12,0,0,0,0,0,0,0.5,0,0,12,8,0,12,0,0,0]
[7061,1,9.5,0,0,0,16,0,0,0,0,0,0,0.5,0,0,0,12,0,0,0,0,0,0,0.5,0,0,12,8,0,12,0,0,0]
[7073,1,14.4,0,0,0,16,0,0,0,0,0,0,0.5,0,0,0,12,0,0,0,0,0,0,0.5,0,0,12,8,0,12,0,0,0]
[7078,1,10.5,0,0,0,16,0,0,0,0,0,0,0.5,0,0,0,12,0,0,0,0,0,0,0.5,0,0,12,8,0,12,0,0,0]
[7087,1,9.1,0,0,0,16,0,0,0,0,0,0,0.5,0,0,0,12,0,0,0,0,0,0,0.5,0,0,12,8,0,12,0,0,0]
[7095,1,11,0,0,0,16,0,0,0,0,0,0,0.5,0,0,0,12,0,0,0,0,0,0,0.5,0,0,12,8,0,12,0,0,0]
[7101,1,8.6,0,0,0,16,0,0,0,0,0,0,0.5,0,0,0,12,0,0,0,0,0,0,0.5,0,0,12,8,0,12,0,0,0]
[7112,1,7,0,0,0,16,0,0,0,0,0,0,0.5,0,0,0,12,0,0,0,0,0,0,0.5,0,0,12,8,0,12,0,0,0]
[7118,1,11.9,0,0,0,16,0,0,0,0,0,0,0.5,0,0,0.1301505,12,0,0,0,0,5.7466300000000002E-7,5.74663E-4,0.5,0,0.13043840616299998,12,8,0,12,0,0,0]
[7121,1,10.199999999999999,0,0,0,16,0,0,0,0,0,0,0.5,0,0,0.58373969999999997,12,0,0,0,0,5.7466300000000002E-7,5.74663E-4,0.5,0,0.58402760616299998,12,8,0,12,0,0,0]
[7132,1,8.1,0,0,0,16,0,0,0,0,0,0,0.5,0,0,0,12,0,0,0,0,0,0,0.5,0,0,12,8,0,12,0,0,0]
[7138,1,10.9,0,0,0,16,0,0,0,0,0,0,0.5,0,0,0.14474959999999998,12,0,0,0,0,5.7466300000000002E-7,5.74663E-4,0.5,0,0.14503750616299996,12,8,0,12,0,0,0]
[7146,1,11.8,0,0,0.11931220000000001,16,0,0,0,0,-1.754626E-3,6.5131659999999997E-4,0.5,0,0,8.1621769999999996E-2,12,0,0,0,0,5.7466300000000002E-7,5.74663E-4,0.5,0,0.19979290846300002,12,8,0,12,0,0,0]
[7155,1,15.6,0,0,0,16,0,0,0,0,0,0,0.5,0,0,0,12,0,0,0,0,0,0,0.5,0,0,12,8,0,12,0,0,0]
[7160,1,15.4,0,0,2.5198550000000002,16,0,0,0,0,-1.0043299999999999E-3,6.5131659999999997E-4,0.5,0,0,0,12,0,0,0,0,0,0,0.5,0,2.5191763282999999,12,8,0,12,0,0,0]
[7172,1,9.9,0,0,0,16,0,0,0,0,0,0,0.5,0,0,0,12,0,0,0,0,0,0,0.5,0,0,12,8,0,12,0,0,0]
[7177,1,6.2,0,0,0,16,0,0,0,0,0,0,0.5,0,0,0,12,0,0,0,0,0,0,0.5,0,0,12,8,0,12,0,0,0]
[7181,1,5.4,0,0,0,16,0,0,0,0,0,0,0.5,0,0,0,12,0,0,0,0,0,0,0.5,0,0,12,8,0,12,0,0,0]
[7191,1,20,0,0,3.9130579999999999,16,0,0,0,0,-1.3065610000000001E-3,6.5131659999999997E-4,0.5,0,0,2.9308739999999998,12,0,0,0,0,5.7466300000000002E-7,5.74663E-4,0.5,0,6.8432390034629993,12,8,0,12,0,0,0]
[7198,1,11.3,0,0,0,16,0,0,0,0,0,0,0.5,0,0,0,12,0,0,0,0,0,0,0.5,0,0,12,8,0,12,0,0,0]
[7207,1,8.6999999999999993,0,0,0,16,0,0,0,0,0,0,0.5,0,0,0,12,0,0,0,0,0,0,0.5,0,0,12,8,0,12,0,0,0]
[7214,1,13.4,0,0,1.6657310000000001,16,0,0,0,0,-1.5760330000000001E-3,6.5131659999999997E-4,0.5,0,0,0.6545974,12,0,0,0,0,5.7466300000000002E-7,5.74663E-4,0.5,0,2.319365931463,12,8,0,12,0,0,0]
[7224,1,3.3,0,0,0,16,0,0,0,0,0,0,0.5,0,0,0,12,0,0,0,0,0,0,0.5,0,0,12,8,0,12,0,0,0]
[7228,1,2.1,0,0,0,16,0,0,0,0,0,0,0.5,0,0,0,12,0,0,0,0,0,0,0.5,0,0,12,8,0,12,0,0,0]
[7241,1,8.8000000000000007,0,0,0,16,0,0,0,0,0,0,0.5,0,0,0,12,0,0,0,0,0,0,0.5,0,0,12,8,0,12,0,0,0]
[7242,1,7,0,0,0,16,0,0,0,0,0,0,0.5,0,0,0,12,0,0,0,0,0,0,0.5,0,0,12,8,0,12,0,0,0]
[7250,1,3.4,0,0,0,16,0,0,0,0,0,0,0.5,0,0,0,12,0,0,0,0,0,0,0.5,0,0,12,8,0,12,0,0,0]
[7263,1,15,0,0,0,16,0,0,0,0,0,0,0.5,0,0,0,12,0,0,0,0,0,0,0.5,0,0,12,8,0,12,0,0,0]
[7267,1,8.3000000000000007,0,0,0,16,0,0,0,0,0,0,0.5,0,0,0,12,0,0,0,0,0,0,0.5,0,0,12,8,0,12,0,0,0]
[7273,1,5.5,0,0,0,16,0,0,0,0,0,0,0.5,0,0,0,12,0,0,0,0,0,0,0.5,0,0,12,8,0,12,0,0,0]
[7284,1,13.8,0,0,1.8812599999999999,16,0,0,0,0,-1.7720100000000001E-3,6.5131659999999997E-4,0.5,0,0,1.3330519999999999,12,0,0,0,0,5.7466300000000002E-7,5.74663E-4,0.5,0,3.2131535544630001,12,8,0,12,0,0,0]
[7287,1,15.7,0,0,3.8424420000000001,16,0,0,0,0,-1.8354509999999999E-3,6.5131659999999997E-4,0.5,0,0,2.97024,12,0,0,0,0,5.7466300000000002E-7,5.74663E-4,0.5,0,6.8114601134630002,12,8,0,12,0,0,0]
[7301,1,8.6,0,0,0,16,0,0,0,0,0,0,0.5,0,0,0,12,0,0,0,0,0,0,0.5,0,0,12,8,0,12,0,0,0]
[7308,1,9.9,0,0,0,16,0,0,0,0,0,0,0.5,0,0,0,12,0,0,0,0,0,0,0.5,0,0,12,8,0,12,0,0,0]
[7310,1,11.3,0,0,0,16,0,0,0,0,0,0,0.5,0,0,3.7137340000000005E-2,12,0,0,0,0,5.7466300000000002E-7,5.74663E-4,0.5,0,3.7425246163000005E-2,12,8,0,12,0,0,0]
[7322,1,7.4,0,0,0,16,0,0,0,0,0,0,0.5,0,0,0,12,0,0,0,0,0,0,0.5,0,0,12,8,0,12,0,0,0]
[7327,1,4.8,0,0,0,16,0,0,0,0,0,0,0.5,0,0,0,12,0,0,0,0,0,0,0.5,0,0,12,8,0,12,0,0,0]
[7332,1,13.8,0,0,2.027997,16,0,0,0,0,-1.198782E-3,6.5131659999999997E-4,0.5,0,0,1.593955,12,0,0,0,0,5.7466300000000002E-7,5.74663E-4,0.5,0,3.6213667824630003,12,8,0,12,0,0,0]
[7344,1,5.3,0,0,0,16,0,0,0,0,0,0,0.5,0,0,0,12,0,0,0,0,0,0,0.5,0,0,12,8,0,12,0,0,0]
[7353,1,7.8,0,0,0,16,0,0,0,0,0,0,0.5,0,0,0,12,0,0,0,0,0,0,0.5,0,0,12,8,0,12,0,0,0]
[7361,1,9.9,0,0,0,16,0,0,0,0,0,0,0.5,0,0,0.7920912,12,{"$f":"0.05*O7374","v":0},{"$f":"0.05*P7374","v":0},0,0,5.7466300000000002E-7,5.74663E-4,0.5,0,0.792379106163,12,8,0,12,0,0,0]
[7362,1,8.1999999999999993,0,0,0,16,{"$f":"0.05*D7375","v":0},{"$f":"0.05*E7375","v":0},0,0,0,0,0.5,0,0,0,12,0,0,0,0,0,0,0.5,0,0,12,8,0,12,0,0,{"$f":"0.05*AF7375","v":0}]
[7376,1,3.9,0,0,0,16,0,0,0,0,0,0,0.5,0,0,0,12,0,0,0,0,0,0,0.5,0,0,12,8,0,12,0,0,0]
[7379,1,12,0,0,0.49773509999999999,16,0,0,0,0,2.0787880000000002E-2,6.5131659999999997E-4,0.5,0,0,0.54089980000000004,12,0,0,0,0,5.7466300000000002E-7,5.74663E-4,0.5,0,1.0600363444630001,12,8,0,12,0,0,0]
[7390,1,6.3,0,0,0,16,0,0,0,0,0,0,0.5,0,0,0,12,0,0,0,0,0,0,0.5,0,0,12,8,0,12,0,0,0]
[7396,1,5.4,0,0,0,16,0,0,0,0,0,0,0.5,0,0,0,12,0,0,0,0,0,0,0.5,0,0,12,8,0,12,0,0,0]
[7404,1,10.199999999999999,0,0,0,16,0,0,0,0,0,0,0.5,0,0,0,12,0,0,0,0,0,0,0.5,0,0,12,8,0,12,0,0,0]
[7413,1,8.6999999999999993,0,0,0,16,0,0,0,0,0,0,0.5,0,0,0,12,0,0,0,0,0,0,0.5,0,0,12,8,0,12,0,0,0]
[7418,1,3.5,0,0,0,16,0,0,0,0,0,0,0.5,0,0,0,12,0,0,0,0,0,0,0.5,0,0,12,8,0,12,0,0,0]
[7422,1,1.5,0,0,0,16,0,0,0,0,0,0,0.5,0,0,0,12,0,0,0,0,0,0,0.5,0,0,12,8,0,12,0,0,0]
[7435,1,6.3,0,0,0,16,0,0,0,0,0,0,0.5,0,0,0,12,0,0,0,0,0,0,0.5,0,0,12,8,0,12,0,0,0]
[7439,1,6.8,0,0,0,16,0,0,0,0,0,0,0.5,0,0,0,12,0,0,0,0,0,0,0.5,0,0,12,8,0,12,0,0,0]
[7449,1,10.7,0,0,0,16,0,0,0,0,0,0,0.5,0,0,0,12,0,0,0,0,0,0,0.5,0,0,12,8,0,12,0,0,0]
[7456,1,15.5,0,0,4.4931270000000003,16,0,0,0,0,-2.7332630000000001E-3,6.5131659999999997E-4,0.5,0,0,6.3537059999999999,12,0,0,0,0,5.7466300000000002E-7,5.74663E-4,0.5,0,10.844713301463001,12,8,0,12,0,0,0]
[7463,1,9.1999999999999993,0,0,0,16,0,0,0,0,0,0,0.5,0,0,0,12,0,0,0,0,0,0,0.5,0,0,12,8,0,12,0,0,0]
[7473,1,9.3000000000000007,0,0,0,16,0,0,0,0,0,0,0.5,0,0,0,12,0,0,0,0,0,0,0.5,0,0,12,8,0,12,0,0,0]
[7477,1,11.7,0,0,0,16,0,0,0,0,0,0,0.5,0,0,0.1231333,12,0,0,0,0,5.7466300000000002E-7,5.74663E-4,0.5,0,-49.876578793836998,4,8,50,4,4.1215403128760526,0,0.20607701564380265]
[7482,1,7.7,0,0,0,16,0,0,0,0,0,0,0.5,0,0,0,12,0,0,0,0,0,0,0.5,0,0,12,8,0,12,0,0,0]
[7491,1,2.5,0,0,0,16,0,0,0,0,0,0,0.5,0,0,0,12,0,0,0,0,0,0,0.5,0,0,12,8,0,12,0,0,0]
[7499,1,8.1,0,0,0,16,0,0,0,0,0,0,0.5,0,0,0,12,0,0,0,0,0,0,0.5,0,0,12,8,0,12,0,0,0]
[7508,1,3.4,0,0,0,16,0,0,0,0,0,0,0.5,0,0,0,12,0,0,0,0,0,0,0.5,0,0,12,8,0,12,0,0,0]
[7514,1,1.9,0,0,0,16,0,0,0,0,0,0,0.5,0,0,0,12,0,0,0,0,0,0,0.5,0,0,12,8,0,12,0,0,0]
[7525,1,7.7,0,0,0,16,0,0,0,0,0,0,0.5,0,0,0,12,0,0,0,0,0,0,0.5,0,0,12,8,0,12,0,0,0]
[7531,1,7.1,0,0,0,16,0,0,0,0,0,0,0.5,0,0,0,12,0,0,0,0,0,0,0.5,0,0,12,8,0,12,0,0,0]
[7542,1,2.5,0,0,0,16,0,0,0,0,0,0,0.5,0,0,0,12,0,0,0,0,0,0,0.5,0,0,12,8,0,12,0,0,0]
[7545,1,3.8,0,0,0,16,0,0,0,0,0,0,0.5,0,0,0,12,0,0,0,0,0,0,0.5,0,0,12,8,0,12,0,0,0]
[7551,1,9.1999999999999993,0,0,0,16,0,0,0,0,0,0,0.5,0,0,0,12,0,0,0,0,0,0,0.5,0,0,12,8,0,12,0,0,0]
[7559,1,9.9,0,0,0,16,0,0,0,0,0,0,0.5,0,0,0,12,0,0,0,0,0,0,0.5,0,0,12,8,0,12,0,0,0]
[7568,1,9,0,0,0,16,0,0,0,0,0,0,0.5,0,0,0,12,0,0,0,0,0,0,0.5,0,0,12,8,0,12,0,0,0]
[7573,1,15.2,0,0,0,16,0,0,0,0,0,0,0.5,0,0,0,12,0,0,0,0,0,0,0.5,0,0,12,8,0,12,0,0,0]
[7585,1,10.3,0,0,0,16,0,0,0,0,0,0,0.5,0,0,0,12,0,0,0,0,0,0,0.5,0,0,12,8,0,12,0,0,0]
[7590,1,9.5,0,0,0,16,0,0,0,0,0,0,0.5,0,0,0,12,0,0,0,0,0,0,0.5,0,0,12,8,0,12,0,0,0]
[7602,1,6.8,0,0,0,16,0,0,0,0,0,0,0.5,0,0,0,12,0,0,0,0,0,0,0.5,0,0,12,8,0,12,0,0,0]
[7604,1,6.7,0,0,0,16,0,0,0,0,0,0,0.5,0,0,0,12,0,0,0,0,0,0,0.5,0,0,12,8,0,12,0,0,0]
[7611,1,5.9,0,0,0,16,0,0,0,0,0,0,0.5,0,0,0,12,0,0,0,0,0,0,0.5,0,0,12,8,0,12,0,0,0]
[7618,1,3.8,0,0,0,16,{"$f":"0.05*D7631","v":0},{"$f":"0.05*E7631","v":0},0,0,0,0,0.5,0,0,0,12,0,0,0,0,0,0,0.5,0,0,12,8,0,12,0,0,{"$f":"0.05*AF7631","v":0}]
[7628,1,4,0,0,0,16,0,0,0,0,0,0,0.5,0,0,0,12,0,0,0,0,0,0,0.5,0,0,12,8,0,12,0,0,0]
[7639,1,3.1,0,0,0,16,0,0,0,0,0,0,0.5,0,0,0,12,0,0,0,0,0,0,0.5,0,0,12,8,0,12,0,0,0]
[7645,1,4.3,0,0,0,16,0,0,0,0,0,0,0.5,0,0,0,12,0,0,0,0,0,0,0.5,0,0,12,8,0,12,0,0,0]
[7654,1,4,0,0,0,16,0,0,0,0,0,0,0.5,0,0,0,12,0,0,0,0,0,0,0.5,0,0,12,8,0,12,0,0,0]
[7662,1,4,0,0,0,16,0,0,0,0,0,0,0.5,0,0,0,12,0,0,0,0,0,0,0.5,0,0,12,8,0,12,0,0,0]
[7663,1,4,0,0,0,16,0,0,0,0,0,0,0.5,0,0,0,12,0,0,0,0,0,0,0.5,0,0,12,8,0,12,0,0,0]
[7676,1,4.4000000000000004,0,0,0,16,0,0,0,0,0,0,0.5,0,0,0,12,0,0,0,0,0,0,0.5,0,0,12,8,0,12,0,0,0]
[7680,1,4.3,0,0,0,16,0,0,0,0,0,0,0.5,0,0,0,12,0,0,0,0,0,0,0.5,0,0,12,8,0,12,0,0,0]
[7686,1,4,0,0,0,16,0,0,0,0,0,0,0.5,0,0,0,12,0,0,0,0,0,0,0.5,0,0,12,8,0,12,0,0,0]
[7697,1,4.7,0,0,0,16,0,0,0,0,0,0,0.5,0,0,0,12,0,0,0,0,0,0,0.5,0,0,12,8,0,12,0,0,0]
[7707,1,3.9,0,0,0,16,0,0,0,0,0,0,0.5,0,0,0,12,0,0,0,0,0,0,0.5,0,0,12,8,0,12,0,0,0]
[7714,1,3.4,0,0,0,16,0,0,0,0,0,0,0.5,0,0,0,12,0,0,0,0,0,0,0.5,0,0,12,8,0,12,0,0,0]
[7721,1,3.6,0,0,0,16,0,0,0,0,0,0,0.5,0,0,0,12,0,0,0,0,0,0,0.5,0,0,12,8,0,12,0,0,0]
[7723,1,4,0,0,0,16,0,0,0,0,0,0,0.5,0,0,0,12,0,0,0,0,0,0,0.5,0,0,12,8,0,12,0,0,0]
[7735,1,4.2,0,0,0,16,0,0,0,0,0,0,0.5,0,0,0,12,0,0,0,0,0,0,0.5,0,0,12,8,0,12,0,0,0]
[7740,1,5.8,0,0,0,16,0,0,0,0,0,0,0.5,0,0,0,12,0,0,0,0,0,0,0.5,0,0,12,8,0,12,0,0,0]
[7749,1,4.0999999999999996,0,0,0,16,0,0,0,0,0,0,0.5,0,0,0,12,0,0,0,0,0,0,0.5,0,0,12,8,0,12,0,0,0]
[7757,1,3.1,0,0,0,16,0,0,0,0,0,0,0.5,0,0,0,12,0,0,0,0,0,0,0.5,0,0,12,8,0,12,0,0,0]
[7766,1,6,0,0,0,16,0,0,0,0,0,0,0.5,0,0,0,12,0,0,0,0,0,0,0.5,0,0,12,8,0,12,0,0,0]
[7774,1,5.3,0,0,0,16,0,0,0,0,0,0,0.5,0,0,0,12,0,0,0,0,0,0,0.5,0,0,12,8,0,12,0,0,0]
[7780,1,3.9,0,0,0,16,0,0,0,0,0,0,0.5,0,0,0,12,0,0,0,0,0,0,0.5,0,0,12,8,0,12,0,0,0]
[7783,1,4,0,0,0,16,0,0,0,0,0,0,0.5,0,0,0,12,0,0,0,0,0,0,0.5,0,0,12,8,0,12,0,0,0]
[7792,1,3.1,0,0,0,16,0,0,0,0,0,0,0.5,0,0,0,12,0,0,0,0,0,0,0.5,0,0,12,8,0,12,0,0,0]
[7803,1,0.7,0,0,0,16,0,0,0,0,0,0,0.5,0,0,0,12,0,0,0,0,0,0,0.5,0,0,12,8,0,12,0,0,0]
[7809,1,0.8,0,0,0,16,0,0,0,0,0,0,0.5,0,0,0,12,{"$f":"0.05*O7822","v":0},{"$f":"0.05*P7822","v":0},0,0,0,0,0.5,0,0,12,8,0,12,0,0,0]
[7817,1,0.1,0,0,0,16,0,0,0,0,0,0,0.5,0,0,0,12,0,0,0,0,0,0,0.5,0,0,12,8,0,12,0,0,0]
[7826,1,-1.7,0,0,0,16,0,0,0,0,0,0,0.5,0,0,0,12,0,0,0,0,0,0,0.5,0,0,12,8,0,12,0,0,0]
[7831,1,-2.2000000000000002,0,0,0,16,0,0,0,0,0,0,0.5,0,0,0,12,0,0,0,0,0,0,0.5,0,0,12,8,0,12,0,0,0]
[7843,1,0.7,0,0,0,16,0,0,0,0,0,0,0.5,0,0,0,12,0,0,0,0,0,0,0.5,0,0,12,8,0,12,0,0,0]
[7848,1,0.9,0,0,0,16,0,0,0,0,0,0,0.5,0,0,0,12,0,0,0,0,0,0,0.5,0,0,12,8,0,12,0,0,0]
[7852,1,0.5,0,0,0,16,0,0,0,0,0,0,0.5,0,0,0,12,0,0,0,0,0,0,0.5,0,0,12,8,0,12,0,0,0]
[7862,1,2.5,0,0,0,16,0,0,0,0,0,0,0.5,0,0,0,12,0,0,0,0,0,0,0.5,0,0,12,8,0,12,0,0,0]
[7869,1,-2.1,0,0,0,16,0,0,0,0,0,0,0.5,0,0,0,12,0,0,0,0,0,0,0.5,0,0,12,8,0,12,0,0,0]
[7876,1,-1,0,0,0,16,0,0,0,0,0,0,0.5,0,0,0,12,0,0,0,0,0,0,0.5,0,0,12,8,0,12,0,0,0]
[7886,1,1.8,0,0,0,16,0,0,0,0,0,0,0.5,0,0,0,12,0,0,0,0,0,0,0.5,0,0,12,8,0,12,0,0,0]
[7890,1,1.8,0,0,0,16,0,0,0,0,0,0,0.5,0,0,0,12,0,0,0,0,0,0,0.5,0,0,12,8,0,12,0,0,0]
[7903,1,4,0,0,0,16,0,0,0,0,0,0,0.5,0,0,0,12,0,0,0,0,0,0,0.5,0,0,12,8,0,12,0,0,0]
[7904,1,4.9000000000000004,0,0,0,16,0,0,0,0,0,0,0.5,0,0,0,12,0,0,0,0,0,0,0.5,0,0,12,8,0,12,0,0,0]
[7912,1,3.7,0,0,0,16,0,0,0,0,0,0,0.5,0,0,0,12,0,0,0,0,0,0,0.5,0,0,12,8,0,12,0,0,0]
[7921,1,3.5,0,0,0,16,0,0,0,0,0,0,0.5,0,0,0,12,0,0,0,0,0,0,0.5,0,0,12,8,0,12,0,0,0]
[7929,1,1.6,0,0,0,16,0,0,0,0,0,0,0.5,0,0,0,12,0,0,0,0,0,0,0.5,0,0,12,8,0,12,0,0,0]
[7938,1,2.1,0,0,0,16,{"$f":"0.05*D7951","v":0},{"$f":"0.05*E7951","v":0},0,0,0,0,0.5,0,0,0,12,0,0,0,0,0,0,0.5,0,0,12,8,0,12,0,0,{"$f":"0.05*AF7951","v":0}]
[7944,1,0.3,0,0,0,16,0,0,0,0,0,0,0.5,0,0,0,12,0,0,0,0,0,0,0.5,0,0,12,8,0,12,0,0,0]
[7955,1,0,0,0,0,16,0,0,0,0,0,0,0.5,0,0,0,12,0,0,0,0,0,0,0.5,0,0,12,8,0,12,0,0,0]
[7958,1,0,0,0,0,16,0,0,0,0,0,0,0.5,0,0,0,12,0,0,0,0,0,0,0.5,0,0,12,8,0,12,0,0,0]
[7964,1,-1.2,0,0,0,16,0,0,0,0,0,0,0.5,0,0,0,12,0,0,0,0,0,0,0.5,0,0,12,8,0,12,0,0,0]
[7972,1,-2.4,0,0,0,16,0,0,0,0,0,0,0.5,0,0,0,12,0,0,0,0,0,0,0.5,0,0,12,8,0,12,0,0,0]
[7981,1,-0.4,0,0,0,16,0,0,0,0,0,0,0.5,0,0,0,12,0,0,0,0,0,0,0.5,0,0,12,8,0,12,0,0,0]
[7993,1,4.9000000000000004,0,0,0,16,0,0,0,0,0,0,0.5,0,0,0,12,0,0,0,0,0,0,0.5,0,0,12,8,0,12,0,0,0]
[7998,1,4,0,0,0,16,0,0,0,0,0,0,0.5,0,0,0,12,0,0,0,0,0,0,0.5,0,0,12,8,0,12,0,0,0]
[8003,1,2.6,0,0,0,16,0,0,0,0,0,0,0.5,0,0,0,12,0,0,0,0,0,0,0.5,0,0,12,8,0,12,0,0,0]
[8015,1,1.3,0,0,0,16,0,0,0,0,0,0,0.5,0,0,0,12,0,0,0,0,0,0,0.5,0,0,12,8,0,12,0,0,0]
[8017,1,-0.3,0,0,0,16,0,0,0,0,0,0,0.5,0,0,0,12,0,0,0,0,0,0,0.5,0,0,12,8,0,12,0,0,0]
[8024,1,-1.6,0,0,0,16,0,0,0,0,0,0,0.5,0,0,0,12,0,0,0,0,0,0,0.5,0,0,12,8,0,12,0,0,0]
[8038,1,2.6,0,0,0,16,0,0,0,0,0,0,0.5,0,0,0,12,0,0,0,0,0,0,0.5,0,0,12,8,0,12,0,0,0]
[8041,1,2.5,0,0,0,16,0,0,0,0,0,0,0.5,0,0,0,12,0,0,0,0,0,0,0.5,0,0,12,8,0,12,0,0,0]
[8052,1,7,0,0,0,16,0,0,0,0,0,0,0.5,0,0,0,12,0,0,0,0,0,0,0.5,0,0,12,8,0,12,0,0,0]
[8058,1,8.5,0,0,0,16,0,0,0,0,0,0,0.5,0,0,0,12,0,0,0,0,0,0,0.5,0,0,12,8,0,12,0,0,0]
[8066,1,1.5,0,0,0,16,{"$f":"0.05*D8079","v":0},{"$f":"0.05*E8079","v":0},0,0,0,0,0.5,0,0,0,12,0,0,0,0,0,0,0.5,0,0,12,8,0,12,0,0,{"$f":"0.05*AF8079","v":0}]
[8075,1,5,0,0,0,16,0,0,0,0,0,0,0.5,0,0,0,12,0,0,0,0,0,0,0.5,0,0,12,8,0,12,0,0,0]
[8084,1,2,0,0,0,16,0,0,0,0,0,0,0.5,0,0,0,12,0,0,0,0,0,0,0.5,0,0,12,8,0,12,0,0,0]
[8089,1,-0.3,0,0,0,16,0,0,0,0,0,0,0.5,0,0,0,12,0,0,0,0,0,0,0.5,0,0,12,8,0,12,0,0,0]
[8093,1,1.2,0,0,0,16,0,0,0,0,0,0,0.5,0,0,0,12,0,0,0,0,0,0,0.5,0,0,12,8,0,12,0,0,0]
[8106,1,7.7,0,0,0,16,0,0,0,0,0,0,0.5,0,0,0,12,0,0,0,0,0,0,0.5,0,0,12,8,0,12,0,0,0]
[8110,1,5.2,0,0,0,16,0,0,0,0,0,0,0.5,0,0,0,12,0,0,0,0,0,0,0.5,0,0,12,8,0,12,0,0,0]
[8120,1,1.5,0,0,0,16,0,0,0,0,0,0,0.5,0,0,0,12,0,0,0,0,0,0,0.5,0,0,12,8,0,12,0,0,0]
[8127,1,1.3,0,0,0,16,0,0,0,0,0,0,0.5,0,0,0,12,0,0,0,0,0,0,0.5,0,0,12,8,0,12,0,0,0]
[8134,1,1,0,0,0,16,0,0,0,0,0,0,0.5,0,0,0,12,0,0,0,0,0,0,0.5,0,0,12,8,0,12,0,0,0]
[8144,1,-3.1,0,0,0,16,0,0,0,0,0,0,0.5,0,0,0,12,0,0,0,0,0,0,0.5,0,0,12,8,0,12,0,0,0]
[8148,1,1.4,0,0,0,16,0,0,0,0,0,0,0.5,0,0,0,12,0,0,0,0,0,0,0.5,0,0,12,8,0,12,0,0,0]
[8153,1,1.1000000000000001,0,0,0,16,0,0,0,0,0,0,0.5,0,0,0,12,0,0,0,0,0,0,0.5,0,0,12,8,0,12,0,0,0]
[8162,1,-2.4,0,0,0,16,0,0,0,0,0,0,0.5,0,0,0,12,0,0,0,0,0,0,0.5,0,0,12,8,0,12,0,0,0]
[8170,1,0.5,0,0,0,16,0,0,0,0,0,0,0.5,0,0,0,12,0,0,0,0,0,0,0.5,0,0,12,8,0,12,0,0,0]
[8179,1,1.2,0,0,0,16,0,0,0,0,0,0,0.5,0,0,0,12,0,0,0,0,0,0,0.5,0,0,12,8,0,12,0,0,0]
[8187,1,5.6,0,0,0,16,0,0,0,0,0,0,0.5,0,0,0,12,0,0,0,0,0,0,0.5,0,0,12,8,0,12,0,0,0]
[8193,1,4.7,0,0,0,16,0,0,0,0,0,0,0.5,0,0,0,12,{"$f":"0.05*O8206","v":0},{"$f":"0.05*P8206","v":0},0,0,0,0,0.5,0,0,12,8,0,12,0,0,0]
[8204,1,3.6,0,0,0,16,0,0,0,0,0,0,0.5,0,0,0,12,0,0,0,0,0,0,0.5,0,0,12,8,0,12,0,0,0]
[8207,1,1.6,0,0,0,16,0,0,0,0,0,0,0.5,0,0,0,12,0,0,0,0,0,0,0.5,0,0,12,8,0,12,0,0,0]
[8213,1,1.2,0,0,0,16,0,0,0,0,0,0,0.5,0,0,0,12,0,0,0,0,0,0,0.5,0,0,12,8,0,12,0,0,0]
[8222,1,6.9,0,0,0,16,0,0,0,0,0,0,0.5,0,0,0,12,0,0,0,0,0,0,0.5,0,0,12,8,0,12,0,0,0]
[8230,1,3,0,0,0,16,0,0,0,0,0,0,0.5,0,0,0,12,0,0,0,0,0,0,0.5,0,0,12,8,0,12,0,0,0]
[8239,1,4.0999999999999996,0,0,0,16,0,0,0,0,0,0,0.5,0,0,0,12,0,0,0,0,0,0,0.5,0,0,12,8,0,12,0,0,0]
[8244,1,4.3,0,0,0,16,0,0,0,0,0,0,0.5,0,0,0,12,0,0,0,0,0,0,0.5,0,0,12,8,0,12,0,0,0]
[8256,1,2,0,0,0,16,0,0,0,0,0,0,0.5,0,0,0,12,0,0,0,0,0,0,0.5,0,0,12,8,0,12,0,0,0]
[8261,1,-1.2,0,0,0,16,0,0,0,0,0,0,0.5,0,0,0,12,0,0,0,0,0,0,0.5,0,0,12,8,0,12,0,0,0]
[8265,1,1.2,0,0,0,16,0,0,0,0,0,0,0.5,0,0,0,12,0,0,0,0,0,0,0.5,0,0,12,8,0,12,0,0,0]
[8275,1,3.2,0,0,0,16,0,0,0,0,0,0,0.5,0,0,0,12,0,0,0,0,0,0,0.5,0,0,12,8,0,12,0,0,0]
[8282,1,3.2,0,0,0,16,0,0,0,0,0,0,0.5,0,0,0,12,0,0,0,0,0,0,0.5,0,0,12,8,0,12,0,0,0]
[8289,1,4,0,0,0,16,0,0,0,0,0,0,0.5,0,0,0,12,0,0,0,0,0,0,0.5,0,0,12,8,0,12,0,0,0]
[8299,1,7.5,0,0,0,16,0,0,0,0,0,0,0.5,0,0,0,12,0,0,0,0,0,0,0.5,0,0,12,8,0,12,0,0,0]
[8303,1,3.9,0,0,0,16,0,0,0,0,0,0,0.5,0,0,0,12,0,0,0,0,0,0,0.5,0,0,12,8,0,12,0,0,0]
[8316,1,6.2,0,0,0,16,0,0,0,0,0,0,0.5,0,0,0,12,0,0,0,0,0,0,0.5,0,0,12,8,0,12,0,0,0]
[8324,1,0.9,0,0,0,16,0,0,0,0,0,0,0.5,0,0,0,12,0,0,0,0,0,0,0.5,0,0,12,8,0,12,0,0,0]
[8325,1,1.2,0,0,0,16,0,0,0,0,0,0,0.5,0,0,0,12,0,0,0,0,0,0,0.5,0,0,12,8,0,12,0,0,0]
[8334,1,2.9,0,0,0,16,0,0,0,0,0,0,0.5,0,0,0,12,0,0,0,0,0,0,0.5,0,0,12,8,0,12,0,0,0]
[8342,1,4.9000000000000004,0,0,0,16,0,0,0,0,0,0,0.5,0,0,0,12,0,0,0,0,0,0,0.5,0,0,12,8,0,12,0,0,0]
[8348,1,2.5,0,0,0,16,0,0,0,0,0,0,0.5,0,0,0,12,0,0,0,0,0,0,0.5,0,0,12,8,0,12,0,0,0]
[8359,1,0.6,0,0,0,16,0,0,0,0,0,0,0.5,0,0,0,12,0,0,0,0,0,0,0.5,0,0,12,8,0,12,0,0,0]
[8368,1,1.1000000000000001,0,0,0,16,0,0,0,0,0,0,0.5,0,0,0,12,0,0,0,0,0,0,0.5,0,0,12,8,0,12,0,0,0]
[8371,1,-0.4,0,0,0,16,0,0,0,0,0,0,0.5,0,0,0,12,0,0,0,0,0,0,0.5,0,0,12,8,0,12,0,0,0]
[8385,1,-1.8,0,0,0,16,0,0,0,0,0,0,0.5,0,0,0,12,{"$f":"0.05*O8398","v":0},{"$f":"0.05*P8398","v":0},0,0,0,0,0.5,0,0,12,8,0,12,0,0,0]
[8392,1,-1.3,0,0,0,16,0,0,0,0,0,0,0.5,0,0,0,12,0,0,0,0,0,0,0.5,0,0,12,8,0,12,0,0,0]
[8394,1,-1.6,0,0,0,16,0,0,0,0,0,0,0.5,0,0,0,12,0,0,0,0,0,0,0.5,0,0,12,8,0,12,0,0,0]
[8406,1,-6.9,0,0,0,16,0,0,0,0,0,0,0.5,0,0,0,12,0,0,0,0,0,0,0.5,0,0,12,8,0,12,0,0,0]
[8411,1,-3,0,0,0,16,0,0,0,0,0,0,0.5,0,0,0,12,0,0,0,0,0,0,0.5,0,0,12,8,0,12,0,0,0]
[8420,1,-1.7,0,0,0,16,0,0,0,0,0,0,0.5,0,0,0,12,0,0,0,0,0,0,0.5,0,0,12,8,0,12,0,0,0]
[8428,1,0.1,0,0,0,16,0,0,0,0,0,0,0.5,0,0,0,12,0,0,0,0,0,0,0.5,0,0,12,8,0,12,0,0,0]
[8437,1,1.9,0,0,0,16,0,0,0,0,0,0,0.5,0,0,0,12,0,0,0,0,0,0,0.5,0,0,12,8,0,12,0,0,0]
[8445,1,2.8,0,0,0,16,0,0,0,0,0,0,0.5,0,0,0,12,0,0,0,0,0,0,0.5,0,0,12,8,0,12,0,0,0]
[8451,1,4.5999999999999996,0,0,0,16,0,0,0,0,0,0,0.5,0,0,0,12,0,0,0,0,0,0,0.5,0,0,12,8,0,12,0,0,0]
[8454,1,6.9,0,0,0,16,0,0,0,0,0,0,0.5,0,0,0,12,0,0,0,0,0,0,0.5,0,0,12,8,0,12,0,0,0]
[8465,1,0.9,0,0,0,16,0,0,0,0,0,0,0.5,0,0,0,12,0,0,0,0,0,0,0.5,0,0,12,8,0,12,0,0,0]
[8471,1,0.2,0,0,0,16,0,0,0,0,0,0,0.5,0,0,0,12,0,0,0,0,0,0,0.5,0,0,12,8,0,12,0,0,0]
[8479,1,-2.2000000000000002,0,0,0,16,0,0,0,0,0,0,0.5,0,0,0,12,0,0,0,0,0,0,0.5,0,0,12,8,0,12,0,0,0]
[8488,1,-1.8,0,0,0,16,0,0,0,0,0,0,0.5,0,0,0,12,0,0,0,0,0,0,0.5,0,0,12,8,0,12,0,0,0]
[8496,1,-3.2,0,0,0,16,0,0,0,0,0,0,0.5,0,0,0,12,0,0,0,0,0,0,0.5,0,0,12,8,0,12,0,0,0]
[8505,1,-3.2,0,0,0,16,0,0,0,0,0,0,0.5,0,0,0,12,0,0,0,0,0,0,0.5,0,0,12,8,0,12,0,0,0]
[8506,1,-2.5,0,0,0,16,0,0,0,0,0,0,0.5,0,0,0,12,0,0,0,0,0,0,0.5,0,0,12,8,0,12,0,0,0]
[8514,1,-3,0,0,0,16,{"$f":"0.05*D8527","v":0},{"$f":"0.05*E8527","v":0},0,0,0,0,0.5,0,0,0,12,0,0,0,0,0,0,0.5,0,0,12,8,0,12,0,0,{"$f":"0.05*AF8527","v":0}]
[8515,1,-3.3,0,0,0,16,0,0,0,0,0,0,0.5,0,0,0,12,0,0,0,0,0,0,0.5,0,0,12,8,0,12,0,0,0]
[8516,1,-3.4,0,0,0,16,0,0,0,0,0,0,0.5,0,0,0,12,0,0,0,0,0,0,0.5,0,0,12,8,0,12,0,0,0]
[8517,1,-3.5,0,0,0,16,0,0,0,0,0,0,0.5,0,0,0,12,0,0,0,0,0,0,0.5,0,0,12,8,0,12,0,0,0]
[8518,1,-3.9,0,0,0,16,0,0,0,0,0,0,0.5,0,0,0,12,0,0,0,0,0,0,0.5,0,0,12,8,0,12,0,0,0]
[8519,1,-5.0999999999999996,0,0,0,16,0,0,0,0,0,0,0.5,0,0,0,12,0,0,0,0,0,0,0.5,0,0,12,8,0,12,0,0,0]
[8520,1,-5.3,0,0,0,16,0,0,0,0,0,0,0.5,0,0,0,12,0,0,0,0,0,0,0.5,0,0,12,8,0,12,0,0,0]
[8521,1,-5.4,0,0,0,16,0,0,0,0,0,0,0.5,0,0,0,12,0,0,0,0,0,0,0.5,0,0,12,8,0,12,0,0,0]
[8522,1,-5.2,0,0,0,16,0,0,0,0,0,0,0.5,0,0,0,12,0,0,0,0,0,0,0.5,0,0,12,8,0,12,0,0,0]
[8523,1,-5,0,0,0,16,0,0,0,0,0,0,0.5,0,0,0,12,0,0,0,0,0,0,0.5,0,0,12,8,0,12,0,0,0]
[8524,1,-4.5,0,0,0,16,0,0,0,0,0,0,0.5,0,0,0,12,0,0,0,0,0,0,0.5,0,0,12,8,0,12,0,0,0]
[8525,1,-4.0999999999999996,0,0,0,16,0,0,0,0,0,0,0.5,0,0,0,12,0,0,0,0,0,0,0.5,0,0,12,8,0,12,0,0,0]
[8526,1,-4,0,0,0,16,0,0,0,0,0,0,0.5,0,0,0,12,0,0,0,0,0,0,0.5,0,0,12,8,0,12,0,0,0]
[8527,1,-3.8,0,0,0,16,0,0,0,0,0,0,0.5,0,0,0,12,0,0,0,0,0,0,0.5,0,0,12,8,0,12,0,0,0]
[8528,1,-4,0,0,0,16,0,0,0,0,0,0,0.5,0,0,0,12,0,0,0,0,0,0,0.5,0,0,12,8,0,12,0,0,0]
[8529,1,-3.7,0,0,0,16,0,0,0,0,0,0,0.5,0,0,0,12,0,0,0,0,0,0,0.5,0,0,12,8,0,12,0,0,0]
[8530,1,-3.7,0,0,0,16,0,0,0,0,0,0,0.5,0,0,0,12,0,0,0,0,0,0,0.5,0,0,12,8,0,12,0,0,0]
[8531,1,-3.5,0,0,0,16,0,0,0,0,0,0,0.5,0,0,0,12,0,0,0,0,0,0,0.5,0,0,12,8,0,12,0,0,0]
[8532,1,-2.8,0,0,0,16,0,0,0,0,0,0,0.5,0,0,0,12,0,0,0,0,0,0,0.5,0,0,12,8,0,12,0,0,0]
[8533,1,-2.6,0,0,0,16,0,0,0,0,0,0,0.5,0,0,0,12,0,0,0,0,0,0,0.5,0,0,12,8,0,12,0,0,0]
[8534,1,-2.4,0,0,0,16,0,0,0,0,0,0,0.5,0,0,0,12,0,0,0,0,0,0,0.5,0,0,12,8,0,12,0,0,0]
[8535,1,-2.2999999999999998,0,0,0,16,0,0,0,0,0,0,0.5,0,0,0,12,0,0,0,0,0,0,0.5,0,0,12,8,0,12,0,0,0]
[8536,1,-2.6,0,0,0,16,0,0,0,0,0,0,0.5,0,0,0,12,0,0,0,0,0,0,0.5,0,0,12,8,0,12,0,0,0]
[8537,1,-2.7,0,0,0,16,0,0,0,0,0,0,0.5,0,0,0,12,0,0,0,0,0,0,0.5,0,0,12,8,0,12,0,0,0]
[8538,1,-2.7,0,0,0,16,0,0,0,0,0,0,0.5,0,0,0,12,0,0,0,0,0,0,0.5,0,0,12,8,0,12,0,0,0]
[8539,1,-3.1,0,0,0,16,0,0,0,0,0,0,0.5,0,0,0,12,0,0,0,0,0,0,0.5,0,0,12,8,0,12,0,0,0]
[8540,1,-3.3,0,0,0,16,0,0,0,0,0,0,0.5,0,0,0,12,0,0,0,0,0,0,0.5,0,0,12,8,0,12,0,0,0]
[8541,1,-3.4,0,0,0,16,0,0,0,0,0,0,0.5,0,0,0,12,0,0,0,0,0,0,0.5,0,0,12,8,0,12,0,0,0]
[8542,1,-3.5,0,0,0,16,0,0,0,0,0,0,0.5,0,0,0,12,0,0,0,0,0,0,0.5,0,0,12,8,0,12,0,0,0]
[8543,1,-3.5,0,0,0,16,0,0,0,0,0,0,0.5,0,0,0,12,0,0,0,0,0,0,0.5,0,0,12,8,0,12,0,0,0]
[8544,1,-3.4,0,0,0,16,0,0,0,0,0,0,0.5,0,0,0,12,0,0,0,0,0,0,0.5,0,0,12,8,0,12,0,0,0]
[8545,1,-3.2,0,0,0,16,0,0,0,0,0,0,0.5,0,0,0,12,0,0,0,0,0,0,0.5,0,0,12,8,0,12,0,0,0]
[8546,1,-3.1,0,0,0,16,0,0,0,0,0,0,0.5,0,0,0,12,0,0,0,0,0,0,0.5,0,0,12,8,0,12,0,0,0]
[8547,1,-3.4,0,0,0,16,0,0,0,0,0,0,0.5,0,0,0,12,0,0,0,0,0,0,0.5,0,0,12,8,0,12,0,0,0]
[8548,1,-3.4,0,0,0,16,0,0,0,0,0,0,0.5,0,0,0,12,0,0,0,0,0,0,0.5,0,0,12,8,0,12,0,0,0]
[8549,1,-3.5,0,0,0,16,0,0,0,0,0,0,0.5,0,0,0,12,0,0,0,0,0,0,0.5,0,0,12,8,0,12,0,0,0]
[8550,1,-3.5,0,0,0,16,0,0,0,0,0,0,0.5,0,0,0,12,0,0,0,0,0,0,0.5,0,0,12,8,0,12,0,0,0]
[8551,1,-3.3,0,0,0,16,0,0,0,0,0,0,0.5,0,0,0,12,0,0,0,0,0,0,0.5,0,0,12,8,0,12,0,0,0]
[8552,1,-3.1,0,0,0,16,0,0,0,0,0,0,0.5,0,0,0,12,0,0,0,0,0,0,0.5,0,0,12,8,0,12,0,0,0]
[8553,1,-2.8,0,0,0,16,0,0,0,0,0,0,0.5,0,0,0,12,0,0,0,0,0,0,0.5,0,0,12,8,0,12,0,0,0]
[8554,1,-2.7,0,0,0,16,0,0,0,0,0,0,0.5,0,0,0,12,0,0,0,0,0,0,0.5,0,0,12,8,0,12,0,0,0]
[8555,1,-1.9,0,0,0,16,0,0,0,0,0,0,0.5,0,0,0,12,0,0,0,0,0,0,0.5,0,0,12,8,0,12,0,0,0]
[8556,1,-1.2,0,0,0,16,0,0,0,0,0,0,0.5,0,0,0,12,0,0,0,0,0,0,0.5,0,0,12,8,0,12,0,0,0]
[8557,1,-0.3,0,0,0,16,0,0,0,0,0,0,0.5,0,0,0,12,0,0,0,0,0,0,0.5,0,0,12,8,0,12,0,0,0]
[8558,1,-0.1,0,0,0,16,0,0,0,0,0,0,0.5,0,0,0,12,0,0,0,0,0,0,0.5,0,0,12,8,0,12,0,0,0]
[8559,1,0.2,0,0,0,16,0,0,0,0,0,0,0.5,0,0,0,12,0,0,0,0,0,0,0.5,0,0,12,8,0,12,0,0,0]
[8560,1,0.5,0,0,0,16,0,0,0,0,0,0,0.5,0,0,0,12,0,0,0,0,0,0,0.5,0,0,12,8,0,12,0,0,0]
[8561,1,-0.4,0,0,0,16,0,0,0,0,0,0,0.5,0,0,0,12,0,0,0,0,0,0,0.5,0,0,12,8,0,12,0,0,0]
[8562,1,-0.5,0,0,0,16,0,0,0,0,0,0,0.5,0,0,0,12,0,0,0,0,0,0,0.5,0,0,12,8,0,12,0,0,0]
[8563,1,-0.7,0,0,0,16,0,0,0,0,0,0,0.5,0,0,0,12,0,0,0,0,0,0,0.5,0,0,12,8,0,12,0,0,0]
[8564,1,-1.2,0,0,0,16,0,0,0,0,0,0,0.5,0,0,0,12,0,0,0,0,0,0,0.5,0,0,12,8,0,12,0,0,0]
[8565,1,-1.2,0,0,0,16,0,0,0,0,0,0,0.5,0,0,0,12,0,0,0,0,0,0,0.5,0,0,12,8,0,12,0,0,0]
[8566,1,-1.3,0,0,0,16,0,0,0,0,0,0,0.5,0,0,0,12,0,0,0,0,0,0,0.5,0,0,12,8,0,12,0,0,0]
[8567,1,-1.8,0,0,0,16,0,0,0,0,0,0,0.5,0,0,0,12,0,0,0,0,0,0,0.5,0,0,12,8,0,12,0,0,0]
[8568,1,-1,0,0,0,16,0,0,0,0,0,0,0.5,0,0,0,12,0,0,0,0,0,0,0.5,0,0,12,8,0,12,0,0,0]
[8569,1,-0.5,0,0,0,16,0,0,0,0,0,0,0.5,0,0,0,12,0,0,0,0,0,0,0.5,0,0,12,8,0,12,0,0,0]
[8570,1,-0.2,0,0,0,16,0,0,0,0,0,0,0.5,0,0,0,12,0,0,0,0,0,0,0.5,0,0,12,8,0,12,0,0,0]
[8571,1,0.4,0,0,0,16,0,0,0,0,0,0,0.5,0,0,0,12,0,0,0,0,0,0,0.5,0,0,12,8,0,12,0,0,0]
[8572,1,-0.1,0,0,0,16,0,0,0,0,0,0,0.5,0,0,0,12,0,0,0,0,0,0,0.5,0,0,12,8,0,12,0,0,0]
[8573,1,-0.6,0,0,0,16,0,0,0,0,0,0,0.5,0,0,0,12,0,0,0,0,0,0,0.5,0,0,12,8,0,12,0,0,0]
[8574,1,-1.4,0,0,0,16,0,0,0,0,0,0,0.5,0,0,0,12,0,0,0,0,0,0,0.5,0,0,12,8,0,12,0,0,0]
[8575,1,-1.8,0,0,0,16,0,0,0,0,0,0,0.5,0,0,0,12,0,0,0,0,0,0,0.5,0,0,12,8,0,12,0,0,0]
[8576,1,-1.1000000000000001,0,0,0,16,0,0,0,0,0,0,0.5,0,0,0,12,0,0,0,0,0,0,0.5,0,0,12,8,0,12,0,0,0]
[8577,1,-0.4,0,0,0,16,0,0,0,0,0,0,0.5,0,0,0,12,{"$f":"0.05*O8590","v":0},{"$f":"0.05*P8590","v":0},0,0,0,0,0.5,0,0,12,8,0,12,0,0,0]
[8578,1,1.3,0,0,0,16,{"$f":"0.05*D8591","v":0},{"$f":"0.05*E8591","v":0},0,0,0,0,0.5,0,0,0,12,0,0,0,0,0,0,0.5,0,0,12,8,0,12,0,0,{"$f":"0.05*AF8591","v":0}]
[8579,1,2.7,0,0,0,16,0,0,0,0,0,0,0.5,0,0,0,12,0,0,0,0,0,0,0.5,0,0,12,8,0,12,0,0,0]
[8580,1,4,0,0,0,16,0,0,0,0,0,0,0.5,0,0,0,12,0,0,0,0,0,0,0.5,0,0,12,8,0,12,0,0,0]
[8581,1,3.9,0,0,0,16,0,0,0,0,0,0,0.5,0,0,0,12,0,0,0,0,0,0,0.5,0,0,12,8,0,12,0,0,0]
[8582,1,4,0,0,0,16,0,0,0,0,0,0,0.5,0,0,0,12,0,0,0,0,0,0,0.5,0,0,12,8,0,12,0,0,0]
[8583,1,3.8,0,0,0,16,0,0,0,0,0,0,0.5,0,0,0,12,0,0,0,0,0,0,0.5,0,0,12,8,0,12,0,0,0]
[8584,1,2.8,0,0,0,16,0,0,0,0,0,0,0.5,0,0,0,12,0,0,0,0,0,0,0.5,0,0,12,8,0,12,0,0,0]
[8585,1,2.8,0,0,0,16,0,0,0,0,0,0,0.5,0,0,0,12,0,0,0,0,0,0,0.5,0,0,12,8,0,12,0,0,0]
[8586,1,1.9,0,0,0,16,0,0,0,0,0,0,0.5,0,0,0,12,0,0,0,0,0,0,0.5,0,0,12,8,0,12,0,0,0]
[8587,1,0.7,0,0,0,16,0,0,0,0,0,0,0.5,0,0,0,12,0,0,0,0,0,0,0.5,0,0,12,8,0,12,0,0,0]
[8588,1,0,0,0,0,16,0,0,0,0,0,0,0.5,0,0,0,12,0,0,0,0,0,0,0.5,0,0,12,8,0,12,0,0,0]
[8589,1,-0.2,0,0,0,16,0,0,0,0,0,0,0.5,0,0,0,12,0,0,0,0,0,0,0.5,0,0,12,8,0,12,0,0,0]
[8590,1,-0.7,0,0,0,16,0,0,0,0,0,0,0.5,0,0,0,12,0,0,0,0,0,0,0.5,0,0,12,8,0,12,0,0,0]
[8591,1,-0.4,0,0,0,16,0,0,0,0,0,0,0.5,0,0,0,12,0,0,0,0,0,0,0.5,0,0,12,8,0,12,0,0,0]
[8592,1,0.2,0,0,0,16,0,0,0,0,0,0,0.5,0,0,0,12,0,0,0,0,0,0,0.5,0,0,12,8,0,12,0,0,0]
[8593,1,0.1,0,0,0,16,0,0,0,0,0,0,0.5,0,0,0,12,0,0,0,0,0,0,0.5,0,0,12,8,0,12,0,0,0]
[8594,1,0.6,0,0,0,16,0,0,0,0,0,0,0.5,0,0,0,12,0,0,0,0,0,0,0.5,0,0,12,8,0,12,0,0,0]
[8595,1,0.9,0,0,0,16,0,0,0,0,0,0,0.5,0,0,0,12,0,0,0,0,0,0,0.5,0,0,12,8,0,12,0,0,0]
[8596,1,1.8,0,0,0,16,0,0,0,0,0,0,0.5,0,0,0,12,0,0,0,0,0,0,0.5,0,0,12,8,0,12,0,0,0]
[8597,1,2.6,0,0,0,16,0,0,0,0,0,0,0.5,0,0,0,12,0,0,0,0,0,0,0.5,0,0,12,8,0,12,0,0,0]
[8598,1,4,0,0,0,16,0,0,0,0,0,0,0.5,0,0,0,12,0,0,0,0,0,0,0.5,0,0,12,8,0,12,0,0,0]
[8599,1,2.8,0,0,0,16,0,0,0,0,0,0,0.5,0,0,0,12,0,0,0,0,0,0,0.5,0,0,12,8,0,12,0,0,0]
[8600,1,3.1,0,0,0,16,0,0,0,0,0,0,0.5,0,0,0,12,0,0,0,0,0,0,0.5,0,0,12,8,0,12,0,0,0]
[8601,1,3.2,0,0,0,16,0,0,0,0,0,0,0.5,0,0,0,12,0,0,0,0,0,0,0.5,0,0,12,8,0,12,0,0,0]
[8602,1,3.8,0,0,0,16,0,0,0,0,0,0,0.5,0,0,0,12,0,0,0,0,0,0,0.5,0,0,12,8,0,12,0,0,0]
[8603,1,3.9,0,0,0,16,0,0,0,0,0,0,0.5,0,0,0,12,0,0,0,0,0,0,0.5,0,0,12,8,0,12,0,0,0]
[8604,1,4.4000000000000004,0,0,0,16,0,0,0,0,0,0,0.5,0,0,0,12,0,0,0,0,0,0,0.5,0,0,12,8,0,12,0,0,0]
[8605,1,3.4,0,0,0,16,0,0,0,0,0,0,0.5,0,0,0,12,0,0,0,0,0,0,0.5,0,0,12,8,0,12,0,0,0]
[8606,1,3.6,0,0,0,16,0,0,0,0,0,0,0.5,0,0,0,12,0,0,0,0,0,0,0.5,0,0,12,8,0,12,0,0,0]
[8607,1,4.2,0,0,0,16,0,0,0,0,0,0,0.5,0,0,0,12,0,0,0,0,0,0,0.5,0,0,12,8,0,12,0,0,0]
[8608,1,5.6,0,0,0,16,0,0,0,0,0,0,0.5,0,0,0,12,0,0,0,0,0,0,0.5,0,0,12,8,0,12,0,0,0]
[8609,1,8.5,0,0,0,16,0,0,0,0,0,0,0.5,0,0,0,12,0,0,0,0,0,0,0.5,0,0,12,8,0,12,0,0,0]
[8610,1,8.9,0,0,0,16,0,0,0,0,0,0,0.5,0,0,0,12,0,0,0,0,0,0,0.5,0,0,12,8,0,12,0,0,0]
[8611,1,8.8000000000000007,0,0,0,16,0,0,0,0,0,0,0.5,0,0,0,12,0,0,0,0,0,0,0.5,0,0,12,8,0,12,0,0,0]
[8612,1,9.4,0,0,0,16,0,0,0,0,0,0,0.5,0,0,0,12,0,0,0,0,0,0,0.5,0,0,12,8,0,12,0,0,0]
[8613,1,7,0,0,0,16,0,0,0,0,0,0,0.5,0,0,0,12,0,0,0,0,0,0,0.5,0,0,12,8,0,12,0,0,0]
[8614,1,5.4,0,0,0,16,0,0,0,0,0,0,0.5,0,0,0,12,0,0,0,0,0,0,0.5,0,0,12,8,0,12,0,0,0]
[8615,1,4.5999999999999996,0,0,0,16,0,0,0,0,0,0,0.5,0,0,0,12,0,0,0,0,0,0,0.5,0,0,12,8,0,12,0,0,0]
[8616,1,4.2,0,0,0,16,0,0,0,0,0,0,0.5,0,0,0,12,0,0,0,0,0,0,0.5,0,0,12,8,0,12,0,0,0]
[8617,1,3.6,0,0,0,16,0,0,0,0,0,0,0.5,0,0,0,12,0,0,0,0,0,0,0.5,0,0,12,8,0,12,0,0,0]
[8618,1,3.7,0,0,0,16,0,0,0,0,0,0,0.5,0,0,0,12,0,0,0,0,0,0,0.5,0,0,12,8,0,12,0,0,0]
[8619,1,3.5,0,0,0,16,0,0,0,0,0,0,0.5,0,0,0,12,0,0,0,0,0,0,0.5,0,0,12,8,0,12,0,0,0]
[8620,1,3.7,0,0,0,16,0,0,0,0,0,0,0.5,0,0,0,12,0,0,0,0,0,0,0.5,0,0,12,8,0,12,0,0,0]
[8621,1,3.5,0,0,0,16,0,0,0,0,0,0,0.5,0,0,0,12,0,0,0,0,0,0,0.5,0,0,12,8,0,12,0,0,0]
[8622,1,3.4,0,0,0,16,0,0,0,0,0,0,0.5,0,0,0,12,0,0,0,0,0,0,0.5,0,0,12,8,0,12,0,0,0]
[8623,1,3,0,0,0,16,0,0,0,0,0,0,0.5,0,0,0,12,0,0,0,0,0,0,0.5,0,0,12,8,0,12,0,0,0]
[8624,1,3.9,0,0,0,16,0,0,0,0,0,0,0.5,0,0,0,12,0,0,0,0,0,0,0.5,0,0,12,8,0,12,0,0,0]
[8625,1,3.9,0,0,0,16,0,0,0,0,0,0,0.5,0,0,0,12,0,0,0,0,0,0,0.5,0,0,12,8,0,12,0,0,0]
[8626,1,7.3,0,0,0,16,0,0,0,0,0,0,0.5,0,0,0,12,0,0,0,0,0,0,0.5,0,0,12,8,0,12,0,0,0]
[8627,1,13.4,0,0,0.92965589999999998,16,0,0,0,0,2.1263030000000002E-2,6.5131659999999997E-4,0.5,0,0,1.717552,12,0,0,0,0,5.7466300000000002E-7,5.74663E-4,0.5,0,2.6690844944630001,12,8,0,12,0,0,0]
[8628,1,10.5,0,0,0,16,0,0,0,0,0,0,0.5,0,0,0,12,0,0,0,0,0,0,0.5,0,0,12,8,0,12,0,0,0]
[8629,1,8.6,0,0,0,16,0,0,0,0,0,0,0.5,0,0,0,12,0,0,0,0,0,0,0.5,0,0,12,8,0,12,0,0,0]
[8630,1,9,0,0,0,16,0,0,0,0,0,0,0.5,0,0,0,12,0,0,0,0,0,0,0.5,0,0,12,8,0,12,0,0,0]
[8631,1,6.8,0,0,0,16,0,0,0,0,0,0,0.5,0,0,0,12,0,0,0,0,0,0,0.5,0,0,12,8,0,12,0,0,0]
[8632,1,6.2,0,0,0,16,0,0,0,0,0,0,0.5,0,0,0,12,0,0,0,0,0,0,0.5,0,0,12,8,0,12,0,0,0]
[8633,1,6.8,0,0,0,16,0,0,0,0,0,0,0.5,0,0,0,12,0,0,0,0,0,0,0.5,0,0,12,8,0,12,0,0,0]
[8634,1,6.6,0,0,0,16,0,0,0,0,0,0,0.5,0,0,0,12,0,0,0,0,0,0,0.5,0,0,12,8,0,12,0,0,0]
[8635,1,5.5,0,0,0,16,0,0,0,0,0,0,0.5,0,0,0,12,0,0,0,0,0,0,0.5,0,0,12,8,0,12,0,0,0]
[8636,1,6,0,0,0,16,0,0,0,0,0,0,0.5,0,0,0,12,0,0,0,0,0,0,0.5,0,0,12,8,0,12,0,0,0]
[8637,1,8.3000000000000007,0,0,0,16,0,0,0,0,0,0,0.5,0,0,0,12,0,0,0,0,0,0,0.5,0,0,12,8,0,12,0,0,0]
[8638,1,5.3,0,0,0,16,0,0,0,0,0,0,0.5,0,0,0,12,0,0,0,0,0,0,0.5,0,0,12,8,0,12,0,0,0]
[8639,1,7.1,0,0,0,16,0,0,0,0,0,0,0.5,0,0,0,12,0,0,0,0,0,0,0.5,0,0,12,8,0,12,0,0,0]
[8640,1,7.5,0,0,0,16,0,0,0,0,0,0,0.5,0,0,0,12,0,0,0,0,0,0,0.5,0,0,12,8,0,12,0,0,0]
[8641,1,8.5,0,0,0,16,0,0,0,0,0,0,0.5,0,0,0,12,{"$f":"0.05*O8654","v":0},{"$f":"0.05*P8654","v":0},0,0,0,0,0.5,0,0,12,8,0,12,0,0,0]
[8642,1,8.8000000000000007,0,0,0,16,{"$f":"0.05*D8655","v":0},{"$f":"0.05*E8655","v":0},0,0,0,0,0.5,0,0,0,12,0,0,0,0,0,0,0.5,0,0,12,8,0,12,0,0,{"$f":"0.05*AF8655","v":0}]
[8643,1,6.6,0,0,0,16,0,0,0,0,0,0,0.5,0,0,0,12,0,0,0,0,0,0,0.5,0,0,12,8,0,12,0,0,0]
[8644,1,5.5,0,0,0,16,0,0,0,0,0,0,0.5,0,0,0,12,0,0,0,0,0,0,0.5,0,0,12,8,0,12,0,0,0]
[8645,1,4.5999999999999996,0,0,0,16,0,0,0,0,0,0,0.5,0,0,0,12,0,0,0,0,0,0,0.5,0,0,12,8,0,12,0,0,0]
[8646,1,3.3,0,0,0,16,0,0,0,0,0,0,0.5,0,0,0,12,0,0,0,0,0,0,0.5,0,0,12,8,0,12,0,0,0]
[8647,1,4,0,0,0,16,0,0,0,0,0,0,0.5,0,0,0,12,0,0,0,0,0,0,0.5,0,0,12,8,0,12,0,0,0]
[8648,1,3.6,0,0,0,16,0,0,0,0,0,0,0.5,0,0,0,12,0,0,0,0,0,0,0.5,0,0,12,8,0,12,0,0,0]
[8649,1,4.5999999999999996,0,0,0,16,0,0,0,0,0,0,0.5,0,0,0,12,0,0,0,0,0,0,0.5,0,0,12,8,0,12,0,0,0]
[8650,1,5.2,0,0,0,16,0,0,0,0,0,0,0.5,0,0,0,12,0,0,0,0,0,0,0.5,0,0,12,8,0,12,0,0,0]
[8651,1,5.7,0,0,0,16,0,0,0,0,0,0,0.5,0,0,0,12,0,0,0,0,0,0,0.5,0,0,12,8,0,12,0,0,0]
[8652,1,5.9,0,0,0,16,0,0,0,0,0,0,0.5,0,0,0,12,0,0,0,0,0,0,0.5,0,0,12,8,0,12,0,0,0]
[8653,1,6.4,0,0,0,16,0,0,0,0,0,0,0.5,0,0,0,12,0,0,0,0,0,0,0.5,0,0,12,8,0,12,0,0,0]
[8654,1,6.4,0,0,0,16,0,0,0,0,0,0,0.5,0,0,0,12,0,0,0,0,0,0,0.5,0,0,12,8,0,12,0,0,0]
[8655,1,5.7,0,0,0,16,0,0,0,0,0,0,0.5,0,0,0,12,0,0,0,0,0,0,0.5,0,0,12,8,0,12,0,0,0]
[8656,1,4.9000000000000004,0,0,0,16,0,0,0,0,0,0,0.5,0,0,0,12,0,0,0,0,0,0,0.5,0,0,12,8,0,12,0,0,0]
[8657,1,3.9,0,0,0,16,0,0,0,0,0,0,0.5,0,0,0,12,0,0,0,0,0,0,0.5,0,0,12,8,0,12,0,0,0]
[8658,1,3.4,0,0,0,16,0,0,0,0,0,0,0.5,0,0,0,12,0,0,0,0,0,0,0.5,0,0,12,8,0,12,0,0,0]
[8659,1,3.1,0,0,0,16,0,0,0,0,0,0,0.5,0,0,0,12,0,0,0,0,0,0,0.5,0,0,12,8,0,12,0,0,0]
[8660,1,3.3,0,0,0,16,0,0,0,0,0,0,0.5,0,0,0,12,0,0,0,0,0,0,0.5,0,0,12,8,0,12,0,0,0]
[8661,1,2.1,0,0,0,16,0,0,0,0,0,0,0.5,0,0,0,12,0,0,0,0,0,0,0.5,0,0,12,8,0,12,0,0,0]
[8662,1,0.3,0,0,0,16,0,0,0,0,0,0,0.5,0,0,0,12,0,0,0,0,0,0,0.5,0,0,12,8,0,12,0,0,0]
[8663,1,0.8,0,0,0,16,0,0,0,0,0,0,0.5,0,0,0,12,0,0,0,0,0,0,0.5,0,0,12,8,0,12,0,0,0]
[8664,1,0.9,0,0,0,16,0,0,0,0,0,0,0.5,0,0,0,12,0,0,0,0,0,0,0.5,0,0,12,8,0,12,0,0,0]
[8665,1,1.2,0,0,0,16,0,0,0,0,0,0,0.5,0,0,0,12,0,0,0,0,0,0,0.5,0,0,12,8,0,12,0,0,0]
[8666,1,1.3,0,0,0,16,0,0,0,0,0,0,0.5,0,0,0,12,0,0,0,0,0,0,0.5,0,0,12,8,0,12,0,0,0]
[8667,1,1.2,0,0,0,16,0,0,0,0,0,0,0.5,0,0,0,12,0,0,0,0,0,0,0.5,0,0,12,8,0,12,0,0,0]
[8668,1,1.4,0,0,0,16,0,0,0,0,0,0,0.5,0,0,0,12,0,0,0,0,0,0,0.5,0,0,12,8,0,12,0,0,0]
[8669,1,1.2,0,0,0,16,0,0,0,0,0,0,0.5,0,0,0,12,0,0,0,0,0,0,0.5,0,0,12,8,0,12,0,0,0]
[8670,1,0.6,0,0,0,16,0,0,0,0,0,0,0.5,0,0,0,12,0,0,0,0,0,0,0.5,0,0,12,8,0,12,0,0,0]
[8671,1,1.7,0,0,0,16,0,0,0,0,0,0,0.5,0,0,0,12,0,0,0,0,0,0,0.5,0,0,12,8,0,12,0,0,0]
[8672,1,2,0,0,0,16,0,0,0,0,0,0,0.5,0,0,0,12,0,0,0,0,0,0,0.5,0,0,12,8,0,12,0,0,0]
[8673,1,1.4,0,0,0,16,0,0,0,0,0,0,0.5,0,0,0,12,0,0,0,0,0,0,0.5,0,0,12,8,0,12,0,0,0]
[8674,1,1.9,0,0,0,16,0,0,0,0,0,0,0.5,0,0,0,12,0,0,0,0,0,0,0.5,0,0,12,8,0,12,0,0,0]
[8675,1,2.1,0,0,0,16,0,0,0,0,0,0,0.5,0,0,0,12,0,0,0,0,0,0,0.5,0,0,12,8,0,12,0,0,0]
[8676,1,1.8,0,0,0,16,0,0,0,0,0,0,0.5,0,0,0,12,0,0,0,0,0,0,0.5,0,0,12,8,0,12,0,0,0]
[8677,1,2.1,0,0,0,16,0,0,0,0,0,0,0.5,0,0,0,12,0,0,0,0,0,0,0.5,0,0,12,8,0,12,0,0,0]
[8678,1,2.1,0,0,0,16,0,0,0,0,0,0,0.5,0,0,0,12,0,0,0,0,0,0,0.5,0,0,12,8,0,12,0,0,0]
[8679,1,2.5,0,0,0,16,0,0,0,0,0,0,0.5,0,0,0,12,0,0,0,0,0,0,0.5,0,0,12,8,0,12,0,0,0]
[8680,1,2.6,0,0,0,16,0,0,0,0,0,0,0.5,0,0,0,12,0,0,0,0,0,0,0.5,0,0,12,8,0,12,0,0,0]
[8681,1,2.2000000000000002,0,0,0,16,0,0,0,0,0,0,0.5,0,0,0,12,0,0,0,0,0,0,0.5,0,0,12,8,0,12,0,0,0]
[8682,1,1.8,0,0,0,16,0,0,0,0,0,0,0.5,0,0,0,12,0,0,0,0,0,0,0.5,0,0,12,8,0,12,0,0,0]
[8683,1,1.5,0,0,0,16,0,0,0,0,0,0,0.5,0,0,0,12,0,0,0,0,0,0,0.5,0,0,12,8,0,12,0,0,0]
[8684,1,0.9,0,0,0,16,0,0,0,0,0,0,0.5,0,0,0,12,0,0,0,0,0,0,0.5,0,0,12,8,0,12,0,0,0]
[8685,1,0.5,0,0,0,16,0,0,0,0,0,0,0.5,0,0,0,12,0,0,0,0,0,0,0.5,0,0,12,8,0,12,0,0,0]
[8686,1,0.4,0,0,0,16,0,0,0,0,0,0,0.5,0,0,0,12,0,0,0,0,0,0,0.5,0,0,12,8,0,12,0,0,0]
[8687,1,0.4,0,0,0,16,0,0,0,0,0,0,0.5,0,0,0,12,0,0,0,0,0,0,0.5,0,0,12,8,0,12,0,0,0]
[8688,1,0.2,0,0,0,16,0,0,0,0,0,0,0.5,0,0,0,12,0,0,0,0,0,0,0.5,0,0,12,8,0,12,0,0,0]
[8689,1,0.4,0,0,0,16,0,0,0,0,0,0,0.5,0,0,0,12,0,0,0,0,0,0,0.5,0,0,12,8,0,12,0,0,0]
[8690,1,0.4,0,0,0,16,0,0,0,0,0,0,0.5,0,0,0,12,0,0,0,0,0,0,0.5,0,0,12,8,0,12,0,0,0]
[8691,1,0.4,0,0,0,16,0,0,0,0,0,0,0.5,0,0,0,12,0,0,0,0,0,0,0.5,0,0,12,8,0,12,0,0,0]
[8692,1,0.3,0,0,0,16,0,0,0,0,0,0,0.5,0,0,0,12,0,0,0,0,0,0,0.5,0,0,12,8,0,12,0,0,0]
[8693,1,0.4,0,0,0,16,0,0,0,0,0,0,0.5,0,0,0,12,0,0,0,0,0,0,0.5,0,0,12,8,0,12,0,0,0]
[8694,1,0.4,0,0,0,16,0,0,0,0,0,0,0.5,0,0,0,12,0,0,0,0,0,0,0.5,0,0,12,8,0,12,0,0,0]
[8695,1,0.5,0,0,0,16,0,0,0,0,0,0,0.5,0,0,0,12,0,0,0,0,0,0,0.5,0,0,12,8,0,12,0,0,0]
[8696,1,0.6,0,0,0,16,0,0,0,0,0,0,0.5,0,0,0,12,0,0,0,0,0,0,0.5,0,0,12,8,0,12,0,0,0]
[8697,1,0.8,0,0,0,16,0,0,0,0,0,0,0.5,0,0,0,12,0,0,0,0,0,0,0.5,0,0,12,8,0,12,0,0,0]
[8698,1,0.7,0,0,0,16,0,0,0,0,0,0,0.5,0,0,0,12,0,0,0,0,0,0,0.5,0,0,12,8,0,12,0,0,0]
[8699,1,1,0,0,0,16,0,0,0,0,0,0,0.5,0,0,0,12,0,0,0,0,0,0,0.5,0,0,12,8,0,12,0,0,0]
[8700,1,0.7,0,0,0,16,0,0,0,0,0,0,0.5,0,0,0,12,0,0,0,0,0,0,0.5,0,0,12,8,0,12,0,0,0]
[8701,1,0.4,0,0,0,16,0,0,0,0,0,0,0.5,0,0,0,12,0,0,0,0,0,0,0.5,0,0,12,8,0,12,0,0,0]
[8702,1,0.7,0,0,0,16,0,0,0,0,0,0,0.5,0,0,0,12,0,0,0,0,0,0,0.5,0,0,12,8,0,12,0,0,0]
[8703,1,0.7,0,0,0,16,0,0,0,0,0,0,0.5,0,0,0,12,0,0,0,0,0,0,0.5,0,0,12,8,0,12,0,0,0]
[8704,1,0.7,0,0,0,16,0,0,0,0,0,0,0.5,0,0,0,12,0,0,0,0,0,0,0.5,0,0,12,8,0,12,0,0,0]
[8705,1,0.5,0,0,0,16,0,0,0,0,0,0,0.5,0,0,0,12,{"$f":"0.05*O8718","v":0},{"$f":"0.05*P8718","v":0},0,0,0,0,0.5,0,0,12,8,0,12,0,0,0]
[8706,1,0.9,0,0,0,16,{"$f":"0.05*D8719","v":0},{"$f":"0.05*E8719","v":0},0,0,0,0,0.5,0,0,0,12,0,0,0,0,0,0,0.5,0,0,12,8,0,12,0,0,{"$f":"0.05*AF8719","v":0}]
[8707,1,0.5,0,0,0,16,0,0,0,0,0,0,0.5,0,0,0,12,0,0,0,0,0,0,0.5,0,0,12,8,0,12,0,0,0]
[8708,1,0.4,0,0,0,16,0,0,0,0,0,0,0.5,0,0,0,12,0,0,0,0,0,0,0.5,0,0,12,8,0,12,0,0,0]
[8709,1,0.4,0,0,0,16,0,0,0,0,0,0,0.5,0,0,0,12,0,0,0,0,0,0,0.5,0,0,12,8,0,12,0,0,0]
[8710,1,0.2,0,0,0,16,0,0,0,0,0,0,0.5,0,0,0,12,0,0,0,0,0,0,0.5,0,0,12,8,0,12,0,0,0]
[8711,1,0.3,0,0,0,16,0,0,0,0,0,0,0.5,0,0,0,12,0,0,0,0,0,0,0.5,0,0,12,8,0,12,0,0,0]
[8712,1,0.4,0,0,0,16,0,0,0,0,0,0,0.5,0,0,0,12,0,0,0,0,0,0,0.5,0,0,12,8,0,12,0,0,0]
[8713,1,0.4,0,0,0,16,0,0,0,0,0,0,0.5,0,0,0,12,0,0,0,0,0,0,0.5,0,0,12,8,0,12,0,0,0]
[8714,1,0.1,0,0,0,16,0,0,0,0,0,0,0.5,0,0,0,12,0,0,0,0,0,0,0.5,0,0,12,8,0,12,0,0,0]
[8715,1,-0.8,0,0,0,16,0,0,0,0,0,0,0.5,0,0,0,12,0,0,0,0,0,0,0.5,0,0,12,8,0,12,0,0,0]
[8716,1,-1.9,0,0,0,16,0,0,0,0,0,0,0.5,0,0,0,12,0,0,0,0,0,0,0.5,0,0,12,8,0,12,0,0,0]
[8717,1,-2.1,0,0,0,16,0,0,0,0,0,0,0.5,0,0,0,12,0,0,0,0,0,0,0.5,0,0,12,8,0,12,0,0,0]
[8718,1,-2.1,0,0,0,16,0,0,0,0,0,0,0.5,0,0,0,12,0,0,0,0,0,0,0.5,0,0,12,8,0,12,0,0,0]
[8719,1,-2.5,0,0,0,16,0,0,0,0,0,0,0.5,0,0,0,12,0,0,0,0,0,0,0.5,0,0,12,8,0,12,0,0,0]
[8720,1,-2,0,0,0,16,0,0,0,0,0,0,0.5,0,0,0,12,0,0,0,0,0,0,0.5,0,0,12,8,0,12,0,0,0]
[8721,1,-2.1,0,0,0,16,0,0,0,0,0,0,0.5,0,0,0,12,0,0,0,0,0,0,0.5,0,0,12,8,0,12,0,0,0]
[8722,1,-0.8,0,0,0,16,0,0,0,0,0,0,0.5,0,0,0,12,0,0,0,0,0,0,0.5,0,0,12,8,0,12,0,0,0]
[8723,1,-0.5,0,0,0,16,0,0,0,0,0,0,0.5,0,0,0,12,0,0,0,0,0,0,0.5,0,0,12,8,0,12,0,0,0]
[8724,1,0.9,0,0,0,16,0,0,0,0,0,0,0.5,0,0,0,12,0,0,0,0,0,0,0.5,0,0,12,8,0,12,0,0,0]
[8725,1,1.3,0,0,0,16,0,0,0,0,0,0,0.5,0,0,0,12,0,0,0,0,0,0,0.5,0,0,12,8,0,12,0,0,0]
[8726,1,1.4,0,0,0,16,0,0,0,0,0,0,0.5,0,0,0,12,0,0,0,0,0,0,0.5,0,0,12,8,0,12,0,0,0]
[8727,1,0.1,0,0,0,16,0,0,0,0,0,0,0.5,0,0,0,12,0,0,0,0,0,0,0.5,0,0,12,8,0,12,0,0,0]
[8728,1,-1,0,0,0,16,0,0,0,0,0,0,0.5,0,0,0,12,0,0,0,0,0,0,0.5,0,0,12,8,0,12,0,0,0]
[8729,1,-1.3,0,0,0,16,0,0,0,0,0,0,0.5,0,0,0,12,0,0,0,0,0,0,0.5,0,0,12,8,0,12,0,0,0]
[8730,1,-2.1,0,0,0,16,0,0,0,0,0,0,0.5,0,0,0,12,0,0,0,0,0,0,0.5,0,0,12,8,0,12,0,0,0]
[8731,1,-2,0,0,0,16,0,0,0,0,0,0,0.5,0,0,0,12,0,0,0,0,0,0,0.5,0,0,12,8,0,12,0,0,0]
[8732,1,-2.1,0,0,0,16,0,0,0,0,0,0,0.5,0,0,0,12,0,0,0,0,0,0,0.5,0,0,12,8,0,12,0,0,0]
[8733,1,-1.6,0,0,0,16,0,0,0,0,0,0,0.5,0,0,0,12,0,0,0,0,0,0,0.5,0,0,12,8,0,12,0,0,0]
[8734,1,-2,0,0,0,16,0,0,0,0,0,0,0.5,0,0,0,12,0,0,0,0,0,0,0.5,0,0,12,8,0,12,0,0,0]
[8735,1,-2.7,0,0,0,16,0,0,0,0,0,0,0.5,0,0,0,12,0,0,0,0,0,0,0.5,0,0,12,8,0,12,0,0,0]
[8736,1,-2.5,0,0,0,16,0,0,0,0,0,0,0.5,0,0,0,12,0,0,0,0,0,0,0.5,0,0,12,8,0,12,0,0,0]
[8737,1,-2.5,0,0,0,16,0,0,0,0,0,0,0.5,0,0,0,12,0,0,0,0,0,0,0.5,0,0,12,8,0,12,0,0,0]
[8738,1,-3,0,0,0,16,0,0,0,0,0,0,0.5,0,0,0,12,0,0,0,0,0,0,0.5,0,0,12,8,0,12,0,0,0]
[8739,1,-3.9,0,0,0,16,0,0,0,0,0,0,0.5,0,0,0,12,0,0,0,0,0,0,0.5,0,0,12,8,0,12,0,0,0]
[8740,1,-4,0,0,0,16,0,0,0,0,0,0,0.5,0,0,0,12,0,0,0,0,0,0,0.5,0,0,12,8,0,12,0,0,0]
[8741,1,-4.5999999999999996,0,0,0,16,0,0,0,0,0,0,0.5,0,0,0,12,0,0,0,0,0,0,0.5,0,0,12,8,0,12,0,0,0]
[8742,1,-4.5999999999999996,0,0,0,16,0,0,0,0,0,0,0.5,0,0,0,12,0,0,0,0,0,0,0.5,0,0,12,8,0,12,0,0,0]
[8743,1,-4.2,0,0,0,16,0,0,0,0,0,0,0.5,0,0,0,12,0,0,0,0,0,0,0.5,0,0,12,8,0,12,0,0,0]
[8744,1,-3.9,0,0,0,16,0,0,0,0,0,0,0.5,0,0,0,12,0,0,0,0,0,0,0.5,0,0,12,8,0,12,0,0,0]
[8745,1,-2.7,0,0,0,16,0,0,0,0,0,0,0.5,0,0,0,12,0,0,0,0,0,0,0.5,0,0,12,8,0,12,0,0,0]
[8746,1,-1.4,0,0,0,16,0,0,0,0,0,0,0.5,0,0,0,12,0,0,0,0,0,0,0.5,0,0,12,8,0,12,0,0,0]
[8747,1,-0.2,0,0,0,16,0,0,0,0,0,0,0.5,0,0,0,12,0,0,0,0,0,0,0.5,0,0,12,8,0,12,0,0,0]
[8748,1,0.2,0,0,0,16,0,0,0,0,0,0,0.5,0,0,0,12,0,0,0,0,0,0,0.5,0,0,12,8,0,12,0,0,0]
[8749,1,0.3,0,0,0,16,0,0,0,0,0,0,0.5,0,0,0,12,0,0,0,0,0,0,0.5,0,0,12,8,0,12,0,0,0]
[8750,1,0.8,0,0,0,16,0,0,0,0,0,0,0.5,0,0,0,12,0,0,0,0,0,0,0.5,0,0,12,8,0,12,0,0,0]
[8751,1,0.9,0,0,0,16,0,0,0,0,0,0,0.5,0,0,0,12,0,0,0,0,0,0,0.5,0,0,12,8,0,12,0,0,0]
[8752,1,0.5,0,0,0,16,0,0,0,0,0,0,0.5,0,0,0,12,0,0,0,0,0,0,0.5,0,0,12,8,0,12,0,0,0]
[8753,1,0.4,0,0,0,16,0,0,0,0,0,0,0.5,0,0,0,12,0,0,0,0,0,0,0.5,0,0,12,8,0,12,0,0,0]
[8754,1,0.3,0,0,0,16,0,0,0,0,0,0,0.5,0,0,0,12,0,0,0,0,0,0,0.5,0,0,12,8,0,12,0,0,0]
[8755,1,0.2,0,0,0,16,0,0,0,0,0,0,0.5,0,0,0,12,0,0,0,0,0,0,0.5,0,0,12,8,0,12,0,0,0]
[8756,1,0.1,0,0,0,16,0,0,0,0,0,0,0.5,0,0,0,12,0,0,0,0,0,0,0.5,0,0,12,8,0,12,0,0,0]
[8757,1,0.5,0,0,0,16,0,0,0,0,0,0,0.5,0,0,0,12,0,0,0,0,0,0,0.5,0,0,12,8,0,12,0,0,0]
[8758,1,1.1000000000000001,0,0,0,16,0,0,0,0,0,0,0.5,0,0,0,12,0,0,0,0,0,0,0.5,0,0,12,8,0,12,0,0,0]
[8759,1,1.7,0,0,0,16,0,0,0,0,0,0,0.5,0,0,0,12,0,0,0,0,0,0,0.5,0,0,12,8,0,12,0,0,0]
[8760,1,2.6,0,0,0,16,0,0,0,0,0,0,0.5,0,0,0,12,0,0,0,0,0,0,0.5,0,0,12,8,0,12,0,0,0]
[null,null,null,null,null,null,null,null,null,null,null,null,null,null,null,null,null,null,null,null,null,null,null,null,null,null,{"$f":"SUM(AA14:AA8773)","v":4.1828364677410139},null,null,{"$f":"SUM(AD14:AD8773)","v":21151.053724915226},null,{"$f":"SUM(AF14:AF8773)","v":3047.6831487389186}]
[null,null,null,null,null,null,null,null,null,null,null,null,null,null,null,null,null,null,null,null,null,null,null,null,null,null,{"$f":"MAX(AA14:AA8773)","v":38.148505316776998},null,null,{"$f":"MAX(AD14:AD8773)","v":50},null,{"$f":"MAX(AF14:AF8773)","v":10.679903730445247}]
[null,null,null,null,null,null,null,null,null,null,null,null,null,null,null,null,null,null,null,null,null,null,null,null,null,null,null,null,null,null,{"$f":"MIN(AE14:AE8773)","v":4}]

{"sheet":"Method_input","index":7,"n_rows":77,"n_cols":41,"rows_kept":77,"cut":false,"hidden":false,"merged":[[0,0,0,6]]}
["THIS IS A MANDATORY SHEET\nAll input data for the method shall be listed here.\nIn the simplest version, values for data input in column D (both green and blue background) may be inserted manually.\nVarying data (green background) can be fed from the \"input_series\" sheet.\nIn this sample data sheet, product data (blue background) is linked to a sample catalogue built in the \"Detailed_input\" sheet"]
[]
[]
["Name","Symbol","Unit","Values","Origin","Varying","Notes"]
["Operating conditions data",null,null,null,null,null,null,null,1,33,8.2184831999999997,3.0832124400000001,18.593509999999998,16,0.41092415999999998,0.15416062200000002,0.17279999999999998,8.6399999999999991E-2,0,2.4333649999999998E-2,0.5,7.0183799999999996,2.7519555599999999,10.451219999999999,12,0.35091899999999998,0.137597778,0.17279999999999998,8.6399999999999991E-2,5.068331E-6,5.0683309999999997E-3,0.5,0,0,9,8,50,9,8.8652482269503547,0,0.44326241134751776]
["Calculation time interval","tc,i","h",1,"M1-9","No"]
["Ambient air temperature","ϑe ","°C",33,"M1-13","Yes"]
["Sensible energy need for cooling in thermal zone j=1 served by the distribution system i=1","QC;nd;zt;j;i","kWh",8.2184831999999997,"M2-2","Yes"]
["Sensible energy need for cooling in thermal zone j=2 served by the distribution system i=1","QC;nd;zt;j;i","kWh",3.0832124400000001,"M2-2","Yes"]
["Required AHU cooling coil output for ventilation system k served by the distribution system i=1","QC;ahu,k;out;req;i","kWh",18.593509999999998,"M5-8","yes"]
["Required AHU cooling coil water inlet temperature to ventilation system k served by the distribution system i=1","JC;ahu,k;in;req;i","°C",16,"M5-8","yes"]
["Heat losses of cooling emission in thermal zone j=1 served by the distribution system i=1","Qem,ls;zt,j;i","kWh",0.41092415999999998,"M4-5","yes"]
["Heat losses of cooling emission in thermal zone j=2 served by the distribution system i=1","Qem,ls;zt,j;i","kWh",0.15416062200000002,"M4-5","yes"]
["Auxiliary energy for cooling emission system in thermal zone j=1 served by the distribution system i=1","WC;aux;em;j;i","kWh",0.17279999999999998,"M4-5","yes"]
["Auxiliary energy for cooling emission system in thermal zone j=2 served by the distribution system i=1","WC;aux;em;j;i","kWh",8.6399999999999991E-2,"M4-5","yes"]
["Thermal loss of the cooling distribution system i=1","QC,dis,ls;i","kWh",0,"M4-6","yes"]
["Auxiliary energy for cooling distribution system i=1","WC;aux;dis;i","kWh",2.4333649999999998E-2,"M4-6","yes"]
["Portion of cooling distribution auxiliary energy going to the chilled water for distribution system i=1","fwat;C;dis;aux;i","- ",0.5,"M4-6","yes"]
["Sensible energy need for cooling in thermal zone j=1 served by the distribution system i=2","QC;nd;zt;j;i","kWh",7.0183799999999996,"M2-2","Yes"]
["Sensible energy need for cooling in thermal zone j=2 served by the distribution system i=2","QC;nd;zt;j;i","kWh",2.7519555599999999,"M2-2","Yes"]
["Required AHU cooling coil output for ventilation system k served by the distribution system i=2","QC;ahu,k;out;req;i","kWh",10.451219999999999,"M5-8","yes"]
["Required AHU cooling coil water inlet temperature to ventilation system k served by the distribution system i=2","JC;ahu,k;in;req;i","°C",12,"M5-8","yes"]
["Heat losses of cooling emission in thermal zone j=1 served by the distribution system i=2","Qem,ls;zt,j;i","kWh",0.35091899999999998,"M4-5","yes"]
["Heat losses of cooling emission in thermal zone j=2 served by the distribution system i=2","Qem,ls;zt,j;i","kWh",0.137597778,"M4-5","yes"]
["Auxiliary energy for cooling emission system in thermal zone j=1 served by the distribution system i=2","WC;aux;em;j;i","kWh",0.17279999999999998,"M4-5","yes"]
["Auxiliary energy for cooling emission system in thermal zone j=2 served by the distribution system i=2","WC;aux;em;j;i","kWh",8.6399999999999991E-2,"M4-5","yes"]
["Thermal loss of the cooling distribution system i=2","QC,dis,ls;i","kWh",5.068331E-6,"M4-6","yes"]
["Auxiliary energy for cooling distribution system i=2","WC;aux;dis;i","kWh",5.0683309999999997E-3,"M4-6","yes"]
["Portion of cooling distribution auxiliary energy going to the chilled water for distribution system i=2","fwat;C;dis;aux;i","- ",0.5,"M4-6","yes"]
["Auxiliary energy for cooling storage system","WC;aux;sto","kWh",0,"M4-7","Yes"]
["Cooling energy extracted by the cooling storage system","QC;sto;in","kWh",0,"M4-7","Yes"]
["Required chilled water intlet temperature to the cooling storage","ϑC;sto;in;req","°C",9,"M4-7","yes"]
["Chilled water outlet temperature from the cooling storage","ϑC;sto;out","°C",8,"M4-7","yes"]
["Cooling energy extracted by the cooling generation system","QC;gen;in","kWh",50,"M4-8","yes"]
["Chilled water outlet temperature from the cooling generation ","ϑC;gen;out","°C",9,"M4-8","yes"]
["Electric energy input to the cooling generation system","EC,gen,el;in","kWh",8.8652482269503547,"M4-8","yes"]
["Heat input to the absorption cooling generation","QH;C;gen;abs;in","kWh",0,"M4-8","yes"]
["Auxiliary energy for cooling generation system","WC;aux;gen","kWh",0.44326241134751776,"M4-8","Yes"]
[]
["System design data"]
["Process design"]
["Cooling generation outlet temperature setpoint","ϑC;gen;out;set","°C",6,"local"]
["Inlet temperature setpoint of the total distribution system for CONST control option","ϑC;dis;flw;set","°C",8,"local"]
["Maximum inlet temperature setpoint of the total distribution system for ODA_COMP control option","ϑC;dis;flw;set;max","°C",16,"local"]
["Minimum inlet temperature setpoint of the total distribution system for ODA_COMP control option","ϑC;dis;flw;set;min","°C",8,"local"]
["Slope factor of the total distribution system for ODA_COMP control option","fe","-",-0.8,"local"]
["Temperature offset of the total distribution system for ODA_COMP control option","DJoff","K",28,"local"]
["Inlet temperature setpoint of distribution system i=1 for CONST control option","ϑC;dis;flw;set;i","°C",9,"local"]
["Maximum inlet temperature setpoint of distribution system i=1 for ODA_COMP control option","ϑC;dis;flw;set;max;i","°C",17,"local"]
["Minimum inlet temperature setpoint of distribution system i=1 for ODA_COMP control option","ϑC;dis;flw;set;min;i","°C",9,"local"]
["Slope factor of distribution system i=1 for ODA_COMP control option","fe;i","-",-0.8,"local"]
["Temperature offset of distribution system i=1 for ODA_COMP control option","DJoff;i","K",29,"local"]
["design volume flow rate of distribution system i=1","qv;C;dis;i;des","m3/h",5,"local"]
["Design extract energy from distribution system i=1","QC;dis;out;i;des","kWh",35,"local"]
["Priority of distribution system i=1 in case of CLG_EN_DISTR_CTRL=PRIO","pi","-",2,"local"]
["Inlet temperature setpoint of distribution system i=2 for CONST control option","ϑC;dis;flw;set;i","°C",10,"local"]
["Maximum inlet temperature setpoint of distribution system i=2 for ODA_COMP control option","ϑC;dis;flw;set;max;i","°C",18,"local"]
["Minimum inlet temperature setpoint of distribution system i=2 for ODA_COMP control option","ϑC;dis;flw;set;min;i","°C",10,"local"]
["Slope factor of distribution system i=2 for ODA_COMP control option","fe;i","-",-0.8,"local"]
["Temperature offset of distribution system i=2 for ODA_COMP control option","DJoff;i","K",30,"local"]
["design volume flow rate of distribution system i=2","qv;C;dis;i;des","m3/h",6,"local"]
["Design extract energy from distribution system i=2","QC;dis;out;i;des","kWh",42,"local"]
["Priority of distribution system i=2 in case of CLG_EN_DISTR_CTRL=PRIO","pi","-",1,"local"]
["Weighting factor for thermal energy","fW;th","-",1,"local"]
["Weighting factor for electric energy","fW;el","-",1,"local"]
[]
["Control type data"]
["Control of the cooling generation outlet temperature","CLG_GEN_TMP_CTRL",null,{"$f":"Process_design_data!C9","v":"VARIABLE"}]
["Control of the chilled water flow temperature of the total distribution system","CLG_DISTR_TMP_CTRL",null,{"$f":"Process_design_data!C16","v":"MAX_TMP"}]
["Control of the chilled water outlet temperature of distribution system i=1","CLG_DISTR_TMP_CTRL_I",null,{"$f":"Process_design_data!C24","v":"MAX_TMP"}]
["Control of the chilled water outlet temperature of distribution system i=2","CLG_DISTR_TMP_CTRL_I",null,{"$f":"Process_design_data!G24","v":"MAX_TMP"}]
["Control of the cooling distribution flow rate","CLG_ DISTR_FLW_CTRL",null,{"$f":"Process_design_data!C32","v":"VARIABLE"}]
["Control of the cooling energy distribution in case of insufficient supply","CLG_EN_DISTR_CTRL",null,{"$f":"Process_design_data!C39","v":"PRIO"}]
[]
["Constants"]
["Density of water","rwat","kg/m3",1000]
["Specific heat of water","cwat","kWh/kg K",1.16E-3]

{"sheet":"Method_calculation","index":8,"n_rows":52,"n_cols":7,"rows_kept":52,"cut":false,"hidden":false,"merged":[[0,0,0,6]]}
["THIS IS A MANDATORY SHEET\nOne time step calculation shall be described here.\nFor each calculation step (= 1 row) data for the formula in column D shall be taken from the \"Method_input\" sheet or previous calculation steps.\nInclude in the column \"Formula ref\" its number in the standard text. The example is based on EN 15316-4-1:2008\nCopy and paste a copy of the equation into column \"Formula\"\nUse the column note for information on the calculation"]
[]
["Description","Symbol","Unit","Value","Formula ref","Formula","Notes"]
["Operation conditions calculations"]
["Required generation outlet temperature if CLG_GEN_TMP_CTRL = CONST","JC,gen;out;req","°C",{"$f":"IF(Method_input!D68=\"CONST\",Method_input!D42,\"-\")","v":"-"},"Formula (9a)","JC,gen;out;req = JC;gen;out;set","Method output"]
["Required generation outlet temperature else","JC,gen;out;req","°C",{"$f":"IF(Method_input!D68=\"VARIABLE\",MIN(Method_input!D32,IF(D7<>\"-\",D7,IF(D8<>\"-\",D8,D9))),\"-\")","v":9},"Formula (9b)","JC,gen;out;req = JC;dis;in;flw;req","Method output"]
["Required inlet temperature of the total distribution system if CLG_DISTR_TMP_CTRL = CONST","ϑC;dis;in;flw;req","°C",{"$f":"IF(Method_input!D69=\"CONST\",Method_input!D43,\"-\")","v":"-"},"Formula (10a)","ϑC;dis;in;flw;req = ϑC;dis;flw;set"]
["required inlet temperature of the total distribution system if CLG_DISTR_TMP_CTRL = ODA_COMP","ϑC;dis;in;flw;req","°C",{"$f":"IF(Method_input!D69=\"ODA_COMP\",MIN(Method_input!D44,MAX(Method_input!D45,Method_input!D46*Method_input!D7+Method_input!D47)),\"-\")","v":"-"},"Formula (10b)","ϑC;dis;in;flw;req = min[ϑC;dis;flw;set;max;; max(ϑC;dis;flw;set;min ; fe × Je + DJoff)]"]
["required inlet temperature of the total distribution system if CLG_DISTR_TMP_CTRL = LOAD_COMP","ϑC;dis;in;flw;req","°C",{"$f":"IF(Method_input!D69=\"MAX_TMP\",MIN(D10:D15),\"-\")","v":9},"Formula (10c)"]
["required inlet temperature of the distribution system i=1 in case of CLG_DISTR_TMP_CTRL = LOAD_COMP, if CLG_DISTR_TMP_CTRL_I = CONST","ϑC;dis;in;flw;req;i","°C",{"$f":"IF(AND(Method_input!D69=\"MAX_TMP\",Method_input!D70=\"CONST\"),Method_input!D48,\"-\")","v":"-"},"Formula (11a)","ϑC;dis;in;flw;req;i = ϑC;dis; flw;set;i"]
["required inlet temperature of the distribution system i=1 in case of CLG_DISTR_TMP_CTRL = LOAD_COMP, if CLG_DISTR_TMP_CTRL_I = ODA_COMP","ϑC;dis;in;flw;req;i","°C",{"$f":"IF(AND(Method_input!D69=\"MAX_TMP\",Method_input!D70=\"ODA_COMP\"),MIN(Method_input!D49,MAX(Method_input!D50,Method_input!D51*Method_input!D7+Method_input!D52)),\"-\")","v":"-"},"Formula (11b)","ϑC;dis;in;flw;req;i = min[ϑC;dis;flw;set;max;i;; max(ϑC;dis;flw;set;min;i ; fe;i × Je + DJoff;i)]"]
["required inlet temperature of the distribution system i=1 in case of CLG_DISTR_TMP_CTRL = LOAD_COMP, if CLG_DISTR_TMP_CTRL_I = ODA_COMP","ϑC;dis;in;flw;req;i","°C",{"$f":"IF(AND(Method_input!D69=\"MAX_TMP\",Method_input!D70=\"MAX_TMP\"),MIN(MIN(Method_input!D11),Method_input!D49,MAX(Method_input!D50,Method_input!D51*Method_input!D7+Method_input!D52)),\"-\")","v":9},"Formula (11c)"]
["required inlet temperature of the distribution system i=2 in case of CLG_DISTR_TMP_CTRL = LOAD_COMP, if CLG_DISTR_TMP_CTRL_I = CONST","ϑC;dis;in;flw;req;i","°C",{"$f":"IF(AND(Method_input!D69=\"MAX_TMP\",Method_input!D71=\"CONST\"),Method_input!D56,\"-\")","v":"-"},"Formula (11a)","ϑC;dis;in;flw;req;i = ϑC;dis; flw;set;i"]
["required inlet temperature of the distribution system i=2 in case of CLG_DISTR_TMP_CTRL = LOAD_COMP, if CLG_DISTR_TMP_CTRL_I = ODA_COMP","ϑC;dis;in;flw;req;i","°C",{"$f":"IF(AND(Method_input!D69=\"MAX_TMP\",Method_input!D71=\"ODA_COMP\"),MIN(Method_input!D57,MAX(Method_input!D58,Method_input!D59*Method_input!D7+Method_input!D60)),\"-\")","v":"-"},"Formula (11b)","ϑC;dis;in;flw;req;i = min[ϑC;dis;flw;set;max;i;; max(ϑC;dis;flw;set;min;i ; fe;i × Je + DJoff;i)]"]
["required inlet temperature of the distribution system i=2 in case of CLG_DISTR_TMP_CTRL = LOAD_COMP, if CLG_DISTR_TMP_CTRL_I = ODA_COMP","ϑC;dis;in;flw;req;i","°C",{"$f":"IF(AND(Method_input!D69=\"MAX_TMP\",Method_input!D71=\"MAX_TMP\"),MIN(MIN(Method_input!D22),Method_input!D57,MAX(Method_input!D58,Method_input!D59*Method_input!D7+Method_input!D60)),\"-\")","v":10},"Formula (11c)"]
["volume flow rate of distribution system i=1, if CLG_DISTR_FLW_CTRL = CONST","qV;C;dis;i","m3/h",{"$f":"IF(Method_input!D72=\"CONST\",Method_input!D53,\"-\")","v":"-"},"Formula (12a)",null,"Method output"]
["volume flow rate of distribution system i=1, else","qV;C;dis;i","m3/h",{"$f":"IF(Method_input!D72=\"VARIABLE\",Method_input!D53*IF(D34<>\"-\",D34,IF(D35<>\"-\",D35,D36))/Method_input!D54,\"-\")","v":4.1839126325955718},"Formula (12b)",null,"Method output"]
["volume flow rate of distribution system i=2, if CLG_DISTR_FLW_CTRL = CONST","qV;C;dis;i","m3/h",{"$f":"IF(Method_input!D72=\"CONST\",Method_input!D61,\"-\")","v":"-"},"Formula (12a)",null,"Method output"]
["volume flow rate of distribution system i=2, else","qV;C;dis;i","m3/h",{"$f":"IF(Method_input!D72=\"VARIABLE\",Method_input!D61*IF(D37<>\"-\",D37,IF(D38<>\"-\",D38,D39))/Method_input!D62,\"-\")","v":2.9589445102615706},"Formula (12b)",null,"Method output"]
["flow temperature entering distribution system i=1","ϑC;dis;in;flw;i","°C",{"$f":"MAX(Method_input!D35,Method_input!D33,D10,D11,D12)","v":9},"Formula (13)","ϑC;dis;in;flw;i = max(ϑC;gen.out ; ϑC;sto;out ; ϑC;dis;flw;in;i;req)","Method output"]
["flow temperature entering distribution system i=2","ϑC;dis;in;flw;i","°C",{"$f":"MAX(Method_input!D35,Method_input!D33,D13,D14,D15)","v":10},"Formula (13)","ϑC;dis;in;flw;i = max(ϑC;gen.out ; ϑC;sto;out ; ϑC;dis;flw;in;i;req)","Method output"]
["return temperature leaving distribution system i=1","ϑC;dis;out;ret;i","°C",{"$f":"D20+IF(IF(D16<>\"-\",D16,D17)=0,0,IF(D34<>\"-\",D34,IF(D35<>\"-\",D35,D36))/(IF(D16<>\"-\",D16,D17)*Method_input!D76*Method_input!D77*Method_in))","v":15.03448275862069},"Formula (14)",null,"Method output"]
["return temperature leaving distribution system i=2","ϑC;dis;out;ret;i","°C",{"$f":"D21+IF(IF(D18<>\"-\",D18,D19)=0,0,IF(D37<>\"-\",D37,IF(D38<>\"-\",D38,D39))/(IF(D18<>\"-\",D18,D19)*Method_input!D76*Method_input!D77*Method_in))","v":16.03448275862069},"Formula (14)",null,"Method output"]
["inlet temperature of the cooling coil in the air handling unit served by distribution system i=1","ϑC;ahu;in;i","°C",{"$f":"D20+IF(IF(D16<>\"-\",D16,D17)=0,0,(Method_input!D16+Method_input!D18*Method_input!D17)/(2*IF(D16<>\"-\",D16,D17)*Method_input!D76*Method_input!D77*Method_in))","v":9.0012534490036504},"Formula (15)",null,"Method output"]
["inlet temperature of the cooling coil in the air handling unit served by distribution system i=2","ϑC;ahu;in;i","°C",{"$f":"D21+IF(IF(D18<>\"-\",D18,D19)=0,0,(Method_input!D27+Method_input!D29*Method_input!D28)/(2*IF(D18<>\"-\",D18,D19)*Method_input!D76*Method_input!D77*Method_in))","v":10.000369894513788},"Formula (15)",null,"Method output"]
["Energy calculations"]
["Energy to be extracted by the cooling generation system","QC;gen;in;req","kWh",{"$f":"D28-Method_input!D31","v":51.185068818830999},"Formula (16)",null,"Method output"]
["Total required energy to be extracted from the distribution system ","QC;dis;out;tot;req","kWh",{"$f":"D31+D32","v":51.185068818830999},"Formula (17)",null,"Method output"]
["energy to be extracted by the cooling distribution system i=1","QC;dis;in;req;i","kWh",{"$f":"Method_input!D8+Method_input!D9+Method_input!D12+Method_input!D13+Method_input!D10","v":30.460290422},"Formula (18)"]
["energy to be extracted by the cooling distribution system i=2","QC;dis;in;req;i","kWh",{"$f":"Method_input!D19+Method_input!D20+Method_input!D23+Method_input!D24+Method_input!D21","v":20.710072337999996},"Formula (18)"]
["energy to be extracted by the cooling distribution system i=1","QC;dis;out;req;i","kWh",{"$f":"D29+Method_input!D16+Method_input!D18*Method_input!D17","v":30.472457247000001},"Formula (19)"]
["energy to be extracted by the cooling distribution system i=2","QC;dis;out;req;i","kWh",{"$f":"D30+Method_input!D27+Method_input!D29*Method_input!D28","v":20.712611571830994},"Formula (19)"]
["total energy extracted from the distribution system","QC;dis;out;tot","kWh",{"$f":"Method_input!D34+Method_input!D31","v":50},"Formula (20)"]
["energy extracted from distribution system i=1, if CLG_EN_DISTR_CTRL = NO_CTRL","QC;dis;out;i","kWh",{"$f":"IF(Method_input!D73=\"NO_CTRL\",MIN(D31,D33/D28*D31),\"-\")","v":"-"},"Formula (21a)"]
["energy extracted from distribution system i=1, if CLG_EN_DISTR_CTRL = PRIO;","QC;dis;out;i","kWh",{"$f":"IF(AND(Method_input!D73=\"PRIO\",Method_input!D55<Method_input!D63,D33>=D31),D31,IF(AND(Method_input!D73=\"PRIO\",(D33-D32-D31)>=-0.000001),D31,\"-\"))","v":"-"},"Formula (21b)","QC;dis;out;i;p = QC;dis;out;i;req;p"]
["energy extracted from distribution system i=1, if CLG_EN_DISTR_CTRL = PRIO; else","QC;dis;out;i","kWh",{"$f":"IF(AND(Method_input!D73=\"PRIO\",Method_input!D55<Method_input!D63,D33<D31),MAX(0,D33),IF(AND(Method_input!D73=\"PRIO\",Method_input!D55>Method_input!D63,(D33-D32)<D31),MAX(0,(D33-IF(D38<>\"-\",D38,D39))),IF(AND(Method_input!D73=\"PRIO\",Method_input!D55=Method_input!D63,(D33-D32-D31)<0),MAX(0,D33/D28*D31),\"-\")))","v":29.287388428169006},"Formula (21c)"]
["energy extracted from distribution system i=2, if CLG_EN_DISTR_CTRL = NO_CTRL","QC;dis;out;i","kWh",{"$f":"IF(Method_input!D73=\"NO_CTRL\",MIN(D32,D33/D28*D32),\"-\")","v":"-"},"Formula (21a)"]
["energy extracted from distribution system i=2, if CLG_EN_DISTR_CTRL = PRIO;","QC;dis;out;i","kWh",{"$f":"IF(AND(Method_input!D73=\"PRIO\",Method_input!D55>Method_input!D63,D33>=D32),D32,IF(AND(Method_input!D73=\"PRIO\",(D33-D32-D31)>=-0.000001),D32,\"-\"))","v":20.712611571830994},"Formula (21b)","QC;dis;out;i;p = QC;dis;out;i;req;p"]
["energy extracted from distribution system i=2, if CLG_EN_DISTR_CTRL = PRIO; else","QC;dis;out;i","kWh",{"$f":"IF(AND(Method_input!D73=\"PRIO\",Method_input!D55>Method_input!D63,D33<D32),MAX(0,D33),IF(AND(Method_input!D73=\"PRIO\",Method_input!D55<Method_input!D63,(D33-D31)<D32),MAX(0,(D33-IF(D35<>\"-\",D35,D36))),IF(AND(Method_input!D73=\"PRIO\",Method_input!D55=Method_input!D63,(D33-D32-D31)<0),MAX(0,D33/D28*D32),\"-\")))","v":"-"},"Formula (21c)"]
["energy extracted by the distribution system i=1","QC;dis;in;i","kWh",{"$f":"MAX(0,IF(D34<>\"-\",D34,IF(D35<>\"-\",D35,D36))-Method_input!D16-Method_input!D18*Method_input!D17)","v":29.275221603169005},"Formula (22)"]
["energy extracted by the distribution system i=2","QC;dis;in;i","kWh",{"$f":"MAX(0,IF(D37<>\"-\",D37,IF(D38<>\"-\",D38,D39))-Method_input!D27-Method_input!D29*Method_input!D28)","v":20.710072337999996},"Formula (22)"]
["energy really extracted by the from the thermal zone j=1 by distribution system i=1","QC;zt;j;i","kWh",{"$f":"MIN(Method_input!D8,IF(D29=0,0,Method_input!D8/D29*D40))","v":7.8987400838486179},"Formula (23)",null,"Method output"]
["energy really extracted by the from the thermal zone j=2 by distribution system i=1","QC;zt;j;i","kWh",{"$f":"MIN(Method_input!D9,IF(D29=0,0,Method_input!D9/D29*D40))","v":2.9632589243290908},"Formula (23)",null,"Method output"]
["energy really extracted by the from the thermal zone j=1 by distribution system i=2","QC;zt;j;i","kWh",{"$f":"MIN(Method_input!D19,IF(D30=0,0,Method_input!D19/D30*D41))","v":7.0183799999999987},"Formula (23)",null,"Method output"]
["energy really extracted by the from the thermal zone j=2 by distribution system i=2","QC;zt;j;i","kWh",{"$f":"MIN(Method_input!D20,IF(D30=0,0,Method_input!D20/D30*D41))","v":2.7519555599999999},"Formula (23)",null,"Method output"]
["energy really extracted by the from the air handling unit k=1 by distribution system i=1","QC;ahu;k;out;i","kWh",{"$f":"MIN(Method_input!D10,IF(D29=0,0,Method_input!D10/D29*D40))","v":17.870122644582409},"Formula (24)",null,"Method output"]
["energy really extracted by the from the air handling unit k=1 by distribution system i=2","QC;ahu;k;out;i","kWh",{"$f":"MIN(Method_input!D21,IF(D30=0,0,Method_input!D21/D30*D41))","v":10.451219999999999},"Formula (24)",null,"Method output"]
["Performance expression calculations"]
["annual efficiency of the total cooling system","hC;tot;an","-",{"$f":"Output_series!Z8778/Output_series!AA8778","v":5.9291089525493588},"Formula (25)"]
["total auxiliary energy for the cooling emission","WC;aux;em","kWh",{"$f":"Method_input!D14+Method_input!D15+Method_input!D25+Method_input!D26","v":0.51839999999999997},"Formula (26)",null,"Method output"]
["total auxiliary energy for the cooling distribution","WC;aux;dis","kWh",{"$f":"Method_input!D17+Method_input!D28","v":2.9401980999999997E-2},"Formula (27)",null,"Method output"]
["annual efficiency of the cooling generation system ","hC;gen;an","-",{"$f":"Input_series!AD8774/Output_series!AB8778","v":6.6095652688602629},"Formula (28)",null,"Method output"]

{"sheet":"Method_output","index":9,"n_rows":35,"n_cols":6,"rows_kept":35,"cut":false,"hidden":false,"merged":[[0,0,0,8]]}
["THIS IS A MANDATORY SHEET\nOutput of one step calculation shall be indicated here.\nEach cell in the column value shall be a reference to a single cell in the \"Method_calculation\" sheet.\nThe macro will take the calculation step results and fill the values table in the \"Output_series\" sheet."]
[]
[]
[]
[]
[]
[]
[]
["Name","Symbol","Unit","Value","Intended destination","Notes"]
["Electric energy input to the cooling generation","EC;gen;el;in","kWh",{"$f":"Method_input!D36","v":8.8652482269503547},"M1-9"]
["Auxiliary energy for the cooling emission","WC;aux;em","kWh",{"$f":"Method_calculation!D50","v":0.51839999999999997},"M1-9"]
["Auxiliary energy for the cooling distribution","WC;aux;dis","kWh",{"$f":"Method_calculation!D51","v":2.9401980999999997E-2},"M1-9"]
["Auxiliary energy of the cooling storage","WC;aux;sto","kWh",{"$f":"Method_input!D30","v":0},"M1-9"]
["Auxiliary energy of the cooling generation","WC;aux;gen","kWh",{"$f":"Method_input!D38","v":0.44326241134751776},"M1-9"]
["Cooling energy extracted from thermal zone j=1 of distribution system i=1","QC;out;zt,j;i","kWh",{"$f":"Method_calculation!D42","v":7.8987400838486179},"M2-2, M4-5"]
["Cooling energy extracted from thermal zone j=2 of distribution system i=1","QC;out;zt,j;i","kWh",{"$f":"Method_calculation!D43","v":2.9632589243290908},"M2-2, M4-5"]
["Cooling energy extracted from thermal zone j=1 of distribution system i=2","QC;out;zt,j;i","kWh",{"$f":"Method_calculation!D44","v":7.0183799999999987},"M2-2, M4-5"]
["Cooling energy extracted from thermal zone j=2 of distribution system i=2","QC;out;zt,j;i","kWh",{"$f":"Method_calculation!D45","v":2.7519555599999999},"M2-2, M4-5"]
["Flow temperature of distribution system i=1","JC;dis;in;flw;i","°C",{"$f":"Method_calculation!D20","v":9},"M4-6"]
["Flow temperature of distribution system i=2","JC;dis;in;flw;i","°C",{"$f":"Method_calculation!D21","v":10},"M4-6"]
["Return temperature of distribution system i=1","JC;dis;out;ret;i","°C",{"$f":"Method_calculation!D22","v":15.03448275862069},"M4-6"]
["Return temperature of distribution system i=2","JC;dis;out;ret;i","°C",{"$f":"Method_calculation!D23","v":16.03448275862069},"M4-6"]
["Volume flow rate of distribution system i=1","qv;C;dis;i","m3/h",{"$f":"IF(Method_calculation!D16<>\"-\",Method_calculation!D16,Method_calculation!D17)","v":4.1839126325955718},"M4-6"]
["Volume flow rate of distribution system i=2","qv;C;dis;i","m3/h",{"$f":"IF(Method_calculation!D18<>\"-\",Method_calculation!D18,Method_calculation!D19)","v":2.9589445102615706},"M4-6"]
["Required cooling energy from the cooling distribution system","QC;dis;out;tot;req","kWh",{"$f":"Method_calculation!D28","v":51.185068818830999},"M4-7"]
["Required distribution intlet temperature ","ϑC;dis;in;flw;req","°C",{"$f":"IF(Method_calculation!D7<>\"-\",Method_calculation!D7,IF(Method_calculation!D8<>\"-\",Method_calculation!D8,Method_calculation!D9))","v":9},"M4-7"]
["Required cooling energy by the cooling generation system","QC;gen;in;req","kWh",{"$f":"Method_calculation!D27","v":51.185068818830999},"M4-8"]
["Required generation outlet temperature ","ϑC;gen:out;req","°C",{"$f":"IF(Method_calculation!D5<>\"-\",Method_calculation!D5,Method_calculation!D6)","v":9},"M4-8"]
["AHU cooling coil output for ventilation system k=1 of distribution system i=1","QC;ahu;out;k;i","kWh",{"$f":"Method_calculation!D46","v":17.870122644582409},"M5-8"]
["AHU cooling coil output for ventilation system k=1 of distribution system i=2","QC;ahu;out;k;i","kWh",{"$f":"Method_calculation!D47","v":10.451219999999999},"M5-8"]
["AHU cooling coil water inlet temperature to ventilation system k=1 of distribution system i=1","JC;ahu;in;k;i","°C",{"$f":"Method_calculation!D24","v":9.0012534490036504},"M5-8"]
["AHU cooling coil water inlet temperature to ventilation system k=1 of distribution system i=2","JC;ahu;in;k;i","°C",{"$f":"Method_calculation!D25","v":10.000369894513788},"M5-8"]
["Performance expression"]
["annual efficiency of the total cooling system","hC;tot;an","-",{"$f":"Method_calculation!D49","v":5.9291089525493588}]
["annual efficiency of the cooling generation system ","hC;gen;an","-",{"$f":"Method_calculation!D52","v":6.6095652688602629}]

{"sheet":"Output_series","index":10,"n_rows":8779,"n_cols":28,"rows_kept":2250,"cut":true,"hidden":false,"merged":[[6,0,6,10],[0,0,0,11]],"bounds":{"rows_first":1000,"rows_last":250,"rows_between":1000,"halvings":1}}
["Here a time series can be generated to test the method with variable input data.\nData input series must be inserted in the \"input_series\" sheet before."]
[]
["Time series for data output"]
["Settings"]
["Number of output data",null,null,null,null,null,null,23]
[]
["This table will be filled automatically via a macro scanning the \"input_series\" and performing for each time step the calculation defined in the \"Method_calculation\" sheet."]
["Press CLEAR OUTPUT to reset output series"]
["Press \"Run method\" to start calculation of individual time steps"]
[]
[]
[]
[null,"Electric energy input to the cooling generation","Auxiliary energy for the cooling emission","Auxiliary energy for the cooling distribution","Auxiliary energy of the cooling storage","Auxiliary energy of the cooling generation","Cooling energy extracted from thermal zone j=1 of distribution system i=1","Cooling energy extracted from thermal zone j=2 of distribution system i=1","Cooling energy extracted from thermal zone j=1 of distribution system i=2","Cooling energy extracted from thermal zone j=2 of distribution system i=2","Flow temperature of distribution system i=1","Flow temperature of distribution system i=2","Return temperature of distribution system i=1","Return temperature of distribution system i=2","Volume flow rate of distribution system i=1","Volume flow rate of distribution system i=2","Required cooling energy from the cooling distribution system","Required distribution intlet temperature ","Required cooling energy by the cooling generation system","Required generation outlet temperature ","AHU cooling coil output for ventilation system k=1 of distribution system i=1","AHU cooling coil output for ventilation system k=1 of distribution system i=2","AHU cooling coil water inlet temperature to ventilation system k=1 of distribution system i=1","AHU cooling coil water inlet temperature to ventilation system k=1 of distribution system i=2"]
[null,"EC;gen;el;in","WC;aux;em","WC;aux;dis","WC;aux;sto","WC;aux;gen","QC;out;zt,j;i","QC;out;zt,j;i","QC;out;zt,j;i","QC;out;zt,j;i","JC;dis;in;flw;i","JC;dis;in;flw;i","JC;dis;out;ret;i","JC;dis;out;ret;i","qv;C;dis;i","qv;C;dis;i","QC;dis;out;tot;req","ϑC;dis;in;flw;req","QC;gen;in;req","ϑC;gen:out;req","QC;ahu;out;k;i","QC;ahu;out;k;i","JC;ahu;in;k;i","JC;ahu;in;k;i"]
["Symbol","kWh","kWh","kWh","kWh","kWh","kWh","kWh","kWh","kWh","°C","°C","°C","°C","m3/h","m3/h","kWh","°C","kWh","°C","kWh","kWh","°C","°C"]
["Destination","M1-9","M1-9","M1-9","M1-9","M1-9","M2-2, M4-5","M2-2, M4-5","M2-2, M4-5","M2-2, M4-5","M4-6","M4-6","M4-6","M4-6","M4-6","M4-6","M4-7","M4-7","M4-8","M4-8","M5-8","M5-8","M5-8","M5-8"]
["Time stamp"]
[1,0,0,0,0,0,0,0,0,0,16,12,16,12,0,0,0,12,0,12,0,0,16,12,null,{"$f":"SUM(G18:J18,U18:V18)","v":0},{"$f":"Method_input!$D$65*B18+Method_input!$D$64*Input_series!AG14+Method_input!$D$65*C18+Method_input!$D$65*D18+Method_input!$D$65*E18+Method_input!$D$65*F18","v":0},{"$f":"Method_input!$D$65*B18+Method_input!$D$64*Input_series!AG14+Method_input!$D$65*F18","v":0}]
[2,0,0,0,0,0,0,0,0,0,16,12,16,12,0,0,0,12,0,12,0,0,16,12,null,0,{"$f":"Method_input!$D$65*B19+Method_input!$D$64*Input_series!AG15+Method_input!$D$65*C19+Method_input!$D$65*D19+Method_input!$D$65*E19+Method_input!$D$65*F19","v":0},{"$f":"Method_input!$D$65*B19+Method_input!$D$64*Input_series!AG15+Method_input!$D$65*F19","v":0}]
[3,0,0,0,0,0,0,0,0,0,16,12,16,12,0,0,0,12,0,12,0,0,16,12,null,0,{"$f":"Method_input!$D$65*B20+Method_input!$D$64*Input_series!AG16+Method_input!$D$65*C20+Method_input!$D$65*D20+Method_input!$D$65*E20+Method_input!$D$65*F20","v":0},{"$f":"Method_input!$D$65*B20+Method_input!$D$64*Input_series!AG16+Method_input!$D$65*F20","v":0}]
[4,0,0,0,0,0,0,0,0,0,16,12,16,12,0,0,0,12,0,12,0,0,16,12,null,0,{"$f":"Method_input!$D$65*B21+Method_input!$D$64*Input_series!AG17+Method_input!$D$65*C21+Method_input!$D$65*D21+Method_input!$D$65*E21+Method_input!$D$65*F21","v":0},{"$f":"Method_input!$D$65*B21+Method_input!$D$64*Input_series!AG17+Method_input!$D$65*F21","v":0}]
[5,0,0,0,0,0,0,0,0,0,16,12,16,12,0,0,0,12,0,12,0,0,16,12,null,0,{"$f":"Method_input!$D$65*B22+Method_input!$D$64*Input_series!AG18+Method_input!$D$65*C22+Method_input!$D$65*D22+Method_input!$D$65*E22+Method_input!$D$65*F22","v":0},{"$f":"Method_input!$D$65*B22+Method_input!$D$64*Input_series!AG18+Method_input!$D$65*F22","v":0}]
[6,0,0,0,0,0,0,0,0,0,16,12,16,12,0,0,0,12,0,12,0,0,16,12,null,0,{"$f":"Method_input!$D$65*B23+Method_input!$D$64*Input_series!AG19+Method_input!$D$65*C23+Method_input!$D$65*D23+Method_input!$D$65*E23+Method_input!$D$65*F23","v":0},{"$f":"Method_input!$D$65*B23+Method_input!$D$64*Input_series!AG19+Method_input!$D$65*F23","v":0}]
[7,0,0,0,0,0,0,0,0,0,16,12,16,12,0,0,0,12,0,12,0,0,16,12,null,0,{"$f":"Method_input!$D$65*B24+Method_input!$D$64*Input_series!AG20+Method_input!$D$65*C24+Method_input!$D$65*D24+Method_input!$D$65*E24+Method_input!$D$65*F24","v":0},{"$f":"Method_input!$D$65*B24+Method_input!$D$64*Input_series!AG20+Method_input!$D$65*F24","v":0}]
[8,0,0,0,0,0,0,0,0,0,16,12,16,12,0,0,0,12,0,12,0,0,16,12,null,0,{"$f":"Method_input!$D$65*B25+Method_input!$D$64*Input_series!AG21+Method_input!$D$65*C25+Method_input!$D$65*D25+Method_input!$D$65*E25+Method_input!$D$65*F25","v":0},{"$f":"Method_input!$D$65*B25+Method_input!$D$64*Input_series!AG21+Method_input!$D$65*F25","v":0}]
[9,0,0,0,0,0,0,0,0,0,16,12,16,12,0,0,0,12,0,12,0,0,16,12,null,0,{"$f":"Method_input!$D$65*B26+Method_input!$D$64*Input_series!AG22+Method_input!$D$65*C26+Method_input!$D$65*D26+Method_input!$D$65*E26+Method_input!$D$65*F26","v":0},{"$f":"Method_input!$D$65*B26+Method_input!$D$64*Input_series!AG22+Method_input!$D$65*F26","v":0}]
[10,0,0,0,0,0,0,0,0,0,16,12,16,12,0,0,0,12,0,12,0,0,16,12,null,0,{"$f":"Method_input!$D$65*B27+Method_input!$D$64*Input_series!AG23+Method_input!$D$65*C27+Method_input!$D$65*D27+Method_input!$D$65*E27+Method_input!$D$65*F27","v":0},{"$f":"Method_input!$D$65*B27+Method_input!$D$64*Input_series!AG23+Method_input!$D$65*F27","v":0}]
[11,0,0,0,0,0,0,0,0,0,16,12,16,12,0,0,0,12,0,12,0,0,16,12,null,0,{"$f":"Method_input!$D$65*B28+Method_input!$D$64*Input_series!AG24+Method_input!$D$65*C28+Method_input!$D$65*D28+Method_input!$D$65*E28+Method_input!$D$65*F28","v":0},{"$f":"Method_input!$D$65*B28+Method_input!$D$64*Input_series!AG24+Method_input!$D$65*F28","v":0}]
[12,0,0,0,0,0,0,0,0,0,16,12,16,12,0,0,0,12,0,12,0,0,16,12,null,0,{"$f":"Method_input!$D$65*B29+Method_input!$D$64*Input_series!AG25+Method_input!$D$65*C29+Method_input!$D$65*D29+Method_input!$D$65*E29+Method_input!$D$65*F29","v":0},{"$f":"Method_input!$D$65*B29+Method_input!$D$64*Input_series!AG25+Method_input!$D$65*F29","v":0}]
[13,0,0,0,0,0,0,0,0,0,16,12,16,12,0,0,0,12,0,12,0,0,16,12,null,0,{"$f":"Method_input!$D$65*B30+Method_input!$D$64*Input_series!AG26+Method_input!$D$65*C30+Method_input!$D$65*D30+Method_input!$D$65*E30+Method_input!$D$65*F30","v":0},{"$f":"Method_input!$D$65*B30+Method_input!$D$64*Input_series!AG26+Method_input!$D$65*F30","v":0}]
[14,0,0,0,0,0,0,0,0,0,16,12,16,12,0,0,0,12,0,12,0,0,16,12,null,0,{"$f":"Method_input!$D$65*B31+Method_input!$D$64*Input_series!AG27+Method_input!$D$65*C31+Method_input!$D$65*D31+Method_input!$D$65*E31+Method_input!$D$65*F31","v":0},{"$f":"Method_input!$D$65*B31+Method_input!$D$64*Input_series!AG27+Method_input!$D$65*F31","v":0}]
[15,0,0,0,0,0,0,0,0,0,16,12,16,12,0,0,0,12,0,12,0,0,16,12,null,0,{"$f":"Method_input!$D$65*B32+Method_input!$D$64*Input_series!AG28+Method_input!$D$65*C32+Method_input!$D$65*D32+Method_input!$D$65*E32+Method_input!$D$65*F32","v":0},{"$f":"Method_input!$D$65*B32+Method_input!$D$64*Input_series!AG28+Method_input!$D$65*F32","v":0}]
[16,0,0,0,0,0,0,0,0,0,16,12,16,12,0,0,0,12,0,12,0,0,16,12,null,0,{"$f":"Method_input!$D$65*B33+Method_input!$D$64*Input_series!AG29+Method_input!$D$65*C33+Method_input!$D$65*D33+Method_input!$D$65*E33+Method_input!$D$65*F33","v":0},{"$f":"Method_input!$D$65*B33+Method_input!$D$64*Input_series!AG29+Method_input!$D$65*F33","v":0}]
[17,0,0,0,0,0,0,0,0,0,16,12,16,12,0,0,0,12,0,12,0,0,16,12,null,0,{"$f":"Method_input!$D$65*B34+Method_input!$D$64*Input_series!AG30+Method_input!$D$65*C34+Method_input!$D$65*D34+Method_input!$D$65*E34+Method_input!$D$65*F34","v":0},{"$f":"Method_input!$D$65*B34+Method_input!$D$64*Input_series!AG30+Method_input!$D$65*F34","v":0}]
[18,0,0,0,0,0,0,0,0,0,16,12,16,12,0,0,0,12,0,12,0,0,16,12,null,0,{"$f":"Method_input!$D$65*B35+Method_input!$D$64*Input_series!AG31+Method_input!$D$65*C35+Method_input!$D$65*D35+Method_input!$D$65*E35+Method_input!$D$65*F35","v":0},{"$f":"Method_input!$D$65*B35+Method_input!$D$64*Input_series!AG31+Method_input!$D$65*F35","v":0}]
[19,0,0,0,0,0,0,0,0,0,16,12,16,12,0,0,0,12,0,12,0,0,16,12,null,0,{"$f":"Method_input!$D$65*B36+Method_input!$D$64*Input_series!AG32+Method_input!$D$65*C36+Method_input!$D$65*D36+Method_input!$D$65*E36+Method_input!$D$65*F36","v":0},{"$f":"Method_input!$D$65*B36+Method_input!$D$64*Input_series!AG32+Method_input!$D$65*F36","v":0}]
[20,0,0,0,0,0,0,0,0,0,16,12,16,12,0,0,0,12,0,12,0,0,16,12,null,0,{"$f":"Method_input!$D$65*B37+Method_input!$D$64*Input_series!AG33+Method_input!$D$65*C37+Method_input!$D$65*D37+Method_input!$D$65*E37+Method_input!$D$65*F37","v":0},{"$f":"Method_input!$D$65*B37+Method_input!$D$64*Input_series!AG33+Method_input!$D$65*F37","v":0}]
[21,0,0,0,0,0,0,0,0,0,16,12,16,12,0,0,0,12,0,12,0,0,16,12,null,0,{"$f":"Method_input!$D$65*B38+Method_input!$D$64*Input_series!AG34+Method_input!$D$65*C38+Method_input!$D$65*D38+Method_input!$D$65*E38+Method_input!$D$65*F38","v":0},{"$f":"Method_input!$D$65*B38+Method_input!$D$64*Input_series!AG34+Method_input!$D$65*F38","v":0}]
[22,0,0,0,0,0,0,0,0,0,16,12,16,12,0,0,0,12,0,12,0,0,16,12,null,0,{"$f":"Method_input!$D$65*B39+Method_input!$D$64*Input_series!AG35+Method_input!$D$65*C39+Method_input!$D$65*D39+Method_input!$D$65*E39+Method_input!$D$65*F39","v":0},{"$f":"Method_input!$D$65*B39+Method_input!$D$64*Input_series!AG35+Method_input!$D$65*F39","v":0}]
[23,0,0,0,0,0,0,0,0,0,16,12,16,12,0,0,0,12,0,12,0,0,16,12,null,0,{"$f":"Method_input!$D$65*B40+Method_input!$D$64*Input_series!AG36+Method_input!$D$65*C40+Method_input!$D$65*D40+Method_input!$D$65*E40+Method_input!$D$65*F40","v":0},{"$f":"Method_input!$D$65*B40+Method_input!$D$64*Input_series!AG36+Method_input!$D$65*F40","v":0}]
[24,0,0,0,0,0,0,0,0,0,16,12,16,12,0,0,0,12,0,12,0,0,16,12,null,0,{"$f":"Method_input!$D$65*B41+Method_input!$D$64*Input_series!AG37+Method_input!$D$65*C41+Method_input!$D$65*D41+Method_input!$D$65*E41+Method_input!$D$65*F41","v":0},{"$f":"Method_input!$D$65*B41+Method_input!$D$64*Input_series!AG37+Method_input!$D$65*F41","v":0}]
[25,0,0,0,0,0,0,0,0,0,16,12,16,12,0,0,0,12,0,12,0,0,16,12,null,0,{"$f":"Method_input!$D$65*B42+Method_input!$D$64*Input_series!AG38+Method_input!$D$65*C42+Method_input!$D$65*D42+Method_input!$D$65*E42+Method_input!$D$65*F42","v":0},{"$f":"Method_input!$D$65*B42+Method_input!$D$64*Input_series!AG38+Method_input!$D$65*F42","v":0}]
[26,0,0,0,0,0,0,0,0,0,16,12,16,12,0,0,0,12,0,12,0,0,16,12,null,0,{"$f":"Method_input!$D$65*B43+Method_input!$D$64*Input_series!AG39+Method_input!$D$65*C43+Method_input!$D$65*D43+Method_input!$D$65*E43+Method_input!$D$65*F43","v":0},{"$f":"Method_input!$D$65*B43+Method_input!$D$64*Input_series!AG39+Method_input!$D$65*F43","v":0}]
[27,0,0,0,0,0,0,0,0,0,16,12,16,12,0,0,0,12,0,12,0,0,16,12,null,0,{"$f":"Method_input!$D$65*B44+Method_input!$D$64*Input_series!AG40+Method_input!$D$65*C44+Method_input!$D$65*D44+Method_input!$D$65*E44+Method_input!$D$65*F44","v":0},{"$f":"Method_input!$D$65*B44+Method_input!$D$64*Input_series!AG40+Method_input!$D$65*F44","v":0}]
[28,0,0,0,0,0,0,0,0,0,16,12,16,12,0,0,0,12,0,12,0,0,16,12,null,0,{"$f":"Method_input!$D$65*B45+Method_input!$D$64*Input_series!AG41+Method_input!$D$65*C45+Method_input!$D$65*D45+Method_input!$D$65*E45+Method_input!$D$65*F45","v":0},{"$f":"Method_input!$D$65*B45+Method_input!$D$64*Input_series!AG41+Method_input!$D$65*F45","v":0}]
[29,0,0,0,0,0,0,0,0,0,16,12,16,12,0,0,0,12,0,12,0,0,16,12,null,0,{"$f":"Method_input!$D$65*B46+Method_input!$D$64*Input_series!AG42+Method_input!$D$65*C46+Method_input!$D$65*D46+Method_input!$D$65*E46+Method_input!$D$65*F46","v":0},{"$f":"Method_input!$D$65*B46+Method_input!$D$64*Input_series!AG42+Method_input!$D$65*F46","v":0}]
[30,0,0,0,0,0,0,0,0,0,16,12,16,12,0,0,0,12,0,12,0,0,16,12,null,0,{"$f":"Method_input!$D$65*B47+Method_input!$D$64*Input_series!AG43+Method_input!$D$65*C47+Method_input!$D$65*D47+Method_input!$D$65*E47+Method_input!$D$65*F47","v":0},{"$f":"Method_input!$D$65*B47+Method_input!$D$64*Input_series!AG43+Method_input!$D$65*F47","v":0}]
[31,0,0,0,0,0,0,0,0,0,16,12,16,12,0,0,0,12,0,12,0,0,16,12,null,0,{"$f":"Method_input!$D$65*B48+Method_input!$D$64*Input_series!AG44+Method_input!$D$65*C48+Method_input!$D$65*D48+Method_input!$D$65*E48+Method_input!$D$65*F48","v":0},{"$f":"Method_input!$D$65*B48+Method_input!$D$64*Input_series!AG44+Method_input!$D$65*F48","v":0}]
[32,0,0,0,0,0,0,0,0,0,16,12,16,12,0,0,0,12,0,12,0,0,16,12,null,0,{"$f":"Method_input!$D$65*B49+Method_input!$D$64*Input_series!AG45+Method_input!$D$65*C49+Method_input!$D$65*D49+Method_input!$D$65*E49+Method_input!$D$65*F49","v":0},{"$f":"Method_input!$D$65*B49+Method_input!$D$64*Input_series!AG45+Method_input!$D$65*F49","v":0}]
[33,0,0,0,0,0,0,0,0,0,16,12,16,12,0,0,0,12,0,12,0,0,16,12,null,0,{"$f":"Method_input!$D$65*B50+Method_input!$D$64*Input_series!AG46+Method_input!$D$65*C50+Method_input!$D$65*D50+Method_input!$D$65*E50+Method_input!$D$65*F50","v":0},{"$f":"Method_input!$D$65*B50+Method_input!$D$64*Input_series!AG46+Method_input!$D$65*F50","v":0}]
[34,0,0,0,0,0,0,0,0,0,16,12,16,12,0,0,0,12,0,12,0,0,16,12,null,0,{"$f":"Method_input!$D$65*B51+Method_input!$D$64*Input_series!AG47+Method_input!$D$65*C51+Method_input!$D$65*D51+Method_input!$D$65*E51+Method_input!$D$65*F51","v":0},{"$f":"Method_input!$D$65*B51+Method_input!$D$64*Input_series!AG47+Method_input!$D$65*F51","v":0}]
[35,0,0,0,0,0,0,0,0,0,16,12,16,12,0,0,0,12,0,12,0,0,16,12,null,0,{"$f":"Method_input!$D$65*B52+Method_input!$D$64*Input_series!AG48+Method_input!$D$65*C52+Method_input!$D$65*D52+Method_input!$D$65*E52+Method_input!$D$65*F52","v":0},{"$f":"Method_input!$D$65*B52+Method_input!$D$64*Input_series!AG48+Method_input!$D$65*F52","v":0}]
[36,0,0,0,0,0,0,0,0,0,16,12,16,12,0,0,0,12,0,12,0,0,16,12,null,0,{"$f":"Method_input!$D$65*B53+Method_input!$D$64*Input_series!AG49+Method_input!$D$65*C53+Method_input!$D$65*D53+Method_input!$D$65*E53+Method_input!$D$65*F53","v":0},{"$f":"Method_input!$D$65*B53+Method_input!$D$64*Input_series!AG49+Method_input!$D$65*F53","v":0}]
[37,0,0,0,0,0,0,0,0,0,16,12,16,12,0,0,0,12,0,12,0,0,16,12,null,0,{"$f":"Method_input!$D$65*B54+Method_input!$D$64*Input_series!AG50+Method_input!$D$65*C54+Method_input!$D$65*D54+Method_input!$D$65*E54+Method_input!$D$65*F54","v":0},{"$f":"Method_input!$D$65*B54+Method_input!$D$64*Input_series!AG50+Method_input!$D$65*F54","v":0}]
[38,0,0,0,0,0,0,0,0,0,16,12,16,12,0,0,0,12,0,12,0,0,16,12,null,0,{"$f":"Method_input!$D$65*B55+Method_input!$D$64*Input_series!AG51+Method_input!$D$65*C55+Method_input!$D$65*D55+Method_input!$D$65*E55+Method_input!$D$65*F55","v":0},{"$f":"Method_input!$D$65*B55+Method_input!$D$64*Input_series!AG51+Method_input!$D$65*F55","v":0}]
[39,0,0,0,0,0,0,0,0,0,16,12,16,12,0,0,0,12,0,12,0,0,16,12,null,0,{"$f":"Method_input!$D$65*B56+Method_input!$D$64*Input_series!AG52+Method_input!$D$65*C56+Method_input!$D$65*D56+Method_input!$D$65*E56+Method_input!$D$65*F56","v":0},{"$f":"Method_input!$D$65*B56+Method_input!$D$64*Input_series!AG52+Method_input!$D$65*F56","v":0}]
[40,0,0,0,0,0,0,0,0,0,16,12,16,12,0,0,0,12,0,12,0,0,16,12,null,0,{"$f":"Method_input!$D$65*B57+Method_input!$D$64*Input_series!AG53+Method_input!$D$65*C57+Method_input!$D$65*D57+Method_input!$D$65*E57+Method_input!$D$65*F57","v":0},{"$f":"Method_input!$D$65*B57+Method_input!$D$64*Input_series!AG53+Method_input!$D$65*F57","v":0}]
[41,0,0,0,0,0,0,0,0,0,16,12,16,12,0,0,0,12,0,12,0,0,16,12,null,0,{"$f":"Method_input!$D$65*B58+Method_input!$D$64*Input_series!AG54+Method_input!$D$65*C58+Method_input!$D$65*D58+Method_input!$D$65*E58+Method_input!$D$65*F58","v":0},{"$f":"Method_input!$D$65*B58+Method_input!$D$64*Input_series!AG54+Method_input!$D$65*F58","v":0}]
[42,0,0,0,0,0,0,0,0,0,16,12,16,12,0,0,0,12,0,12,0,0,16,12,null,0,{"$f":"Method_input!$D$65*B59+Method_input!$D$64*Input_series!AG55+Method_input!$D$65*C59+Method_input!$D$65*D59+Method_input!$D$65*E59+Method_input!$D$65*F59","v":0},{"$f":"Method_input!$D$65*B59+Method_input!$D$64*Input_series!AG55+Method_input!$D$65*F59","v":0}]
[43,0,0,0,0,0,0,0,0,0,16,12,16,12,0,0,0,12,0,12,0,0,16,12,null,0,{"$f":"Method_input!$D$65*B60+Method_input!$D$64*Input_series!AG56+Method_input!$D$65*C60+Method_input!$D$65*D60+Method_input!$D$65*E60+Method_input!$D$65*F60","v":0},{"$f":"Method_input!$D$65*B60+Method_input!$D$64*Input_series!AG56+Method_input!$D$65*F60","v":0}]
[44,0,0,0,0,0,0,0,0,0,16,12,16,12,0,0,0,12,0,12,0,0,16,12,null,0,{"$f":"Method_input!$D$65*B61+Method_input!$D$64*Input_series!AG57+Method_input!$D$65*C61+Method_input!$D$65*D61+Method_input!$D$65*E61+Method_input!$D$65*F61","v":0},{"$f":"Method_input!$D$65*B61+Method_input!$D$64*Input_series!AG57+Method_input!$D$65*F61","v":0}]
[45,0,0,0,0,0,0,0,0,0,16,12,16,12,0,0,0,12,0,12,0,0,16,12,null,0,{"$f":"Method_input!$D$65*B62+Method_input!$D$64*Input_series!AG58+Method_input!$D$65*C62+Method_input!$D$65*D62+Method_input!$D$65*E62+Method_input!$D$65*F62","v":0},{"$f":"Method_input!$D$65*B62+Method_input!$D$64*Input_series!AG58+Method_input!$D$65*F62","v":0}]
[46,0,0,0,0,0,0,0,0,0,16,12,16,12,0,0,0,12,0,12,0,0,16,12,null,0,{"$f":"Method_input!$D$65*B63+Method_input!$D$64*Input_series!AG59+Method_input!$D$65*C63+Method_input!$D$65*D63+Method_input!$D$65*E63+Method_input!$D$65*F63","v":0},{"$f":"Method_input!$D$65*B63+Method_input!$D$64*Input_series!AG59+Method_input!$D$65*F63","v":0}]
[47,0,0,0,0,0,0,0,0,0,16,12,16,12,0,0,0,12,0,12,0,0,16,12,null,0,{"$f":"Method_input!$D$65*B64+Method_input!$D$64*Input_series!AG60+Method_input!$D$65*C64+Method_input!$D$65*D64+Method_input!$D$65*E64+Method_input!$D$65*F64","v":0},{"$f":"Method_input!$D$65*B64+Method_input!$D$64*Input_series!AG60+Method_input!$D$65*F64","v":0}]
[48,0,0,0,0,0,0,0,0,0,16,12,16,12,0,0,0,12,0,12,0,0,16,12,null,0,{"$f":"Method_input!$D$65*B65+Method_input!$D$64*Input_series!AG61+Method_input!$D$65*C65+Method_input!$D$65*D65+Method_input!$D$65*E65+Method_input!$D$65*F65","v":0},{"$f":"Method_input!$D$65*B65+Method_input!$D$64*Input_series!AG61+Method_input!$D$65*F65","v":0}]
[49,0,0,0,0,0,0,0,0,0,16,12,16,12,0,0,0,12,0,12,0,0,16,12,null,0,{"$f":"Method_input!$D$65*B66+Method_input!$D$64*Input_series!AG62+Method_input!$D$65*C66+Method_input!$D$65*D66+Method_input!$D$65*E66+Method_input!$D$65*F66","v":0},{"$f":"Method_input!$D$65*B66+Method_input!$D$64*Input_series!AG62+Method_input!$D$65*F66","v":0}]
[50,0,0,0,0,0,0,0,0,0,16,12,16,12,0,0,0,12,0,12,0,0,16,12,null,0,{"$f":"Method_input!$D$65*B67+Method_input!$D$64*Input_series!AG63+Method_input!$D$65*C67+Method_input!$D$65*D67+Method_input!$D$65*E67+Method_input!$D$65*F67","v":0},{"$f":"Method_input!$D$65*B67+Method_input!$D$64*Input_series!AG63+Method_input!$D$65*F67","v":0}]
[51,0,0,0,0,0,0,0,0,0,16,12,16,12,0,0,0,12,0,12,0,0,16,12,null,0,{"$f":"Method_input!$D$65*B68+Method_input!$D$64*Input_series!AG64+Method_input!$D$65*C68+Method_input!$D$65*D68+Method_input!$D$65*E68+Method_input!$D$65*F68","v":0},{"$f":"Method_input!$D$65*B68+Method_input!$D$64*Input_series!AG64+Method_input!$D$65*F68","v":0}]
[52,0,0,0,0,0,0,0,0,0,16,12,16,12,0,0,0,12,0,12,0,0,16,12,null,0,{"$f":"Method_input!$D$65*B69+Method_input!$D$64*Input_series!AG65+Method_input!$D$65*C69+Method_input!$D$65*D69+Method_input!$D$65*E69+Method_input!$D$65*F69","v":0},{"$f":"Method_input!$D$65*B69+Method_input!$D$64*Input_series!AG65+Method_input!$D$65*F69","v":0}]
[53,0,0,0,0,0,0,0,0,0,16,12,16,12,0,0,0,12,0,12,0,0,16,12,null,0,{"$f":"Method_input!$D$65*B70+Method_input!$D$64*Input_series!AG66+Method_input!$D$65*C70+Method_input!$D$65*D70+Method_input!$D$65*E70+Method_input!$D$65*F70","v":0},{"$f":"Method_input!$D$65*B70+Method_input!$D$64*Input_series!AG66+Method_input!$D$65*F70","v":0}]
[54,0,0,0,0,0,0,0,0,0,16,12,16,12,0,0,0,12,0,12,0,0,16,12,null,0,{"$f":"Method_input!$D$65*B71+Method_input!$D$64*Input_series!AG67+Method_input!$D$65*C71+Method_input!$D$65*D71+Method_input!$D$65*E71+Method_input!$D$65*F71","v":0},{"$f":"Method_input!$D$65*B71+Method_input!$D$64*Input_series!AG67+Method_input!$D$65*F71","v":0}]
[55,0,0,0,0,0,0,0,0,0,16,12,16,12,0,0,0,12,0,12,0,0,16,12,null,0,{"$f":"Method_input!$D$65*B72+Method_input!$D$64*Input_series!AG68+Method_input!$D$65*C72+Method_input!$D$65*D72+Method_input!$D$65*E72+Method_input!$D$65*F72","v":0},{"$f":"Method_input!$D$65*B72+Method_input!$D$64*Input_series!AG68+Method_input!$D$65*F72","v":0}]
[56,0,0,0,0,0,0,0,0,0,16,12,16,12,0,0,0,12,0,12,0,0,16,12,null,0,{"$f":"Method_input!$D$65*B73+Method_input!$D$64*Input_series!AG69+Method_input!$D$65*C73+Method_input!$D$65*D73+Method_input!$D$65*E73+Method_input!$D$65*F73","v":0},{"$f":"Method_input!$D$65*B73+Method_input!$D$64*Input_series!AG69+Method_input!$D$65*F73","v":0}]
[57,0,0,0,0,0,0,0,0,0,16,12,16,12,0,0,0,12,0,12,0,0,16,12,null,0,{"$f":"Method_input!$D$65*B74+Method_input!$D$64*Input_series!AG70+Method_input!$D$65*C74+Method_input!$D$65*D74+Method_input!$D$65*E74+Method_input!$D$65*F74","v":0},{"$f":"Method_input!$D$65*B74+Method_input!$D$64*Input_series!AG70+Method_input!$D$65*F74","v":0}]
[58,0,0,0,0,0,0,0,0,0,16,12,16,12,0,0,0,12,0,12,0,0,16,12,null,0,{"$f":"Method_input!$D$65*B75+Method_input!$D$64*Input_series!AG71+Method_input!$D$65*C75+Method_input!$D$65*D75+Method_input!$D$65*E75+Method_input!$D$65*F75","v":0},{"$f":"Method_input!$D$65*B75+Method_input!$D$64*Input_series!AG71+Method_input!$D$65*F75","v":0}]
[59,0,0,0,0,0,0,0,0,0,16,12,16,12,0,0,0,12,0,12,0,0,16,12,null,0,{"$f":"Method_input!$D$65*B76+Method_input!$D$64*Input_series!AG72+Method_input!$D$65*C76+Method_input!$D$65*D76+Method_input!$D$65*E76+Method_input!$D$65*F76","v":0},{"$f":"Method_input!$D$65*B76+Method_input!$D$64*Input_series!AG72+Method_input!$D$65*F76","v":0}]
[60,0,0,0,0,0,0,0,0,0,16,12,16,12,0,0,0,12,0,12,0,0,16,12,null,0,{"$f":"Method_input!$D$65*B77+Method_input!$D$64*Input_series!AG73+Method_input!$D$65*C77+Method_input!$D$65*D77+Method_input!$D$65*E77+Method_input!$D$65*F77","v":0},{"$f":"Method_input!$D$65*B77+Method_input!$D$64*Input_series!AG73+Method_input!$D$65*F77","v":0}]
[61,0,0,0,0,0,0,0,0,0,16,12,16,12,0,0,0,12,0,12,0,0,16,12,null,0,{"$f":"Method_input!$D$65*B78+Method_input!$D$64*Input_series!AG74+Method_input!$D$65*C78+Method_input!$D$65*D78+Method_input!$D$65*E78+Method_input!$D$65*F78","v":0},{"$f":"Method_input!$D$65*B78+Method_input!$D$64*Input_series!AG74+Method_input!$D$65*F78","v":0}]
[62,0,0,0,0,0,0,0,0,0,16,12,16,12,0,0,0,12,0,12,0,0,16,12,null,0,{"$f":"Method_input!$D$65*B79+Method_input!$D$64*Input_series!AG75+Method_input!$D$65*C79+Method_input!$D$65*D79+Method_input!$D$65*E79+Method_input!$D$65*F79","v":0},{"$f":"Method_input!$D$65*B79+Method_input!$D$64*Input_series!AG75+Method_input!$D$65*F79","v":0}]
[63,0,0,0,0,0,0,0,0,0,16,12,16,12,0,0,0,12,0,12,0,0,16,12,null,0,{"$f":"Method_input!$D$65*B80+Method_input!$D$64*Input_series!AG76+Method_input!$D$65*C80+Method_input!$D$65*D80+Method_input!$D$65*E80+Method_input!$D$65*F80","v":0},{"$f":"Method_input!$D$65*B80+Method_input!$D$64*Input_series!AG76+Method_input!$D$65*F80","v":0}]
[64,0,0,5.74663E-4,0,0,0,0,0,0,16,12,16,18.03448275862069,0,4.3362000880428575E-2,0.30353400616300003,12,0,12,0,0.30324610000000002,16,12.002861894781883,null,0.30324610000000002,{"$f":"Method_input!$D$65*B81+Method_input!$D$64*Input_series!AG77+Method_input!$D$65*C81+Method_input!$D$65*D81+Method_input!$D$65*E81+Method_input!$D$65*F81","v":5.74663E-4},{"$f":"Method_input!$D$65*B81+Method_input!$D$64*Input_series!AG77+Method_input!$D$65*F81","v":0}]
[65,0,0,5.74663E-4,0,0,0,0,0,0,16,12,16,18.03448275862069,0,4.6726286594714291E-2,0.32708400616300004,12,0,12,0,0.32679610000000003,16,12.002655838781457,null,{"$f":"SUM(G82:J82,U82:V82)","v":0.32679610000000003},{"$f":"Method_input!$D$65*B82+Method_input!$D$64*Input_series!AG78+Method_input!$D$65*C82+Method_input!$D$65*D82+Method_input!$D$65*E82+Method_input!$D$65*F82","v":5.74663E-4},{"$f":"Method_input!$D$65*B82+Method_input!$D$64*Input_series!AG78+Method_input!$D$65*F82","v":0}]
[66,0,0,0,0,0,0,0,0,0,16,12,16,12,0,0,0,12,0,12,0,0,16,12,null,0,{"$f":"Method_input!$D$65*B83+Method_input!$D$64*Input_series!AG79+Method_input!$D$65*C83+Method_input!$D$65*D83+Method_input!$D$65*E83+Method_input!$D$65*F83","v":0},{"$f":"Method_input!$D$65*B83+Method_input!$D$64*Input_series!AG79+Method_input!$D$65*F83","v":0}]
[67,0,0,0,0,0,0,0,0,0,16,12,16,12,0,0,0,12,0,12,0,0,16,12,null,0,{"$f":"Method_input!$D$65*B84+Method_input!$D$64*Input_series!AG80+Method_input!$D$65*C84+Method_input!$D$65*D84+Method_input!$D$65*E84+Method_input!$D$65*F84","v":0},{"$f":"Method_input!$D$65*B84+Method_input!$D$64*Input_series!AG80+Method_input!$D$65*F84","v":0}]
[68,0,0,0,0,0,0,0,0,0,16,12,16,12,0,0,0,12,0,12,0,0,16,12,null,0,{"$f":"Method_input!$D$65*B85+Method_input!$D$64*Input_series!AG81+Method_input!$D$65*C85+Method_input!$D$65*D85+Method_input!$D$65*E85+Method_input!$D$65*F85","v":0},{"$f":"Method_input!$D$65*B85+Method_input!$D$64*Input_series!AG81+Method_input!$D$65*F85","v":0}]
[69,0,0,0,0,0,0,0,0,0,16,12,16,12,0,0,0,12,0,12,0,0,16,12,null,0,{"$f":"Method_input!$D$65*B86+Method_input!$D$64*Input_series!AG82+Method_input!$D$65*C86+Method_input!$D$65*D86+Method_input!$D$65*E86+Method_input!$D$65*F86","v":0},{"$f":"Method_input!$D$65*B86+Method_input!$D$64*Input_series!AG82+Method_input!$D$65*F86","v":0}]
[70,0,0,0,0,0,0,0,0,0,16,12,16,12,0,0,0,12,0,12,0,0,16,12,null,0,{"$f":"Method_input!$D$65*B87+Method_input!$D$64*Input_series!AG83+Method_input!$D$65*C87+Method_input!$D$65*D87+Method_input!$D$65*E87+Method_input!$D$65*F87","v":0},{"$f":"Method_input!$D$65*B87+Method_input!$D$64*Input_series!AG83+Method_input!$D$65*F87","v":0}]
[71,0,0,0,0,0,0,0,0,0,16,12,16,12,0,0,0,12,0,12,0,0,16,12,null,0,{"$f":"Method_input!$D$65*B88+Method_input!$D$64*Input_series!AG84+Method_input!$D$65*C88+Method_input!$D$65*D88+Method_input!$D$65*E88+Method_input!$D$65*F88","v":0},{"$f":"Method_input!$D$65*B88+Method_input!$D$64*Input_series!AG84+Method_input!$D$65*F88","v":0}]
[72,0,0,0,0,0,0,0,0,0,16,12,16,12,0,0,0,12,0,12,0,0,16,12,null,0,{"$f":"Method_input!$D$65*B89+Method_input!$D$64*Input_series!AG85+Method_input!$D$65*C89+Method_input!$D$65*D89+Method_input!$D$65*E89+Method_input!$D$65*F89","v":0},{"$f":"Method_input!$D$65*B89+Method_input!$D$64*Input_series!AG85+Method_input!$D$65*F89","v":0}]
[73,0,0,0,0,0,0,0,0,0,16,12,16,12,0,0,0,12,0,12,0,0,16,12,null,0,{"$f":"Method_input!$D$65*B90+Method_input!$D$64*Input_series!AG86+Method_input!$D$65*C90+Method_input!$D$65*D90+Method_input!$D$65*E90+Method_input!$D$65*F90","v":0},{"$f":"Method_input!$D$65*B90+Method_input!$D$64*Input_series!AG86+Method_input!$D$65*F90","v":0}]
[74,0,0,0,0,0,0,0,0,0,16,12,16,12,0,0,0,12,0,12,0,0,16,12,null,0,{"$f":"Method_input!$D$65*B91+Method_input!$D$64*Input_series!AG87+Method_input!$D$65*C91+Method_input!$D$65*D91+Method_input!$D$65*E91+Method_input!$D$65*F91","v":0},{"$f":"Method_input!$D$65*B91+Method_input!$D$64*Input_series!AG87+Method_input!$D$65*F91","v":0}]
[75,0,0,0,0,0,0,0,0,0,16,12,16,12,0,0,0,12,0,12,0,0,16,12,null,0,{"$f":"Method_input!$D$65*B92+Method_input!$D$64*Input_series!AG88+Method_input!$D$65*C92+Method_input!$D$65*D92+Method_input!$D$65*E92+Method_input!$D$65*F92","v":0},{"$f":"Method_input!$D$65*B92+Method_input!$D$64*Input_series!AG88+Method_input!$D$65*F92","v":0}]
[76,0,0,0,0,0,0,0,0,0,16,12,16,12,0,0,0,12,0,12,0,0,16,12,null,0,{"$f":"Method_input!$D$65*B93+Method_input!$D$64*Input_series!AG89+Method_input!$D$65*C93+Method_input!$D$65*D93+Method_input!$D$65*E93+Method_input!$D$65*F93","v":0},{"$f":"Method_input!$D$65*B93+Method_input!$D$64*Input_series!AG89+Method_input!$D$65*F93","v":0}]
[77,0,0,0,0,0,0,0,0,0,16,12,16,12,0,0,0,12,0,12,0,0,16,12,null,0,{"$f":"Method_input!$D$65*B94+Method_input!$D$64*Input_series!AG90+Method_input!$D$65*C94+Method_input!$D$65*D94+Method_input!$D$65*E94+Method_input!$D$65*F94","v":0},{"$f":"Method_input!$D$65*B94+Method_input!$D$64*Input_series!AG90+Method_input!$D$65*F94","v":0}]
[78,0,0,0,0,0,0,0,0,0,16,12,16,12,0,0,0,12,0,12,0,0,16,12,null,0,{"$f":"Method_input!$D$65*B95+Method_input!$D$64*Input_series!AG91+Method_input!$D$65*C95+Method_input!$D$65*D95+Method_input!$D$65*E95+Method_input!$D$65*F95","v":0},{"$f":"Method_input!$D$65*B95+Method_input!$D$64*Input_series!AG91+Method_input!$D$65*F95","v":0}]
[79,0,0,0,0,0,0,0,0,0,16,12,16,12,0,0,0,12,0,12,0,0,16,12,null,0,{"$f":"Method_input!$D$65*B96+Method_input!$D$64*Input_series!AG92+Method_input!$D$65*C96+Method_input!$D$65*D96+Method_input!$D$65*E96+Method_input!$D$65*F96","v":0},{"$f":"Method_input!$D$65*B96+Method_input!$D$64*Input_series!AG92+Method_input!$D$65*F96","v":0}]
[80,0,0,0,0,0,0,0,0,0,16,12,16,12,0,0,0,12,0,12,0,0,16,12,null,0,{"$f":"Method_input!$D$65*B97+Method_input!$D$64*Input_series!AG93+Method_input!$D$65*C97+Method_input!$D$65*D97+Method_input!$D$65*E97+Method_input!$D$65*F97","v":0},{"$f":"Method_input!$D$65*B97+Method_input!$D$64*Input_series!AG93+Method_input!$D$65*F97","v":0}]
[81,0,0,0,0,0,0,0,0,0,16,12,16,12,0,0,0,12,0,12,0,0,16,12,null,0,{"$f":"Method_input!$D$65*B98+Method_input!$D$64*Input_series!AG94+Method_input!$D$65*C98+Method_input!$D$65*D98+Method_input!$D$65*E98+Method_input!$D$65*F98","v":0},{"$f":"Method_input!$D$65*B98+Method_input!$D$64*Input_series!AG94+Method_input!$D$65*F98","v":0}]
[82,0,0,0,0,0,0,0,0,0,16,12,16,12,0,0,0,12,0,12,0,0,16,12,null,0,{"$f":"Method_input!$D$65*B99+Method_input!$D$64*Input_series!AG95+Method_input!$D$65*C99+Method_input!$D$65*D99+Method_input!$D$65*E99+Method_input!$D$65*F99","v":0},{"$f":"Method_input!$D$65*B99+Method_input!$D$64*Input_series!AG95+Method_input!$D$65*F99","v":0}]
[83,0,0,0,0,0,0,0,0,0,16,12,16,12,0,0,0,12,0,12,0,0,16,12,null,0,{"$f":"Method_input!$D$65*B100+Method_input!$D$64*Input_series!AG96+Method_input!$D$65*C100+Method_input!$D$65*D100+Method_input!$D$65*E100+Method_input!$D$65*F100","v":0},{"$f":"Method_input!$D$65*B100+Method_input!$D$64*Input_series!AG96+Method_input!$D$65*F100","v":0}]
[84,0,0,0,0,0,0,0,0,0,16,12,16,12,0,0,0,12,0,12,0,0,16,12,null,0,{"$f":"Method_input!$D$65*B101+Method_input!$D$64*Input_series!AG97+Method_input!$D$65*C101+Method_input!$D$65*D101+Method_input!$D$65*E101+Method_input!$D$65*F101","v":0},{"$f":"Method_input!$D$65*B101+Method_input!$D$64*Input_series!AG97+Method_input!$D$65*F101","v":0}]
[85,0,0,0,0,0,0,0,0,0,16,12,16,12,0,0,0,12,0,12,0,0,16,12,null,0,{"$f":"Method_input!$D$65*B102+Method_input!$D$64*Input_series!AG98+Method_input!$D$65*C102+Method_input!$D$65*D102+Method_input!$D$65*E102+Method_input!$D$65*F102","v":0},{"$f":"Method_input!$D$65*B102+Method_input!$D$64*Input_series!AG98+Method_input!$D$65*F102","v":0}]
[86,0,0,0,0,0,0,0,0,0,16,12,16,12,0,0,0,12,0,12,0,0,16,12,null,0,{"$f":"Method_input!$D$65*B103+Method_input!$D$64*Input_series!AG99+Method_input!$D$65*C103+Method_input!$D$65*D103+Method_input!$D$65*E103+Method_input!$D$65*F103","v":0},{"$f":"Method_input!$D$65*B103+Method_input!$D$64*Input_series!AG99+Method_input!$D$65*F103","v":0}]
[87,0,0,0,0,0,0,0,0,0,16,12,16,12,0,0,0,12,0,12,0,0,16,12,null,0,{"$f":"Method_input!$D$65*B104+Method_input!$D$64*Input_series!AG100+Method_input!$D$65*C104+Method_input!$D$65*D104+Method_input!$D$65*E104+Method_input!$D$65*F104","v":0},{"$f":"Method_input!$D$65*B104+Method_input!$D$64*Input_series!AG100+Method_input!$D$65*F104","v":0}]
[88,0,0,0,0,0,0,0,0,0,16,12,16,12,0,0,0,12,0,12,0,0,16,12,null,0,{"$f":"Method_input!$D$65*B105+Method_input!$D$64*Input_series!AG101+Method_input!$D$65*C105+Method_input!$D$65*D105+Method_input!$D$65*E105+Method_input!$D$65*F105","v":0},{"$f":"Method_input!$D$65*B105+Method_input!$D$64*Input_series!AG101+Method_input!$D$65*F105","v":0}]
[89,0,0,0,0,0,0,0,0,0,16,12,16,12,0,0,0,12,0,12,0,0,16,12,null,0,{"$f":"Method_input!$D$65*B106+Method_input!$D$64*Input_series!AG102+Method_input!$D$65*C106+Method_input!$D$65*D106+Method_input!$D$65*E106+Method_input!$D$65*F106","v":0},{"$f":"Method_input!$D$65*B106+Method_input!$D$64*Input_series!AG102+Method_input!$D$65*F106","v":0}]
[90,0,0,0,0,0,0,0,0,0,16,12,16,12,0,0,0,12,0,12,0,0,16,12,null,0,{"$f":"Method_input!$D$65*B107+Method_input!$D$64*Input_series!AG103+Method_input!$D$65*C107+Method_input!$D$65*D107+Method_input!$D$65*E107+Method_input!$D$65*F107","v":0},{"$f":"Method_input!$D$65*B107+Method_input!$D$64*Input_series!AG103+Method_input!$D$65*F107","v":0}]
[91,0,0,0,0,0,0,0,0,0,16,12,16,12,0,0,0,12,0,12,0,0,16,12,null,0,{"$f":"Method_input!$D$65*B108+Method_input!$D$64*Input_series!AG104+Method_input!$D$65*C108+Method_input!$D$65*D108+Method_input!$D$65*E108+Method_input!$D$65*F108","v":0},{"$f":"Method_input!$D$65*B108+Method_input!$D$64*Input_series!AG104+Method_input!$D$65*F108","v":0}]
[92,0,0,0,0,0,0,0,0,0,16,12,16,12,0,0,0,12,0,12,0,0,16,12,null,0,{"$f":"Method_input!$D$65*B109+Method_input!$D$64*Input_series!AG105+Method_input!$D$65*C109+Method_input!$D$65*D109+Method_input!$D$65*E109+Method_input!$D$65*F109","v":0},{"$f":"Method_input!$D$65*B109+Method_input!$D$64*Input_series!AG105+Method_input!$D$65*F109","v":0}]
[93,0,0,0,0,0,0,0,0,0,16,12,16,12,0,0,0,12,0,12,0,0,16,12,null,0,{"$f":"Method_input!$D$65*B110+Method_input!$D$64*Input_series!AG106+Method_input!$D$65*C110+Method_input!$D$65*D110+Method_input!$D$65*E110+Method_input!$D$65*F110","v":0},{"$f":"Method_input!$D$65*B110+Method_input!$D$64*Input_series!AG106+Method_input!$D$65*F110","v":0}]
[94,0,0,0,0,0,0,0,0,0,16,12,16,12,0,0,0,12,0,12,0,0,16,12,null,0,{"$f":"Method_input!$D$65*B111+Method_input!$D$64*Input_series!AG107+Method_input!$D$65*C111+Method_input!$D$65*D111+Method_input!$D$65*E111+Method_input!$D$65*F111","v":0},{"$f":"Method_input!$D$65*B111+Method_input!$D$64*Input_series!AG107+Method_input!$D$65*F111","v":0}]
[95,0,0,0,0,0,0,0,0,0,16,12,16,12,0,0,0,12,0,12,0,0,16,12,null,0,{"$f":"Method_input!$D$65*B112+Method_input!$D$64*Input_series!AG108+Method_input!$D$65*C112+Method_input!$D$65*D112+Method_input!$D$65*E112+Method_input!$D$65*F112","v":0},{"$f":"Method_input!$D$65*B112+Method_input!$D$64*Input_series!AG108+Method_input!$D$65*F112","v":0}]
[96,0,0,0,0,0,0,0,0,0,16,12,16,12,0,0,0,12,0,12,0,0,16,12,null,0,{"$f":"Method_input!$D$65*B113+Method_input!$D$64*Input_series!AG109+Method_input!$D$65*C113+Method_input!$D$65*D113+Method_input!$D$65*E113+Method_input!$D$65*F113","v":0},{"$f":"Method_input!$D$65*B113+Method_input!$D$64*Input_series!AG109+Method_input!$D$65*F113","v":0}]
[97,0,0,0,0,0,0,0,0,0,16,12,16,12,0,0,0,12,0,12,0,0,16,12,null,0,{"$f":"Method_input!$D$65*B114+Method_input!$D$64*Input_series!AG110+Method_input!$D$65*C114+Method_input!$D$65*D114+Method_input!$D$65*E114+Method_input!$D$65*F114","v":0},{"$f":"Method_input!$D$65*B114+Method_input!$D$64*Input_series!AG110+Method_input!$D$65*F114","v":0}]
[98,0,0,0,0,0,0,0,0,0,16,12,16,12,0,0,0,12,0,12,0,0,16,12,null,0,{"$f":"Method_input!$D$65*B115+Method_input!$D$64*Input_series!AG111+Method_input!$D$65*C115+Method_input!$D$65*D115+Method_input!$D$65*E115+Method_input!$D$65*F115","v":0},{"$f":"Method_input!$D$65*B115+Method_input!$D$64*Input_series!AG111+Method_input!$D$65*F115","v":0}]
[99,0,0,0,0,0,0,0,0,0,16,12,16,12,0,0,0,12,0,12,0,0,16,12,null,0,{"$f":"Method_input!$D$65*B116+Method_input!$D$64*Input_series!AG112+Method_input!$D$65*C116+Method_input!$D$65*D116+Method_input!$D$65*E116+Method_input!$D$65*F116","v":0},{"$f":"Method_input!$D$65*B116+Method_input!$D$64*Input_series!AG112+Method_input!$D$65*F116","v":0}]
[100,0,0,0,0,0,0,0,0,0,16,12,16,12,0,0,0,12,0,12,0,0,16,12,null,0,{"$f":"Method_input!$D$65*B117+Method_input!$D$64*Input_series!AG113+Method_input!$D$65*C117+Method_input!$D$65*D117+Method_input!$D$65*E117+Method_input!$D$65*F117","v":0},{"$f":"Method_input!$D$65*B117+Method_input!$D$64*Input_series!AG113+Method_input!$D$65*F117","v":0}]
[101,0,0,0,0,0,0,0,0,0,16,12,16,12,0,0,0,12,0,12,0,0,16,12,null,0,{"$f":"Method_input!$D$65*B118+Method_input!$D$64*Input_series!AG114+Method_input!$D$65*C118+Method_input!$D$65*D118+Method_input!$D$65*E118+Method_input!$D$65*F118","v":0},{"$f":"Method_input!$D$65*B118+Method_input!$D$64*Input_series!AG114+Method_input!$D$65*F118","v":0}]
[102,0,0,0,0,0,0,0,0,0,16,12,16,12,0,0,0,12,0,12,0,0,16,12,null,0,{"$f":"Method_input!$D$65*B119+Method_input!$D$64*Input_series!AG115+Method_input!$D$65*C119+Method_input!$D$65*D119+Method_input!$D$65*E119+Method_input!$D$65*F119","v":0},{"$f":"Method_input!$D$65*B119+Method_input!$D$64*Input_series!AG115+Method_input!$D$65*F119","v":0}]
[103,0,0,0,0,0,0,0,0,0,16,12,16,12,0,0,0,12,0,12,0,0,16,12,null,0,{"$f":"Method_input!$D$65*B120+Method_input!$D$64*Input_series!AG116+Method_input!$D$65*C120+Method_input!$D$65*D120+Method_input!$D$65*E120+Method_input!$D$65*F120","v":0},{"$f":"Method_input!$D$65*B120+Method_input!$D$64*Input_series!AG116+Method_input!$D$65*F120","v":0}]
[104,0,0,0,0,0,0,0,0,0,16,12,16,12,0,0,0,12,0,12,0,0,16,12,null,0,{"$f":"Method_input!$D$65*B121+Method_input!$D$64*Input_series!AG117+Method_input!$D$65*C121+Method_input!$D$65*D121+Method_input!$D$65*E121+Method_input!$D$65*F121","v":0},{"$f":"Method_input!$D$65*B121+Method_input!$D$64*Input_series!AG117+Method_input!$D$65*F121","v":0}]
[105,0,0,0,0,0,0,0,0,0,16,12,16,12,0,0,0,12,0,12,0,0,16,12,null,0,{"$f":"Method_input!$D$65*B122+Method_input!$D$64*Input_series!AG118+Method_input!$D$65*C122+Method_input!$D$65*D122+Method_input!$D$65*E122+Method_input!$D$65*F122","v":0},{"$f":"Method_input!$D$65*B122+Method_input!$D$64*Input_series!AG118+Method_input!$D$65*F122","v":0}]
[106,0,0,0,0,0,0,0,0,0,16,12,16,12,0,0,0,12,0,12,0,0,16,12,null,0,{"$f":"Method_input!$D$65*B123+Method_input!$D$64*Input_series!AG119+Method_input!$D$65*C123+Method_input!$D$65*D123+Method_input!$D$65*E123+Method_input!$D$65*F123","v":0},{"$f":"Method_input!$D$65*B123+Method_input!$D$64*Input_series!AG119+Method_input!$D$65*F123","v":0}]
[107,0,0,0,0,0,0,0,0,0,16,12,16,12,0,0,0,12,0,12,0,0,16,12,null,0,{"$f":"Method_input!$D$65*B124+Method_input!$D$64*Input_series!AG120+Method_input!$D$65*C124+Method_input!$D$65*D124+Method_input!$D$65*E124+Method_input!$D$65*F124","v":0},{"$f":"Method_input!$D$65*B124+Method_input!$D$64*Input_series!AG120+Method_input!$D$65*F124","v":0}]
[108,0,0,0,0,0,0,0,0,0,16,12,16,12,0,0,0,12,0,12,0,0,16,12,null,0,{"$f":"Method_input!$D$65*B125+Method_input!$D$64*Input_series!AG121+Method_input!$D$65*C125+Method_input!$D$65*D125+Method_input!$D$65*E125+Method_input!$D$65*F125","v":0},{"$f":"Method_input!$D$65*B125+Method_input!$D$64*Input_series!AG121+Method_input!$D$65*F125","v":0}]
[109,0,0,0,0,0,0,0,0,0,16,12,16,12,0,0,0,12,0,12,0,0,16,12,null,0,{"$f":"Method_input!$D$65*B126+Method_input!$D$64*Input_series!AG122+Method_input!$D$65*C126+Method_input!$D$65*D126+Method_input!$D$65*E126+Method_input!$D$65*F126","v":0},{"$f":"Method_input!$D$65*B126+Method_input!$D$64*Input_series!AG122+Method_input!$D$65*F126","v":0}]
[110,0,0,0,0,0,0,0,0,0,16,12,16,12,0,0,0,12,0,12,0,0,16,12,null,0,{"$f":"Method_input!$D$65*B127+Method_input!$D$64*Input_series!AG123+Method_input!$D$65*C127+Method_input!$D$65*D127+Method_input!$D$65*E127+Method_input!$D$65*F127","v":0},{"$f":"Method_input!$D$65*B127+Method_input!$D$64*Input_series!AG123+Method_input!$D$65*F127","v":0}]
[111,0,0,0,0,0,0,0,0,0,16,12,16,12,0,0,0,12,0,12,0,0,16,12,null,0,{"$f":"Method_input!$D$65*B128+Method_input!$D$64*Input_series!AG124+Method_input!$D$65*C128+Method_input!$D$65*D128+Method_input!$D$65*E128+Method_input!$D$65*F128","v":0},{"$f":"Method_input!$D$65*B128+Method_input!$D$64*Input_series!AG124+Method_input!$D$65*F128","v":0}]
[112,0,0,0,0,0,0,0,0,0,16,12,16,12,0,0,0,12,0,12,0,0,16,12,null,0,{"$f":"Method_input!$D$65*B129+Method_input!$D$64*Input_series!AG125+Method_input!$D$65*C129+Method_input!$D$65*D129+Method_input!$D$65*E129+Method_input!$D$65*F129","v":0},{"$f":"Method_input!$D$65*B129+Method_input!$D$64*Input_series!AG125+Method_input!$D$65*F129","v":0}]
[113,0,0,0,0,0,0,0,0,0,16,12,16,12,0,0,0,12,0,12,0,0,16,12,null,0,{"$f":"Method_input!$D$65*B130+Method_input!$D$64*Input_series!AG126+Method_input!$D$65*C130+Method_input!$D$65*D130+Method_input!$D$65*E130+Method_input!$D$65*F130","v":0},{"$f":"Method_input!$D$65*B130+Method_input!$D$64*Input_series!AG126+Method_input!$D$65*F130","v":0}]
[114,0,0,0,0,0,0,0,0,0,16,12,16,12,0,0,0,12,0,12,0,0,16,12,null,0,{"$f":"Method_input!$D$65*B131+Method_input!$D$64*Input_series!AG127+Method_input!$D$65*C131+Method_input!$D$65*D131+Method_input!$D$65*E131+Method_input!$D$65*F131","v":0},{"$f":"Method_input!$D$65*B131+Method_input!$D$64*Input_series!AG127+Method_input!$D$65*F131","v":0}]
[115,0,0,0,0,0,0,0,0,0,16,12,16,12,0,0,0,12,0,12,0,0,16,12,null,0,{"$f":"Method_input!$D$65*B132+Method_input!$D$64*Input_series!AG128+Method_input!$D$65*C132+Method_input!$D$65*D132+Method_input!$D$65*E132+Method_input!$D$65*F132","v":0},{"$f":"Method_input!$D$65*B132+Method_input!$D$64*Input_series!AG128+Method_input!$D$65*F132","v":0}]
[116,0,0,0,0,0,0,0,0,0,16,12,16,12,0,0,0,12,0,12,0,0,16,12,null,0,{"$f":"Method_input!$D$65*B133+Method_input!$D$64*Input_series!AG129+Method_input!$D$65*C133+Method_input!$D$65*D133+Method_input!$D$65*E133+Method_input!$D$65*F133","v":0},{"$f":"Method_input!$D$65*B133+Method_input!$D$64*Input_series!AG129+Method_input!$D$65*F133","v":0}]
[117,0,0,0,0,0,0,0,0,0,16,12,16,12,0,0,0,12,0,12,0,0,16,12,null,0,{"$f":"Method_input!$D$65*B134+Method_input!$D$64*Input_series!AG130+Method_input!$D$65*C134+Method_input!$D$65*D134+Method_input!$D$65*E134+Method_input!$D$65*F134","v":0},{"$f":"Method_input!$D$65*B134+Method_input!$D$64*Input_series!AG130+Method_input!$D$65*F134","v":0}]
[118,0,0,0,0,0,0,0,0,0,16,12,16,12,0,0,0,12,0,12,0,0,16,12,null,0,{"$f":"Method_input!$D$65*B135+Method_input!$D$64*Input_series!AG131+Method_input!$D$65*C135+Method_input!$D$65*D135+Method_input!$D$65*E135+Method_input!$D$65*F135","v":0},{"$f":"Method_input!$D$65*B135+Method_input!$D$64*Input_series!AG131+Method_input!$D$65*F135","v":0}]
[119,0,0,0,0,0,0,0,0,0,16,12,16,12,0,0,0,12,0,12,0,0,16,12,null,0,{"$f":"Method_input!$D$65*B136+Method_input!$D$64*Input_series!AG132+Method_input!$D$65*C136+Method_input!$D$65*D136+Method_input!$D$65*E136+Method_input!$D$65*F136","v":0},{"$f":"Method_input!$D$65*B136+Method_input!$D$64*Input_series!AG132+Method_input!$D$65*F136","v":0}]
[120,0,0,0,0,0,0,0,0,0,16,12,16,12,0,0,0,12,0,12,0,0,16,12,null,0,{"$f":"Method_input!$D$65*B137+Method_input!$D$64*Input_series!AG133+Method_input!$D$65*C137+Method_input!$D$65*D137+Method_input!$D$65*E137+Method_input!$D$65*F137","v":0},{"$f":"Method_input!$D$65*B137+Method_input!$D$64*Input_series!AG133+Method_input!$D$65*F137","v":0}]
[121,0,0,0,0,0,0,0,0,0,16,12,16,12,0,0,0,12,0,12,0,0,16,12,null,0,{"$f":"Method_input!$D$65*B138+Method_input!$D$64*Input_series!AG134+Method_input!$D$65*C138+Method_input!$D$65*D138+Method_input!$D$65*E138+Method_input!$D$65*F138","v":0},{"$f":"Method_input!$D$65*B138+Method_input!$D$64*Input_series!AG134+Method_input!$D$65*F138","v":0}]
[122,0,0,0,0,0,0,0,0,0,16,12,16,12,0,0,0,12,0,12,0,0,16,12,null,0,{"$f":"Method_input!$D$65*B139+Method_input!$D$64*Input_series!AG135+Method_input!$D$65*C139+Method_input!$D$65*D139+Method_input!$D$65*E139+Method_input!$D$65*F139","v":0},{"$f":"Method_input!$D$65*B139+Method_input!$D$64*Input_series!AG135+Method_input!$D$65*F139","v":0}]
[123,0,0,0,0,0,0,0,0,0,16,12,16,12,0,0,0,12,0,12,0,0,16,12,null,0,{"$f":"Method_input!$D$65*B140+Method_input!$D$64*Input_series!AG136+Method_input!$D$65*C140+Method_input!$D$65*D140+Method_input!$D$65*E140+Method_input!$D$65*F140","v":0},{"$f":"Method_input!$D$65*B140+Method_input!$D$64*Input_series!AG136+Method_input!$D$65*F140","v":0}]
[124,0,0,0,0,0,0,0,0,0,16,12,16,12,0,0,0,12,0,12,0,0,16,12,null,0,{"$f":"Method_input!$D$65*B141+Method_input!$D$64*Input_series!AG137+Method_input!$D$65*C141+Method_input!$D$65*D141+Method_input!$D$65*E141+Method_input!$D$65*F141","v":0},{"$f":"Method_input!$D$65*B141+Method_input!$D$64*Input_series!AG137+Method_input!$D$65*F141","v":0}]
[125,0,0,0,0,0,0,0,0,0,16,12,16,12,0,0,0,12,0,12,0,0,16,12,null,0,{"$f":"Method_input!$D$65*B142+Method_input!$D$64*Input_series!AG138+Method_input!$D$65*C142+Method_input!$D$65*D142+Method_input!$D$65*E142+Method_input!$D$65*F142","v":0},{"$f":"Method_input!$D$65*B142+Method_input!$D$64*Input_series!AG138+Method_input!$D$65*F142","v":0}]
[126,0,0,0,0,0,0,0,0,0,16,12,16,12,0,0,0,12,0,12,0,0,16,12,null,0,{"$f":"Method_input!$D$65*B143+Method_input!$D$64*Input_series!AG139+Method_input!$D$65*C143+Method_input!$D$65*D143+Method_input!$D$65*E143+Method_input!$D$65*F143","v":0},{"$f":"Method_input!$D$65*B143+Method_input!$D$64*Input_series!AG139+Method_input!$D$65*F143","v":0}]
[127,0,0,0,0,0,0,0,0,0,16,12,16,12,0,0,0,12,0,12,0,0,16,12,null,0,{"$f":"Method_input!$D$65*B144+Method_input!$D$64*Input_series!AG140+Method_input!$D$65*C144+Method_input!$D$65*D144+Method_input!$D$65*E144+Method_input!$D$65*F144","v":0},{"$f":"Method_input!$D$65*B144+Method_input!$D$64*Input_series!AG140+Method_input!$D$65*F144","v":0}]
[128,0,0,0,0,0,0,0,0,0,16,12,16,12,0,0,0,12,0,12,0,0,16,12,null,0,{"$f":"Method_input!$D$65*B145+Method_input!$D$64*Input_series!AG141+Method_input!$D$65*C145+Method_input!$D$65*D145+Method_input!$D$65*E145+Method_input!$D$65*F145","v":0},{"$f":"Method_input!$D$65*B145+Method_input!$D$64*Input_series!AG141+Method_input!$D$65*F145","v":0}]
[129,0,0,0,0,0,0,0,0,0,16,12,16,12,0,0,0,12,0,12,0,0,16,12,null,{"$f":"SUM(G146:J146,U146:V146)","v":0},{"$f":"Method_input!$D$65*B146+Method_input!$D$64*Input_series!AG142+Method_input!$D$65*C146+Method_input!$D$65*D146+Method_input!$D$65*E146+Method_input!$D$65*F146","v":0},{"$f":"Method_input!$D$65*B146+Method_input!$D$64*Input_series!AG142+Method_input!$D$65*F146","v":0}]
[130,0,0,0,0,0,0,0,0,0,16,12,16,12,0,0,0,12,0,12,0,0,16,12,null,0,{"$f":"Method_input!$D$65*B147+Method_input!$D$64*Input_series!AG143+Method_input!$D$65*C147+Method_input!$D$65*D147+Method_input!$D$65*E147+Method_input!$D$65*F147","v":0},{"$f":"Method_input!$D$65*B147+Method_input!$D$64*Input_series!AG143+Method_input!$D$65*F147","v":0}]
[131,0,0,0,0,0,0,0,0,0,16,12,16,12,0,0,0,12,0,12,0,0,16,12,null,0,{"$f":"Method_input!$D$65*B148+Method_input!$D$64*Input_series!AG144+Method_input!$D$65*C148+Method_input!$D$65*D148+Method_input!$D$65*E148+Method_input!$D$65*F148","v":0},{"$f":"Method_input!$D$65*B148+Method_input!$D$64*Input_series!AG144+Method_input!$D$65*F148","v":0}]
[132,0,0,0,0,0,0,0,0,0,16,12,16,12,0,0,0,12,0,12,0,0,16,12,null,0,{"$f":"Method_input!$D$65*B149+Method_input!$D$64*Input_series!AG145+Method_input!$D$65*C149+Method_input!$D$65*D149+Method_input!$D$65*E149+Method_input!$D$65*F149","v":0},{"$f":"Method_input!$D$65*B149+Method_input!$D$64*Input_series!AG145+Method_input!$D$65*F149","v":0}]
[133,0,0,0,0,0,0,0,0,0,16,12,16,12,0,0,0,12,0,12,0,0,16,12,null,0,{"$f":"Method_input!$D$65*B150+Method_input!$D$64*Input_series!AG146+Method_input!$D$65*C150+Method_input!$D$65*D150+Method_input!$D$65*E150+Method_input!$D$65*F150","v":0},{"$f":"Method_input!$D$65*B150+Method_input!$D$64*Input_series!AG146+Method_input!$D$65*F150","v":0}]
[134,0,0,0,0,0,0,0,0,0,16,12,16,12,0,0,0,12,0,12,0,0,16,12,null,0,{"$f":"Method_input!$D$65*B151+Method_input!$D$64*Input_series!AG147+Method_input!$D$65*C151+Method_input!$D$65*D151+Method_input!$D$65*E151+Method_input!$D$65*F151","v":0},{"$f":"Method_input!$D$65*B151+Method_input!$D$64*Input_series!AG147+Method_input!$D$65*F151","v":0}]
[135,0,0,0,0,0,0,0,0,0,16,12,16,12,0,0,0,12,0,12,0,0,16,12,null,0,{"$f":"Method_input!$D$65*B152+Method_input!$D$64*Input_series!AG148+Method_input!$D$65*C152+Method_input!$D$65*D152+Method_input!$D$65*E152+Method_input!$D$65*F152","v":0},{"$f":"Method_input!$D$65*B152+Method_input!$D$64*Input_series!AG148+Method_input!$D$65*F152","v":0}]
[136,0,0,0,0,0,0,0,0,0,16,12,16,12,0,0,0,12,0,12,0,0,16,12,null,0,{"$f":"Method_input!$D$65*B153+Method_input!$D$64*Input_series!AG149+Method_input!$D$65*C153+Method_input!$D$65*D153+Method_input!$D$65*E153+Method_input!$D$65*F153","v":0},{"$f":"Method_input!$D$65*B153+Method_input!$D$64*Input_series!AG149+Method_input!$D$65*F153","v":0}]
[137,0,0,0,0,0,0,0,0,0,16,12,16,12,0,0,0,12,0,12,0,0,16,12,null,0,{"$f":"Method_input!$D$65*B154+Method_input!$D$64*Input_series!AG150+Method_input!$D$65*C154+Method_input!$D$65*D154+Method_input!$D$65*E154+Method_input!$D$65*F154","v":0},{"$f":"Method_input!$D$65*B154+Method_input!$D$64*Input_series!AG150+Method_input!$D$65*F154","v":0}]
[138,0,0,0,0,0,0,0,0,0,16,12,16,12,0,0,0,12,0,12,0,0,16,12,null,0,{"$f":"Method_input!$D$65*B155+Method_input!$D$64*Input_series!AG151+Method_input!$D$65*C155+Method_input!$D$65*D155+Method_input!$D$65*E155+Method_input!$D$65*F155","v":0},{"$f":"Method_input!$D$65*B155+Method_input!$D$64*Input_series!AG151+Method_input!$D$65*F155","v":0}]
[139,0,0,0,0,0,0,0,0,0,16,12,16,12,0,0,0,12,0,12,0,0,16,12,null,0,{"$f":"Method_input!$D$65*B156+Method_input!$D$64*Input_series!AG152+Method_input!$D$65*C156+Method_input!$D$65*D156+Method_input!$D$65*E156+Method_input!$D$65*F156","v":0},{"$f":"Method_input!$D$65*B156+Method_input!$D$64*Input_series!AG152+Method_input!$D$65*F156","v":0}]
[140,0,0,0,0,0,0,0,0,0,16,12,16,12,0,0,0,12,0,12,0,0,16,12,null,0,{"$f":"Method_input!$D$65*B157+Method_input!$D$64*Input_series!AG153+Method_input!$D$65*C157+Method_input!$D$65*D157+Method_input!$D$65*E157+Method_input!$D$65*F157","v":0},{"$f":"Method_input!$D$65*B157+Method_input!$D$64*Input_series!AG153+Method_input!$D$65*F157","v":0}]
[141,0,0,0,0,0,0,0,0,0,16,12,16,12,0,0,0,12,0,12,0,0,16,12,null,0,{"$f":"Method_input!$D$65*B158+Method_input!$D$64*Input_series!AG154+Method_input!$D$65*C158+Method_input!$D$65*D158+Method_input!$D$65*E158+Method_input!$D$65*F158","v":0},{"$f":"Method_input!$D$65*B158+Method_input!$D$64*Input_series!AG154+Method_input!$D$65*F158","v":0}]
[142,0,0,0,0,0,0,0,0,0,16,12,16,12,0,0,0,12,0,12,0,0,16,12,null,0,{"$f":"Method_input!$D$65*B159+Method_input!$D$64*Input_series!AG155+Method_input!$D$65*C159+Method_input!$D$65*D159+Method_input!$D$65*E159+Method_input!$D$65*F159","v":0},{"$f":"Method_input!$D$65*B159+Method_input!$D$64*Input_series!AG155+Method_input!$D$65*F159","v":0}]
[143,0,0,0,0,0,0,0,0,0,16,12,16,12,0,0,0,12,0,12,0,0,16,12,null,0,{"$f":"Method_input!$D$65*B160+Method_input!$D$64*Input_series!AG156+Method_input!$D$65*C160+Method_input!$D$65*D160+Method_input!$D$65*E160+Method_input!$D$65*F160","v":0},{"$f":"Method_input!$D$65*B160+Method_input!$D$64*Input_series!AG156+Method_input!$D$65*F160","v":0}]
[144,0,0,0,0,0,0,0,0,0,16,12,16,12,0,0,0,12,0,12,0,0,16,12,null,0,{"$f":"Method_input!$D$65*B161+Method_input!$D$64*Input_series!AG157+Method_input!$D$65*C161+Method_input!$D$65*D161+Method_input!$D$65*E161+Method_input!$D$65*F161","v":0},{"$f":"Method_input!$D$65*B161+Method_input!$D$64*Input_series!AG157+Method_input!$D$65*F161","v":0}]
[145,0,0,0,0,0,0,0,0,0,16,12,16,12,0,0,0,12,0,12,0,0,16,12,null,0,{"$f":"Method_input!$D$65*B162+Method_input!$D$64*Input_series!AG158+Method_input!$D$65*C162+Method_input!$D$65*D162+Method_input!$D$65*E162+Method_input!$D$65*F162","v":0},{"$f":"Method_input!$D$65*B162+Method_input!$D$64*Input_series!AG158+Method_input!$D$65*F162","v":0}]
[146,0,0,0,0,0,0,0,0,0,16,12,16,12,0,0,0,12,0,12,0,0,16,12,null,0,{"$f":"Method_input!$D$65*B163+Method_input!$D$64*Input_series!AG159+Method_input!$D$65*C163+Method_input!$D$65*D163+Method_input!$D$65*E163+Method_input!$D$65*F163","v":0},{"$f":"Method_input!$D$65*B163+Method_input!$D$64*Input_series!AG159+Method_input!$D$65*F163","v":0}]
[147,0,0,0,0,0,0,0,0,0,16,12,16,12,0,0,0,12,0,12,0,0,16,12,null,0,{"$f":"Method_input!$D$65*B164+Method_input!$D$64*Input_series!AG160+Method_input!$D$65*C164+Method_input!$D$65*D164+Method_input!$D$65*E164+Method_input!$D$65*F164","v":0},{"$f":"Method_input!$D$65*B164+Method_input!$D$64*Input_series!AG160+Method_input!$D$65*F164","v":0}]
[148,0,0,0,0,0,0,0,0,0,16,12,16,12,0,0,0,12,0,12,0,0,16,12,null,0,{"$f":"Method_input!$D$65*B165+Method_input!$D$64*Input_series!AG161+Method_input!$D$65*C165+Method_input!$D$65*D165+Method_input!$D$65*E165+Method_input!$D$65*F165","v":0},{"$f":"Method_input!$D$65*B165+Method_input!$D$64*Input_series!AG161+Method_input!$D$65*F165","v":0}]
[149,0,0,0,0,0,0,0,0,0,16,12,16,12,0,0,0,12,0,12,0,0,16,12,null,0,{"$f":"Method_input!$D$65*B166+Method_input!$D$64*Input_series!AG162+Method_input!$D$65*C166+Method_input!$D$65*D166+Method_input!$D$65*E166+Method_input!$D$65*F166","v":0},{"$f":"Method_input!$D$65*B166+Method_input!$D$64*Input_series!AG162+Method_input!$D$65*F166","v":0}]
[150,0,0,0,0,0,0,0,0,0,16,12,16,12,0,0,0,12,0,12,0,0,16,12,null,0,{"$f":"Method_input!$D$65*B167+Method_input!$D$64*Input_series!AG163+Method_input!$D$65*C167+Method_input!$D$65*D167+Method_input!$D$65*E167+Method_input!$D$65*F167","v":0},{"$f":"Method_input!$D$65*B167+Method_input!$D$64*Input_series!AG163+Method_input!$D$65*F167","v":0}]
[151,0,0,0,0,0,0,0,0,0,16,12,16,12,0,0,0,12,0,12,0,0,16,12,null,0,{"$f":"Method_input!$D$65*B168+Method_input!$D$64*Input_series!AG164+Method_input!$D$65*C168+Method_input!$D$65*D168+Method_input!$D$65*E168+Method_input!$D$65*F168","v":0},{"$f":"Method_input!$D$65*B168+Method_input!$D$64*Input_series!AG164+Method_input!$D$65*F168","v":0}]
[152,0,0,0,0,0,0,0,0,0,16,12,16,12,0,0,0,12,0,12,0,0,16,12,null,0,{"$f":"Method_input!$D$65*B169+Method_input!$D$64*Input_series!AG165+Method_input!$D$65*C169+Method_input!$D$65*D169+Method_input!$D$65*E169+Method_input!$D$65*F169","v":0},{"$f":"Method_input!$D$65*B169+Method_input!$D$64*Input_series!AG165+Method_input!$D$65*F169","v":0}]
[153,0,0,0,0,0,0,0,0,0,16,12,16,12,0,0,0,12,0,12,0,0,16,12,null,0,{"$f":"Method_input!$D$65*B170+Method_input!$D$64*Input_series!AG166+Method_input!$D$65*C170+Method_input!$D$65*D170+Method_input!$D$65*E170+Method_input!$D$65*F170","v":0},{"$f":"Method_input!$D$65*B170+Method_input!$D$64*Input_series!AG166+Method_input!$D$65*F170","v":0}]
[154,0,0,0,0,0,0,0,0,0,16,12,16,12,0,0,0,12,0,12,0,0,16,12,null,0,{"$f":"Method_input!$D$65*B171+Method_input!$D$64*Input_series!AG167+Method_input!$D$65*C171+Method_input!$D$65*D171+Method_input!$D$65*E171+Method_input!$D$65*F171","v":0},{"$f":"Method_input!$D$65*B171+Method_input!$D$64*Input_series!AG167+Method_input!$D$65*F171","v":0}]
[155,0,0,0,0,0,0,0,0,0,16,12,16,12,0,0,0,12,0,12,0,0,16,12,null,0,{"$f":"Method_input!$D$65*B172+Method_input!$D$64*Input_series!AG168+Method_input!$D$65*C172+Method_input!$D$65*D172+Method_input!$D$65*E172+Method_input!$D$65*F172","v":0},{"$f":"Method_input!$D$65*B172+Method_input!$D$64*Input_series!AG168+Method_input!$D$65*F172","v":0}]
[156,0,0,0,0,0,0,0,0,0,16,12,16,12,0,0,0,12,0,12,0,0,16,12,null,0,{"$f":"Method_input!$D$65*B173+Method_input!$D$64*Input_series!AG169+Method_input!$D$65*C173+Method_input!$D$65*D173+Method_input!$D$65*E173+Method_input!$D$65*F173","v":0},{"$f":"Method_input!$D$65*B173+Method_input!$D$64*Input_series!AG169+Method_input!$D$65*F173","v":0}]
[157,0,0,0,0,0,0,0,0,0,16,12,16,12,0,0,0,12,0,12,0,0,16,12,null,0,{"$f":"Method_input!$D$65*B174+Method_input!$D$64*Input_series!AG170+Method_input!$D$65*C174+Method_input!$D$65*D174+Method_input!$D$65*E174+Method_input!$D$65*F174","v":0},{"$f":"Method_input!$D$65*B174+Method_input!$D$64*Input_series!AG170+Method_input!$D$65*F174","v":0}]
[158,0,0,0,0,0,0,0,0,0,16,12,16,12,0,0,0,12,0,12,0,0,16,12,null,0,{"$f":"Method_input!$D$65*B175+Method_input!$D$64*Input_series!AG171+Method_input!$D$65*C175+Method_input!$D$65*D175+Method_input!$D$65*E175+Method_input!$D$65*F175","v":0},{"$f":"Method_input!$D$65*B175+Method_input!$D$64*Input_series!AG171+Method_input!$D$65*F175","v":0}]
[159,0,0,0,0,0,0,0,0,0,16,12,16,12,0,0,0,12,0,12,0,0,16,12,null,0,{"$f":"Method_input!$D$65*B176+Method_input!$D$64*Input_series!AG172+Method_input!$D$65*C176+Method_input!$D$65*D176+Method_input!$D$65*E176+Method_input!$D$65*F176","v":0},{"$f":"Method_input!$D$65*B176+Method_input!$D$64*Input_series!AG172+Method_input!$D$65*F176","v":0}]
[160,0,0,0,0,0,0,0,0,0,16,12,16,12,0,0,0,12,0,12,0,0,16,12,null,0,{"$f":"Method_input!$D$65*B177+Method_input!$D$64*Input_series!AG173+Method_input!$D$65*C177+Method_input!$D$65*D177+Method_input!$D$65*E177+Method_input!$D$65*F177","v":0},{"$f":"Method_input!$D$65*B177+Method_input!$D$64*Input_series!AG173+Method_input!$D$65*F177","v":0}]
[161,0,0,0,0,0,0,0,0,0,16,12,16,12,0,0,0,12,0,12,0,0,16,12,null,0,{"$f":"Method_input!$D$65*B178+Method_input!$D$64*Input_series!AG174+Method_input!$D$65*C178+Method_input!$D$65*D178+Method_input!$D$65*E178+Method_input!$D$65*F178","v":0},{"$f":"Method_input!$D$65*B178+Method_input!$D$64*Input_series!AG174+Method_input!$D$65*F178","v":0}]
[162,0,0,0,0,0,0,0,0,0,16,12,16,12,0,0,0,12,0,12,0,0,16,12,null,0,{"$f":"Method_input!$D$65*B179+Method_input!$D$64*Input_series!AG175+Method_input!$D$65*C179+Method_input!$D$65*D179+Method_input!$D$65*E179+Method_input!$D$65*F179","v":0},{"$f":"Method_input!$D$65*B179+Method_input!$D$64*Input_series!AG175+Method_input!$D$65*F179","v":0}]
[163,0,0,0,0,0,0,0,0,0,16,12,16,12,0,0,0,12,0,12,0,0,16,12,null,0,{"$f":"Method_input!$D$65*B180+Method_input!$D$64*Input_series!AG176+Method_input!$D$65*C180+Method_input!$D$65*D180+Method_input!$D$65*E180+Method_input!$D$65*F180","v":0},{"$f":"Method_input!$D$65*B180+Method_input!$D$64*Input_series!AG176+Method_input!$D$65*F180","v":0}]
[164,0,0,0,0,0,0,0,0,0,16,12,16,12,0,0,0,12,0,12,0,0,16,12,null,0,{"$f":"Method_input!$D$65*B181+Method_input!$D$64*Input_series!AG177+Method_input!$D$65*C181+Method_input!$D$65*D181+Method_input!$D$65*E181+Method_input!$D$65*F181","v":0},{"$f":"Method_input!$D$65*B181+Method_input!$D$64*Input_series!AG177+Method_input!$D$65*F181","v":0}]
[165,0,0,0,0,0,0,0,0,0,16,12,16,12,0,0,0,12,0,12,0,0,16,12,null,0,{"$f":"Method_input!$D$65*B182+Method_input!$D$64*Input_series!AG178+Method_input!$D$65*C182+Method_input!$D$65*D182+Method_input!$D$65*E182+Method_input!$D$65*F182","v":0},{"$f":"Method_input!$D$65*B182+Method_input!$D$64*Input_series!AG178+Method_input!$D$65*F182","v":0}]
[166,0,0,0,0,0,0,0,0,0,16,12,16,12,0,0,0,12,0,12,0,0,16,12,null,0,{"$f":"Method_input!$D$65*B183+Method_input!$D$64*Input_series!AG179+Method_input!$D$65*C183+Method_input!$D$65*D183+Method_input!$D$65*E183+Method_input!$D$65*F183","v":0},{"$f":"Method_input!$D$65*B183+Method_input!$D$64*Input_series!AG179+Method_input!$D$65*F183","v":0}]
[167,0,0,0,0,0,0,0,0,0,16,12,16,12,0,0,0,12,0,12,0,0,16,12,null,0,{"$f":"Method_input!$D$65*B184+Method_input!$D$64*Input_series!AG180+Method_input!$D$65*C184+Method_input!$D$65*D184+Method_input!$D$65*E184+Method_input!$D$65*F184","v":0},{"$f":"Method_input!$D$65*B184+Method_input!$D$64*Input_series!AG180+Method_input!$D$65*F184","v":0}]
[168,0,0,0,0,0,0,0,0,0,16,12,16,12,0,0,0,12,0,12,0,0,16,12,null,0,{"$f":"Method_input!$D$65*B185+Method_input!$D$64*Input_series!AG181+Method_input!$D$65*C185+Method_input!$D$65*D185+Method_input!$D$65*E185+Method_input!$D$65*F185","v":0},{"$f":"Method_input!$D$65*B185+Method_input!$D$64*Input_series!AG181+Method_input!$D$65*F185","v":0}]
[169,0,0,0,0,0,0,0,0,0,16,12,16,12,0,0,0,12,0,12,0,0,16,12,null,0,{"$f":"Method_input!$D$65*B186+Method_input!$D$64*Input_series!AG182+Method_input!$D$65*C186+Method_input!$D$65*D186+Method_input!$D$65*E186+Method_input!$D$65*F186","v":0},{"$f":"Method_input!$D$65*B186+Method_input!$D$64*Input_series!AG182+Method_input!$D$65*F186","v":0}]
[170,0,0,0,0,0,0,0,0,0,16,12,16,12,0,0,0,12,0,12,0,0,16,12,null,0,{"$f":"Method_input!$D$65*B187+Method_input!$D$64*Input_series!AG183+Method_input!$D$65*C187+Method_input!$D$65*D187+Method_input!$D$65*E187+Method_input!$D$65*F187","v":0},{"$f":"Method_input!$D$65*B187+Method_input!$D$64*Input_series!AG183+Method_input!$D$65*F187","v":0}]
[171,0,0,0,0,0,0,0,0,0,16,12,16,12,0,0,0,12,0,12,0,0,16,12,null,0,{"$f":"Method_input!$D$65*B188+Method_input!$D$64*Input_series!AG184+Method_input!$D$65*C188+Method_input!$D$65*D188+Method_input!$D$65*E188+Method_input!$D$65*F188","v":0},{"$f":"Method_input!$D$65*B188+Method_input!$D$64*Input_series!AG184+Method_input!$D$65*F188","v":0}]
[172,0,0,0,0,0,0,0,0,0,16,12,16,12,0,0,0,12,0,12,0,0,16,12,null,0,{"$f":"Method_input!$D$65*B189+Method_input!$D$64*Input_series!AG185+Method_input!$D$65*C189+Method_input!$D$65*D189+Method_input!$D$65*E189+Method_input!$D$65*F189","v":0},{"$f":"Method_input!$D$65*B189+Method_input!$D$64*Input_series!AG185+Method_input!$D$65*F189","v":0}]
[173,0,0,0,0,0,0,0,0,0,16,12,16,12,0,0,0,12,0,12,0,0,16,12,null,0,{"$f":"Method_input!$D$65*B190+Method_input!$D$64*Input_series!AG186+Method_input!$D$65*C190+Method_input!$D$65*D190+Method_input!$D$65*E190+Method_input!$D$65*F190","v":0},{"$f":"Method_input!$D$65*B190+Method_input!$D$64*Input_series!AG186+Method_input!$D$65*F190","v":0}]
[174,0,0,0,0,0,0,0,0,0,16,12,16,12,0,0,0,12,0,12,0,0,16,12,null,0,{"$f":"Method_input!$D$65*B191+Method_input!$D$64*Input_series!AG187+Method_input!$D$65*C191+Method_input!$D$65*D191+Method_input!$D$65*E191+Method_input!$D$65*F191","v":0},{"$f":"Method_input!$D$65*B191+Method_input!$D$64*Input_series!AG187+Method_input!$D$65*F191","v":0}]
[175,0,0,0,0,0,0,0,0,0,16,12,16,12,0,0,0,12,0,12,0,0,16,12,null,0,{"$f":"Method_input!$D$65*B192+Method_input!$D$64*Input_series!AG188+Method_input!$D$65*C192+Method_input!$D$65*D192+Method_input!$D$65*E192+Method_input!$D$65*F192","v":0},{"$f":"Method_input!$D$65*B192+Method_input!$D$64*Input_series!AG188+Method_input!$D$65*F192","v":0}]
[176,0,0,0,0,0,0,0,0,0,16,12,16,12,0,0,0,12,0,12,0,0,16,12,null,0,{"$f":"Method_input!$D$65*B193+Method_input!$D$64*Input_series!AG189+Method_input!$D$65*C193+Method_input!$D$65*D193+Method_input!$D$65*E193+Method_input!$D$65*F193","v":0},{"$f":"Method_input!$D$65*B193+Method_input!$D$64*Input_series!AG189+Method_input!$D$65*F193","v":0}]
[177,0,0,0,0,0,0,0,0,0,16,12,16,12,0,0,0,12,0,12,0,0,16,12,null,0,{"$f":"Method_input!$D$65*B194+Method_input!$D$64*Input_series!AG190+Method_input!$D$65*C194+Method_input!$D$65*D194+Method_input!$D$65*E194+Method_input!$D$65*F194","v":0},{"$f":"Method_input!$D$65*B194+Method_input!$D$64*Input_series!AG190+Method_input!$D$65*F194","v":0}]
[178,0,0,0,0,0,0,0,0,0,16,12,16,12,0,0,0,12,0,12,0,0,16,12,null,0,{"$f":"Method_input!$D$65*B195+Method_input!$D$64*Input_series!AG191+Method_input!$D$65*C195+Method_input!$D$65*D195+Method_input!$D$65*E195+Method_input!$D$65*F195","v":0},{"$f":"Method_input!$D$65*B195+Method_input!$D$64*Input_series!AG191+Method_input!$D$65*F195","v":0}]
[179,0,0,0,0,0,0,0,0,0,16,12,16,12,0,0,0,12,0,12,0,0,16,12,null,0,{"$f":"Method_input!$D$65*B196+Method_input!$D$64*Input_series!AG192+Method_input!$D$65*C196+Method_input!$D$65*D196+Method_input!$D$65*E196+Method_input!$D$65*F196","v":0},{"$f":"Method_input!$D$65*B196+Method_input!$D$64*Input_series!AG192+Method_input!$D$65*F196","v":0}]
[180,0,0,0,0,0,0,0,0,0,16,12,16,12,0,0,0,12,0,12,0,0,16,12,null,0,{"$f":"Method_input!$D$65*B197+Method_input!$D$64*Input_series!AG193+Method_input!$D$65*C197+Method_input!$D$65*D197+Method_input!$D$65*E197+Method_input!$D$65*F197","v":0},{"$f":"Method_input!$D$65*B197+Method_input!$D$64*Input_series!AG193+Method_input!$D$65*F197","v":0}]
[181,0,0,0,0,0,0,0,0,0,16,12,16,12,0,0,0,12,0,12,0,0,16,12,null,0,{"$f":"Method_input!$D$65*B198+Method_input!$D$64*Input_series!AG194+Method_input!$D$65*C198+Method_input!$D$65*D198+Method_input!$D$65*E198+Method_input!$D$65*F198","v":0},{"$f":"Method_input!$D$65*B198+Method_input!$D$64*Input_series!AG194+Method_input!$D$65*F198","v":0}]
[182,0,0,0,0,0,0,0,0,0,16,12,16,12,0,0,0,12,0,12,0,0,16,12,null,0,{"$f":"Method_input!$D$65*B199+Method_input!$D$64*Input_series!AG195+Method_input!$D$65*C199+Method_input!$D$65*D199+Method_input!$D$65*E199+Method_input!$D$65*F199","v":0},{"$f":"Method_input!$D$65*B199+Method_input!$D$64*Input_series!AG195+Method_input!$D$65*F199","v":0}]
[183,0,0,0,0,0,0,0,0,0,16,12,16,12,0,0,0,12,0,12,0,0,16,12,null,0,{"$f":"Method_input!$D$65*B200+Method_input!$D$64*Input_series!AG196+Method_input!$D$65*C200+Method_input!$D$65*D200+Method_input!$D$65*E200+Method_input!$D$65*F200","v":0},{"$f":"Method_input!$D$65*B200+Method_input!$D$64*Input_series!AG196+Method_input!$D$65*F200","v":0}]
[184,0,0,0,0,0,0,0,0,0,16,12,16,12,0,0,0,12,0,12,0,0,16,12,null,0,{"$f":"Method_input!$D$65*B201+Method_input!$D$64*Input_series!AG197+Method_input!$D$65*C201+Method_input!$D$65*D201+Method_input!$D$65*E201+Method_input!$D$65*F201","v":0},{"$f":"Method_input!$D$65*B201+Method_input!$D$64*Input_series!AG197+Method_input!$D$65*F201","v":0}]
[185,0,0,0,0,0,0,0,0,0,16,12,16,12,0,0,0,12,0,12,0,0,16,12,null,0,{"$f":"Method_input!$D$65*B202+Method_input!$D$64*Input_series!AG198+Method_input!$D$65*C202+Method_input!$D$65*D202+Method_input!$D$65*E202+Method_input!$D$65*F202","v":0},{"$f":"Method_input!$D$65*B202+Method_input!$D$64*Input_series!AG198+Method_input!$D$65*F202","v":0}]
[186,0,0,0,0,0,0,0,0,0,16,12,16,12,0,0,0,12,0,12,0,0,16,12,null,0,{"$f":"Method_input!$D$65*B203+Method_input!$D$64*Input_series!AG199+Method_input!$D$65*C203+Method_input!$D$65*D203+Method_input!$D$65*E203+Method_input!$D$65*F203","v":0},{"$f":"Method_input!$D$65*B203+Method_input!$D$64*Input_series!AG199+Method_input!$D$65*F203","v":0}]
[187,0,0,0,0,0,0,0,0,0,16,12,16,12,0,0,0,12,0,12,0,0,16,12,null,0,{"$f":"Method_input!$D$65*B204+Method_input!$D$64*Input_series!AG200+Method_input!$D$65*C204+Method_input!$D$65*D204+Method_input!$D$65*E204+Method_input!$D$65*F204","v":0},{"$f":"Method_input!$D$65*B204+Method_input!$D$64*Input_series!AG200+Method_input!$D$65*F204","v":0}]
[188,0,0,0,0,0,0,0,0,0,16,12,16,12,0,0,0,12,0,12,0,0,16,12,null,0,{"$f":"Method_input!$D$65*B205+Method_input!$D$64*Input_series!AG201+Method_input!$D$65*C205+Method_input!$D$65*D205+Method_input!$D$65*E205+Method_input!$D$65*F205","v":0},{"$f":"Method_input!$D$65*B205+Method_input!$D$64*Input_series!AG201+Method_input!$D$65*F205","v":0}]
[189,0,0,0,0,0,0,0,0,0,16,12,16,12,0,0,0,12,0,12,0,0,16,12,null,0,{"$f":"Method_input!$D$65*B206+Method_input!$D$64*Input_series!AG202+Method_input!$D$65*C206+Method_input!$D$65*D206+Method_input!$D$65*E206+Method_input!$D$65*F206","v":0},{"$f":"Method_input!$D$65*B206+Method_input!$D$64*Input_series!AG202+Method_input!$D$65*F206","v":0}]
[190,0,0,0,0,0,0,0,0,0,16,12,16,12,0,0,0,12,0,12,0,0,16,12,null,0,{"$f":"Method_input!$D$65*B207+Method_input!$D$64*Input_series!AG203+Method_input!$D$65*C207+Method_input!$D$65*D207+Method_input!$D$65*E207+Method_input!$D$65*F207","v":0},{"$f":"Method_input!$D$65*B207+Method_input!$D$64*Input_series!AG203+Method_input!$D$65*F207","v":0}]
[191,0,0,0,0,0,0,0,0,0,16,12,16,12,0,0,0,12,0,12,0,0,16,12,null,0,{"$f":"Method_input!$D$65*B208+Method_input!$D$64*Input_series!AG204+Method_input!$D$65*C208+Method_input!$D$65*D208+Method_input!$D$65*E208+Method_input!$D$65*F208","v":0},{"$f":"Method_input!$D$65*B208+Method_input!$D$64*Input_series!AG204+Method_input!$D$65*F208","v":0}]
[192,0,0,0,0,0,0,0,0,0,16,12,16,12,0,0,0,12,0,12,0,0,16,12,null,0,{"$f":"Method_input!$D$65*B209+Method_input!$D$64*Input_series!AG205+Method_input!$D$65*C209+Method_input!$D$65*D209+Method_input!$D$65*E209+Method_input!$D$65*F209","v":0},{"$f":"Method_input!$D$65*B209+Method_input!$D$64*Input_series!AG205+Method_input!$D$65*F209","v":0}]
[193,0,0,0,0,0,0,0,0,0,16,12,16,12,0,0,0,12,0,12,0,0,16,12,null,{"$f":"SUM(G210:J210,U210:V210)","v":0},{"$f":"Method_input!$D$65*B210+Method_input!$D$64*Input_series!AG206+Method_input!$D$65*C210+Method_input!$D$65*D210+Method_input!$D$65*E210+Method_input!$D$65*F210","v":0},{"$f":"Method_input!$D$65*B210+Method_input!$D$64*Input_series!AG206+Method_input!$D$65*F210","v":0}]
[194,0,0,0,0,0,0,0,0,0,16,12,16,12,0,0,0,12,0,12,0,0,16,12,null,0,{"$f":"Method_input!$D$65*B211+Method_input!$D$64*Input_series!AG207+Method_input!$D$65*C211+Method_input!$D$65*D211+Method_input!$D$65*E211+Method_input!$D$65*F211","v":0},{"$f":"Method_input!$D$65*B211+Method_input!$D$64*Input_series!AG207+Method_input!$D$65*F211","v":0}]
[195,0,0,0,0,0,0,0,0,0,16,12,16,12,0,0,0,12,0,12,0,0,16,12,null,0,{"$f":"Method_input!$D$65*B212+Method_input!$D$64*Input_series!AG208+Method_input!$D$65*C212+Method_input!$D$65*D212+Method_input!$D$65*E212+Method_input!$D$65*F212","v":0},{"$f":"Method_input!$D$65*B212+Method_input!$D$64*Input_series!AG208+Method_input!$D$65*F212","v":0}]
[196,0,0,0,0,0,0,0,0,0,16,12,16,12,0,0,0,12,0,12,0,0,16,12,null,0,{"$f":"Method_input!$D$65*B213+Method_input!$D$64*Input_series!AG209+Method_input!$D$65*C213+Method_input!$D$65*D213+Method_input!$D$65*E213+Method_input!$D$65*F213","v":0},{"$f":"Method_input!$D$65*B213+Method_input!$D$64*Input_series!AG209+Method_input!$D$65*F213","v":0}]
[197,0,0,0,0,0,0,0,0,0,16,12,16,12,0,0,0,12,0,12,0,0,16,12,null,0,{"$f":"Method_input!$D$65*B214+Method_input!$D$64*Input_series!AG210+Method_input!$D$65*C214+Method_input!$D$65*D214+Method_input!$D$65*E214+Method_input!$D$65*F214","v":0},{"$f":"Method_input!$D$65*B214+Method_input!$D$64*Input_series!AG210+Method_input!$D$65*F214","v":0}]
[198,0,0,0,0,0,0,0,0,0,16,12,16,12,0,0,0,12,0,12,0,0,16,12,null,0,{"$f":"Method_input!$D$65*B215+Method_input!$D$64*Input_series!AG211+Method_input!$D$65*C215+Method_input!$D$65*D215+Method_input!$D$65*E215+Method_input!$D$65*F215","v":0},{"$f":"Method_input!$D$65*B215+Method_input!$D$64*Input_series!AG211+Method_input!$D$65*F215","v":0}]
[199,0,0,0,0,0,0,0,0,0,16,12,16,12,0,0,0,12,0,12,0,0,16,12,null,0,{"$f":"Method_input!$D$65*B216+Method_input!$D$64*Input_series!AG212+Method_input!$D$65*C216+Method_input!$D$65*D216+Method_input!$D$65*E216+Method_input!$D$65*F216","v":0},{"$f":"Method_input!$D$65*B216+Method_input!$D$64*Input_series!AG212+Method_input!$D$65*F216","v":0}]
[200,0,0,0,0,0,0,0,0,0,16,12,16,12,0,0,0,12,0,12,0,0,16,12,null,0,{"$f":"Method_input!$D$65*B217+Method_input!$D$64*Input_series!AG213+Method_input!$D$65*C217+Method_input!$D$65*D217+Method_input!$D$65*E217+Method_input!$D$65*F217","v":0},{"$f":"Method_input!$D$65*B217+Method_input!$D$64*Input_series!AG213+Method_input!$D$65*F217","v":0}]
[201,0,0,0,0,0,0,0,0,0,16,12,16,12,0,0,0,12,0,12,0,0,16,12,null,0,{"$f":"Method_input!$D$65*B218+Method_input!$D$64*Input_series!AG214+Method_input!$D$65*C218+Method_input!$D$65*D218+Method_input!$D$65*E218+Method_input!$D$65*F218","v":0},{"$f":"Method_input!$D$65*B218+Method_input!$D$64*Input_series!AG214+Method_input!$D$65*F218","v":0}]
[202,0,0,0,0,0,0,0,0,0,16,12,16,12,0,0,0,12,0,12,0,0,16,12,null,0,{"$f":"Method_input!$D$65*B219+Method_input!$D$64*Input_series!AG215+Method_input!$D$65*C219+Method_input!$D$65*D219+Method_input!$D$65*E219+Method_input!$D$65*F219","v":0},{"$f":"Method_input!$D$65*B219+Method_input!$D$64*Input_series!AG215+Method_input!$D$65*F219","v":0}]
[203,0,0,0,0,0,0,0,0,0,16,12,16,12,0,0,0,12,0,12,0,0,16,12,null,0,{"$f":"Method_input!$D$65*B220+Method_input!$D$64*Input_series!AG216+Method_input!$D$65*C220+Method_input!$D$65*D220+Method_input!$D$65*E220+Method_input!$D$65*F220","v":0},{"$f":"Method_input!$D$65*B220+Method_input!$D$64*Input_series!AG216+Method_input!$D$65*F220","v":0}]
[204,0,0,0,0,0,0,0,0,0,16,12,16,12,0,0,0,12,0,12,0,0,16,12,null,0,{"$f":"Method_input!$D$65*B221+Method_input!$D$64*Input_series!AG217+Method_input!$D$65*C221+Method_input!$D$65*D221+Method_input!$D$65*E221+Method_input!$D$65*F221","v":0},{"$f":"Method_input!$D$65*B221+Method_input!$D$64*Input_series!AG217+Method_input!$D$65*F221","v":0}]
[205,0,0,0,0,0,0,0,0,0,16,12,16,12,0,0,0,12,0,12,0,0,16,12,null,0,{"$f":"Method_input!$D$65*B222+Method_input!$D$64*Input_series!AG218+Method_input!$D$65*C222+Method_input!$D$65*D222+Method_input!$D$65*E222+Method_input!$D$65*F222","v":0},{"$f":"Method_input!$D$65*B222+Method_input!$D$64*Input_series!AG218+Method_input!$D$65*F222","v":0}]
[206,0,0,0,0,0,0,0,0,0,16,12,16,12,0,0,0,12,0,12,0,0,16,12,null,0,{"$f":"Method_input!$D$65*B223+Method_input!$D$64*Input_series!AG219+Method_input!$D$65*C223+Method_input!$D$65*D223+Method_input!$D$65*E223+Method_input!$D$65*F223","v":0},{"$f":"Method_input!$D$65*B223+Method_input!$D$64*Input_series!AG219+Method_input!$D$65*F223","v":0}]
[207,0,0,0,0,0,0,0,0,0,16,12,16,12,0,0,0,12,0,12,0,0,16,12,null,0,{"$f":"Method_input!$D$65*B224+Method_input!$D$64*Input_series!AG220+Method_input!$D$65*C224+Method_input!$D$65*D224+Method_input!$D$65*E224+Method_input!$D$65*F224","v":0},{"$f":"Method_input!$D$65*B224+Method_input!$D$64*Input_series!AG220+Method_input!$D$65*F224","v":0}]
[208,0,0,0,0,0,0,0,0,0,16,12,16,12,0,0,0,12,0,12,0,0,16,12,null,0,{"$f":"Method_input!$D$65*B225+Method_input!$D$64*Input_series!AG221+Method_input!$D$65*C225+Method_input!$D$65*D225+Method_input!$D$65*E225+Method_input!$D$65*F225","v":0},{"$f":"Method_input!$D$65*B225+Method_input!$D$64*Input_series!AG221+Method_input!$D$65*F225","v":0}]
[209,0,0,0,0,0,0,0,0,0,16,12,16,12,0,0,0,12,0,12,0,0,16,12,null,0,{"$f":"Method_input!$D$65*B226+Method_input!$D$64*Input_series!AG222+Method_input!$D$65*C226+Method_input!$D$65*D226+Method_input!$D$65*E226+Method_input!$D$65*F226","v":0},{"$f":"Method_input!$D$65*B226+Method_input!$D$64*Input_series!AG222+Method_input!$D$65*F226","v":0}]
[210,0,0,0,0,0,0,0,0,0,16,12,16,12,0,0,0,12,0,12,0,0,16,12,null,0,{"$f":"Method_input!$D$65*B227+Method_input!$D$64*Input_series!AG223+Method_input!$D$65*C227+Method_input!$D$65*D227+Method_input!$D$65*E227+Method_input!$D$65*F227","v":0},{"$f":"Method_input!$D$65*B227+Method_input!$D$64*Input_series!AG223+Method_input!$D$65*F227","v":0}]
[211,0,0,0,0,0,0,0,0,0,16,12,16,12,0,0,0,12,0,12,0,0,16,12,null,0,{"$f":"Method_input!$D$65*B228+Method_input!$D$64*Input_series!AG224+Method_input!$D$65*C228+Method_input!$D$65*D228+Method_input!$D$65*E228+Method_input!$D$65*F228","v":0},{"$f":"Method_input!$D$65*B228+Method_input!$D$64*Input_series!AG224+Method_input!$D$65*F228","v":0}]
[212,0,0,0,0,0,0,0,0,0,16,12,16,12,0,0,0,12,0,12,0,0,16,12,null,0,{"$f":"Method_input!$D$65*B229+Method_input!$D$64*Input_series!AG225+Method_input!$D$65*C229+Method_input!$D$65*D229+Method_input!$D$65*E229+Method_input!$D$65*F229","v":0},{"$f":"Method_input!$D$65*B229+Method_input!$D$64*Input_series!AG225+Method_input!$D$65*F229","v":0}]
[213,0,0,0,0,0,0,0,0,0,16,12,16,12,0,0,0,12,0,12,0,0,16,12,null,0,{"$f":"Method_input!$D$65*B230+Method_input!$D$64*Input_series!AG226+Method_input!$D$65*C230+Method_input!$D$65*D230+Method_input!$D$65*E230+Method_input!$D$65*F230","v":0},{"$f":"Method_input!$D$65*B230+Method_input!$D$64*Input_series!AG226+Method_input!$D$65*F230","v":0}]
[214,0,0,0,0,0,0,0,0,0,16,12,16,12,0,0,0,12,0,12,0,0,16,12,null,0,{"$f":"Method_input!$D$65*B231+Method_input!$D$64*Input_series!AG227+Method_input!$D$65*C231+Method_input!$D$65*D231+Method_input!$D$65*E231+Method_input!$D$65*F231","v":0},{"$f":"Method_input!$D$65*B231+Method_input!$D$64*Input_series!AG227+Method_input!$D$65*F231","v":0}]
[215,0,0,0,0,0,0,0,0,0,16,12,16,12,0,0,0,12,0,12,0,0,16,12,null,0,{"$f":"Method_input!$D$65*B232+Method_input!$D$64*Input_series!AG228+Method_input!$D$65*C232+Method_input!$D$65*D232+Method_input!$D$65*E232+Method_input!$D$65*F232","v":0},{"$f":"Method_input!$D$65*B232+Method_input!$D$64*Input_series!AG228+Method_input!$D$65*F232","v":0}]
[216,0,0,0,0,0,0,0,0,0,16,12,16,12,0,0,0,12,0,12,0,0,16,12,null,0,{"$f":"Method_input!$D$65*B233+Method_input!$D$64*Input_series!AG229+Method_input!$D$65*C233+Method_input!$D$65*D233+Method_input!$D$65*E233+Method_input!$D$65*F233","v":0},{"$f":"Method_input!$D$65*B233+Method_input!$D$64*Input_series!AG229+Method_input!$D$65*F233","v":0}]
[217,0,0,0,0,0,0,0,0,0,16,12,16,12,0,0,0,12,0,12,0,0,16,12,null,0,{"$f":"Method_input!$D$65*B234+Method_input!$D$64*Input_series!AG230+Method_input!$D$65*C234+Method_input!$D$65*D234+Method_input!$D$65*E234+Method_input!$D$65*F234","v":0},{"$f":"Method_input!$D$65*B234+Method_input!$D$64*Input_series!AG230+Method_input!$D$65*F234","v":0}]
[218,0,0,0,0,0,0,0,0,0,16,12,16,12,0,0,0,12,0,12,0,0,16,12,null,0,{"$f":"Method_input!$D$65*B235+Method_input!$D$64*Input_series!AG231+Method_input!$D$65*C235+Method_input!$D$65*D235+Method_input!$D$65*E235+Method_input!$D$65*F235","v":0},{"$f":"Method_input!$D$65*B235+Method_input!$D$64*Input_series!AG231+Method_input!$D$65*F235","v":0}]
[219,0,0,0,0,0,0,0,0,0,16,12,16,12,0,0,0,12,0,12,0,0,16,12,null,0,{"$f":"Method_input!$D$65*B236+Method_input!$D$64*Input_series!AG232+Method_input!$D$65*C236+Method_input!$D$65*D236+Method_input!$D$65*E236+Method_input!$D$65*F236","v":0},{"$f":"Method_input!$D$65*B236+Method_input!$D$64*Input_series!AG232+Method_input!$D$65*F236","v":0}]
[220,0,0,0,0,0,0,0,0,0,16,12,16,12,0,0,0,12,0,12,0,0,16,12,null,0,{"$f":"Method_input!$D$65*B237+Method_input!$D$64*Input_series!AG233+Method_input!$D$65*C237+Method_input!$D$65*D237+Method_input!$D$65*E237+Method_input!$D$65*F237","v":0},{"$f":"Method_input!$D$65*B237+Method_input!$D$64*Input_series!AG233+Method_input!$D$65*F237","v":0}]
[221,0,0,0,0,0,0,0,0,0,16,12,16,12,0,0,0,12,0,12,0,0,16,12,null,0,{"$f":"Method_input!$D$65*B238+Method_input!$D$64*Input_series!AG234+Method_input!$D$65*C238+Method_input!$D$65*D238+Method_input!$D$65*E238+Method_input!$D$65*F238","v":0},{"$f":"Method_input!$D$65*B238+Method_input!$D$64*Input_series!AG234+Method_input!$D$65*F238","v":0}]
[222,0,0,0,0,0,0,0,0,0,16,12,16,12,0,0,0,12,0,12,0,0,16,12,null,0,{"$f":"Method_input!$D$65*B239+Method_input!$D$64*Input_series!AG235+Method_input!$D$65*C239+Method_input!$D$65*D239+Method_input!$D$65*E239+Method_input!$D$65*F239","v":0},{"$f":"Method_input!$D$65*B239+Method_input!$D$64*Input_series!AG235+Method_input!$D$65*F239","v":0}]
[223,0,0,0,0,0,0,0,0,0,16,12,16,12,0,0,0,12,0,12,0,0,16,12,null,0,{"$f":"Method_input!$D$65*B240+Method_input!$D$64*Input_series!AG236+Method_input!$D$65*C240+Method_input!$D$65*D240+Method_input!$D$65*E240+Method_input!$D$65*F240","v":0},{"$f":"Method_input!$D$65*B240+Method_input!$D$64*Input_series!AG236+Method_input!$D$65*F240","v":0}]
[224,0,0,0,0,0,0,0,0,0,16,12,16,12,0,0,0,12,0,12,0,0,16,12,null,0,{"$f":"Method_input!$D$65*B241+Method_input!$D$64*Input_series!AG237+Method_input!$D$65*C241+Method_input!$D$65*D241+Method_input!$D$65*E241+Method_input!$D$65*F241","v":0},{"$f":"Method_input!$D$65*B241+Method_input!$D$64*Input_series!AG237+Method_input!$D$65*F241","v":0}]
[225,0,0,0,0,0,0,0,0,0,16,12,16,12,0,0,0,12,0,12,0,0,16,12,null,0,{"$f":"Method_input!$D$65*B242+Method_input!$D$64*Input_series!AG238+Method_input!$D$65*C242+Method_input!$D$65*D242+Method_input!$D$65*E242+Method_input!$D$65*F242","v":0},{"$f":"Method_input!$D$65*B242+Method_input!$D$64*Input_series!AG238+Method_input!$D$65*F242","v":0}]
[226,0,0,0,0,0,0,0,0,0,16,12,16,12,0,0,0,12,0,12,0,0,16,12,null,0,{"$f":"Method_input!$D$65*B243+Method_input!$D$64*Input_series!AG239+Method_input!$D$65*C243+Method_input!$D$65*D243+Method_input!$D$65*E243+Method_input!$D$65*F243","v":0},{"$f":"Method_input!$D$65*B243+Method_input!$D$64*Input_series!AG239+Method_input!$D$65*F243","v":0}]
[227,0,0,0,0,0,0,0,0,0,16,12,16,12,0,0,0,12,0,12,0,0,16,12,null,0,{"$f":"Method_input!$D$65*B244+Method_input!$D$64*Input_series!AG240+Method_input!$D$65*C244+Method_input!$D$65*D244+Method_input!$D$65*E244+Method_input!$D$65*F244","v":0},{"$f":"Method_input!$D$65*B244+Method_input!$D$64*Input_series!AG240+Method_input!$D$65*F244","v":0}]
[228,0,0,0,0,0,0,0,0,0,16,12,16,12,0,0,0,12,0,12,0,0,16,12,null,0,{"$f":"Method_input!$D$65*B245+Method_input!$D$64*Input_series!AG241+Method_input!$D$65*C245+Method_input!$D$65*D245+Method_input!$D$65*E245+Method_input!$D$65*F245","v":0},{"$f":"Method_input!$D$65*B245+Method_input!$D$64*Input_series!AG241+Method_input!$D$65*F245","v":0}]
[229,0,0,0,0,0,0,0,0,0,16,12,16,12,0,0,0,12,0,12,0,0,16,12,null,0,{"$f":"Method_input!$D$65*B246+Method_input!$D$64*Input_series!AG242+Method_input!$D$65*C246+Method_input!$D$65*D246+Method_input!$D$65*E246+Method_input!$D$65*F246","v":0},{"$f":"Method_input!$D$65*B246+Method_input!$D$64*Input_series!AG242+Method_input!$D$65*F246","v":0}]
[230,0,0,0,0,0,0,0,0,0,16,12,16,12,0,0,0,12,0,12,0,0,16,12,null,0,{"$f":"Method_input!$D$65*B247+Method_input!$D$64*Input_series!AG243+Method_input!$D$65*C247+Method_input!$D$65*D247+Method_input!$D$65*E247+Method_input!$D$65*F247","v":0},{"$f":"Method_input!$D$65*B247+Method_input!$D$64*Input_series!AG243+Method_input!$D$65*F247","v":0}]
[231,0,0,0,0,0,0,0,0,0,16,12,16,12,0,0,0,12,0,12,0,0,16,12,null,0,{"$f":"Method_input!$D$65*B248+Method_input!$D$64*Input_series!AG244+Method_input!$D$65*C248+Method_input!$D$65*D248+Method_input!$D$65*E248+Method_input!$D$65*F248","v":0},{"$f":"Method_input!$D$65*B248+Method_input!$D$64*Input_series!AG244+Method_input!$D$65*F248","v":0}]
[232,0,0,0,0,0,0,0,0,0,16,12,16,12,0,0,0,12,0,12,0,0,16,12,null,0,{"$f":"Method_input!$D$65*B249+Method_input!$D$64*Input_series!AG245+Method_input!$D$65*C249+Method_input!$D$65*D249+Method_input!$D$65*E249+Method_input!$D$65*F249","v":0},{"$f":"Method_input!$D$65*B249+Method_input!$D$64*Input_series!AG245+Method_input!$D$65*F249","v":0}]
[233,0,0,0,0,0,0,0,0,0,16,12,16,12,0,0,0,12,0,12,0,0,16,12,null,0,{"$f":"Method_input!$D$65*B250+Method_input!$D$64*Input_series!AG246+Method_input!$D$65*C250+Method_input!$D$65*D250+Method_input!$D$65*E250+Method_input!$D$65*F250","v":0},{"$f":"Method_input!$D$65*B250+Method_input!$D$64*Input_series!AG246+Method_input!$D$65*F250","v":0}]
[234,0,0,0,0,0,0,0,0,0,16,12,16,12,0,0,0,12,0,12,0,0,16,12,null,0,{"$f":"Method_input!$D$65*B251+Method_input!$D$64*Input_series!AG247+Method_input!$D$65*C251+Method_input!$D$65*D251+Method_input!$D$65*E251+Method_input!$D$65*F251","v":0},{"$f":"Method_input!$D$65*B251+Method_input!$D$64*Input_series!AG247+Method_input!$D$65*F251","v":0}]
[235,0,0,0,0,0,0,0,0,0,16,12,16,12,0,0,0,12,0,12,0,0,16,12,null,0,{"$f":"Method_input!$D$65*B252+Method_input!$D$64*Input_series!AG248+Method_input!$D$65*C252+Method_input!$D$65*D252+Method_input!$D$65*E252+Method_input!$D$65*F252","v":0},{"$f":"Method_input!$D$65*B252+Method_input!$D$64*Input_series!AG248+Method_input!$D$65*F252","v":0}]
[236,0,0,0,0,0,0,0,0,0,16,12,16,12,0,0,0,12,0,12,0,0,16,12,null,0,{"$f":"Method_input!$D$65*B253+Method_input!$D$64*Input_series!AG249+Method_input!$D$65*C253+Method_input!$D$65*D253+Method_input!$D$65*E253+Method_input!$D$65*F253","v":0},{"$f":"Method_input!$D$65*B253+Method_input!$D$64*Input_series!AG249+Method_input!$D$65*F253","v":0}]
[237,0,0,0,0,0,0,0,0,0,16,12,16,12,0,0,0,12,0,12,0,0,16,12,null,0,{"$f":"Method_input!$D$65*B254+Method_input!$D$64*Input_series!AG250+Method_input!$D$65*C254+Method_input!$D$65*D254+Method_input!$D$65*E254+Method_input!$D$65*F254","v":0},{"$f":"Method_input!$D$65*B254+Method_input!$D$64*Input_series!AG250+Method_input!$D$65*F254","v":0}]
[238,0,0,0,0,0,0,0,0,0,16,12,16,12,0,0,0,12,0,12,0,0,16,12,null,0,{"$f":"Method_input!$D$65*B255+Method_input!$D$64*Input_series!AG251+Method_input!$D$65*C255+Method_input!$D$65*D255+Method_input!$D$65*E255+Method_input!$D$65*F255","v":0},{"$f":"Method_input!$D$65*B255+Method_input!$D$64*Input_series!AG251+Method_input!$D$65*F255","v":0}]
[239,0,0,0,0,0,0,0,0,0,16,12,16,12,0,0,0,12,0,12,0,0,16,12,null,0,{"$f":"Method_input!$D$65*B256+Method_input!$D$64*Input_series!AG252+Method_input!$D$65*C256+Method_input!$D$65*D256+Method_input!$D$65*E256+Method_input!$D$65*F256","v":0},{"$f":"Method_input!$D$65*B256+Method_input!$D$64*Input_series!AG252+Method_input!$D$65*F256","v":0}]
[240,0,0,0,0,0,0,0,0,0,16,12,16,12,0,0,0,12,0,12,0,0,16,12,null,0,{"$f":"Method_input!$D$65*B257+Method_input!$D$64*Input_series!AG253+Method_input!$D$65*C257+Method_input!$D$65*D257+Method_input!$D$65*E257+Method_input!$D$65*F257","v":0},{"$f":"Method_input!$D$65*B257+Method_input!$D$64*Input_series!AG253+Method_input!$D$65*F257","v":0}]
[241,0,0,0,0,0,0,0,0,0,16,12,16,12,0,0,0,12,0,12,0,0,16,12,null,0,{"$f":"Method_input!$D$65*B258+Method_input!$D$64*Input_series!AG254+Method_input!$D$65*C258+Method_input!$D$65*D258+Method_input!$D$65*E258+Method_input!$D$65*F258","v":0},{"$f":"Method_input!$D$65*B258+Method_input!$D$64*Input_series!AG254+Method_input!$D$65*F258","v":0}]
[242,0,0,0,0,0,0,0,0,0,16,12,16,12,0,0,0,12,0,12,0,0,16,12,null,0,{"$f":"Method_input!$D$65*B259+Method_input!$D$64*Input_series!AG255+Method_input!$D$65*C259+Method_input!$D$65*D259+Method_input!$D$65*E259+Method_input!$D$65*F259","v":0},{"$f":"Method_input!$D$65*B259+Method_input!$D$64*Input_series!AG255+Method_input!$D$65*F259","v":0}]
[243,0,0,0,0,0,0,0,0,0,16,12,16,12,0,0,0,12,0,12,0,0,16,12,null,0,{"$f":"Method_input!$D$65*B260+Method_input!$D$64*Input_series!AG256+Method_input!$D$65*C260+Method_input!$D$65*D260+Method_input!$D$65*E260+Method_input!$D$65*F260","v":0},{"$f":"Method_input!$D$65*B260+Method_input!$D$64*Input_series!AG256+Method_input!$D$65*F260","v":0}]
[244,0,0,0,0,0,0,0,0,0,16,12,16,12,0,0,0,12,0,12,0,0,16,12,null,0,{"$f":"Method_input!$D$65*B261+Method_input!$D$64*Input_series!AG257+Method_input!$D$65*C261+Method_input!$D$65*D261+Method_input!$D$65*E261+Method_input!$D$65*F261","v":0},{"$f":"Method_input!$D$65*B261+Method_input!$D$64*Input_series!AG257+Method_input!$D$65*F261","v":0}]
[245,0,0,0,0,0,0,0,0,0,16,12,16,12,0,0,0,12,0,12,0,0,16,12,null,0,{"$f":"Method_input!$D$65*B262+Method_input!$D$64*Input_series!AG258+Method_input!$D$65*C262+Method_input!$D$65*D262+Method_input!$D$65*E262+Method_input!$D$65*F262","v":0},{"$f":"Method_input!$D$65*B262+Method_input!$D$64*Input_series!AG258+Method_input!$D$65*F262","v":0}]
[246,0,0,0,0,0,0,0,0,0,16,12,16,12,0,0,0,12,0,12,0,0,16,12,null,0,{"$f":"Method_input!$D$65*B263+Method_input!$D$64*Input_series!AG259+Method_input!$D$65*C263+Method_input!$D$65*D263+Method_input!$D$65*E263+Method_input!$D$65*F263","v":0},{"$f":"Method_input!$D$65*B263+Method_input!$D$64*Input_series!AG259+Method_input!$D$65*F263","v":0}]
[247,0,0,0,0,0,0,0,0,0,16,12,16,12,0,0,0,12,0,12,0,0,16,12,null,0,{"$f":"Method_input!$D$65*B264+Method_input!$D$64*Input_series!AG260+Method_input!$D$65*C264+Method_input!$D$65*D264+Method_input!$D$65*E264+Method_input!$D$65*F264","v":0},{"$f":"Method_input!$D$65*B264+Method_input!$D$64*Input_series!AG260+Method_input!$D$65*F264","v":0}]
[248,0,0,0,0,0,0,0,0,0,16,12,16,12,0,0,0,12,0,12,0,0,16,12,null,0,{"$f":"Method_input!$D$65*B265+Method_input!$D$64*Input_series!AG261+Method_input!$D$65*C265+Method_input!$D$65*D265+Method_input!$D$65*E265+Method_input!$D$65*F265","v":0},{"$f":"Method_input!$D$65*B265+Method_input!$D$64*Input_series!AG261+Method_input!$D$65*F265","v":0}]
[249,0,0,0,0,0,0,0,0,0,16,12,16,12,0,0,0,12,0,12,0,0,16,12,null,0,{"$f":"Method_input!$D$65*B266+Method_input!$D$64*Input_series!AG262+Method_input!$D$65*C266+Method_input!$D$65*D266+Method_input!$D$65*E266+Method_input!$D$65*F266","v":0},{"$f":"Method_input!$D$65*B266+Method_input!$D$64*Input_series!AG262+Method_input!$D$65*F266","v":0}]
[250,0,0,0,0,0,0,0,0,0,16,12,16,12,0,0,0,12,0,12,0,0,16,12,null,0,{"$f":"Method_input!$D$65*B267+Method_input!$D$64*Input_series!AG263+Method_input!$D$65*C267+Method_input!$D$65*D267+Method_input!$D$65*E267+Method_input!$D$65*F267","v":0},{"$f":"Method_input!$D$65*B267+Method_input!$D$64*Input_series!AG263+Method_input!$D$65*F267","v":0}]
[251,0,0,0,0,0,0,0,0,0,16,12,16,12,0,0,0,12,0,12,0,0,16,12,null,0,{"$f":"Method_input!$D$65*B268+Method_input!$D$64*Input_series!AG264+Method_input!$D$65*C268+Method_input!$D$65*D268+Method_input!$D$65*E268+Method_input!$D$65*F268","v":0},{"$f":"Method_input!$D$65*B268+Method_input!$D$64*Input_series!AG264+Method_input!$D$65*F268","v":0}]
[252,0,0,0,0,0,0,0,0,0,16,12,16,12,0,0,0,12,0,12,0,0,16,12,null,0,{"$f":"Method_input!$D$65*B269+Method_input!$D$64*Input_series!AG265+Method_input!$D$65*C269+Method_input!$D$65*D269+Method_input!$D$65*E269+Method_input!$D$65*F269","v":0},{"$f":"Method_input!$D$65*B269+Method_input!$D$64*Input_series!AG265+Method_input!$D$65*F269","v":0}]
[253,0,0,0,0,0,0,0,0,0,16,12,16,12,0,0,0,12,0,12,0,0,16,12,null,0,{"$f":"Method_input!$D$65*B270+Method_input!$D$64*Input_series!AG266+Method_input!$D$65*C270+Method_input!$D$65*D270+Method_input!$D$65*E270+Method_input!$D$65*F270","v":0},{"$f":"Method_input!$D$65*B270+Method_input!$D$64*Input_series!AG266+Method_input!$D$65*F270","v":0}]
[254,0,0,0,0,0,0,0,0,0,16,12,16,12,0,0,0,12,0,12,0,0,16,12,null,0,{"$f":"Method_input!$D$65*B271+Method_input!$D$64*Input_series!AG267+Method_input!$D$65*C271+Method_input!$D$65*D271+Method_input!$D$65*E271+Method_input!$D$65*F271","v":0},{"$f":"Method_input!$D$65*B271+Method_input!$D$64*Input_series!AG267+Method_input!$D$65*F271","v":0}]
[255,0,0,0,0,0,0,0,0,0,16,12,16,12,0,0,0,12,0,12,0,0,16,12,null,0,{"$f":"Method_input!$D$65*B272+Method_input!$D$64*Input_series!AG268+Method_input!$D$65*C272+Method_input!$D$65*D272+Method_input!$D$65*E272+Method_input!$D$65*F272","v":0},{"$f":"Method_input!$D$65*B272+Method_input!$D$64*Input_series!AG268+Method_input!$D$65*F272","v":0}]
[256,0,0,0,0,0,0,0,0,0,16,12,16,12,0,0,0,12,0,12,0,0,16,12,null,0,{"$f":"Method_input!$D$65*B273+Method_input!$D$64*Input_series!AG269+Method_input!$D$65*C273+Method_input!$D$65*D273+Method_input!$D$65*E273+Method_input!$D$65*F273","v":0},{"$f":"Method_input!$D$65*B273+Method_input!$D$64*Input_series!AG269+Method_input!$D$65*F273","v":0}]
[257,0,0,0,0,0,0,0,0,0,16,12,16,12,0,0,0,12,0,12,0,0,16,12,null,{"$f":"SUM(G274:J274,U274:V274)","v":0},{"$f":"Method_input!$D$65*B274+Method_input!$D$64*Input_series!AG270+Method_input!$D$65*C274+Method_input!$D$65*D274+Method_input!$D$65*E274+Method_input!$D$65*F274","v":0},{"$f":"Method_input!$D$65*B274+Method_input!$D$64*Input_series!AG270+Method_input!$D$65*F274","v":0}]
[258,0,0,0,0,0,0,0,0,0,16,12,16,12,0,0,0,12,0,12,0,0,16,12,null,0,{"$f":"Method_input!$D$65*B275+Method_input!$D$64*Input_series!AG271+Method_input!$D$65*C275+Method_input!$D$65*D275+Method_input!$D$65*E275+Method_input!$D$65*F275","v":0},{"$f":"Method_input!$D$65*B275+Method_input!$D$64*Input_series!AG271+Method_input!$D$65*F275","v":0}]
[259,0,0,0,0,0,0,0,0,0,16,12,16,12,0,0,0,12,0,12,0,0,16,12,null,0,{"$f":"Method_input!$D$65*B276+Method_input!$D$64*Input_series!AG272+Method_input!$D$65*C276+Method_input!$D$65*D276+Method_input!$D$65*E276+Method_input!$D$65*F276","v":0},{"$f":"Method_input!$D$65*B276+Method_input!$D$64*Input_series!AG272+Method_input!$D$65*F276","v":0}]
[260,0,0,0,0,0,0,0,0,0,16,12,16,12,0,0,0,12,0,12,0,0,16,12,null,0,{"$f":"Method_input!$D$65*B277+Method_input!$D$64*Input_series!AG273+Method_input!$D$65*C277+Method_input!$D$65*D277+Method_input!$D$65*E277+Method_input!$D$65*F277","v":0},{"$f":"Method_input!$D$65*B277+Method_input!$D$64*Input_series!AG273+Method_input!$D$65*F277","v":0}]
[261,0,0,0,0,0,0,0,0,0,16,12,16,12,0,0,0,12,0,12,0,0,16,12,null,0,{"$f":"Method_input!$D$65*B278+Method_input!$D$64*Input_series!AG274+Method_input!$D$65*C278+Method_input!$D$65*D278+Method_input!$D$65*E278+Method_input!$D$65*F278","v":0},{"$f":"Method_input!$D$65*B278+Method_input!$D$64*Input_series!AG274+Method_input!$D$65*F278","v":0}]
[262,0,0,0,0,0,0,0,0,0,16,12,16,12,0,0,0,12,0,12,0,0,16,12,null,0,{"$f":"Method_input!$D$65*B279+Method_input!$D$64*Input_series!AG275+Method_input!$D$65*C279+Method_input!$D$65*D279+Method_input!$D$65*E279+Method_input!$D$65*F279","v":0},{"$f":"Method_input!$D$65*B279+Method_input!$D$64*Input_series!AG275+Method_input!$D$65*F279","v":0}]
[263,0,0,0,0,0,0,0,0,0,16,12,16,12,0,0,0,12,0,12,0,0,16,12,null,0,{"$f":"Method_input!$D$65*B280+Method_input!$D$64*Input_series!AG276+Method_input!$D$65*C280+Method_input!$D$65*D280+Method_input!$D$65*E280+Method_input!$D$65*F280","v":0},{"$f":"Method_input!$D$65*B280+Method_input!$D$64*Input_series!AG276+Method_input!$D$65*F280","v":0}]
[264,0,0,0,0,0,0,0,0,0,16,12,16,12,0,0,0,12,0,12,0,0,16,12,null,0,{"$f":"Method_input!$D$65*B281+Method_input!$D$64*Input_series!AG277+Method_input!$D$65*C281+Method_input!$D$65*D281+Method_input!$D$65*E281+Method_input!$D$65*F281","v":0},{"$f":"Method_input!$D$65*B281+Method_input!$D$64*Input_series!AG277+Method_input!$D$65*F281","v":0}]
[265,0,0,0,0,0,0,0,0,0,16,12,16,12,0,0,0,12,0,12,0,0,16,12,null,0,{"$f":"Method_input!$D$65*B282+Method_input!$D$64*Input_series!AG278+Method_input!$D$65*C282+Method_input!$D$65*D282+Method_input!$D$65*E282+Method_input!$D$65*F282","v":0},{"$f":"Method_input!$D$65*B282+Method_input!$D$64*Input_series!AG278+Method_input!$D$65*F282","v":0}]
[266,0,0,0,0,0,0,0,0,0,16,12,16,12,0,0,0,12,0,12,0,0,16,12,null,0,{"$f":"Method_input!$D$65*B283+Method_input!$D$64*Input_series!AG279+Method_input!$D$65*C283+Method_input!$D$65*D283+Method_input!$D$65*E283+Method_input!$D$65*F283","v":0},{"$f":"Method_input!$D$65*B283+Method_input!$D$64*Input_series!AG279+Method_input!$D$65*F283","v":0}]
[267,0,0,0,0,0,0,0,0,0,16,12,16,12,0,0,0,12,0,12,0,0,16,12,null,0,{"$f":"Method_input!$D$65*B284+Method_input!$D$64*Input_series!AG280+Method_input!$D$65*C284+Method_input!$D$65*D284+Method_input!$D$65*E284+Method_input!$D$65*F284","v":0},{"$f":"Method_input!$D$65*B284+Method_input!$D$64*Input_series!AG280+Method_input!$D$65*F284","v":0}]
[268,0,0,0,0,0,0,0,0,0,16,12,16,12,0,0,0,12,0,12,0,0,16,12,null,0,{"$f":"Method_input!$D$65*B285+Method_input!$D$64*Input_series!AG281+Method_input!$D$65*C285+Method_input!$D$65*D285+Method_input!$D$65*E285+Method_input!$D$65*F285","v":0},{"$f":"Method_input!$D$65*B285+Method_input!$D$64*Input_series!AG281+Method_input!$D$65*F285","v":0}]
[269,0,0,0,0,0,0,0,0,0,16,12,16,12,0,0,0,12,0,12,0,0,16,12,null,0,{"$f":"Method_input!$D$65*B286+Method_input!$D$64*Input_series!AG282+Method_input!$D$65*C286+Method_input!$D$65*D286+Method_input!$D$65*E286+Method_input!$D$65*F286","v":0},{"$f":"Method_input!$D$65*B286+Method_input!$D$64*Input_series!AG282+Method_input!$D$65*F286","v":0}]
[270,0,0,0,0,0,0,0,0,0,16,12,16,12,0,0,0,12,0,12,0,0,16,12,null,0,{"$f":"Method_input!$D$65*B287+Method_input!$D$64*Input_series!AG283+Method_input!$D$65*C287+Method_input!$D$65*D287+Method_input!$D$65*E287+Method_input!$D$65*F287","v":0},{"$f":"Method_input!$D$65*B287+Method_input!$D$64*Input_series!AG283+Method_input!$D$65*F287","v":0}]
[271,0,0,0,0,0,0,0,0,0,16,12,16,12,0,0,0,12,0,12,0,0,16,12,null,0,{"$f":"Method_input!$D$65*B288+Method_input!$D$64*Input_series!AG284+Method_input!$D$65*C288+Method_input!$D$65*D288+Method_input!$D$65*E288+Method_input!$D$65*F288","v":0},{"$f":"Method_input!$D$65*B288+Method_input!$D$64*Input_series!AG284+Method_input!$D$65*F288","v":0}]
[272,0,0,0,0,0,0,0,0,0,16,12,16,12,0,0,0,12,0,12,0,0,16,12,null,0,{"$f":"Method_input!$D$65*B289+Method_input!$D$64*Input_series!AG285+Method_input!$D$65*C289+Method_input!$D$65*D289+Method_input!$D$65*E289+Method_input!$D$65*F289","v":0},{"$f":"Method_input!$D$65*B289+Method_input!$D$64*Input_series!AG285+Method_input!$D$65*F289","v":0}]
[273,0,0,0,0,0,0,0,0,0,16,12,16,12,0,0,0,12,0,12,0,0,16,12,null,0,{"$f":"Method_input!$D$65*B290+Method_input!$D$64*Input_series!AG286+Method_input!$D$65*C290+Method_input!$D$65*D290+Method_input!$D$65*E290+Method_input!$D$65*F290","v":0},{"$f":"Method_input!$D$65*B290+Method_input!$D$64*Input_series!AG286+Method_input!$D$65*F290","v":0}]
[274,0,0,0,0,0,0,0,0,0,16,12,16,12,0,0,0,12,0,12,0,0,16,12,null,0,{"$f":"Method_input!$D$65*B291+Method_input!$D$64*Input_series!AG287+Method_input!$D$65*C291+Method_input!$D$65*D291+Method_input!$D$65*E291+Method_input!$D$65*F291","v":0},{"$f":"Method_input!$D$65*B291+Method_input!$D$64*Input_series!AG287+Method_input!$D$65*F291","v":0}]
[275,0,0,0,0,0,0,0,0,0,16,12,16,12,0,0,0,12,0,12,0,0,16,12,null,0,{"$f":"Method_input!$D$65*B292+Method_input!$D$64*Input_series!AG288+Method_input!$D$65*C292+Method_input!$D$65*D292+Method_input!$D$65*E292+Method_input!$D$65*F292","v":0},{"$f":"Method_input!$D$65*B292+Method_input!$D$64*Input_series!AG288+Method_input!$D$65*F292","v":0}]
[276,0,0,0,0,0,0,0,0,0,16,12,16,12,0,0,0,12,0,12,0,0,16,12,null,0,{"$f":"Method_input!$D$65*B293+Method_input!$D$64*Input_series!AG289+Method_input!$D$65*C293+Method_input!$D$65*D293+Method_input!$D$65*E293+Method_input!$D$65*F293","v":0},{"$f":"Method_input!$D$65*B293+Method_input!$D$64*Input_series!AG289+Method_input!$D$65*F293","v":0}]
[277,0,0,0,0,0,0,0,0,0,16,12,16,12,0,0,0,12,0,12,0,0,16,12,null,0,{"$f":"Method_input!$D$65*B294+Method_input!$D$64*Input_series!AG290+Method_input!$D$65*C294+Method_input!$D$65*D294+Method_input!$D$65*E294+Method_input!$D$65*F294","v":0},{"$f":"Method_input!$D$65*B294+Method_input!$D$64*Input_series!AG290+Method_input!$D$65*F294","v":0}]
[278,0,0,0,0,0,0,0,0,0,16,12,16,12,0,0,0,12,0,12,0,0,16,12,null,0,{"$f":"Method_input!$D$65*B295+Method_input!$D$64*Input_series!AG291+Method_input!$D$65*C295+Method_input!$D$65*D295+Method_input!$D$65*E295+Method_input!$D$65*F295","v":0},{"$f":"Method_input!$D$65*B295+Method_input!$D$64*Input_series!AG291+Method_input!$D$65*F295","v":0}]
[279,0,0,0,0,0,0,0,0,0,16,12,16,12,0,0,0,12,0,12,0,0,16,12,null,0,{"$f":"Method_input!$D$65*B296+Method_input!$D$64*Input_series!AG292+Method_input!$D$65*C296+Method_input!$D$65*D296+Method_input!$D$65*E296+Method_input!$D$65*F296","v":0},{"$f":"Method_input!$D$65*B296+Method_input!$D$64*Input_series!AG292+Method_input!$D$65*F296","v":0}]
[280,0,0,0,0,0,0,0,0,0,16,12,16,12,0,0,0,12,0,12,0,0,16,12,null,0,{"$f":"Method_input!$D$65*B297+Method_input!$D$64*Input_series!AG293+Method_input!$D$65*C297+Method_input!$D$65*D297+Method_input!$D$65*E297+Method_input!$D$65*F297","v":0},{"$f":"Method_input!$D$65*B297+Method_input!$D$64*Input_series!AG293+Method_input!$D$65*F297","v":0}]
[281,0,0,0,0,0,0,0,0,0,16,12,16,12,0,0,0,12,0,12,0,0,16,12,null,0,{"$f":"Method_input!$D$65*B298+Method_input!$D$64*Input_series!AG294+Method_input!$D$65*C298+Method_input!$D$65*D298+Method_input!$D$65*E298+Method_input!$D$65*F298","v":0},{"$f":"Method_input!$D$65*B298+Method_input!$D$64*Input_series!AG294+Method_input!$D$65*F298","v":0}]
[282,0,0,0,0,0,0,0,0,0,16,12,16,12,0,0,0,12,0,12,0,0,16,12,null,0,{"$f":"Method_input!$D$65*B299+Method_input!$D$64*Input_series!AG295+Method_input!$D$65*C299+Method_input!$D$65*D299+Method_input!$D$65*E299+Method_input!$D$65*F299","v":0},{"$f":"Method_input!$D$65*B299+Method_input!$D$64*Input_series!AG295+Method_input!$D$65*F299","v":0}]
[283,0,0,0,0,0,0,0,0,0,16,12,16,12,0,0,0,12,0,12,0,0,16,12,null,0,{"$f":"Method_input!$D$65*B300+Method_input!$D$64*Input_series!AG296+Method_input!$D$65*C300+Method_input!$D$65*D300+Method_input!$D$65*E300+Method_input!$D$65*F300","v":0},{"$f":"Method_input!$D$65*B300+Method_input!$D$64*Input_series!AG296+Method_input!$D$65*F300","v":0}]
[284,0,0,0,0,0,0,0,0,0,16,12,16,12,0,0,0,12,0,12,0,0,16,12,null,0,{"$f":"Method_input!$D$65*B301+Method_input!$D$64*Input_series!AG297+Method_input!$D$65*C301+Method_input!$D$65*D301+Method_input!$D$65*E301+Method_input!$D$65*F301","v":0},{"$f":"Method_input!$D$65*B301+Method_input!$D$64*Input_series!AG297+Method_input!$D$65*F301","v":0}]
[285,0,0,0,0,0,0,0,0,0,16,12,16,12,0,0,0,12,0,12,0,0,16,12,null,0,{"$f":"Method_input!$D$65*B302+Method_input!$D$64*Input_series!AG298+Method_input!$D$65*C302+Method_input!$D$65*D302+Method_input!$D$65*E302+Method_input!$D$65*F302","v":0},{"$f":"Method_input!$D$65*B302+Method_input!$D$64*Input_series!AG298+Method_input!$D$65*F302","v":0}]
[286,0,0,0,0,0,0,0,0,0,16,12,16,12,0,0,0,12,0,12,0,0,16,12,null,0,{"$f":"Method_input!$D$65*B303+Method_input!$D$64*Input_series!AG299+Method_input!$D$65*C303+Method_input!$D$65*D303+Method_input!$D$65*E303+Method_input!$D$65*F303","v":0},{"$f":"Method_input!$D$65*B303+Method_input!$D$64*Input_series!AG299+Method_input!$D$65*F303","v":0}]
[287,0,0,0,0,0,0,0,0,0,16,12,16,12,0,0,0,12,0,12,0,0,16,12,null,0,{"$f":"Method_input!$D$65*B304+Method_input!$D$64*Input_series!AG300+Method_input!$D$65*C304+Method_input!$D$65*D304+Method_input!$D$65*E304+Method_input!$D$65*F304","v":0},{"$f":"Method_input!$D$65*B304+Method_input!$D$64*Input_series!AG300+Method_input!$D$65*F304","v":0}]
[288,0,0,0,0,0,0,0,0,0,16,12,16,12,0,0,0,12,0,12,0,0,16,12,null,0,{"$f":"Method_input!$D$65*B305+Method_input!$D$64*Input_series!AG301+Method_input!$D$65*C305+Method_input!$D$65*D305+Method_input!$D$65*E305+Method_input!$D$65*F305","v":0},{"$f":"Method_input!$D$65*B305+Method_input!$D$64*Input_series!AG301+Method_input!$D$65*F305","v":0}]
[289,0,0,0,0,0,0,0,0,0,16,12,16,12,0,0,0,12,0,12,0,0,16,12,null,0,{"$f":"Method_input!$D$65*B306+Method_input!$D$64*Input_series!AG302+Method_input!$D$65*C306+Method_input!$D$65*D306+Method_input!$D$65*E306+Method_input!$D$65*F306","v":0},{"$f":"Method_input!$D$65*B306+Method_input!$D$64*Input_series!AG302+Method_input!$D$65*F306","v":0}]
[290,0,0,0,0,0,0,0,0,0,16,12,16,12,0,0,0,12,0,12,0,0,16,12,null,0,{"$f":"Method_input!$D$65*B307+Method_input!$D$64*Input_series!AG303+Method_input!$D$65*C307+Method_input!$D$65*D307+Method_input!$D$65*E307+Method_input!$D$65*F307","v":0},{"$f":"Method_input!$D$65*B307+Method_input!$D$64*Input_series!AG303+Method_input!$D$65*F307","v":0}]
[291,0,0,0,0,0,0,0,0,0,16,12,16,12,0,0,0,12,0,12,0,0,16,12,null,0,{"$f":"Method_input!$D$65*B308+Method_input!$D$64*Input_series!AG304+Method_input!$D$65*C308+Method_input!$D$65*D308+Method_input!$D$65*E308+Method_input!$D$65*F308","v":0},{"$f":"Method_input!$D$65*B308+Method_input!$D$64*Input_series!AG304+Method_input!$D$65*F308","v":0}]
[292,0,0,0,0,0,0,0,0,0,16,12,16,12,0,0,0,12,0,12,0,0,16,12,null,0,{"$f":"Method_input!$D$65*B309+Method_input!$D$64*Input_series!AG305+Method_input!$D$65*C309+Method_input!$D$65*D309+Method_input!$D$65*E309+Method_input!$D$65*F309","v":0},{"$f":"Method_input!$D$65*B309+Method_input!$D$64*Input_series!AG305+Method_input!$D$65*F309","v":0}]
[293,0,0,0,0,0,0,0,0,0,16,12,16,12,0,0,0,12,0,12,0,0,16,12,null,0,{"$f":"Method_input!$D$65*B310+Method_input!$D$64*Input_series!AG306+Method_input!$D$65*C310+Method_input!$D$65*D310+Method_input!$D$65*E310+Method_input!$D$65*F310","v":0},{"$f":"Method_input!$D$65*B310+Method_input!$D$64*Input_series!AG306+Method_input!$D$65*F310","v":0}]
[294,0,0,0,0,0,0,0,0,0,16,12,16,12,0,0,0,12,0,12,0,0,16,12,null,0,{"$f":"Method_input!$D$65*B311+Method_input!$D$64*Input_series!AG307+Method_input!$D$65*C311+Method_input!$D$65*D311+Method_input!$D$65*E311+Method_input!$D$65*F311","v":0},{"$f":"Method_input!$D$65*B311+Method_input!$D$64*Input_series!AG307+Method_input!$D$65*F311","v":0}]
[295,0,0,0,0,0,0,0,0,0,16,12,16,12,0,0,0,12,0,12,0,0,16,12,null,0,{"$f":"Method_input!$D$65*B312+Method_input!$D$64*Input_series!AG308+Method_input!$D$65*C312+Method_input!$D$65*D312+Method_input!$D$65*E312+Method_input!$D$65*F312","v":0},{"$f":"Method_input!$D$65*B312+Method_input!$D$64*Input_series!AG308+Method_input!$D$65*F312","v":0}]
[296,0,0,0,0,0,0,0,0,0,16,12,16,12,0,0,0,12,0,12,0,0,16,12,null,0,{"$f":"Method_input!$D$65*B313+Method_input!$D$64*Input_series!AG309+Method_input!$D$65*C313+Method_input!$D$65*D313+Method_input!$D$65*E313+Method_input!$D$65*F313","v":0},{"$f":"Method_input!$D$65*B313+Method_input!$D$64*Input_series!AG309+Method_input!$D$65*F313","v":0}]
[297,0,0,0,0,0,0,0,0,0,16,12,16,12,0,0,0,12,0,12,0,0,16,12,null,0,{"$f":"Method_input!$D$65*B314+Method_input!$D$64*Input_series!AG310+Method_input!$D$65*C314+Method_input!$D$65*D314+Method_input!$D$65*E314+Method_input!$D$65*F314","v":0},{"$f":"Method_input!$D$65*B314+Method_input!$D$64*Input_series!AG310+Method_input!$D$65*F314","v":0}]
[298,0,0,0,0,0,0,0,0,0,16,12,16,12,0,0,0,12,0,12,0,0,16,12,null,0,{"$f":"Method_input!$D$65*B315+Method_input!$D$64*Input_series!AG311+Method_input!$D$65*C315+Method_input!$D$65*D315+Method_input!$D$65*E315+Method_input!$D$65*F315","v":0},{"$f":"Method_input!$D$65*B315+Method_input!$D$64*Input_series!AG311+Method_input!$D$65*F315","v":0}]
[299,0,0,0,0,0,0,0,0,0,16,12,16,12,0,0,0,12,0,12,0,0,16,12,null,0,{"$f":"Method_input!$D$65*B316+Method_input!$D$64*Input_series!AG312+Method_input!$D$65*C316+Method_input!$D$65*D316+Method_input!$D$65*E316+Method_input!$D$65*F316","v":0},{"$f":"Method_input!$D$65*B316+Method_input!$D$64*Input_series!AG312+Method_input!$D$65*F316","v":0}]
[300,0,0,0,0,0,0,0,0,0,16,12,16,12,0,0,0,12,0,12,0,0,16,12,null,0,{"$f":"Method_input!$D$65*B317+Method_input!$D$64*Input_series!AG313+Method_input!$D$65*C317+Method_input!$D$65*D317+Method_input!$D$65*E317+Method_input!$D$65*F317","v":0},{"$f":"Method_input!$D$65*B317+Method_input!$D$64*Input_series!AG313+Method_input!$D$65*F317","v":0}]
[301,0,0,0,0,0,0,0,0,0,16,12,16,12,0,0,0,12,0,12,0,0,16,12,null,0,{"$f":"Method_input!$D$65*B318+Method_input!$D$64*Input_series!AG314+Method_input!$D$65*C318+Method_input!$D$65*D318+Method_input!$D$65*E318+Method_input!$D$65*F318","v":0},{"$f":"Method_input!$D$65*B318+Method_input!$D$64*Input_series!AG314+Method_input!$D$65*F318","v":0}]
[302,0,0,0,0,0,0,0,0,0,16,12,16,12,0,0,0,12,0,12,0,0,16,12,null,0,{"$f":"Method_input!$D$65*B319+Method_input!$D$64*Input_series!AG315+Method_input!$D$65*C319+Method_input!$D$65*D319+Method_input!$D$65*E319+Method_input!$D$65*F319","v":0},{"$f":"Method_input!$D$65*B319+Method_input!$D$64*Input_series!AG315+Method_input!$D$65*F319","v":0}]
[303,0,0,0,0,0,0,0,0,0,16,12,16,12,0,0,0,12,0,12,0,0,16,12,null,0,{"$f":"Method_input!$D$65*B320+Method_input!$D$64*Input_series!AG316+Method_input!$D$65*C320+Method_input!$D$65*D320+Method_input!$D$65*E320+Method_input!$D$65*F320","v":0},{"$f":"Method_input!$D$65*B320+Method_input!$D$64*Input_series!AG316+Method_input!$D$65*F320","v":0}]
[304,0,0,0,0,0,0,0,0,0,16,12,16,12,0,0,0,12,0,12,0,0,16,12,null,0,{"$f":"Method_input!$D$65*B321+Method_input!$D$64*Input_series!AG317+Method_input!$D$65*C321+Method_input!$D$65*D321+Method_input!$D$65*E321+Method_input!$D$65*F321","v":0},{"$f":"Method_input!$D$65*B321+Method_input!$D$64*Input_series!AG317+Method_input!$D$65*F321","v":0}]
[305,0,0,0,0,0,0,0,0,0,16,12,16,12,0,0,0,12,0,12,0,0,16,12,null,0,{"$f":"Method_input!$D$65*B322+Method_input!$D$64*Input_series!AG318+Method_input!$D$65*C322+Method_input!$D$65*D322+Method_input!$D$65*E322+Method_input!$D$65*F322","v":0},{"$f":"Method_input!$D$65*B322+Method_input!$D$64*Input_series!AG318+Method_input!$D$65*F322","v":0}]
[306,0,0,0,0,0,0,0,0,0,16,12,16,12,0,0,0,12,0,12,0,0,16,12,null,0,{"$f":"Method_input!$D$65*B323+Method_input!$D$64*Input_series!AG319+Method_input!$D$65*C323+Method_input!$D$65*D323+Method_input!$D$65*E323+Method_input!$D$65*F323","v":0},{"$f":"Method_input!$D$65*B323+Method_input!$D$64*Input_series!AG319+Method_input!$D$65*F323","v":0}]
[307,0,0,0,0,0,0,0,0,0,16,12,16,12,0,0,0,12,0,12,0,0,16,12,null,0,{"$f":"Method_input!$D$65*B324+Method_input!$D$64*Input_series!AG320+Method_input!$D$65*C324+Method_input!$D$65*D324+Method_input!$D$65*E324+Method_input!$D$65*F324","v":0},{"$f":"Method_input!$D$65*B324+Method_input!$D$64*Input_series!AG320+Method_input!$D$65*F324","v":0}]
[308,0,0,0,0,0,0,0,0,0,16,12,16,12,0,0,0,12,0,12,0,0,16,12,null,0,{"$f":"Method_input!$D$65*B325+Method_input!$D$64*Input_series!AG321+Method_input!$D$65*C325+Method_input!$D$65*D325+Method_input!$D$65*E325+Method_input!$D$65*F325","v":0},{"$f":"Method_input!$D$65*B325+Method_input!$D$64*Input_series!AG321+Method_input!$D$65*F325","v":0}]
[309,0,0,0,0,0,0,0,0,0,16,12,16,12,0,0,0,12,0,12,0,0,16,12,null,0,{"$f":"Method_input!$D$65*B326+Method_input!$D$64*Input_series!AG322+Method_input!$D$65*C326+Method_input!$D$65*D326+Method_input!$D$65*E326+Method_input!$D$65*F326","v":0},{"$f":"Method_input!$D$65*B326+Method_input!$D$64*Input_series!AG322+Method_input!$D$65*F326","v":0}]
[310,0,0,0,0,0,0,0,0,0,16,12,16,12,0,0,0,12,0,12,0,0,16,12,null,0,{"$f":"Method_input!$D$65*B327+Method_input!$D$64*Input_series!AG323+Method_input!$D$65*C327+Method_input!$D$65*D327+Method_input!$D$65*E327+Method_input!$D$65*F327","v":0},{"$f":"Method_input!$D$65*B327+Method_input!$D$64*Input_series!AG323+Method_input!$D$65*F327","v":0}]
[311,0,0,0,0,0,0,0,0,0,16,12,16,12,0,0,0,12,0,12,0,0,16,12,null,0,{"$f":"Method_input!$D$65*B328+Method_input!$D$64*Input_series!AG324+Method_input!$D$65*C328+Method_input!$D$65*D328+Method_input!$D$65*E328+Method_input!$D$65*F328","v":0},{"$f":"Method_input!$D$65*B328+Method_input!$D$64*Input_series!AG324+Method_input!$D$65*F328","v":0}]
[312,0,0,0,0,0,0,0,0,0,16,12,16,12,0,0,0,12,0,12,0,0,16,12,null,0,{"$f":"Method_input!$D$65*B329+Method_input!$D$64*Input_series!AG325+Method_input!$D$65*C329+Method_input!$D$65*D329+Method_input!$D$65*E329+Method_input!$D$65*F329","v":0},{"$f":"Method_input!$D$65*B329+Method_input!$D$64*Input_series!AG325+Method_input!$D$65*F329","v":0}]
[313,0,0,0,0,0,0,0,0,0,16,12,16,12,0,0,0,12,0,12,0,0,16,12,null,0,{"$f":"Method_input!$D$65*B330+Method_input!$D$64*Input_series!AG326+Method_input!$D$65*C330+Method_input!$D$65*D330+Method_input!$D$65*E330+Method_input!$D$65*F330","v":0},{"$f":"Method_input!$D$65*B330+Method_input!$D$64*Input_series!AG326+Method_input!$D$65*F330","v":0}]
[314,0,0,0,0,0,0,0,0,0,16,12,16,12,0,0,0,12,0,12,0,0,16,12,null,0,{"$f":"Method_input!$D$65*B331+Method_input!$D$64*Input_series!AG327+Method_input!$D$65*C331+Method_input!$D$65*D331+Method_input!$D$65*E331+Method_input!$D$65*F331","v":0},{"$f":"Method_input!$D$65*B331+Method_input!$D$64*Input_series!AG327+Method_input!$D$65*F331","v":0}]
[315,0,0,0,0,0,0,0,0,0,16,12,16,12,0,0,0,12,0,12,0,0,16,12,null,0,{"$f":"Method_input!$D$65*B332+Method_input!$D$64*Input_series!AG328+Method_input!$D$65*C332+Method_input!$D$65*D332+Method_input!$D$65*E332+Method_input!$D$65*F332","v":0},{"$f":"Method_input!$D$65*B332+Method_input!$D$64*Input_series!AG328+Method_input!$D$65*F332","v":0}]
[316,0,0,0,0,0,0,0,0,0,16,12,16,12,0,0,0,12,0,12,0,0,16,12,null,0,{"$f":"Method_input!$D$65*B333+Method_input!$D$64*Input_series!AG329+Method_input!$D$65*C333+Method_input!$D$65*D333+Method_input!$D$65*E333+Method_input!$D$65*F333","v":0},{"$f":"Method_input!$D$65*B333+Method_input!$D$64*Input_series!AG329+Method_input!$D$65*F333","v":0}]
[317,0,0,0,0,0,0,0,0,0,16,12,16,12,0,0,0,12,0,12,0,0,16,12,null,0,{"$f":"Method_input!$D$65*B334+Method_input!$D$64*Input_series!AG330+Method_input!$D$65*C334+Method_input!$D$65*D334+Method_input!$D$65*E334+Method_input!$D$65*F334","v":0},{"$f":"Method_input!$D$65*B334+Method_input!$D$64*Input_series!AG330+Method_input!$D$65*F334","v":0}]
[318,0,0,0,0,0,0,0,0,0,16,12,16,12,0,0,0,12,0,12,0,0,16,12,null,0,{"$f":"Method_input!$D$65*B335+Method_input!$D$64*Input_series!AG331+Method_input!$D$65*C335+Method_input!$D$65*D335+Method_input!$D$65*E335+Method_input!$D$65*F335","v":0},{"$f":"Method_input!$D$65*B335+Method_input!$D$64*Input_series!AG331+Method_input!$D$65*F335","v":0}]
[319,0,0,0,0,0,0,0,0,0,16,12,16,12,0,0,0,12,0,12,0,0,16,12,null,0,{"$f":"Method_input!$D$65*B336+Method_input!$D$64*Input_series!AG332+Method_input!$D$65*C336+Method_input!$D$65*D336+Method_input!$D$65*E336+Method_input!$D$65*F336","v":0},{"$f":"Method_input!$D$65*B336+Method_input!$D$64*Input_series!AG332+Method_input!$D$65*F336","v":0}]
[320,0,0,0,0,0,0,0,0,0,16,12,16,12,0,0,0,12,0,12,0,0,16,12,null,0,{"$f":"Method_input!$D$65*B337+Method_input!$D$64*Input_series!AG333+Method_input!$D$65*C337+Method_input!$D$65*D337+Method_input!$D$65*E337+Method_input!$D$65*F337","v":0},{"$f":"Method_input!$D$65*B337+Method_input!$D$64*Input_series!AG333+Method_input!$D$65*F337","v":0}]
[321,0,0,0,0,0,0,0,0,0,16,12,16,12,0,0,0,12,0,12,0,0,16,12,null,{"$f":"SUM(G338:J338,U338:V338)","v":0},{"$f":"Method_input!$D$65*B338+Method_input!$D$64*Input_series!AG334+Method_input!$D$65*C338+Method_input!$D$65*D338+Method_input!$D$65*E338+Method_input!$D$65*F338","v":0},{"$f":"Method_input!$D$65*B338+Method_input!$D$64*Input_series!AG334+Method_input!$D$65*F338","v":0}]
[322,0,0,0,0,0,0,0,0,0,16,12,16,12,0,0,0,12,0,12,0,0,16,12,null,0,{"$f":"Method_input!$D$65*B339+Method_input!$D$64*Input_series!AG335+Method_input!$D$65*C339+Method_input!$D$65*D339+Method_input!$D$65*E339+Method_input!$D$65*F339","v":0},{"$f":"Method_input!$D$65*B339+Method_input!$D$64*Input_series!AG335+Method_input!$D$65*F339","v":0}]
[323,0,0,0,0,0,0,0,0,0,16,12,16,12,0,0,0,12,0,12,0,0,16,12,null,0,{"$f":"Method_input!$D$65*B340+Method_input!$D$64*Input_series!AG336+Method_input!$D$65*C340+Method_input!$D$65*D340+Method_input!$D$65*E340+Method_input!$D$65*F340","v":0},{"$f":"Method_input!$D$65*B340+Method_input!$D$64*Input_series!AG336+Method_input!$D$65*F340","v":0}]
[324,0,0,0,0,0,0,0,0,0,16,12,16,12,0,0,0,12,0,12,0,0,16,12,null,0,{"$f":"Method_input!$D$65*B341+Method_input!$D$64*Input_series!AG337+Method_input!$D$65*C341+Method_input!$D$65*D341+Method_input!$D$65*E341+Method_input!$D$65*F341","v":0},{"$f":"Method_input!$D$65*B341+Method_input!$D$64*Input_series!AG337+Method_input!$D$65*F341","v":0}]
[325,0,0,0,0,0,0,0,0,0,16,12,16,12,0,0,0,12,0,12,0,0,16,12,null,0,{"$f":"Method_input!$D$65*B342+Method_input!$D$64*Input_series!AG338+Method_input!$D$65*C342+Method_input!$D$65*D342+Method_input!$D$65*E342+Method_input!$D$65*F342","v":0},{"$f":"Method_input!$D$65*B342+Method_input!$D$64*Input_series!AG338+Method_input!$D$65*F342","v":0}]
[326,0,0,0,0,0,0,0,0,0,16,12,16,12,0,0,0,12,0,12,0,0,16,12,null,0,{"$f":"Method_input!$D$65*B343+Method_input!$D$64*Input_series!AG339+Method_input!$D$65*C343+Method_input!$D$65*D343+Method_input!$D$65*E343+Method_input!$D$65*F343","v":0},{"$f":"Method_input!$D$65*B343+Method_input!$D$64*Input_series!AG339+Method_input!$D$65*F343","v":0}]
[327,0,0,0,0,0,0,0,0,0,16,12,16,12,0,0,0,12,0,12,0,0,16,12,null,0,{"$f":"Method_input!$D$65*B344+Method_input!$D$64*Input_series!AG340+Method_input!$D$65*C344+Method_input!$D$65*D344+Method_input!$D$65*E344+Method_input!$D$65*F344","v":0},{"$f":"Method_input!$D$65*B344+Method_input!$D$64*Input_series!AG340+Method_input!$D$65*F344","v":0}]
[328,0,0,0,0,0,0,0,0,0,16,12,16,12,0,0,0,12,0,12,0,0,16,12,null,0,{"$f":"Method_input!$D$65*B345+Method_input!$D$64*Input_series!AG341+Method_input!$D$65*C345+Method_input!$D$65*D345+Method_input!$D$65*E345+Method_input!$D$65*F345","v":0},{"$f":"Method_input!$D$65*B345+Method_input!$D$64*Input_series!AG341+Method_input!$D$65*F345","v":0}]
[329,0,0,0,0,0,0,0,0,0,16,12,16,12,0,0,0,12,0,12,0,0,16,12,null,0,{"$f":"Method_input!$D$65*B346+Method_input!$D$64*Input_series!AG342+Method_input!$D$65*C346+Method_input!$D$65*D346+Method_input!$D$65*E346+Method_input!$D$65*F346","v":0},{"$f":"Method_input!$D$65*B346+Method_input!$D$64*Input_series!AG342+Method_input!$D$65*F346","v":0}]
[330,0,0,0,0,0,0,0,0,0,16,12,16,12,0,0,0,12,0,12,0,0,16,12,null,0,{"$f":"Method_input!$D$65*B347+Method_input!$D$64*Input_series!AG343+Method_input!$D$65*C347+Method_input!$D$65*D347+Method_input!$D$65*E347+Method_input!$D$65*F347","v":0},{"$f":"Method_input!$D$65*B347+Method_input!$D$64*Input_series!AG343+Method_input!$D$65*F347","v":0}]
[331,0,0,0,0,0,0,0,0,0,16,12,16,12,0,0,0,12,0,12,0,0,16,12,null,0,{"$f":"Method_input!$D$65*B348+Method_input!$D$64*Input_series!AG344+Method_input!$D$65*C348+Method_input!$D$65*D348+Method_input!$D$65*E348+Method_input!$D$65*F348","v":0},{"$f":"Method_input!$D$65*B348+Method_input!$D$64*Input_series!AG344+Method_input!$D$65*F348","v":0}]
[332,0,0,0,0,0,0,0,0,0,16,12,16,12,0,0,0,12,0,12,0,0,16,12,null,0,{"$f":"Method_input!$D$65*B349+Method_input!$D$64*Input_series!AG345+Method_input!$D$65*C349+Method_input!$D$65*D349+Method_input!$D$65*E349+Method_input!$D$65*F349","v":0},{"$f":"Method_input!$D$65*B349+Method_input!$D$64*Input_series!AG345+Method_input!$D$65*F349","v":0}]
[333,0,0,0,0,0,0,0,0,0,16,12,16,12,0,0,0,12,0,12,0,0,16,12,null,0,{"$f":"Method_input!$D$65*B350+Method_input!$D$64*Input_series!AG346+Method_input!$D$65*C350+Method_input!$D$65*D350+Method_input!$D$65*E350+Method_input!$D$65*F350","v":0},{"$f":"Method_input!$D$65*B350+Method_input!$D$64*Input_series!AG346+Method_input!$D$65*F350","v":0}]
[334,0,0,0,0,0,0,0,0,0,16,12,16,12,0,0,0,12,0,12,0,0,16,12,null,0,{"$f":"Method_input!$D$65*B351+Method_input!$D$64*Input_series!AG347+Method_input!$D$65*C351+Method_input!$D$65*D351+Method_input!$D$65*E351+Method_input!$D$65*F351","v":0},{"$f":"Method_input!$D$65*B351+Method_input!$D$64*Input_series!AG347+Method_input!$D$65*F351","v":0}]
[335,0,0,0,0,0,0,0,0,0,16,12,16,12,0,0,0,12,0,12,0,0,16,12,null,0,{"$f":"Method_input!$D$65*B352+Method_input!$D$64*Input_series!AG348+Method_input!$D$65*C352+Method_input!$D$65*D352+Method_input!$D$65*E352+Method_input!$D$65*F352","v":0},{"$f":"Method_input!$D$65*B352+Method_input!$D$64*Input_series!AG348+Method_input!$D$65*F352","v":0}]
[336,0,0,0,0,0,0,0,0,0,16,12,16,12,0,0,0,12,0,12,0,0,16,12,null,0,{"$f":"Method_input!$D$65*B353+Method_input!$D$64*Input_series!AG349+Method_input!$D$65*C353+Method_input!$D$65*D353+Method_input!$D$65*E353+Method_input!$D$65*F353","v":0},{"$f":"Method_input!$D$65*B353+Method_input!$D$64*Input_series!AG349+Method_input!$D$65*F353","v":0}]
[337,0,0,0,0,0,0,0,0,0,16,12,16,12,0,0,0,12,0,12,0,0,16,12,null,0,{"$f":"Method_input!$D$65*B354+Method_input!$D$64*Input_series!AG350+Method_input!$D$65*C354+Method_input!$D$65*D354+Method_input!$D$65*E354+Method_input!$D$65*F354","v":0},{"$f":"Method_input!$D$65*B354+Method_input!$D$64*Input_series!AG350+Method_input!$D$65*F354","v":0}]
[338,0,0,0,0,0,0,0,0,0,16,12,16,12,0,0,0,12,0,12,0,0,16,12,null,0,{"$f":"Method_input!$D$65*B355+Method_input!$D$64*Input_series!AG351+Method_input!$D$65*C355+Method_input!$D$65*D355+Method_input!$D$65*E355+Method_input!$D$65*F355","v":0},{"$f":"Method_input!$D$65*B355+Method_input!$D$64*Input_series!AG351+Method_input!$D$65*F355","v":0}]
[339,0,0,0,0,0,0,0,0,0,16,12,16,12,0,0,0,12,0,12,0,0,16,12,null,0,{"$f":"Method_input!$D$65*B356+Method_input!$D$64*Input_series!AG352+Method_input!$D$65*C356+Method_input!$D$65*D356+Method_input!$D$65*E356+Method_input!$D$65*F356","v":0},{"$f":"Method_input!$D$65*B356+Method_input!$D$64*Input_series!AG352+Method_input!$D$65*F356","v":0}]
[340,0,0,0,0,0,0,0,0,0,16,12,16,12,0,0,0,12,0,12,0,0,16,12,null,0,{"$f":"Method_input!$D$65*B357+Method_input!$D$64*Input_series!AG353+Method_input!$D$65*C357+Method_input!$D$65*D357+Method_input!$D$65*E357+Method_input!$D$65*F357","v":0},{"$f":"Method_input!$D$65*B357+Method_input!$D$64*Input_series!AG353+Method_input!$D$65*F357","v":0}]
[341,0,0,0,0,0,0,0,0,0,16,12,16,12,0,0,0,12,0,12,0,0,16,12,null,0,{"$f":"Method_input!$D$65*B358+Method_input!$D$64*Input_series!AG354+Method_input!$D$65*C358+Method_input!$D$65*D358+Method_input!$D$65*E358+Method_input!$D$65*F358","v":0},{"$f":"Method_input!$D$65*B358+Method_input!$D$64*Input_series!AG354+Method_input!$D$65*F358","v":0}]
[342,0,0,0,0,0,0,0,0,0,16,12,16,12,0,0,0,12,0,12,0,0,16,12,null,0,{"$f":"Method_input!$D$65*B359+Method_input!$D$64*Input_series!AG355+Method_input!$D$65*C359+Method_input!$D$65*D359+Method_input!$D$65*E359+Method_input!$D$65*F359","v":0},{"$f":"Method_input!$D$65*B359+Method_input!$D$64*Input_series!AG355+Method_input!$D$65*F359","v":0}]
[343,0,0,0,0,0,0,0,0,0,16,12,16,12,0,0,0,12,0,12,0,0,16,12,null,0,{"$f":"Method_input!$D$65*B360+Method_input!$D$64*Input_series!AG356+Method_input!$D$65*C360+Method_input!$D$65*D360+Method_input!$D$65*E360+Method_input!$D$65*F360","v":0},{"$f":"Method_input!$D$65*B360+Method_input!$D$64*Input_series!AG356+Method_input!$D$65*F360","v":0}]
[344,0,0,0,0,0,0,0,0,0,16,12,16,12,0,0,0,12,0,12,0,0,16,12,null,0,{"$f":"Method_input!$D$65*B361+Method_input!$D$64*Input_series!AG357+Method_input!$D$65*C361+Method_input!$D$65*D361+Method_input!$D$65*E361+Method_input!$D$65*F361","v":0},{"$f":"Method_input!$D$65*B361+Method_input!$D$64*Input_series!AG357+Method_input!$D$65*F361","v":0}]
[345,0,0,0,0,0,0,0,0,0,16,12,16,12,0,0,0,12,0,12,0,0,16,12,null,0,{"$f":"Method_input!$D$65*B362+Method_input!$D$64*Input_series!AG358+Method_input!$D$65*C362+Method_input!$D$65*D362+Method_input!$D$65*E362+Method_input!$D$65*F362","v":0},{"$f":"Method_input!$D$65*B362+Method_input!$D$64*Input_series!AG358+Method_input!$D$65*F362","v":0}]
[346,0,0,0,0,0,0,0,0,0,16,12,16,12,0,0,0,12,0,12,0,0,16,12,null,0,{"$f":"Method_input!$D$65*B363+Method_input!$D$64*Input_series!AG359+Method_input!$D$65*C363+Method_input!$D$65*D363+Method_input!$D$65*E363+Method_input!$D$65*F363","v":0},{"$f":"Method_input!$D$65*B363+Method_input!$D$64*Input_series!AG359+Method_input!$D$65*F363","v":0}]
[347,0,0,0,0,0,0,0,0,0,16,12,16,12,0,0,0,12,0,12,0,0,16,12,null,0,{"$f":"Method_input!$D$65*B364+Method_input!$D$64*Input_series!AG360+Method_input!$D$65*C364+Method_input!$D$65*D364+Method_input!$D$65*E364+Method_input!$D$65*F364","v":0},{"$f":"Method_input!$D$65*B364+Method_input!$D$64*Input_series!AG360+Method_input!$D$65*F364","v":0}]
[348,0,0,0,0,0,0,0,0,0,16,12,16,12,0,0,0,12,0,12,0,0,16,12,null,0,{"$f":"Method_input!$D$65*B365+Method_input!$D$64*Input_series!AG361+Method_input!$D$65*C365+Method_input!$D$65*D365+Method_input!$D$65*E365+Method_input!$D$65*F365","v":0},{"$f":"Method_input!$D$65*B365+Method_input!$D$64*Input_series!AG361+Method_input!$D$65*F365","v":0}]
[349,0,0,0,0,0,0,0,0,0,16,12,16,12,0,0,0,12,0,12,0,0,16,12,null,0,{"$f":"Method_input!$D$65*B366+Method_input!$D$64*Input_series!AG362+Method_input!$D$65*C366+Method_input!$D$65*D366+Method_input!$D$65*E366+Method_input!$D$65*F366","v":0},{"$f":"Method_input!$D$65*B366+Method_input!$D$64*Input_series!AG362+Method_input!$D$65*F366","v":0}]
[350,0,0,0,0,0,0,0,0,0,16,12,16,12,0,0,0,12,0,12,0,0,16,12,null,0,{"$f":"Method_input!$D$65*B367+Method_input!$D$64*Input_series!AG363+Method_input!$D$65*C367+Method_input!$D$65*D367+Method_input!$D$65*E367+Method_input!$D$65*F367","v":0},{"$f":"Method_input!$D$65*B367+Method_input!$D$64*Input_series!AG363+Method_input!$D$65*F367","v":0}]
[351,0,0,0,0,0,0,0,0,0,16,12,16,12,0,0,0,12,0,12,0,0,16,12,null,0,{"$f":"Method_input!$D$65*B368+Method_input!$D$64*Input_series!AG364+Method_input!$D$65*C368+Method_input!$D$65*D368+Method_input!$D$65*E368+Method_input!$D$65*F368","v":0},{"$f":"Method_input!$D$65*B368+Method_input!$D$64*Input_series!AG364+Method_input!$D$65*F368","v":0}]
[352,0,0,0,0,0,0,0,0,0,16,12,16,12,0,0,0,12,0,12,0,0,16,12,null,0,{"$f":"Method_input!$D$65*B369+Method_input!$D$64*Input_series!AG365+Method_input!$D$65*C369+Method_input!$D$65*D369+Method_input!$D$65*E369+Method_input!$D$65*F369","v":0},{"$f":"Method_input!$D$65*B369+Method_input!$D$64*Input_series!AG365+Method_input!$D$65*F369","v":0}]
[353,0,0,0,0,0,0,0,0,0,16,12,16,12,0,0,0,12,0,12,0,0,16,12,null,0,{"$f":"Method_input!$D$65*B370+Method_input!$D$64*Input_series!AG366+Method_input!$D$65*C370+Method_input!$D$65*D370+Method_input!$D$65*E370+Method_input!$D$65*F370","v":0},{"$f":"Method_input!$D$65*B370+Method_input!$D$64*Input_series!AG366+Method_input!$D$65*F370","v":0}]
[354,0,0,0,0,0,0,0,0,0,16,12,16,12,0,0,0,12,0,12,0,0,16,12,null,0,{"$f":"Method_input!$D$65*B371+Method_input!$D$64*Input_series!AG367+Method_input!$D$65*C371+Method_input!$D$65*D371+Method_input!$D$65*E371+Method_input!$D$65*F371","v":0},{"$f":"Method_input!$D$65*B371+Method_input!$D$64*Input_series!AG367+Method_input!$D$65*F371","v":0}]
[355,0,0,0,0,0,0,0,0,0,16,12,16,12,0,0,0,12,0,12,0,0,16,12,null,0,{"$f":"Method_input!$D$65*B372+Method_input!$D$64*Input_series!AG368+Method_input!$D$65*C372+Method_input!$D$65*D372+Method_input!$D$65*E372+Method_input!$D$65*F372","v":0},{"$f":"Method_input!$D$65*B372+Method_input!$D$64*Input_series!AG368+Method_input!$D$65*F372","v":0}]
[356,0,0,0,0,0,0,0,0,0,16,12,16,12,0,0,0,12,0,12,0,0,16,12,null,0,{"$f":"Method_input!$D$65*B373+Method_input!$D$64*Input_series!AG369+Method_input!$D$65*C373+Method_input!$D$65*D373+Method_input!$D$65*E373+Method_input!$D$65*F373","v":0},{"$f":"Method_input!$D$65*B373+Method_input!$D$64*Input_series!AG369+Method_input!$D$65*F373","v":0}]
[357,0,0,0,0,0,0,0,0,0,16,12,16,12,0,0,0,12,0,12,0,0,16,12,null,0,{"$f":"Method_input!$D$65*B374+Method_input!$D$64*Input_series!AG370+Method_input!$D$65*C374+Method_input!$D$65*D374+Method_input!$D$65*E374+Method_input!$D$65*F374","v":0},{"$f":"Method_input!$D$65*B374+Method_input!$D$64*Input_series!AG370+Method_input!$D$65*F374","v":0}]
[358,0,0,0,0,0,0,0,0,0,16,12,16,12,0,0,0,12,0,12,0,0,16,12,null,0,{"$f":"Method_input!$D$65*B375+Method_input!$D$64*Input_series!AG371+Method_input!$D$65*C375+Method_input!$D$65*D375+Method_input!$D$65*E375+Method_input!$D$65*F375","v":0},{"$f":"Method_input!$D$65*B375+Method_input!$D$64*Input_series!AG371+Method_input!$D$65*F375","v":0}]
[359,0,0,0,0,0,0,0,0,0,16,12,16,12,0,0,0,12,0,12,0,0,16,12,null,0,{"$f":"Method_input!$D$65*B376+Method_input!$D$64*Input_series!AG372+Method_input!$D$65*C376+Method_input!$D$65*D376+Method_input!$D$65*E376+Method_input!$D$65*F376","v":0},{"$f":"Method_input!$D$65*B376+Method_input!$D$64*Input_series!AG372+Method_input!$D$65*F376","v":0}]
[360,0,0,0,0,0,0,0,0,0,16,12,16,12,0,0,0,12,0,12,0,0,16,12,null,0,{"$f":"Method_input!$D$65*B377+Method_input!$D$64*Input_series!AG373+Method_input!$D$65*C377+Method_input!$D$65*D377+Method_input!$D$65*E377+Method_input!$D$65*F377","v":0},{"$f":"Method_input!$D$65*B377+Method_input!$D$64*Input_series!AG373+Method_input!$D$65*F377","v":0}]
[361,0,0,0,0,0,0,0,0,0,16,12,16,12,0,0,0,12,0,12,0,0,16,12,null,0,{"$f":"Method_input!$D$65*B378+Method_input!$D$64*Input_series!AG374+Method_input!$D$65*C378+Method_input!$D$65*D378+Method_input!$D$65*E378+Method_input!$D$65*F378","v":0},{"$f":"Method_input!$D$65*B378+Method_input!$D$64*Input_series!AG374+Method_input!$D$65*F378","v":0}]
[362,0,0,0,0,0,0,0,0,0,16,12,16,12,0,0,0,12,0,12,0,0,16,12,null,0,{"$f":"Method_input!$D$65*B379+Method_input!$D$64*Input_series!AG375+Method_input!$D$65*C379+Method_input!$D$65*D379+Method_input!$D$65*E379+Method_input!$D$65*F379","v":0},{"$f":"Method_input!$D$65*B379+Method_input!$D$64*Input_series!AG375+Method_input!$D$65*F379","v":0}]
[363,0,0,0,0,0,0,0,0,0,16,12,16,12,0,0,0,12,0,12,0,0,16,12,null,0,{"$f":"Method_input!$D$65*B380+Method_input!$D$64*Input_series!AG376+Method_input!$D$65*C380+Method_input!$D$65*D380+Method_input!$D$65*E380+Method_input!$D$65*F380","v":0},{"$f":"Method_input!$D$65*B380+Method_input!$D$64*Input_series!AG376+Method_input!$D$65*F380","v":0}]
[364,0,0,0,0,0,0,0,0,0,16,12,16,12,0,0,0,12,0,12,0,0,16,12,null,0,{"$f":"Method_input!$D$65*B381+Method_input!$D$64*Input_series!AG377+Method_input!$D$65*C381+Method_input!$D$65*D381+Method_input!$D$65*E381+Method_input!$D$65*F381","v":0},{"$f":"Method_input!$D$65*B381+Method_input!$D$64*Input_series!AG377+Method_input!$D$65*F381","v":0}]
[365,0,0,0,0,0,0,0,0,0,16,12,16,12,0,0,0,12,0,12,0,0,16,12,null,0,{"$f":"Method_input!$D$65*B382+Method_input!$D$64*Input_series!AG378+Method_input!$D$65*C382+Method_input!$D$65*D382+Method_input!$D$65*E382+Method_input!$D$65*F382","v":0},{"$f":"Method_input!$D$65*B382+Method_input!$D$64*Input_series!AG378+Method_input!$D$65*F382","v":0}]
[366,0,0,0,0,0,0,0,0,0,16,12,16,12,0,0,0,12,0,12,0,0,16,12,null,0,{"$f":"Method_input!$D$65*B383+Method_input!$D$64*Input_series!AG379+Method_input!$D$65*C383+Method_input!$D$65*D383+Method_input!$D$65*E383+Method_input!$D$65*F383","v":0},{"$f":"Method_input!$D$65*B383+Method_input!$D$64*Input_series!AG379+Method_input!$D$65*F383","v":0}]
[367,0,0,0,0,0,0,0,0,0,16,12,16,12,0,0,0,12,0,12,0,0,16,12,null,0,{"$f":"Method_input!$D$65*B384+Method_input!$D$64*Input_series!AG380+Method_input!$D$65*C384+Method_input!$D$65*D384+Method_input!$D$65*E384+Method_input!$D$65*F384","v":0},{"$f":"Method_input!$D$65*B384+Method_input!$D$64*Input_series!AG380+Method_input!$D$65*F384","v":0}]
[368,0,0,0,0,0,0,0,0,0,16,12,16,12,0,0,0,12,0,12,0,0,16,12,null,0,{"$f":"Method_input!$D$65*B385+Method_input!$D$64*Input_series!AG381+Method_input!$D$65*C385+Method_input!$D$65*D385+Method_input!$D$65*E385+Method_input!$D$65*F385","v":0},{"$f":"Method_input!$D$65*B385+Method_input!$D$64*Input_series!AG381+Method_input!$D$65*F385","v":0}]
[369,0,0,0,0,0,0,0,0,0,16,12,16,12,0,0,0,12,0,12,0,0,16,12,null,0,{"$f":"Method_input!$D$65*B386+Method_input!$D$64*Input_series!AG382+Method_input!$D$65*C386+Method_input!$D$65*D386+Method_input!$D$65*E386+Method_input!$D$65*F386","v":0},{"$f":"Method_input!$D$65*B386+Method_input!$D$64*Input_series!AG382+Method_input!$D$65*F386","v":0}]
[370,0,0,0,0,0,0,0,0,0,16,12,16,12,0,0,0,12,0,12,0,0,16,12,null,0,{"$f":"Method_input!$D$65*B387+Method_input!$D$64*Input_series!AG383+Method_input!$D$65*C387+Method_input!$D$65*D387+Method_input!$D$65*E387+Method_input!$D$65*F387","v":0},{"$f":"Method_input!$D$65*B387+Method_input!$D$64*Input_series!AG383+Method_input!$D$65*F387","v":0}]
[371,0,0,0,0,0,0,0,0,0,16,12,16,12,0,0,0,12,0,12,0,0,16,12,null,0,{"$f":"Method_input!$D$65*B388+Method_input!$D$64*Input_series!AG384+Method_input!$D$65*C388+Method_input!$D$65*D388+Method_input!$D$65*E388+Method_input!$D$65*F388","v":0},{"$f":"Method_input!$D$65*B388+Method_input!$D$64*Input_series!AG384+Method_input!$D$65*F388","v":0}]
[372,0,0,0,0,0,0,0,0,0,16,12,16,12,0,0,0,12,0,12,0,0,16,12,null,0,{"$f":"Method_input!$D$65*B389+Method_input!$D$64*Input_series!AG385+Method_input!$D$65*C389+Method_input!$D$65*D389+Method_input!$D$65*E389+Method_input!$D$65*F389","v":0},{"$f":"Method_input!$D$65*B389+Method_input!$D$64*Input_series!AG385+Method_input!$D$65*F389","v":0}]
[373,0,0,0,0,0,0,0,0,0,16,12,16,12,0,0,0,12,0,12,0,0,16,12,null,0,{"$f":"Method_input!$D$65*B390+Method_input!$D$64*Input_series!AG386+Method_input!$D$65*C390+Method_input!$D$65*D390+Method_input!$D$65*E390+Method_input!$D$65*F390","v":0},{"$f":"Method_input!$D$65*B390+Method_input!$D$64*Input_series!AG386+Method_input!$D$65*F390","v":0}]
[374,0,0,0,0,0,0,0,0,0,16,12,16,12,0,0,0,12,0,12,0,0,16,12,null,0,{"$f":"Method_input!$D$65*B391+Method_input!$D$64*Input_series!AG387+Method_input!$D$65*C391+Method_input!$D$65*D391+Method_input!$D$65*E391+Method_input!$D$65*F391","v":0},{"$f":"Method_input!$D$65*B391+Method_input!$D$64*Input_series!AG387+Method_input!$D$65*F391","v":0}]
[375,0,0,0,0,0,0,0,0,0,16,12,16,12,0,0,0,12,0,12,0,0,16,12,null,0,{"$f":"Method_input!$D$65*B392+Method_input!$D$64*Input_series!AG388+Method_input!$D$65*C392+Method_input!$D$65*D392+Method_input!$D$65*E392+Method_input!$D$65*F392","v":0},{"$f":"Method_input!$D$65*B392+Method_input!$D$64*Input_series!AG388+Method_input!$D$65*F392","v":0}]
[376,0,0,0,0,0,0,0,0,0,16,12,16,12,0,0,0,12,0,12,0,0,16,12,null,0,{"$f":"Method_input!$D$65*B393+Method_input!$D$64*Input_series!AG389+Method_input!$D$65*C393+Method_input!$D$65*D393+Method_input!$D$65*E393+Method_input!$D$65*F393","v":0},{"$f":"Method_input!$D$65*B393+Method_input!$D$64*Input_series!AG389+Method_input!$D$65*F393","v":0}]
[377,0,0,0,0,0,0,0,0,0,16,12,16,12,0,0,0,12,0,12,0,0,16,12,null,0,{"$f":"Method_input!$D$65*B394+Method_input!$D$64*Input_series!AG390+Method_input!$D$65*C394+Method_input!$D$65*D394+Method_input!$D$65*E394+Method_input!$D$65*F394","v":0},{"$f":"Method_input!$D$65*B394+Method_input!$D$64*Input_series!AG390+Method_input!$D$65*F394","v":0}]
[378,0,0,0,0,0,0,0,0,0,16,12,16,12,0,0,0,12,0,12,0,0,16,12,null,0,{"$f":"Method_input!$D$65*B395+Method_input!$D$64*Input_series!AG391+Method_input!$D$65*C395+Method_input!$D$65*D395+Method_input!$D$65*E395+Method_input!$D$65*F395","v":0},{"$f":"Method_input!$D$65*B395+Method_input!$D$64*Input_series!AG391+Method_input!$D$65*F395","v":0}]
[379,0,0,0,0,0,0,0,0,0,16,12,16,12,0,0,0,12,0,12,0,0,16,12,null,0,{"$f":"Method_input!$D$65*B396+Method_input!$D$64*Input_series!AG392+Method_input!$D$65*C396+Method_input!$D$65*D396+Method_input!$D$65*E396+Method_input!$D$65*F396","v":0},{"$f":"Method_input!$D$65*B396+Method_input!$D$64*Input_series!AG392+Method_input!$D$65*F396","v":0}]
[380,0,0,0,0,0,0,0,0,0,16,12,16,12,0,0,0,12,0,12,0,0,16,12,null,0,{"$f":"Method_input!$D$65*B397+Method_input!$D$64*Input_series!AG393+Method_input!$D$65*C397+Method_input!$D$65*D397+Method_input!$D$65*E397+Method_input!$D$65*F397","v":0},{"$f":"Method_input!$D$65*B397+Method_input!$D$64*Input_series!AG393+Method_input!$D$65*F397","v":0}]
[381,0,0,0,0,0,0,0,0,0,16,12,16,12,0,0,0,12,0,12,0,0,16,12,null,0,{"$f":"Method_input!$D$65*B398+Method_input!$D$64*Input_series!AG394+Method_input!$D$65*C398+Method_input!$D$65*D398+Method_input!$D$65*E398+Method_input!$D$65*F398","v":0},{"$f":"Method_input!$D$65*B398+Method_input!$D$64*Input_series!AG394+Method_input!$D$65*F398","v":0}]
[382,0,0,0,0,0,0,0,0,0,16,12,16,12,0,0,0,12,0,12,0,0,16,12,null,0,{"$f":"Method_input!$D$65*B399+Method_input!$D$64*Input_series!AG395+Method_input!$D$65*C399+Method_input!$D$65*D399+Method_input!$D$65*E399+Method_input!$D$65*F399","v":0},{"$f":"Method_input!$D$65*B399+Method_input!$D$64*Input_series!AG395+Method_input!$D$65*F399","v":0}]
[383,0,0,0,0,0,0,0,0,0,16,12,16,12,0,0,0,12,0,12,0,0,16,12,null,0,{"$f":"Method_input!$D$65*B400+Method_input!$D$64*Input_series!AG396+Method_input!$D$65*C400+Method_input!$D$65*D400+Method_input!$D$65*E400+Method_input!$D$65*F400","v":0},{"$f":"Method_input!$D$65*B400+Method_input!$D$64*Input_series!AG396+Method_input!$D$65*F400","v":0}]
[384,0,0,0,0,0,0,0,0,0,16,12,16,12,0,0,0,12,0,12,0,0,16,12,null,0,{"$f":"Method_input!$D$65*B401+Method_input!$D$64*Input_series!AG397+Method_input!$D$65*C401+Method_input!$D$65*D401+Method_input!$D$65*E401+Method_input!$D$65*F401","v":0},{"$f":"Method_input!$D$65*B401+Method_input!$D$64*Input_series!AG397+Method_input!$D$65*F401","v":0}]
[385,0,0,0,0,0,0,0,0,0,16,12,16,12,0,0,0,12,0,12,0,0,16,12,null,{"$f":"SUM(G402:J402,U402:V402)","v":0},{"$f":"Method_input!$D$65*B402+Method_input!$D$64*Input_series!AG398+Method_input!$D$65*C402+Method_input!$D$65*D402+Method_input!$D$65*E402+Method_input!$D$65*F402","v":0},{"$f":"Method_input!$D$65*B402+Method_input!$D$64*Input_series!AG398+Method_input!$D$65*F402","v":0}]
[386,0,0,0,0,0,0,0,0,0,16,12,16,12,0,0,0,12,0,12,0,0,16,12,null,0,{"$f":"Method_input!$D$65*B403+Method_input!$D$64*Input_series!AG399+Method_input!$D$65*C403+Method_input!$D$65*D403+Method_input!$D$65*E403+Method_input!$D$65*F403","v":0},{"$f":"Method_input!$D$65*B403+Method_input!$D$64*Input_series!AG399+Method_input!$D$65*F403","v":0}]
[387,0,0,0,0,0,0,0,0,0,16,12,16,12,0,0,0,12,0,12,0,0,16,12,null,0,{"$f":"Method_input!$D$65*B404+Method_input!$D$64*Input_series!AG400+Method_input!$D$65*C404+Method_input!$D$65*D404+Method_input!$D$65*E404+Method_input!$D$65*F404","v":0},{"$f":"Method_input!$D$65*B404+Method_input!$D$64*Input_series!AG400+Method_input!$D$65*F404","v":0}]
[388,0,0,0,0,0,0,0,0,0,16,12,16,12,0,0,0,12,0,12,0,0,16,12,null,0,{"$f":"Method_input!$D$65*B405+Method_input!$D$64*Input_series!AG401+Method_input!$D$65*C405+Method_input!$D$65*D405+Method_input!$D$65*E405+Method_input!$D$65*F405","v":0},{"$f":"Method_input!$D$65*B405+Method_input!$D$64*Input_series!AG401+Method_input!$D$65*F405","v":0}]
[389,0,0,0,0,0,0,0,0,0,16,12,16,12,0,0,0,12,0,12,0,0,16,12,null,0,{"$f":"Method_input!$D$65*B406+Method_input!$D$64*Input_series!AG402+Method_input!$D$65*C406+Method_input!$D$65*D406+Method_input!$D$65*E406+Method_input!$D$65*F406","v":0},{"$f":"Method_input!$D$65*B406+Method_input!$D$64*Input_series!AG402+Method_input!$D$65*F406","v":0}]
[390,0,0,0,0,0,0,0,0,0,16,12,16,12,0,0,0,12,0,12,0,0,16,12,null,0,{"$f":"Method_input!$D$65*B407+Method_input!$D$64*Input_series!AG403+Method_input!$D$65*C407+Method_input!$D$65*D407+Method_input!$D$65*E407+Method_input!$D$65*F407","v":0},{"$f":"Method_input!$D$65*B407+Method_input!$D$64*Input_series!AG403+Method_input!$D$65*F407","v":0}]
[391,0,0,0,0,0,0,0,0,0,16,12,16,12,0,0,0,12,0,12,0,0,16,12,null,0,{"$f":"Method_input!$D$65*B408+Method_input!$D$64*Input_series!AG404+Method_input!$D$65*C408+Method_input!$D$65*D408+Method_input!$D$65*E408+Method_input!$D$65*F408","v":0},{"$f":"Method_input!$D$65*B408+Method_input!$D$64*Input_series!AG404+Method_input!$D$65*F408","v":0}]
[392,0,0,0,0,0,0,0,0,0,16,12,16,12,0,0,0,12,0,12,0,0,16,12,null,0,{"$f":"Method_input!$D$65*B409+Method_input!$D$64*Input_series!AG405+Method_input!$D$65*C409+Method_input!$D$65*D409+Method_input!$D$65*E409+Method_input!$D$65*F409","v":0},{"$f":"Method_input!$D$65*B409+Method_input!$D$64*Input_series!AG405+Method_input!$D$65*F409","v":0}]
[393,0,0,0,0,0,0,0,0,0,16,12,16,12,0,0,0,12,0,12,0,0,16,12,null,0,{"$f":"Method_input!$D$65*B410+Method_input!$D$64*Input_series!AG406+Method_input!$D$65*C410+Method_input!$D$65*D410+Method_input!$D$65*E410+Method_input!$D$65*F410","v":0},{"$f":"Method_input!$D$65*B410+Method_input!$D$64*Input_series!AG406+Method_input!$D$65*F410","v":0}]
[394,0,0,0,0,0,0,0,0,0,16,12,16,12,0,0,0,12,0,12,0,0,16,12,null,0,{"$f":"Method_input!$D$65*B411+Method_input!$D$64*Input_series!AG407+Method_input!$D$65*C411+Method_input!$D$65*D411+Method_input!$D$65*E411+Method_input!$D$65*F411","v":0},{"$f":"Method_input!$D$65*B411+Method_input!$D$64*Input_series!AG407+Method_input!$D$65*F411","v":0}]
[395,0,0,0,0,0,0,0,0,0,16,12,16,12,0,0,0,12,0,12,0,0,16,12,null,0,{"$f":"Method_input!$D$65*B412+Method_input!$D$64*Input_series!AG408+Method_input!$D$65*C412+Method_input!$D$65*D412+Method_input!$D$65*E412+Method_input!$D$65*F412","v":0},{"$f":"Method_input!$D$65*B412+Method_input!$D$64*Input_series!AG408+Method_input!$D$65*F412","v":0}]
[396,0,0,0,0,0,0,0,0,0,16,12,16,12,0,0,0,12,0,12,0,0,16,12,null,0,{"$f":"Method_input!$D$65*B413+Method_input!$D$64*Input_series!AG409+Method_input!$D$65*C413+Method_input!$D$65*D413+Method_input!$D$65*E413+Method_input!$D$65*F413","v":0},{"$f":"Method_input!$D$65*B413+Method_input!$D$64*Input_series!AG409+Method_input!$D$65*F413","v":0}]
[397,0,0,0,0,0,0,0,0,0,16,12,16,12,0,0,0,12,0,12,0,0,16,12,null,0,{"$f":"Method_input!$D$65*B414+Method_input!$D$64*Input_series!AG410+Method_input!$D$65*C414+Method_input!$D$65*D414+Method_input!$D$65*E414+Method_input!$D$65*F414","v":0},{"$f":"Method_input!$D$65*B414+Method_input!$D$64*Input_series!AG410+Method_input!$D$65*F414","v":0}]
[398,0,0,0,0,0,0,0,0,0,16,12,16,12,0,0,0,12,0,12,0,0,16,12,null,0,{"$f":"Method_input!$D$65*B415+Method_input!$D$64*Input_series!AG411+Method_input!$D$65*C415+Method_input!$D$65*D415+Method_input!$D$65*E415+Method_input!$D$65*F415","v":0},{"$f":"Method_input!$D$65*B415+Method_input!$D$64*Input_series!AG411+Method_input!$D$65*F415","v":0}]
[399,0,0,0,0,0,0,0,0,0,16,12,16,12,0,0,0,12,0,12,0,0,16,12,null,0,{"$f":"Method_input!$D$65*B416+Method_input!$D$64*Input_series!AG412+Method_input!$D$65*C416+Method_input!$D$65*D416+Method_input!$D$65*E416+Method_input!$D$65*F416","v":0},{"$f":"Method_input!$D$65*B416+Method_input!$D$64*Input_series!AG412+Method_input!$D$65*F416","v":0}]
[400,0,0,0,0,0,0,0,0,0,16,12,16,12,0,0,0,12,0,12,0,0,16,12,null,0,{"$f":"Method_input!$D$65*B417+Method_input!$D$64*Input_series!AG413+Method_input!$D$65*C417+Method_input!$D$65*D417+Method_input!$D$65*E417+Method_input!$D$65*F417","v":0},{"$f":"Method_input!$D$65*B417+Method_input!$D$64*Input_series!AG413+Method_input!$D$65*F417","v":0}]
[401,0,0,0,0,0,0,0,0,0,16,12,16,12,0,0,0,12,0,12,0,0,16,12,null,0,{"$f":"Method_input!$D$65*B418+Method_input!$D$64*Input_series!AG414+Method_input!$D$65*C418+Method_input!$D$65*D418+Method_input!$D$65*E418+Method_input!$D$65*F418","v":0},{"$f":"Method_input!$D$65*B418+Method_input!$D$64*Input_series!AG414+Method_input!$D$65*F418","v":0}]
[402,0,0,0,0,0,0,0,0,0,16,12,16,12,0,0,0,12,0,12,0,0,16,12,null,0,{"$f":"Method_input!$D$65*B419+Method_input!$D$64*Input_series!AG415+Method_input!$D$65*C419+Method_input!$D$65*D419+Method_input!$D$65*E419+Method_input!$D$65*F419","v":0},{"$f":"Method_input!$D$65*B419+Method_input!$D$64*Input_series!AG415+Method_input!$D$65*F419","v":0}]
[403,0,0,0,0,0,0,0,0,0,16,12,16,12,0,0,0,12,0,12,0,0,16,12,null,0,{"$f":"Method_input!$D$65*B420+Method_input!$D$64*Input_series!AG416+Method_input!$D$65*C420+Method_input!$D$65*D420+Method_input!$D$65*E420+Method_input!$D$65*F420","v":0},{"$f":"Method_input!$D$65*B420+Method_input!$D$64*Input_series!AG416+Method_input!$D$65*F420","v":0}]
[404,0,0,0,0,0,0,0,0,0,16,12,16,12,0,0,0,12,0,12,0,0,16,12,null,0,{"$f":"Method_input!$D$65*B421+Method_input!$D$64*Input_series!AG417+Method_input!$D$65*C421+Method_input!$D$65*D421+Method_input!$D$65*E421+Method_input!$D$65*F421","v":0},{"$f":"Method_input!$D$65*B421+Method_input!$D$64*Input_series!AG417+Method_input!$D$65*F421","v":0}]
[405,0,0,0,0,0,0,0,0,0,16,12,16,12,0,0,0,12,0,12,0,0,16,12,null,0,{"$f":"Method_input!$D$65*B422+Method_input!$D$64*Input_series!AG418+Method_input!$D$65*C422+Method_input!$D$65*D422+Method_input!$D$65*E422+Method_input!$D$65*F422","v":0},{"$f":"Method_input!$D$65*B422+Method_input!$D$64*Input_series!AG418+Method_input!$D$65*F422","v":0}]
[406,0,0,0,0,0,0,0,0,0,16,12,16,12,0,0,0,12,0,12,0,0,16,12,null,0,{"$f":"Method_input!$D$65*B423+Method_input!$D$64*Input_series!AG419+Method_input!$D$65*C423+Method_input!$D$65*D423+Method_input!$D$65*E423+Method_input!$D$65*F423","v":0},{"$f":"Method_input!$D$65*B423+Method_input!$D$64*Input_series!AG419+Method_input!$D$65*F423","v":0}]
[407,0,0,0,0,0,0,0,0,0,16,12,16,12,0,0,0,12,0,12,0,0,16,12,null,0,{"$f":"Method_input!$D$65*B424+Method_input!$D$64*Input_series!AG420+Method_input!$D$65*C424+Method_input!$D$65*D424+Method_input!$D$65*E424+Method_input!$D$65*F424","v":0},{"$f":"Method_input!$D$65*B424+Method_input!$D$64*Input_series!AG420+Method_input!$D$65*F424","v":0}]
[408,0,0,0,0,0,0,0,0,0,16,12,16,12,0,0,0,12,0,12,0,0,16,12,null,0,{"$f":"Method_input!$D$65*B425+Method_input!$D$64*Input_series!AG421+Method_input!$D$65*C425+Method_input!$D$65*D425+Method_input!$D$65*E425+Method_input!$D$65*F425","v":0},{"$f":"Method_input!$D$65*B425+Method_input!$D$64*Input_series!AG421+Method_input!$D$65*F425","v":0}]
[409,0,0,0,0,0,0,0,0,0,16,12,16,12,0,0,0,12,0,12,0,0,16,12,null,0,{"$f":"Method_input!$D$65*B426+Method_input!$D$64*Input_series!AG422+Method_input!$D$65*C426+Method_input!$D$65*D426+Method_input!$D$65*E426+Method_input!$D$65*F426","v":0},{"$f":"Method_input!$D$65*B426+Method_input!$D$64*Input_series!AG422+Method_input!$D$65*F426","v":0}]
[410,0,0,0,0,0,0,0,0,0,16,12,16,12,0,0,0,12,0,12,0,0,16,12,null,0,{"$f":"Method_input!$D$65*B427+Method_input!$D$64*Input_series!AG423+Method_input!$D$65*C427+Method_input!$D$65*D427+Method_input!$D$65*E427+Method_input!$D$65*F427","v":0},{"$f":"Method_input!$D$65*B427+Method_input!$D$64*Input_series!AG423+Method_input!$D$65*F427","v":0}]
[411,0,0,0,0,0,0,0,0,0,16,12,16,12,0,0,0,12,0,12,0,0,16,12,null,0,{"$f":"Method_input!$D$65*B428+Method_input!$D$64*Input_series!AG424+Method_input!$D$65*C428+Method_input!$D$65*D428+Method_input!$D$65*E428+Method_input!$D$65*F428","v":0},{"$f":"Method_input!$D$65*B428+Method_input!$D$64*Input_series!AG424+Method_input!$D$65*F428","v":0}]
[412,0,0,0,0,0,0,0,0,0,16,12,16,12,0,0,0,12,0,12,0,0,16,12,null,0,{"$f":"Method_input!$D$65*B429+Method_input!$D$64*Input_series!AG425+Method_input!$D$65*C429+Method_input!$D$65*D429+Method_input!$D$65*E429+Method_input!$D$65*F429","v":0},{"$f":"Method_input!$D$65*B429+Method_input!$D$64*Input_series!AG425+Method_input!$D$65*F429","v":0}]
[413,0,0,0,0,0,0,0,0,0,16,12,16,12,0,0,0,12,0,12,0,0,16,12,null,0,{"$f":"Method_input!$D$65*B430+Method_input!$D$64*Input_series!AG426+Method_input!$D$65*C430+Method_input!$D$65*D430+Method_input!$D$65*E430+Method_input!$D$65*F430","v":0},{"$f":"Method_input!$D$65*B430+Method_input!$D$64*Input_series!AG426+Method_input!$D$65*F430","v":0}]
[414,0,0,0,0,0,0,0,0,0,16,12,16,12,0,0,0,12,0,12,0,0,16,12,null,0,{"$f":"Method_input!$D$65*B431+Method_input!$D$64*Input_series!AG427+Method_input!$D$65*C431+Method_input!$D$65*D431+Method_input!$D$65*E431+Method_input!$D$65*F431","v":0},{"$f":"Method_input!$D$65*B431+Method_input!$D$64*Input_series!AG427+Method_input!$D$65*F431","v":0}]
[415,0,0,0,0,0,0,0,0,0,16,12,16,12,0,0,0,12,0,12,0,0,16,12,null,0,{"$f":"Method_input!$D$65*B432+Method_input!$D$64*Input_series!AG428+Method_input!$D$65*C432+Method_input!$D$65*D432+Method_input!$D$65*E432+Method_input!$D$65*F432","v":0},{"$f":"Method_input!$D$65*B432+Method_input!$D$64*Input_series!AG428+Method_input!$D$65*F432","v":0}]
[416,0,0,0,0,0,0,0,0,0,16,12,16,12,0,0,0,12,0,12,0,0,16,12,null,0,{"$f":"Method_input!$D$65*B433+Method_input!$D$64*Input_series!AG429+Method_input!$D$65*C433+Method_input!$D$65*D433+Method_input!$D$65*E433+Method_input!$D$65*F433","v":0},{"$f":"Method_input!$D$65*B433+Method_input!$D$64*Input_series!AG429+Method_input!$D$65*F433","v":0}]
[417,0,0,0,0,0,0,0,0,0,16,12,16,12,0,0,0,12,0,12,0,0,16,12,null,0,{"$f":"Method_input!$D$65*B434+Method_input!$D$64*Input_series!AG430+Method_input!$D$65*C434+Method_input!$D$65*D434+Method_input!$D$65*E434+Method_input!$D$65*F434","v":0},{"$f":"Method_input!$D$65*B434+Method_input!$D$64*Input_series!AG430+Method_input!$D$65*F434","v":0}]
[418,0,0,0,0,0,0,0,0,0,16,12,16,12,0,0,0,12,0,12,0,0,16,12,null,0,{"$f":"Method_input!$D$65*B435+Method_input!$D$64*Input_series!AG431+Method_input!$D$65*C435+Method_input!$D$65*D435+Method_input!$D$65*E435+Method_input!$D$65*F435","v":0},{"$f":"Method_input!$D$65*B435+Method_input!$D$64*Input_series!AG431+Method_input!$D$65*F435","v":0}]
[419,0,0,0,0,0,0,0,0,0,16,12,16,12,0,0,0,12,0,12,0,0,16,12,null,0,{"$f":"Method_input!$D$65*B436+Method_input!$D$64*Input_series!AG432+Method_input!$D$65*C436+Method_input!$D$65*D436+Method_input!$D$65*E436+Method_input!$D$65*F436","v":0},{"$f":"Method_input!$D$65*B436+Method_input!$D$64*Input_series!AG432+Method_input!$D$65*F436","v":0}]
[420,0,0,0,0,0,0,0,0,0,16,12,16,12,0,0,0,12,0,12,0,0,16,12,null,0,{"$f":"Method_input!$D$65*B437+Method_input!$D$64*Input_series!AG433+Method_input!$D$65*C437+Method_input!$D$65*D437+Method_input!$D$65*E437+Method_input!$D$65*F437","v":0},{"$f":"Method_input!$D$65*B437+Method_input!$D$64*Input_series!AG433+Method_input!$D$65*F437","v":0}]
[421,0,0,0,0,0,0,0,0,0,16,12,16,12,0,0,0,12,0,12,0,0,16,12,null,0,{"$f":"Method_input!$D$65*B438+Method_input!$D$64*Input_series!AG434+Method_input!$D$65*C438+Method_input!$D$65*D438+Method_input!$D$65*E438+Method_input!$D$65*F438","v":0},{"$f":"Method_input!$D$65*B438+Method_input!$D$64*Input_series!AG434+Method_input!$D$65*F438","v":0}]
[422,0,0,0,0,0,0,0,0,0,16,12,16,12,0,0,0,12,0,12,0,0,16,12,null,0,{"$f":"Method_input!$D$65*B439+Method_input!$D$64*Input_series!AG435+Method_input!$D$65*C439+Method_input!$D$65*D439+Method_input!$D$65*E439+Method_input!$D$65*F439","v":0},{"$f":"Method_input!$D$65*B439+Method_input!$D$64*Input_series!AG435+Method_input!$D$65*F439","v":0}]
[423,0,0,0,0,0,0,0,0,0,16,12,16,12,0,0,0,12,0,12,0,0,16,12,null,0,{"$f":"Method_input!$D$65*B440+Method_input!$D$64*Input_series!AG436+Method_input!$D$65*C440+Method_input!$D$65*D440+Method_input!$D$65*E440+Method_input!$D$65*F440","v":0},{"$f":"Method_input!$D$65*B440+Method_input!$D$64*Input_series!AG436+Method_input!$D$65*F440","v":0}]
[424,0,0,0,0,0,0,0,0,0,16,12,16,12,0,0,0,12,0,12,0,0,16,12,null,0,{"$f":"Method_input!$D$65*B441+Method_input!$D$64*Input_series!AG437+Method_input!$D$65*C441+Method_input!$D$65*D441+Method_input!$D$65*E441+Method_input!$D$65*F441","v":0},{"$f":"Method_input!$D$65*B441+Method_input!$D$64*Input_series!AG437+Method_input!$D$65*F441","v":0}]
[425,0,0,0,0,0,0,0,0,0,16,12,16,12,0,0,0,12,0,12,0,0,16,12,null,0,{"$f":"Method_input!$D$65*B442+Method_input!$D$64*Input_series!AG438+Method_input!$D$65*C442+Method_input!$D$65*D442+Method_input!$D$65*E442+Method_input!$D$65*F442","v":0},{"$f":"Method_input!$D$65*B442+Method_input!$D$64*Input_series!AG438+Method_input!$D$65*F442","v":0}]
[426,0,0,0,0,0,0,0,0,0,16,12,16,12,0,0,0,12,0,12,0,0,16,12,null,0,{"$f":"Method_input!$D$65*B443+Method_input!$D$64*Input_series!AG439+Method_input!$D$65*C443+Method_input!$D$65*D443+Method_input!$D$65*E443+Method_input!$D$65*F443","v":0},{"$f":"Method_input!$D$65*B443+Method_input!$D$64*Input_series!AG439+Method_input!$D$65*F443","v":0}]
[427,0,0,0,0,0,0,0,0,0,16,12,16,12,0,0,0,12,0,12,0,0,16,12,null,0,{"$f":"Method_input!$D$65*B444+Method_input!$D$64*Input_series!AG440+Method_input!$D$65*C444+Method_input!$D$65*D444+Method_input!$D$65*E444+Method_input!$D$65*F444","v":0},{"$f":"Method_input!$D$65*B444+Method_input!$D$64*Input_series!AG440+Method_input!$D$65*F444","v":0}]
[428,0,0,0,0,0,0,0,0,0,16,12,16,12,0,0,0,12,0,12,0,0,16,12,null,0,{"$f":"Method_input!$D$65*B445+Method_input!$D$64*Input_series!AG441+Method_input!$D$65*C445+Method_input!$D$65*D445+Method_input!$D$65*E445+Method_input!$D$65*F445","v":0},{"$f":"Method_input!$D$65*B445+Method_input!$D$64*Input_series!AG441+Method_input!$D$65*F445","v":0}]
[429,0,0,0,0,0,0,0,0,0,16,12,16,12,0,0,0,12,0,12,0,0,16,12,null,0,{"$f":"Method_input!$D$65*B446+Method_input!$D$64*Input_series!AG442+Method_input!$D$65*C446+Method_input!$D$65*D446+Method_input!$D$65*E446+Method_input!$D$65*F446","v":0},{"$f":"Method_input!$D$65*B446+Method_input!$D$64*Input_series!AG442+Method_input!$D$65*F446","v":0}]
[430,0,0,0,0,0,0,0,0,0,16,12,16,12,0,0,0,12,0,12,0,0,16,12,null,0,{"$f":"Method_input!$D$65*B447+Method_input!$D$64*Input_series!AG443+Method_input!$D$65*C447+Method_input!$D$65*D447+Method_input!$D$65*E447+Method_input!$D$65*F447","v":0},{"$f":"Method_input!$D$65*B447+Method_input!$D$64*Input_series!AG443+Method_input!$D$65*F447","v":0}]
[431,0,0,0,0,0,0,0,0,0,16,12,16,12,0,0,0,12,0,12,0,0,16,12,null,0,{"$f":"Method_input!$D$65*B448+Method_input!$D$64*Input_series!AG444+Method_input!$D$65*C448+Method_input!$D$65*D448+Method_input!$D$65*E448+Method_input!$D$65*F448","v":0},{"$f":"Method_input!$D$65*B448+Method_input!$D$64*Input_series!AG444+Method_input!$D$65*F448","v":0}]
[432,0,0,0,0,0,0,0,0,0,16,12,16,12,0,0,0,12,0,12,0,0,16,12,null,0,{"$f":"Method_input!$D$65*B449+Method_input!$D$64*Input_series!AG445+Method_input!$D$65*C449+Method_input!$D$65*D449+Method_input!$D$65*E449+Method_input!$D$65*F449","v":0},{"$f":"Method_input!$D$65*B449+Method_input!$D$64*Input_series!AG445+Method_input!$D$65*F449","v":0}]
[433,0,0,0,0,0,0,0,0,0,16,12,16,12,0,0,0,12,0,12,0,0,16,12,null,0,{"$f":"Method_input!$D$65*B450+Method_input!$D$64*Input_series!AG446+Method_input!$D$65*C450+Method_input!$D$65*D450+Method_input!$D$65*E450+Method_input!$D$65*F450","v":0},{"$f":"Method_input!$D$65*B450+Method_input!$D$64*Input_series!AG446+Method_input!$D$65*F450","v":0}]
[434,0,0,0,0,0,0,0,0,0,16,12,16,12,0,0,0,12,0,12,0,0,16,12,null,0,{"$f":"Method_input!$D$65*B451+Method_input!$D$64*Input_series!AG447+Method_input!$D$65*C451+Method_input!$D$65*D451+Method_input!$D$65*E451+Method_input!$D$65*F451","v":0},{"$f":"Method_input!$D$65*B451+Method_input!$D$64*Input_series!AG447+Method_input!$D$65*F451","v":0}]
[435,0,0,0,0,0,0,0,0,0,16,12,16,12,0,0,0,12,0,12,0,0,16,12,null,0,{"$f":"Method_input!$D$65*B452+Method_input!$D$64*Input_series!AG448+Method_input!$D$65*C452+Method_input!$D$65*D452+Method_input!$D$65*E452+Method_input!$D$65*F452","v":0},{"$f":"Method_input!$D$65*B452+Method_input!$D$64*Input_series!AG448+Method_input!$D$65*F452","v":0}]
[436,0,0,0,0,0,0,0,0,0,16,12,16,12,0,0,0,12,0,12,0,0,16,12,null,0,{"$f":"Method_input!$D$65*B453+Method_input!$D$64*Input_series!AG449+Method_input!$D$65*C453+Method_input!$D$65*D453+Method_input!$D$65*E453+Method_input!$D$65*F453","v":0},{"$f":"Method_input!$D$65*B453+Method_input!$D$64*Input_series!AG449+Method_input!$D$65*F453","v":0}]
[437,0,0,0,0,0,0,0,0,0,16,12,16,12,0,0,0,12,0,12,0,0,16,12,null,0,{"$f":"Method_input!$D$65*B454+Method_input!$D$64*Input_series!AG450+Method_input!$D$65*C454+Method_input!$D$65*D454+Method_input!$D$65*E454+Method_input!$D$65*F454","v":0},{"$f":"Method_input!$D$65*B454+Method_input!$D$64*Input_series!AG450+Method_input!$D$65*F454","v":0}]
[438,0,0,0,0,0,0,0,0,0,16,12,16,12,0,0,0,12,0,12,0,0,16,12,null,0,{"$f":"Method_input!$D$65*B455+Method_input!$D$64*Input_series!AG451+Method_input!$D$65*C455+Method_input!$D$65*D455+Method_input!$D$65*E455+Method_input!$D$65*F455","v":0},{"$f":"Method_input!$D$65*B455+Method_input!$D$64*Input_series!AG451+Method_input!$D$65*F455","v":0}]
[439,0,0,0,0,0,0,0,0,0,16,12,16,12,0,0,0,12,0,12,0,0,16,12,null,0,{"$f":"Method_input!$D$65*B456+Method_input!$D$64*Input_series!AG452+Method_input!$D$65*C456+Method_input!$D$65*D456+Method_input!$D$65*E456+Method_input!$D$65*F456","v":0},{"$f":"Method_input!$D$65*B456+Method_input!$D$64*Input_series!AG452+Method_input!$D$65*F456","v":0}]
[440,0,0,0,0,0,0,0,0,0,16,12,16,12,0,0,0,12,0,12,0,0,16,12,null,0,{"$f":"Method_input!$D$65*B457+Method_input!$D$64*Input_series!AG453+Method_input!$D$65*C457+Method_input!$D$65*D457+Method_input!$D$65*E457+Method_input!$D$65*F457","v":0},{"$f":"Method_input!$D$65*B457+Method_input!$D$64*Input_series!AG453+Method_input!$D$65*F457","v":0}]
[441,0,0,0,0,0,0,0,0,0,16,12,16,12,0,0,0,12,0,12,0,0,16,12,null,0,{"$f":"Method_input!$D$65*B458+Method_input!$D$64*Input_series!AG454+Method_input!$D$65*C458+Method_input!$D$65*D458+Method_input!$D$65*E458+Method_input!$D$65*F458","v":0},{"$f":"Method_input!$D$65*B458+Method_input!$D$64*Input_series!AG454+Method_input!$D$65*F458","v":0}]
[442,0,0,0,0,0,0,0,0,0,16,12,16,12,0,0,0,12,0,12,0,0,16,12,null,0,{"$f":"Method_input!$D$65*B459+Method_input!$D$64*Input_series!AG455+Method_input!$D$65*C459+Method_input!$D$65*D459+Method_input!$D$65*E459+Method_input!$D$65*F459","v":0},{"$f":"Method_input!$D$65*B459+Method_input!$D$64*Input_series!AG455+Method_input!$D$65*F459","v":0}]
[443,0,0,0,0,0,0,0,0,0,16,12,16,12,0,0,0,12,0,12,0,0,16,12,null,0,{"$f":"Method_input!$D$65*B460+Method_input!$D$64*Input_series!AG456+Method_input!$D$65*C460+Method_input!$D$65*D460+Method_input!$D$65*E460+Method_input!$D$65*F460","v":0},{"$f":"Method_input!$D$65*B460+Method_input!$D$64*Input_series!AG456+Method_input!$D$65*F460","v":0}]
[444,0,0,0,0,0,0,0,0,0,16,12,16,12,0,0,0,12,0,12,0,0,16,12,null,0,{"$f":"Method_input!$D$65*B461+Method_input!$D$64*Input_series!AG457+Method_input!$D$65*C461+Method_input!$D$65*D461+Method_input!$D$65*E461+Method_input!$D$65*F461","v":0},{"$f":"Method_input!$D$65*B461+Method_input!$D$64*Input_series!AG457+Method_input!$D$65*F461","v":0}]
[445,0,0,0,0,0,0,0,0,0,16,12,16,12,0,0,0,12,0,12,0,0,16,12,null,0,{"$f":"Method_input!$D$65*B462+Method_input!$D$64*Input_series!AG458+Method_input!$D$65*C462+Method_input!$D$65*D462+Method_input!$D$65*E462+Method_input!$D$65*F462","v":0},{"$f":"Method_input!$D$65*B462+Method_input!$D$64*Input_series!AG458+Method_input!$D$65*F462","v":0}]
[446,0,0,0,0,0,0,0,0,0,16,12,16,12,0,0,0,12,0,12,0,0,16,12,null,0,{"$f":"Method_input!$D$65*B463+Method_input!$D$64*Input_series!AG459+Method_input!$D$65*C463+Method_input!$D$65*D463+Method_input!$D$65*E463+Method_input!$D$65*F463","v":0},{"$f":"Method_input!$D$65*B463+Method_input!$D$64*Input_series!AG459+Method_input!$D$65*F463","v":0}]
[447,0,0,0,0,0,0,0,0,0,16,12,16,12,0,0,0,12,0,12,0,0,16,12,null,0,{"$f":"Method_input!$D$65*B464+Method_input!$D$64*Input_series!AG460+Method_input!$D$65*C464+Method_input!$D$65*D464+Method_input!$D$65*E464+Method_input!$D$65*F464","v":0},{"$f":"Method_input!$D$65*B464+Method_input!$D$64*Input_series!AG460+Method_input!$D$65*F464","v":0}]
[448,0,0,0,0,0,0,0,0,0,16,12,16,12,0,0,0,12,0,12,0,0,16,12,null,0,{"$f":"Method_input!$D$65*B465+Method_input!$D$64*Input_series!AG461+Method_input!$D$65*C465+Method_input!$D$65*D465+Method_input!$D$65*E465+Method_input!$D$65*F465","v":0},{"$f":"Method_input!$D$65*B465+Method_input!$D$64*Input_series!AG461+Method_input!$D$65*F465","v":0}]
[449,0,0,0,0,0,0,0,0,0,16,12,16,12,0,0,0,12,0,12,0,0,16,12,null,{"$f":"SUM(G466:J466,U466:V466)","v":0},{"$f":"Method_input!$D$65*B466+Method_input!$D$64*Input_series!AG462+Method_input!$D$65*C466+Method_input!$D$65*D466+Method_input!$D$65*E466+Method_input!$D$65*F466","v":0},{"$f":"Method_input!$D$65*B466+Method_input!$D$64*Input_series!AG462+Method_input!$D$65*F466","v":0}]
[450,0,0,0,0,0,0,0,0,0,16,12,16,12,0,0,0,12,0,12,0,0,16,12,null,0,{"$f":"Method_input!$D$65*B467+Method_input!$D$64*Input_series!AG463+Method_input!$D$65*C467+Method_input!$D$65*D467+Method_input!$D$65*E467+Method_input!$D$65*F467","v":0},{"$f":"Method_input!$D$65*B467+Method_input!$D$64*Input_series!AG463+Method_input!$D$65*F467","v":0}]
[451,0,0,0,0,0,0,0,0,0,16,12,16,12,0,0,0,12,0,12,0,0,16,12,null,0,{"$f":"Method_input!$D$65*B468+Method_input!$D$64*Input_series!AG464+Method_input!$D$65*C468+Method_input!$D$65*D468+Method_input!$D$65*E468+Method_input!$D$65*F468","v":0},{"$f":"Method_input!$D$65*B468+Method_input!$D$64*Input_series!AG464+Method_input!$D$65*F468","v":0}]
[452,0,0,0,0,0,0,0,0,0,16,12,16,12,0,0,0,12,0,12,0,0,16,12,null,0,{"$f":"Method_input!$D$65*B469+Method_input!$D$64*Input_series!AG465+Method_input!$D$65*C469+Method_input!$D$65*D469+Method_input!$D$65*E469+Method_input!$D$65*F469","v":0},{"$f":"Method_input!$D$65*B469+Method_input!$D$64*Input_series!AG465+Method_input!$D$65*F469","v":0}]
[453,0,0,0,0,0,0,0,0,0,16,12,16,12,0,0,0,12,0,12,0,0,16,12,null,0,{"$f":"Method_input!$D$65*B470+Method_input!$D$64*Input_series!AG466+Method_input!$D$65*C470+Method_input!$D$65*D470+Method_input!$D$65*E470+Method_input!$D$65*F470","v":0},{"$f":"Method_input!$D$65*B470+Method_input!$D$64*Input_series!AG466+Method_input!$D$65*F470","v":0}]
[454,0,0,0,0,0,0,0,0,0,16,12,16,12,0,0,0,12,0,12,0,0,16,12,null,0,{"$f":"Method_input!$D$65*B471+Method_input!$D$64*Input_series!AG467+Method_input!$D$65*C471+Method_input!$D$65*D471+Method_input!$D$65*E471+Method_input!$D$65*F471","v":0},{"$f":"Method_input!$D$65*B471+Method_input!$D$64*Input_series!AG467+Method_input!$D$65*F471","v":0}]
[455,0,0,0,0,0,0,0,0,0,16,12,16,12,0,0,0,12,0,12,0,0,16,12,null,0,{"$f":"Method_input!$D$65*B472+Method_input!$D$64*Input_series!AG468+Method_input!$D$65*C472+Method_input!$D$65*D472+Method_input!$D$65*E472+Method_input!$D$65*F472","v":0},{"$f":"Method_input!$D$65*B472+Method_input!$D$64*Input_series!AG468+Method_input!$D$65*F472","v":0}]
[456,0,0,0,0,0,0,0,0,0,16,12,16,12,0,0,0,12,0,12,0,0,16,12,null,0,{"$f":"Method_input!$D$65*B473+Method_input!$D$64*Input_series!AG469+Method_input!$D$65*C473+Method_input!$D$65*D473+Method_input!$D$65*E473+Method_input!$D$65*F473","v":0},{"$f":"Method_input!$D$65*B473+Method_input!$D$64*Input_series!AG469+Method_input!$D$65*F473","v":0}]
[457,0,0,0,0,0,0,0,0,0,16,12,16,12,0,0,0,12,0,12,0,0,16,12,null,0,{"$f":"Method_input!$D$65*B474+Method_input!$D$64*Input_series!AG470+Method_input!$D$65*C474+Method_input!$D$65*D474+Method_input!$D$65*E474+Method_input!$D$65*F474","v":0},{"$f":"Method_input!$D$65*B474+Method_input!$D$64*Input_series!AG470+Method_input!$D$65*F474","v":0}]
[458,0,0,0,0,0,0,0,0,0,16,12,16,12,0,0,0,12,0,12,0,0,16,12,null,0,{"$f":"Method_input!$D$65*B475+Method_input!$D$64*Input_series!AG471+Method_input!$D$65*C475+Method_input!$D$65*D475+Method_input!$D$65*E475+Method_input!$D$65*F475","v":0},{"$f":"Method_input!$D$65*B475+Method_input!$D$64*Input_series!AG471+Method_input!$D$65*F475","v":0}]
[459,0,0,0,0,0,0,0,0,0,16,12,16,12,0,0,0,12,0,12,0,0,16,12,null,0,{"$f":"Method_input!$D$65*B476+Method_input!$D$64*Input_series!AG472+Method_input!$D$65*C476+Method_input!$D$65*D476+Method_input!$D$65*E476+Method_input!$D$65*F476","v":0},{"$f":"Method_input!$D$65*B476+Method_input!$D$64*Input_series!AG472+Method_input!$D$65*F476","v":0}]
[460,0,0,0,0,0,0,0,0,0,16,12,16,12,0,0,0,12,0,12,0,0,16,12,null,0,{"$f":"Method_input!$D$65*B477+Method_input!$D$64*Input_series!AG473+Method_input!$D$65*C477+Method_input!$D$65*D477+Method_input!$D$65*E477+Method_input!$D$65*F477","v":0},{"$f":"Method_input!$D$65*B477+Method_input!$D$64*Input_series!AG473+Method_input!$D$65*F477","v":0}]
[461,0,0,0,0,0,0,0,0,0,16,12,16,12,0,0,0,12,0,12,0,0,16,12,null,0,{"$f":"Method_input!$D$65*B478+Method_input!$D$64*Input_series!AG474+Method_input!$D$65*C478+Method_input!$D$65*D478+Method_input!$D$65*E478+Method_input!$D$65*F478","v":0},{"$f":"Method_input!$D$65*B478+Method_input!$D$64*Input_series!AG474+Method_input!$D$65*F478","v":0}]
[462,0,0,0,0,0,0,0,0,0,16,12,16,12,0,0,0,12,0,12,0,0,16,12,null,0,{"$f":"Method_input!$D$65*B479+Method_input!$D$64*Input_series!AG475+Method_input!$D$65*C479+Method_input!$D$65*D479+Method_input!$D$65*E479+Method_input!$D$65*F479","v":0},{"$f":"Method_input!$D$65*B479+Method_input!$D$64*Input_series!AG475+Method_input!$D$65*F479","v":0}]
[463,0,0,0,0,0,0,0,0,0,16,12,16,12,0,0,0,12,0,12,0,0,16,12,null,0,{"$f":"Method_input!$D$65*B480+Method_input!$D$64*Input_series!AG476+Method_input!$D$65*C480+Method_input!$D$65*D480+Method_input!$D$65*E480+Method_input!$D$65*F480","v":0},{"$f":"Method_input!$D$65*B480+Method_input!$D$64*Input_series!AG476+Method_input!$D$65*F480","v":0}]
[464,0,0,0,0,0,0,0,0,0,16,12,16,12,0,0,0,12,0,12,0,0,16,12,null,0,{"$f":"Method_input!$D$65*B481+Method_input!$D$64*Input_series!AG477+Method_input!$D$65*C481+Method_input!$D$65*D481+Method_input!$D$65*E481+Method_input!$D$65*F481","v":0},{"$f":"Method_input!$D$65*B481+Method_input!$D$64*Input_series!AG477+Method_input!$D$65*F481","v":0}]
[465,0,0,0,0,0,0,0,0,0,16,12,16,12,0,0,0,12,0,12,0,0,16,12,null,0,{"$f":"Method_input!$D$65*B482+Method_input!$D$64*Input_series!AG478+Method_input!$D$65*C482+Method_input!$D$65*D482+Method_input!$D$65*E482+Method_input!$D$65*F482","v":0},{"$f":"Method_input!$D$65*B482+Method_input!$D$64*Input_series!AG478+Method_input!$D$65*F482","v":0}]
[466,0,0,0,0,0,0,0,0,0,16,12,16,12,0,0,0,12,0,12,0,0,16,12,null,0,{"$f":"Method_input!$D$65*B483+Method_input!$D$64*Input_series!AG479+Method_input!$D$65*C483+Method_input!$D$65*D483+Method_input!$D$65*E483+Method_input!$D$65*F483","v":0},{"$f":"Method_input!$D$65*B483+Method_input!$D$64*Input_series!AG479+Method_input!$D$65*F483","v":0}]
[467,0,0,0,0,0,0,0,0,0,16,12,16,12,0,0,0,12,0,12,0,0,16,12,null,0,{"$f":"Method_input!$D$65*B484+Method_input!$D$64*Input_series!AG480+Method_input!$D$65*C484+Method_input!$D$65*D484+Method_input!$D$65*E484+Method_input!$D$65*F484","v":0},{"$f":"Method_input!$D$65*B484+Method_input!$D$64*Input_series!AG480+Method_input!$D$65*F484","v":0}]
[468,0,0,0,0,0,0,0,0,0,16,12,16,12,0,0,0,12,0,12,0,0,16,12,null,0,{"$f":"Method_input!$D$65*B485+Method_input!$D$64*Input_series!AG481+Method_input!$D$65*C485+Method_input!$D$65*D485+Method_input!$D$65*E485+Method_input!$D$65*F485","v":0},{"$f":"Method_input!$D$65*B485+Method_input!$D$64*Input_series!AG481+Method_input!$D$65*F485","v":0}]
[469,0,0,0,0,0,0,0,0,0,16,12,16,12,0,0,0,12,0,12,0,0,16,12,null,0,{"$f":"Method_input!$D$65*B486+Method_input!$D$64*Input_series!AG482+Method_input!$D$65*C486+Method_input!$D$65*D486+Method_input!$D$65*E486+Method_input!$D$65*F486","v":0},{"$f":"Method_input!$D$65*B486+Method_input!$D$64*Input_series!AG482+Method_input!$D$65*F486","v":0}]
[470,0,0,0,0,0,0,0,0,0,16,12,16,12,0,0,0,12,0,12,0,0,16,12,null,0,{"$f":"Method_input!$D$65*B487+Method_input!$D$64*Input_series!AG483+Method_input!$D$65*C487+Method_input!$D$65*D487+Method_input!$D$65*E487+Method_input!$D$65*F487","v":0},{"$f":"Method_input!$D$65*B487+Method_input!$D$64*Input_series!AG483+Method_input!$D$65*F487","v":0}]
[471,0,0,0,0,0,0,0,0,0,16,12,16,12,0,0,0,12,0,12,0,0,16,12,null,0,{"$f":"Method_input!$D$65*B488+Method_input!$D$64*Input_series!AG484+Method_input!$D$65*C488+Method_input!$D$65*D488+Method_input!$D$65*E488+Method_input!$D$65*F488","v":0},{"$f":"Method_input!$D$65*B488+Method_input!$D$64*Input_series!AG484+Method_input!$D$65*F488","v":0}]
[472,0,0,0,0,0,0,0,0,0,16,12,16,12,0,0,0,12,0,12,0,0,16,12,null,0,{"$f":"Method_input!$D$65*B489+Method_input!$D$64*Input_series!AG485+Method_input!$D$65*C489+Method_input!$D$65*D489+Method_input!$D$65*E489+Method_input!$D$65*F489","v":0},{"$f":"Method_input!$D$65*B489+Method_input!$D$64*Input_series!AG485+Method_input!$D$65*F489","v":0}]
[473,0,0,0,0,0,0,0,0,0,16,12,16,12,0,0,0,12,0,12,0,0,16,12,null,0,{"$f":"Method_input!$D$65*B490+Method_input!$D$64*Input_series!AG486+Method_input!$D$65*C490+Method_input!$D$65*D490+Method_input!$D$65*E490+Method_input!$D$65*F490","v":0},{"$f":"Method_input!$D$65*B490+Method_input!$D$64*Input_series!AG486+Method_input!$D$65*F490","v":0}]
[474,0,0,0,0,0,0,0,0,0,16,12,16,12,0,0,0,12,0,12,0,0,16,12,null,0,{"$f":"Method_input!$D$65*B491+Method_input!$D$64*Input_series!AG487+Method_input!$D$65*C491+Method_input!$D$65*D491+Method_input!$D$65*E491+Method_input!$D$65*F491","v":0},{"$f":"Method_input!$D$65*B491+Method_input!$D$64*Input_series!AG487+Method_input!$D$65*F491","v":0}]
[475,0,0,0,0,0,0,0,0,0,16,12,16,12,0,0,0,12,0,12,0,0,16,12,null,0,{"$f":"Method_input!$D$65*B492+Method_input!$D$64*Input_series!AG488+Method_input!$D$65*C492+Method_input!$D$65*D492+Method_input!$D$65*E492+Method_input!$D$65*F492","v":0},{"$f":"Method_input!$D$65*B492+Method_input!$D$64*Input_series!AG488+Method_input!$D$65*F492","v":0}]
[476,0,0,0,0,0,0,0,0,0,16,12,16,12,0,0,0,12,0,12,0,0,16,12,null,0,{"$f":"Method_input!$D$65*B493+Method_input!$D$64*Input_series!AG489+Method_input!$D$65*C493+Method_input!$D$65*D493+Method_input!$D$65*E493+Method_input!$D$65*F493","v":0},{"$f":"Method_input!$D$65*B493+Method_input!$D$64*Input_series!AG489+Method_input!$D$65*F493","v":0}]
[477,0,0,0,0,0,0,0,0,0,16,12,16,12,0,0,0,12,0,12,0,0,16,12,null,0,{"$f":"Method_input!$D$65*B494+Method_input!$D$64*Input_series!AG490+Method_input!$D$65*C494+Method_input!$D$65*D494+Method_input!$D$65*E494+Method_input!$D$65*F494","v":0},{"$f":"Method_input!$D$65*B494+Method_input!$D$64*Input_series!AG490+Method_input!$D$65*F494","v":0}]
[478,0,0,0,0,0,0,0,0,0,16,12,16,12,0,0,0,12,0,12,0,0,16,12,null,0,{"$f":"Method_input!$D$65*B495+Method_input!$D$64*Input_series!AG491+Method_input!$D$65*C495+Method_input!$D$65*D495+Method_input!$D$65*E495+Method_input!$D$65*F495","v":0},{"$f":"Method_input!$D$65*B495+Method_input!$D$64*Input_series!AG491+Method_input!$D$65*F495","v":0}]
[479,0,0,0,0,0,0,0,0,0,16,12,16,12,0,0,0,12,0,12,0,0,16,12,null,0,{"$f":"Method_input!$D$65*B496+Method_input!$D$64*Input_series!AG492+Method_input!$D$65*C496+Method_input!$D$65*D496+Method_input!$D$65*E496+Method_input!$D$65*F496","v":0},{"$f":"Method_input!$D$65*B496+Method_input!$D$64*Input_series!AG492+Method_input!$D$65*F496","v":0}]
[480,0,0,0,0,0,0,0,0,0,16,12,16,12,0,0,0,12,0,12,0,0,16,12,null,0,{"$f":"Method_input!$D$65*B497+Method_input!$D$64*Input_series!AG493+Method_input!$D$65*C497+Method_input!$D$65*D497+Method_input!$D$65*E497+Method_input!$D$65*F497","v":0},{"$f":"Method_input!$D$65*B497+Method_input!$D$64*Input_series!AG493+Method_input!$D$65*F497","v":0}]
[481,0,0,0,0,0,0,0,0,0,16,12,16,12,0,0,0,12,0,12,0,0,16,12,null,0,{"$f":"Method_input!$D$65*B498+Method_input!$D$64*Input_series!AG494+Method_input!$D$65*C498+Method_input!$D$65*D498+Method_input!$D$65*E498+Method_input!$D$65*F498","v":0},{"$f":"Method_input!$D$65*B498+Method_input!$D$64*Input_series!AG494+Method_input!$D$65*F498","v":0}]
[482,0,0,0,0,0,0,0,0,0,16,12,16,12,0,0,0,12,0,12,0,0,16,12,null,0,{"$f":"Method_input!$D$65*B499+Method_input!$D$64*Input_series!AG495+Method_input!$D$65*C499+Method_input!$D$65*D499+Method_input!$D$65*E499+Method_input!$D$65*F499","v":0},{"$f":"Method_input!$D$65*B499+Method_input!$D$64*Input_series!AG495+Method_input!$D$65*F499","v":0}]
[483,0,0,0,0,0,0,0,0,0,16,12,16,12,0,0,0,12,0,12,0,0,16,12,null,0,{"$f":"Method_input!$D$65*B500+Method_input!$D$64*Input_series!AG496+Method_input!$D$65*C500+Method_input!$D$65*D500+Method_input!$D$65*E500+Method_input!$D$65*F500","v":0},{"$f":"Method_input!$D$65*B500+Method_input!$D$64*Input_series!AG496+Method_input!$D$65*F500","v":0}]
[484,0,0,0,0,0,0,0,0,0,16,12,16,12,0,0,0,12,0,12,0,0,16,12,null,0,{"$f":"Method_input!$D$65*B501+Method_input!$D$64*Input_series!AG497+Method_input!$D$65*C501+Method_input!$D$65*D501+Method_input!$D$65*E501+Method_input!$D$65*F501","v":0},{"$f":"Method_input!$D$65*B501+Method_input!$D$64*Input_series!AG497+Method_input!$D$65*F501","v":0}]
[485,0,0,0,0,0,0,0,0,0,16,12,16,12,0,0,0,12,0,12,0,0,16,12,null,0,{"$f":"Method_input!$D$65*B502+Method_input!$D$64*Input_series!AG498+Method_input!$D$65*C502+Method_input!$D$65*D502+Method_input!$D$65*E502+Method_input!$D$65*F502","v":0},{"$f":"Method_input!$D$65*B502+Method_input!$D$64*Input_series!AG498+Method_input!$D$65*F502","v":0}]
[486,0,0,0,0,0,0,0,0,0,16,12,16,12,0,0,0,12,0,12,0,0,16,12,null,0,{"$f":"Method_input!$D$65*B503+Method_input!$D$64*Input_series!AG499+Method_input!$D$65*C503+Method_input!$D$65*D503+Method_input!$D$65*E503+Method_input!$D$65*F503","v":0},{"$f":"Method_input!$D$65*B503+Method_input!$D$64*Input_series!AG499+Method_input!$D$65*F503","v":0}]
[487,0,0,0,0,0,0,0,0,0,16,12,16,12,0,0,0,12,0,12,0,0,16,12,null,0,{"$f":"Method_input!$D$65*B504+Method_input!$D$64*Input_series!AG500+Method_input!$D$65*C504+Method_input!$D$65*D504+Method_input!$D$65*E504+Method_input!$D$65*F504","v":0},{"$f":"Method_input!$D$65*B504+Method_input!$D$64*Input_series!AG500+Method_input!$D$65*F504","v":0}]
[488,0,0,0,0,0,0,0,0,0,16,12,16,12,0,0,0,12,0,12,0,0,16,12,null,0,{"$f":"Method_input!$D$65*B505+Method_input!$D$64*Input_series!AG501+Method_input!$D$65*C505+Method_input!$D$65*D505+Method_input!$D$65*E505+Method_input!$D$65*F505","v":0},{"$f":"Method_input!$D$65*B505+Method_input!$D$64*Input_series!AG501+Method_input!$D$65*F505","v":0}]
[489,0,0,0,0,0,0,0,0,0,16,12,16,12,0,0,0,12,0,12,0,0,16,12,null,0,{"$f":"Method_input!$D$65*B506+Method_input!$D$64*Input_series!AG502+Method_input!$D$65*C506+Method_input!$D$65*D506+Method_input!$D$65*E506+Method_input!$D$65*F506","v":0},{"$f":"Method_input!$D$65*B506+Method_input!$D$64*Input_series!AG502+Method_input!$D$65*F506","v":0}]
[490,0,0,0,0,0,0,0,0,0,16,12,16,12,0,0,0,12,0,12,0,0,16,12,null,0,{"$f":"Method_input!$D$65*B507+Method_input!$D$64*Input_series!AG503+Method_input!$D$65*C507+Method_input!$D$65*D507+Method_input!$D$65*E507+Method_input!$D$65*F507","v":0},{"$f":"Method_input!$D$65*B507+Method_input!$D$64*Input_series!AG503+Method_input!$D$65*F507","v":0}]
[491,0,0,0,0,0,0,0,0,0,16,12,16,12,0,0,0,12,0,12,0,0,16,12,null,0,{"$f":"Method_input!$D$65*B508+Method_input!$D$64*Input_series!AG504+Method_input!$D$65*C508+Method_input!$D$65*D508+Method_input!$D$65*E508+Method_input!$D$65*F508","v":0},{"$f":"Method_input!$D$65*B508+Method_input!$D$64*Input_series!AG504+Method_input!$D$65*F508","v":0}]
[492,0,0,0,0,0,0,0,0,0,16,12,16,12,0,0,0,12,0,12,0,0,16,12,null,0,{"$f":"Method_input!$D$65*B509+Method_input!$D$64*Input_series!AG505+Method_input!$D$65*C509+Method_input!$D$65*D509+Method_input!$D$65*E509+Method_input!$D$65*F509","v":0},{"$f":"Method_input!$D$65*B509+Method_input!$D$64*Input_series!AG505+Method_input!$D$65*F509","v":0}]
[493,0,0,0,0,0,0,0,0,0,16,12,16,12,0,0,0,12,0,12,0,0,16,12,null,0,{"$f":"Method_input!$D$65*B510+Method_input!$D$64*Input_series!AG506+Method_input!$D$65*C510+Method_input!$D$65*D510+Method_input!$D$65*E510+Method_input!$D$65*F510","v":0},{"$f":"Method_input!$D$65*B510+Method_input!$D$64*Input_series!AG506+Method_input!$D$65*F510","v":0}]
[494,0,0,0,0,0,0,0,0,0,16,12,16,12,0,0,0,12,0,12,0,0,16,12,null,0,{"$f":"Method_input!$D$65*B511+Method_input!$D$64*Input_series!AG507+Method_input!$D$65*C511+Method_input!$D$65*D511+Method_input!$D$65*E511+Method_input!$D$65*F511","v":0},{"$f":"Method_input!$D$65*B511+Method_input!$D$64*Input_series!AG507+Method_input!$D$65*F511","v":0}]
[495,0,0,0,0,0,0,0,0,0,16,12,16,12,0,0,0,12,0,12,0,0,16,12,null,0,{"$f":"Method_input!$D$65*B512+Method_input!$D$64*Input_series!AG508+Method_input!$D$65*C512+Method_input!$D$65*D512+Method_input!$D$65*E512+Method_input!$D$65*F512","v":0},{"$f":"Method_input!$D$65*B512+Method_input!$D$64*Input_series!AG508+Method_input!$D$65*F512","v":0}]
[496,0,0,0,0,0,0,0,0,0,16,12,16,12,0,0,0,12,0,12,0,0,16,12,null,0,{"$f":"Method_input!$D$65*B513+Method_input!$D$64*Input_series!AG509+Method_input!$D$65*C513+Method_input!$D$65*D513+Method_input!$D$65*E513+Method_input!$D$65*F513","v":0},{"$f":"Method_input!$D$65*B513+Method_input!$D$64*Input_series!AG509+Method_input!$D$65*F513","v":0}]
[497,0,0,0,0,0,0,0,0,0,16,12,16,12,0,0,0,12,0,12,0,0,16,12,null,0,{"$f":"Method_input!$D$65*B514+Method_input!$D$64*Input_series!AG510+Method_input!$D$65*C514+Method_input!$D$65*D514+Method_input!$D$65*E514+Method_input!$D$65*F514","v":0},{"$f":"Method_input!$D$65*B514+Method_input!$D$64*Input_series!AG510+Method_input!$D$65*F514","v":0}]
[498,0,0,0,0,0,0,0,0,0,16,12,16,12,0,0,0,12,0,12,0,0,16,12,null,0,{"$f":"Method_input!$D$65*B515+Method_input!$D$64*Input_series!AG511+Method_input!$D$65*C515+Method_input!$D$65*D515+Method_input!$D$65*E515+Method_input!$D$65*F515","v":0},{"$f":"Method_input!$D$65*B515+Method_input!$D$64*Input_series!AG511+Method_input!$D$65*F515","v":0}]
[499,0,0,0,0,0,0,0,0,0,16,12,16,12,0,0,0,12,0,12,0,0,16,12,null,0,{"$f":"Method_input!$D$65*B516+Method_input!$D$64*Input_series!AG512+Method_input!$D$65*C516+Method_input!$D$65*D516+Method_input!$D$65*E516+Method_input!$D$65*F516","v":0},{"$f":"Method_input!$D$65*B516+Method_input!$D$64*Input_series!AG512+Method_input!$D$65*F516","v":0}]
[500,0,0,0,0,0,0,0,0,0,16,12,16,12,0,0,0,12,0,12,0,0,16,12,null,0,{"$f":"Method_input!$D$65*B517+Method_input!$D$64*Input_series!AG513+Method_input!$D$65*C517+Method_input!$D$65*D517+Method_input!$D$65*E517+Method_input!$D$65*F517","v":0},{"$f":"Method_input!$D$65*B517+Method_input!$D$64*Input_series!AG513+Method_input!$D$65*F517","v":0}]
[501,0,0,0,0,0,0,0,0,0,16,12,16,12,0,0,0,12,0,12,0,0,16,12,null,0,{"$f":"Method_input!$D$65*B518+Method_input!$D$64*Input_series!AG514+Method_input!$D$65*C518+Method_input!$D$65*D518+Method_input!$D$65*E518+Method_input!$D$65*F518","v":0},{"$f":"Method_input!$D$65*B518+Method_input!$D$64*Input_series!AG514+Method_input!$D$65*F518","v":0}]
[502,0,0,0,0,0,0,0,0,0,16,12,16,12,0,0,0,12,0,12,0,0,16,12,null,0,{"$f":"Method_input!$D$65*B519+Method_input!$D$64*Input_series!AG515+Method_input!$D$65*C519+Method_input!$D$65*D519+Method_input!$D$65*E519+Method_input!$D$65*F519","v":0},{"$f":"Method_input!$D$65*B519+Method_input!$D$64*Input_series!AG515+Method_input!$D$65*F519","v":0}]
[503,0,0,0,0,0,0,0,0,0,16,12,16,12,0,0,0,12,0,12,0,0,16,12,null,0,{"$f":"Method_input!$D$65*B520+Method_input!$D$64*Input_series!AG516+Method_input!$D$65*C520+Method_input!$D$65*D520+Method_input!$D$65*E520+Method_input!$D$65*F520","v":0},{"$f":"Method_input!$D$65*B520+Method_input!$D$64*Input_series!AG516+Method_input!$D$65*F520","v":0}]
[504,0,0,0,0,0,0,0,0,0,16,12,16,12,0,0,0,12,0,12,0,0,16,12,null,0,{"$f":"Method_input!$D$65*B521+Method_input!$D$64*Input_series!AG517+Method_input!$D$65*C521+Method_input!$D$65*D521+Method_input!$D$65*E521+Method_input!$D$65*F521","v":0},{"$f":"Method_input!$D$65*B521+Method_input!$D$64*Input_series!AG517+Method_input!$D$65*F521","v":0}]
[505,0,0,0,0,0,0,0,0,0,16,12,16,12,0,0,0,12,0,12,0,0,16,12,null,0,{"$f":"Method_input!$D$65*B522+Method_input!$D$64*Input_series!AG518+Method_input!$D$65*C522+Method_input!$D$65*D522+Method_input!$D$65*E522+Method_input!$D$65*F522","v":0},{"$f":"Method_input!$D$65*B522+Method_input!$D$64*Input_series!AG518+Method_input!$D$65*F522","v":0}]
[506,0,0,0,0,0,0,0,0,0,16,12,16,12,0,0,0,12,0,12,0,0,16,12,null,0,{"$f":"Method_input!$D$65*B523+Method_input!$D$64*Input_series!AG519+Method_input!$D$65*C523+Method_input!$D$65*D523+Method_input!$D$65*E523+Method_input!$D$65*F523","v":0},{"$f":"Method_input!$D$65*B523+Method_input!$D$64*Input_series!AG519+Method_input!$D$65*F523","v":0}]
[507,0,0,0,0,0,0,0,0,0,16,12,16,12,0,0,0,12,0,12,0,0,16,12,null,0,{"$f":"Method_input!$D$65*B524+Method_input!$D$64*Input_series!AG520+Method_input!$D$65*C524+Method_input!$D$65*D524+Method_input!$D$65*E524+Method_input!$D$65*F524","v":0},{"$f":"Method_input!$D$65*B524+Method_input!$D$64*Input_series!AG520+Method_input!$D$65*F524","v":0}]
[508,0,0,0,0,0,0,0,0,0,16,12,16,12,0,0,0,12,0,12,0,0,16,12,null,0,{"$f":"Method_input!$D$65*B525+Method_input!$D$64*Input_series!AG521+Method_input!$D$65*C525+Method_input!$D$65*D525+Method_input!$D$65*E525+Method_input!$D$65*F525","v":0},{"$f":"Method_input!$D$65*B525+Method_input!$D$64*Input_series!AG521+Method_input!$D$65*F525","v":0}]
[509,0,0,0,0,0,0,0,0,0,16,12,16,12,0,0,0,12,0,12,0,0,16,12,null,0,{"$f":"Method_input!$D$65*B526+Method_input!$D$64*Input_series!AG522+Method_input!$D$65*C526+Method_input!$D$65*D526+Method_input!$D$65*E526+Method_input!$D$65*F526","v":0},{"$f":"Method_input!$D$65*B526+Method_input!$D$64*Input_series!AG522+Method_input!$D$65*F526","v":0}]
[510,0,0,0,0,0,0,0,0,0,16,12,16,12,0,0,0,12,0,12,0,0,16,12,null,0,{"$f":"Method_input!$D$65*B527+Method_input!$D$64*Input_series!AG523+Method_input!$D$65*C527+Method_input!$D$65*D527+Method_input!$D$65*E527+Method_input!$D$65*F527","v":0},{"$f":"Method_input!$D$65*B527+Method_input!$D$64*Input_series!AG523+Method_input!$D$65*F527","v":0}]
[511,0,0,0,0,0,0,0,0,0,16,12,16,12,0,0,0,12,0,12,0,0,16,12,null,0,{"$f":"Method_input!$D$65*B528+Method_input!$D$64*Input_series!AG524+Method_input!$D$65*C528+Method_input!$D$65*D528+Method_input!$D$65*E528+Method_input!$D$65*F528","v":0},{"$f":"Method_input!$D$65*B528+Method_input!$D$64*Input_series!AG524+Method_input!$D$65*F528","v":0}]
[512,0,0,0,0,0,0,0,0,0,16,12,16,12,0,0,0,12,0,12,0,0,16,12,null,0,{"$f":"Method_input!$D$65*B529+Method_input!$D$64*Input_series!AG525+Method_input!$D$65*C529+Method_input!$D$65*D529+Method_input!$D$65*E529+Method_input!$D$65*F529","v":0},{"$f":"Method_input!$D$65*B529+Method_input!$D$64*Input_series!AG525+Method_input!$D$65*F529","v":0}]
[513,0,0,0,0,0,0,0,0,0,16,12,16,12,0,0,0,12,0,12,0,0,16,12,null,{"$f":"SUM(G530:J530,U530:V530)","v":0},{"$f":"Method_input!$D$65*B530+Method_input!$D$64*Input_series!AG526+Method_input!$D$65*C530+Method_input!$D$65*D530+Method_input!$D$65*E530+Method_input!$D$65*F530","v":0},{"$f":"Method_input!$D$65*B530+Method_input!$D$64*Input_series!AG526+Method_input!$D$65*F530","v":0}]
[514,0,0,0,0,0,0,0,0,0,16,12,16,12,0,0,0,12,0,12,0,0,16,12,null,0,{"$f":"Method_input!$D$65*B531+Method_input!$D$64*Input_series!AG527+Method_input!$D$65*C531+Method_input!$D$65*D531+Method_input!$D$65*E531+Method_input!$D$65*F531","v":0},{"$f":"Method_input!$D$65*B531+Method_input!$D$64*Input_series!AG527+Method_input!$D$65*F531","v":0}]
[515,0,0,0,0,0,0,0,0,0,16,12,16,12,0,0,0,12,0,12,0,0,16,12,null,0,{"$f":"Method_input!$D$65*B532+Method_input!$D$64*Input_series!AG528+Method_input!$D$65*C532+Method_input!$D$65*D532+Method_input!$D$65*E532+Method_input!$D$65*F532","v":0},{"$f":"Method_input!$D$65*B532+Method_input!$D$64*Input_series!AG528+Method_input!$D$65*F532","v":0}]
[516,0,0,0,0,0,0,0,0,0,16,12,16,12,0,0,0,12,0,12,0,0,16,12,null,0,{"$f":"Method_input!$D$65*B533+Method_input!$D$64*Input_series!AG529+Method_input!$D$65*C533+Method_input!$D$65*D533+Method_input!$D$65*E533+Method_input!$D$65*F533","v":0},{"$f":"Method_input!$D$65*B533+Method_input!$D$64*Input_series!AG529+Method_input!$D$65*F533","v":0}]
[517,0,0,0,0,0,0,0,0,0,16,12,16,12,0,0,0,12,0,12,0,0,16,12,null,0,{"$f":"Method_input!$D$65*B534+Method_input!$D$64*Input_series!AG530+Method_input!$D$65*C534+Method_input!$D$65*D534+Method_input!$D$65*E534+Method_input!$D$65*F534","v":0},{"$f":"Method_input!$D$65*B534+Method_input!$D$64*Input_series!AG530+Method_input!$D$65*F534","v":0}]
[518,0,0,0,0,0,0,0,0,0,16,12,16,12,0,0,0,12,0,12,0,0,16,12,null,0,{"$f":"Method_input!$D$65*B535+Method_input!$D$64*Input_series!AG531+Method_input!$D$65*C535+Method_input!$D$65*D535+Method_input!$D$65*E535+Method_input!$D$65*F535","v":0},{"$f":"Method_input!$D$65*B535+Method_input!$D$64*Input_series!AG531+Method_input!$D$65*F535","v":0}]
[519,0,0,0,0,0,0,0,0,0,16,12,16,12,0,0,0,12,0,12,0,0,16,12,null,0,{"$f":"Method_input!$D$65*B536+Method_input!$D$64*Input_series!AG532+Method_input!$D$65*C536+Method_input!$D$65*D536+Method_input!$D$65*E536+Method_input!$D$65*F536","v":0},{"$f":"Method_input!$D$65*B536+Method_input!$D$64*Input_series!AG532+Method_input!$D$65*F536","v":0}]
[520,0,0,0,0,0,0,0,0,0,16,12,16,12,0,0,0,12,0,12,0,0,16,12,null,0,{"$f":"Method_input!$D$65*B537+Method_input!$D$64*Input_series!AG533+Method_input!$D$65*C537+Method_input!$D$65*D537+Method_input!$D$65*E537+Method_input!$D$65*F537","v":0},{"$f":"Method_input!$D$65*B537+Method_input!$D$64*Input_series!AG533+Method_input!$D$65*F537","v":0}]
[521,0,0,0,0,0,0,0,0,0,16,12,16,12,0,0,0,12,0,12,0,0,16,12,null,0,{"$f":"Method_input!$D$65*B538+Method_input!$D$64*Input_series!AG534+Method_input!$D$65*C538+Method_input!$D$65*D538+Method_input!$D$65*E538+Method_input!$D$65*F538","v":0},{"$f":"Method_input!$D$65*B538+Method_input!$D$64*Input_series!AG534+Method_input!$D$65*F538","v":0}]
[522,0,0,0,0,0,0,0,0,0,16,12,16,12,0,0,0,12,0,12,0,0,16,12,null,0,{"$f":"Method_input!$D$65*B539+Method_input!$D$64*Input_series!AG535+Method_input!$D$65*C539+Method_input!$D$65*D539+Method_input!$D$65*E539+Method_input!$D$65*F539","v":0},{"$f":"Method_input!$D$65*B539+Method_input!$D$64*Input_series!AG535+Method_input!$D$65*F539","v":0}]
[523,0,0,0,0,0,0,0,0,0,16,12,16,12,0,0,0,12,0,12,0,0,16,12,null,0,{"$f":"Method_input!$D$65*B540+Method_input!$D$64*Input_series!AG536+Method_input!$D$65*C540+Method_input!$D$65*D540+Method_input!$D$65*E540+Method_input!$D$65*F540","v":0},{"$f":"Method_input!$D$65*B540+Method_input!$D$64*Input_series!AG536+Method_input!$D$65*F540","v":0}]
[524,0,0,0,0,0,0,0,0,0,16,12,16,12,0,0,0,12,0,12,0,0,16,12,null,0,{"$f":"Method_input!$D$65*B541+Method_input!$D$64*Input_series!AG537+Method_input!$D$65*C541+Method_input!$D$65*D541+Method_input!$D$65*E541+Method_input!$D$65*F541","v":0},{"$f":"Method_input!$D$65*B541+Method_input!$D$64*Input_series!AG537+Method_input!$D$65*F541","v":0}]
[525,0,0,0,0,0,0,0,0,0,16,12,16,12,0,0,0,12,0,12,0,0,16,12,null,0,{"$f":"Method_input!$D$65*B542+Method_input!$D$64*Input_series!AG538+Method_input!$D$65*C542+Method_input!$D$65*D542+Method_input!$D$65*E542+Method_input!$D$65*F542","v":0},{"$f":"Method_input!$D$65*B542+Method_input!$D$64*Input_series!AG538+Method_input!$D$65*F542","v":0}]
[526,0,0,0,0,0,0,0,0,0,16,12,16,12,0,0,0,12,0,12,0,0,16,12,null,0,{"$f":"Method_input!$D$65*B543+Method_input!$D$64*Input_series!AG539+Method_input!$D$65*C543+Method_input!$D$65*D543+Method_input!$D$65*E543+Method_input!$D$65*F543","v":0},{"$f":"Method_input!$D$65*B543+Method_input!$D$64*Input_series!AG539+Method_input!$D$65*F543","v":0}]
[527,0,0,0,0,0,0,0,0,0,16,12,16,12,0,0,0,12,0,12,0,0,16,12,null,0,{"$f":"Method_input!$D$65*B544+Method_input!$D$64*Input_series!AG540+Method_input!$D$65*C544+Method_input!$D$65*D544+Method_input!$D$65*E544+Method_input!$D$65*F544","v":0},{"$f":"Method_input!$D$65*B544+Method_input!$D$64*Input_series!AG540+Method_input!$D$65*F544","v":0}]
[528,0,0,0,0,0,0,0,0,0,16,12,16,12,0,0,0,12,0,12,0,0,16,12,null,0,{"$f":"Method_input!$D$65*B545+Method_input!$D$64*Input_series!AG541+Method_input!$D$65*C545+Method_input!$D$65*D545+Method_input!$D$65*E545+Method_input!$D$65*F545","v":0},{"$f":"Method_input!$D$65*B545+Method_input!$D$64*Input_series!AG541+Method_input!$D$65*F545","v":0}]
[529,0,0,0,0,0,0,0,0,0,16,12,16,12,0,0,0,12,0,12,0,0,16,12,null,0,{"$f":"Method_input!$D$65*B546+Method_input!$D$64*Input_series!AG542+Method_input!$D$65*C546+Method_input!$D$65*D546+Method_input!$D$65*E546+Method_input!$D$65*F546","v":0},{"$f":"Method_input!$D$65*B546+Method_input!$D$64*Input_series!AG542+Method_input!$D$65*F546","v":0}]
[530,0,0,0,0,0,0,0,0,0,16,12,16,12,0,0,0,12,0,12,0,0,16,12,null,0,{"$f":"Method_input!$D$65*B547+Method_input!$D$64*Input_series!AG543+Method_input!$D$65*C547+Method_input!$D$65*D547+Method_input!$D$65*E547+Method_input!$D$65*F547","v":0},{"$f":"Method_input!$D$65*B547+Method_input!$D$64*Input_series!AG543+Method_input!$D$65*F547","v":0}]
[531,0,0,0,0,0,0,0,0,0,16,12,16,12,0,0,0,12,0,12,0,0,16,12,null,0,{"$f":"Method_input!$D$65*B548+Method_input!$D$64*Input_series!AG544+Method_input!$D$65*C548+Method_input!$D$65*D548+Method_input!$D$65*E548+Method_input!$D$65*F548","v":0},{"$f":"Method_input!$D$65*B548+Method_input!$D$64*Input_series!AG544+Method_input!$D$65*F548","v":0}]
[532,0,0,0,0,0,0,0,0,0,16,12,16,12,0,0,0,12,0,12,0,0,16,12,null,0,{"$f":"Method_input!$D$65*B549+Method_input!$D$64*Input_series!AG545+Method_input!$D$65*C549+Method_input!$D$65*D549+Method_input!$D$65*E549+Method_input!$D$65*F549","v":0},{"$f":"Method_input!$D$65*B549+Method_input!$D$64*Input_series!AG545+Method_input!$D$65*F549","v":0}]
[533,0,0,0,0,0,0,0,0,0,16,12,16,12,0,0,0,12,0,12,0,0,16,12,null,0,{"$f":"Method_input!$D$65*B550+Method_input!$D$64*Input_series!AG546+Method_input!$D$65*C550+Method_input!$D$65*D550+Method_input!$D$65*E550+Method_input!$D$65*F550","v":0},{"$f":"Method_input!$D$65*B550+Method_input!$D$64*Input_series!AG546+Method_input!$D$65*F550","v":0}]
[534,0,0,0,0,0,0,0,0,0,16,12,16,12,0,0,0,12,0,12,0,0,16,12,null,0,{"$f":"Method_input!$D$65*B551+Method_input!$D$64*Input_series!AG547+Method_input!$D$65*C551+Method_input!$D$65*D551+Method_input!$D$65*E551+Method_input!$D$65*F551","v":0},{"$f":"Method_input!$D$65*B551+Method_input!$D$64*Input_series!AG547+Method_input!$D$65*F551","v":0}]
[535,0,0,0,0,0,0,0,0,0,16,12,16,12,0,0,0,12,0,12,0,0,16,12,null,0,{"$f":"Method_input!$D$65*B552+Method_input!$D$64*Input_series!AG548+Method_input!$D$65*C552+Method_input!$D$65*D552+Method_input!$D$65*E552+Method_input!$D$65*F552","v":0},{"$f":"Method_input!$D$65*B552+Method_input!$D$64*Input_series!AG548+Method_input!$D$65*F552","v":0}]
[536,0,0,0,0,0,0,0,0,0,16,12,16,12,0,0,0,12,0,12,0,0,16,12,null,0,{"$f":"Method_input!$D$65*B553+Method_input!$D$64*Input_series!AG549+Method_input!$D$65*C553+Method_input!$D$65*D553+Method_input!$D$65*E553+Method_input!$D$65*F553","v":0},{"$f":"Method_input!$D$65*B553+Method_input!$D$64*Input_series!AG549+Method_input!$D$65*F553","v":0}]
[537,0,0,0,0,0,0,0,0,0,16,12,16,12,0,0,0,12,0,12,0,0,16,12,null,0,{"$f":"Method_input!$D$65*B554+Method_input!$D$64*Input_series!AG550+Method_input!$D$65*C554+Method_input!$D$65*D554+Method_input!$D$65*E554+Method_input!$D$65*F554","v":0},{"$f":"Method_input!$D$65*B554+Method_input!$D$64*Input_series!AG550+Method_input!$D$65*F554","v":0}]
[538,0,0,0,0,0,0,0,0,0,16,12,16,12,0,0,0,12,0,12,0,0,16,12,null,0,{"$f":"Method_input!$D$65*B555+Method_input!$D$64*Input_series!AG551+Method_input!$D$65*C555+Method_input!$D$65*D555+Method_input!$D$65*E555+Method_input!$D$65*F555","v":0},{"$f":"Method_input!$D$65*B555+Method_input!$D$64*Input_series!AG551+Method_input!$D$65*F555","v":0}]
[539,0,0,0,0,0,0,0,0,0,16,12,16,12,0,0,0,12,0,12,0,0,16,12,null,0,{"$f":"Method_input!$D$65*B556+Method_input!$D$64*Input_series!AG552+Method_input!$D$65*C556+Method_input!$D$65*D556+Method_input!$D$65*E556+Method_input!$D$65*F556","v":0},{"$f":"Method_input!$D$65*B556+Method_input!$D$64*Input_series!AG552+Method_input!$D$65*F556","v":0}]
[540,0,0,0,0,0,0,0,0,0,16,12,16,12,0,0,0,12,0,12,0,0,16,12,null,0,{"$f":"Method_input!$D$65*B557+Method_input!$D$64*Input_series!AG553+Method_input!$D$65*C557+Method_input!$D$65*D557+Method_input!$D$65*E557+Method_input!$D$65*F557","v":0},{"$f":"Method_input!$D$65*B557+Method_input!$D$64*Input_series!AG553+Method_input!$D$65*F557","v":0}]
[541,0,0,0,0,0,0,0,0,0,16,12,16,12,0,0,0,12,0,12,0,0,16,12,null,0,{"$f":"Method_input!$D$65*B558+Method_input!$D$64*Input_series!AG554+Method_input!$D$65*C558+Method_input!$D$65*D558+Method_input!$D$65*E558+Method_input!$D$65*F558","v":0},{"$f":"Method_input!$D$65*B558+Method_input!$D$64*Input_series!AG554+Method_input!$D$65*F558","v":0}]
[542,0,0,0,0,0,0,0,0,0,16,12,16,12,0,0,0,12,0,12,0,0,16,12,null,0,{"$f":"Method_input!$D$65*B559+Method_input!$D$64*Input_series!AG555+Method_input!$D$65*C559+Method_input!$D$65*D559+Method_input!$D$65*E559+Method_input!$D$65*F559","v":0},{"$f":"Method_input!$D$65*B559+Method_input!$D$64*Input_series!AG555+Method_input!$D$65*F559","v":0}]
[543,0,0,0,0,0,0,0,0,0,16,12,16,12,0,0,0,12,0,12,0,0,16,12,null,0,{"$f":"Method_input!$D$65*B560+Method_input!$D$64*Input_series!AG556+Method_input!$D$65*C560+Method_input!$D$65*D560+Method_input!$D$65*E560+Method_input!$D$65*F560","v":0},{"$f":"Method_input!$D$65*B560+Method_input!$D$64*Input_series!AG556+Method_input!$D$65*F560","v":0}]
[544,0,0,0,0,0,0,0,0,0,16,12,16,12,0,0,0,12,0,12,0,0,16,12,null,0,{"$f":"Method_input!$D$65*B561+Method_input!$D$64*Input_series!AG557+Method_input!$D$65*C561+Method_input!$D$65*D561+Method_input!$D$65*E561+Method_input!$D$65*F561","v":0},{"$f":"Method_input!$D$65*B561+Method_input!$D$64*Input_series!AG557+Method_input!$D$65*F561","v":0}]
[545,0,0,0,0,0,0,0,0,0,16,12,16,12,0,0,0,12,0,12,0,0,16,12,null,0,{"$f":"Method_input!$D$65*B562+Method_input!$D$64*Input_series!AG558+Method_input!$D$65*C562+Method_input!$D$65*D562+Method_input!$D$65*E562+Method_input!$D$65*F562","v":0},{"$f":"Method_input!$D$65*B562+Method_input!$D$64*Input_series!AG558+Method_input!$D$65*F562","v":0}]
[546,0,0,0,0,0,0,0,0,0,16,12,16,12,0,0,0,12,0,12,0,0,16,12,null,0,{"$f":"Method_input!$D$65*B563+Method_input!$D$64*Input_series!AG559+Method_input!$D$65*C563+Method_input!$D$65*D563+Method_input!$D$65*E563+Method_input!$D$65*F563","v":0},{"$f":"Method_input!$D$65*B563+Method_input!$D$64*Input_series!AG559+Method_input!$D$65*F563","v":0}]
[547,0,0,0,0,0,0,0,0,0,16,12,16,12,0,0,0,12,0,12,0,0,16,12,null,0,{"$f":"Method_input!$D$65*B564+Method_input!$D$64*Input_series!AG560+Method_input!$D$65*C564+Method_input!$D$65*D564+Method_input!$D$65*E564+Method_input!$D$65*F564","v":0},{"$f":"Method_input!$D$65*B564+Method_input!$D$64*Input_series!AG560+Method_input!$D$65*F564","v":0}]
[548,0,0,0,0,0,0,0,0,0,16,12,16,12,0,0,0,12,0,12,0,0,16,12,null,0,{"$f":"Method_input!$D$65*B565+Method_input!$D$64*Input_series!AG561+Method_input!$D$65*C565+Method_input!$D$65*D565+Method_input!$D$65*E565+Method_input!$D$65*F565","v":0},{"$f":"Method_input!$D$65*B565+Method_input!$D$64*Input_series!AG561+Method_input!$D$65*F565","v":0}]
[549,0,0,0,0,0,0,0,0,0,16,12,16,12,0,0,0,12,0,12,0,0,16,12,null,0,{"$f":"Method_input!$D$65*B566+Method_input!$D$64*Input_series!AG562+Method_input!$D$65*C566+Method_input!$D$65*D566+Method_input!$D$65*E566+Method_input!$D$65*F566","v":0},{"$f":"Method_input!$D$65*B566+Method_input!$D$64*Input_series!AG562+Method_input!$D$65*F566","v":0}]
[550,0,0,0,0,0,0,0,0,0,16,12,16,12,0,0,0,12,0,12,0,0,16,12,null,0,{"$f":"Method_input!$D$65*B567+Method_input!$D$64*Input_series!AG563+Method_input!$D$65*C567+Method_input!$D$65*D567+Method_input!$D$65*E567+Method_input!$D$65*F567","v":0},{"$f":"Method_input!$D$65*B567+Method_input!$D$64*Input_series!AG563+Method_input!$D$65*F567","v":0}]
[551,0,0,0,0,0,0,0,0,0,16,12,16,12,0,0,0,12,0,12,0,0,16,12,null,0,{"$f":"Method_input!$D$65*B568+Method_input!$D$64*Input_series!AG564+Method_input!$D$65*C568+Method_input!$D$65*D568+Method_input!$D$65*E568+Method_input!$D$65*F568","v":0},{"$f":"Method_input!$D$65*B568+Method_input!$D$64*Input_series!AG564+Method_input!$D$65*F568","v":0}]
[552,0,0,0,0,0,0,0,0,0,16,12,16,12,0,0,0,12,0,12,0,0,16,12,null,0,{"$f":"Method_input!$D$65*B569+Method_input!$D$64*Input_series!AG565+Method_input!$D$65*C569+Method_input!$D$65*D569+Method_input!$D$65*E569+Method_input!$D$65*F569","v":0},{"$f":"Method_input!$D$65*B569+Method_input!$D$64*Input_series!AG565+Method_input!$D$65*F569","v":0}]
[553,0,0,0,0,0,0,0,0,0,16,12,16,12,0,0,0,12,0,12,0,0,16,12,null,0,{"$f":"Method_input!$D$65*B570+Method_input!$D$64*Input_series!AG566+Method_input!$D$65*C570+Method_input!$D$65*D570+Method_input!$D$65*E570+Method_input!$D$65*F570","v":0},{"$f":"Method_input!$D$65*B570+Method_input!$D$64*Input_series!AG566+Method_input!$D$65*F570","v":0}]
[554,0,0,0,0,0,0,0,0,0,16,12,16,12,0,0,0,12,0,12,0,0,16,12,null,0,{"$f":"Method_input!$D$65*B571+Method_input!$D$64*Input_series!AG567+Method_input!$D$65*C571+Method_input!$D$65*D571+Method_input!$D$65*E571+Method_input!$D$65*F571","v":0},{"$f":"Method_input!$D$65*B571+Method_input!$D$64*Input_series!AG567+Method_input!$D$65*F571","v":0}]
[555,0,0,0,0,0,0,0,0,0,16,12,16,12,0,0,0,12,0,12,0,0,16,12,null,0,{"$f":"Method_input!$D$65*B572+Method_input!$D$64*Input_series!AG568+Method_input!$D$65*C572+Method_input!$D$65*D572+Method_input!$D$65*E572+Method_input!$D$65*F572","v":0},{"$f":"Method_input!$D$65*B572+Method_input!$D$64*Input_series!AG568+Method_input!$D$65*F572","v":0}]
[556,0,0,0,0,0,0,0,0,0,16,12,16,12,0,0,0,12,0,12,0,0,16,12,null,0,{"$f":"Method_input!$D$65*B573+Method_input!$D$64*Input_series!AG569+Method_input!$D$65*C573+Method_input!$D$65*D573+Method_input!$D$65*E573+Method_input!$D$65*F573","v":0},{"$f":"Method_input!$D$65*B573+Method_input!$D$64*Input_series!AG569+Method_input!$D$65*F573","v":0}]
[557,0,0,0,0,0,0,0,0,0,16,12,16,12,0,0,0,12,0,12,0,0,16,12,null,0,{"$f":"Method_input!$D$65*B574+Method_input!$D$64*Input_series!AG570+Method_input!$D$65*C574+Method_input!$D$65*D574+Method_input!$D$65*E574+Method_input!$D$65*F574","v":0},{"$f":"Method_input!$D$65*B574+Method_input!$D$64*Input_series!AG570+Method_input!$D$65*F574","v":0}]
[558,0,0,0,0,0,0,0,0,0,16,12,16,12,0,0,0,12,0,12,0,0,16,12,null,0,{"$f":"Method_input!$D$65*B575+Method_input!$D$64*Input_series!AG571+Method_input!$D$65*C575+Method_input!$D$65*D575+Method_input!$D$65*E575+Method_input!$D$65*F575","v":0},{"$f":"Method_input!$D$65*B575+Method_input!$D$64*Input_series!AG571+Method_input!$D$65*F575","v":0}]
[559,0,0,0,0,0,0,0,0,0,16,12,16,12,0,0,0,12,0,12,0,0,16,12,null,0,{"$f":"Method_input!$D$65*B576+Method_input!$D$64*Input_series!AG572+Method_input!$D$65*C576+Method_input!$D$65*D576+Method_input!$D$65*E576+Method_input!$D$65*F576","v":0},{"$f":"Method_input!$D$65*B576+Method_input!$D$64*Input_series!AG572+Method_input!$D$65*F576","v":0}]
[560,0,0,0,0,0,0,0,0,0,16,12,16,12,0,0,0,12,0,12,0,0,16,12,null,0,{"$f":"Method_input!$D$65*B577+Method_input!$D$64*Input_series!AG573+Method_input!$D$65*C577+Method_input!$D$65*D577+Method_input!$D$65*E577+Method_input!$D$65*F577","v":0},{"$f":"Method_input!$D$65*B577+Method_input!$D$64*Input_series!AG573+Method_input!$D$65*F577","v":0}]
[561,0,0,0,0,0,0,0,0,0,16,12,16,12,0,0,0,12,0,12,0,0,16,12,null,0,{"$f":"Method_input!$D$65*B578+Method_input!$D$64*Input_series!AG574+Method_input!$D$65*C578+Method_input!$D$65*D578+Method_input!$D$65*E578+Method_input!$D$65*F578","v":0},{"$f":"Method_input!$D$65*B578+Method_input!$D$64*Input_series!AG574+Method_input!$D$65*F578","v":0}]
[562,0,0,0,0,0,0,0,0,0,16,12,16,12,0,0,0,12,0,12,0,0,16,12,null,0,{"$f":"Method_input!$D$65*B579+Method_input!$D$64*Input_series!AG575+Method_input!$D$65*C579+Method_input!$D$65*D579+Method_input!$D$65*E579+Method_input!$D$65*F579","v":0},{"$f":"Method_input!$D$65*B579+Method_input!$D$64*Input_series!AG575+Method_input!$D$65*F579","v":0}]
[563,0,0,0,0,0,0,0,0,0,16,12,16,12,0,0,0,12,0,12,0,0,16,12,null,0,{"$f":"Method_input!$D$65*B580+Method_input!$D$64*Input_series!AG576+Method_input!$D$65*C580+Method_input!$D$65*D580+Method_input!$D$65*E580+Method_input!$D$65*F580","v":0},{"$f":"Method_input!$D$65*B580+Method_input!$D$64*Input_series!AG576+Method_input!$D$65*F580","v":0}]
[564,0,0,0,0,0,0,0,0,0,16,12,16,12,0,0,0,12,0,12,0,0,16,12,null,0,{"$f":"Method_input!$D$65*B581+Method_input!$D$64*Input_series!AG577+Method_input!$D$65*C581+Method_input!$D$65*D581+Method_input!$D$65*E581+Method_input!$D$65*F581","v":0},{"$f":"Method_input!$D$65*B581+Method_input!$D$64*Input_series!AG577+Method_input!$D$65*F581","v":0}]
[565,0,0,0,0,0,0,0,0,0,16,12,16,12,0,0,0,12,0,12,0,0,16,12,null,0,{"$f":"Method_input!$D$65*B582+Method_input!$D$64*Input_series!AG578+Method_input!$D$65*C582+Method_input!$D$65*D582+Method_input!$D$65*E582+Method_input!$D$65*F582","v":0},{"$f":"Method_input!$D$65*B582+Method_input!$D$64*Input_series!AG578+Method_input!$D$65*F582","v":0}]
[566,0,0,0,0,0,0,0,0,0,16,12,16,12,0,0,0,12,0,12,0,0,16,12,null,0,{"$f":"Method_input!$D$65*B583+Method_input!$D$64*Input_series!AG579+Method_input!$D$65*C583+Method_input!$D$65*D583+Method_input!$D$65*E583+Method_input!$D$65*F583","v":0},{"$f":"Method_input!$D$65*B583+Method_input!$D$64*Input_series!AG579+Method_input!$D$65*F583","v":0}]
[567,0,0,0,0,0,0,0,0,0,16,12,16,12,0,0,0,12,0,12,0,0,16,12,null,0,{"$f":"Method_input!$D$65*B584+Method_input!$D$64*Input_series!AG580+Method_input!$D$65*C584+Method_input!$D$65*D584+Method_input!$D$65*E584+Method_input!$D$65*F584","v":0},{"$f":"Method_input!$D$65*B584+Method_input!$D$64*Input_series!AG580+Method_input!$D$65*F584","v":0}]
[568,0,0,0,0,0,0,0,0,0,16,12,16,12,0,0,0,12,0,12,0,0,16,12,null,0,{"$f":"Method_input!$D$65*B585+Method_input!$D$64*Input_series!AG581+Method_input!$D$65*C585+Method_input!$D$65*D585+Method_input!$D$65*E585+Method_input!$D$65*F585","v":0},{"$f":"Method_input!$D$65*B585+Method_input!$D$64*Input_series!AG581+Method_input!$D$65*F585","v":0}]
[569,0,0,0,0,0,0,0,0,0,16,12,16,12,0,0,0,12,0,12,0,0,16,12,null,0,{"$f":"Method_input!$D$65*B586+Method_input!$D$64*Input_series!AG582+Method_input!$D$65*C586+Method_input!$D$65*D586+Method_input!$D$65*E586+Method_input!$D$65*F586","v":0},{"$f":"Method_input!$D$65*B586+Method_input!$D$64*Input_series!AG582+Method_input!$D$65*F586","v":0}]
[570,0,0,0,0,0,0,0,0,0,16,12,16,12,0,0,0,12,0,12,0,0,16,12,null,0,{"$f":"Method_input!$D$65*B587+Method_input!$D$64*Input_series!AG583+Method_input!$D$65*C587+Method_input!$D$65*D587+Method_input!$D$65*E587+Method_input!$D$65*F587","v":0},{"$f":"Method_input!$D$65*B587+Method_input!$D$64*Input_series!AG583+Method_input!$D$65*F587","v":0}]
[571,0,0,0,0,0,0,0,0,0,16,12,16,12,0,0,0,12,0,12,0,0,16,12,null,0,{"$f":"Method_input!$D$65*B588+Method_input!$D$64*Input_series!AG584+Method_input!$D$65*C588+Method_input!$D$65*D588+Method_input!$D$65*E588+Method_input!$D$65*F588","v":0},{"$f":"Method_input!$D$65*B588+Method_input!$D$64*Input_series!AG584+Method_input!$D$65*F588","v":0}]
[572,0,0,0,0,0,0,0,0,0,16,12,16,12,0,0,0,12,0,12,0,0,16,12,null,0,{"$f":"Method_input!$D$65*B589+Method_input!$D$64*Input_series!AG585+Method_input!$D$65*C589+Method_input!$D$65*D589+Method_input!$D$65*E589+Method_input!$D$65*F589","v":0},{"$f":"Method_input!$D$65*B589+Method_input!$D$64*Input_series!AG585+Method_input!$D$65*F589","v":0}]
[573,0,0,0,0,0,0,0,0,0,16,12,16,12,0,0,0,12,0,12,0,0,16,12,null,0,{"$f":"Method_input!$D$65*B590+Method_input!$D$64*Input_series!AG586+Method_input!$D$65*C590+Method_input!$D$65*D590+Method_input!$D$65*E590+Method_input!$D$65*F590","v":0},{"$f":"Method_input!$D$65*B590+Method_input!$D$64*Input_series!AG586+Method_input!$D$65*F590","v":0}]
[574,0,0,0,0,0,0,0,0,0,16,12,16,12,0,0,0,12,0,12,0,0,16,12,null,0,{"$f":"Method_input!$D$65*B591+Method_input!$D$64*Input_series!AG587+Method_input!$D$65*C591+Method_input!$D$65*D591+Method_input!$D$65*E591+Method_input!$D$65*F591","v":0},{"$f":"Method_input!$D$65*B591+Method_input!$D$64*Input_series!AG587+Method_input!$D$65*F591","v":0}]
[575,0,0,0,0,0,0,0,0,0,16,12,16,12,0,0,0,12,0,12,0,0,16,12,null,0,{"$f":"Method_input!$D$65*B592+Method_input!$D$64*Input_series!AG588+Method_input!$D$65*C592+Method_input!$D$65*D592+Method_input!$D$65*E592+Method_input!$D$65*F592","v":0},{"$f":"Method_input!$D$65*B592+Method_input!$D$64*Input_series!AG588+Method_input!$D$65*F592","v":0}]
[576,0,0,0,0,0,0,0,0,0,16,12,16,12,0,0,0,12,0,12,0,0,16,12,null,0,{"$f":"Method_input!$D$65*B593+Method_input!$D$64*Input_series!AG589+Method_input!$D$65*C593+Method_input!$D$65*D593+Method_input!$D$65*E593+Method_input!$D$65*F593","v":0},{"$f":"Method_input!$D$65*B593+Method_input!$D$64*Input_series!AG589+Method_input!$D$65*F593","v":0}]
[577,0,0,0,0,0,0,0,0,0,16,12,16,12,0,0,0,12,0,12,0,0,16,12,null,{"$f":"SUM(G594:J594,U594:V594)","v":0},{"$f":"Method_input!$D$65*B594+Method_input!$D$64*Input_series!AG590+Method_input!$D$65*C594+Method_input!$D$65*D594+Method_input!$D$65*E594+Method_input!$D$65*F594","v":0},{"$f":"Method_input!$D$65*B594+Method_input!$D$64*Input_series!AG590+Method_input!$D$65*F594","v":0}]
[578,0,0,0,0,0,0,0,0,0,16,12,16,12,0,0,0,12,0,12,0,0,16,12,null,0,{"$f":"Method_input!$D$65*B595+Method_input!$D$64*Input_series!AG591+Method_input!$D$65*C595+Method_input!$D$65*D595+Method_input!$D$65*E595+Method_input!$D$65*F595","v":0},{"$f":"Method_input!$D$65*B595+Method_input!$D$64*Input_series!AG591+Method_input!$D$65*F595","v":0}]
[579,0,0,0,0,0,0,0,0,0,16,12,16,12,0,0,0,12,0,12,0,0,16,12,null,0,{"$f":"Method_input!$D$65*B596+Method_input!$D$64*Input_series!AG592+Method_input!$D$65*C596+Method_input!$D$65*D596+Method_input!$D$65*E596+Method_input!$D$65*F596","v":0},{"$f":"Method_input!$D$65*B596+Method_input!$D$64*Input_series!AG592+Method_input!$D$65*F596","v":0}]
[580,0,0,0,0,0,0,0,0,0,16,12,16,12,0,0,0,12,0,12,0,0,16,12,null,0,{"$f":"Method_input!$D$65*B597+Method_input!$D$64*Input_series!AG593+Method_input!$D$65*C597+Method_input!$D$65*D597+Method_input!$D$65*E597+Method_input!$D$65*F597","v":0},{"$f":"Method_input!$D$65*B597+Method_input!$D$64*Input_series!AG593+Method_input!$D$65*F597","v":0}]
[581,0,0,0,0,0,0,0,0,0,16,12,16,12,0,0,0,12,0,12,0,0,16,12,null,0,{"$f":"Method_input!$D$65*B598+Method_input!$D$64*Input_series!AG594+Method_input!$D$65*C598+Method_input!$D$65*D598+Method_input!$D$65*E598+Method_input!$D$65*F598","v":0},{"$f":"Method_input!$D$65*B598+Method_input!$D$64*Input_series!AG594+Method_input!$D$65*F598","v":0}]
[582,0,0,0,0,0,0,0,0,0,16,12,16,12,0,0,0,12,0,12,0,0,16,12,null,0,{"$f":"Method_input!$D$65*B599+Method_input!$D$64*Input_series!AG595+Method_input!$D$65*C599+Method_input!$D$65*D599+Method_input!$D$65*E599+Method_input!$D$65*F599","v":0},{"$f":"Method_input!$D$65*B599+Method_input!$D$64*Input_series!AG595+Method_input!$D$65*F599","v":0}]
[583,0,0,0,0,0,0,0,0,0,16,12,16,12,0,0,0,12,0,12,0,0,16,12,null,0,{"$f":"Method_input!$D$65*B600+Method_input!$D$64*Input_series!AG596+Method_input!$D$65*C600+Method_input!$D$65*D600+Method_input!$D$65*E600+Method_input!$D$65*F600","v":0},{"$f":"Method_input!$D$65*B600+Method_input!$D$64*Input_series!AG596+Method_input!$D$65*F600","v":0}]
[584,0,0,0,0,0,0,0,0,0,16,12,16,12,0,0,0,12,0,12,0,0,16,12,null,0,{"$f":"Method_input!$D$65*B601+Method_input!$D$64*Input_series!AG597+Method_input!$D$65*C601+Method_input!$D$65*D601+Method_input!$D$65*E601+Method_input!$D$65*F601","v":0},{"$f":"Method_input!$D$65*B601+Method_input!$D$64*Input_series!AG597+Method_input!$D$65*F601","v":0}]
[585,0,0,0,0,0,0,0,0,0,16,12,16,12,0,0,0,12,0,12,0,0,16,12,null,0,{"$f":"Method_input!$D$65*B602+Method_input!$D$64*Input_series!AG598+Method_input!$D$65*C602+Method_input!$D$65*D602+Method_input!$D$65*E602+Method_input!$D$65*F602","v":0},{"$f":"Method_input!$D$65*B602+Method_input!$D$64*Input_series!AG598+Method_input!$D$65*F602","v":0}]
[586,0,0,0,0,0,0,0,0,0,16,12,16,12,0,0,0,12,0,12,0,0,16,12,null,0,{"$f":"Method_input!$D$65*B603+Method_input!$D$64*Input_series!AG599+Method_input!$D$65*C603+Method_input!$D$65*D603+Method_input!$D$65*E603+Method_input!$D$65*F603","v":0},{"$f":"Method_input!$D$65*B603+Method_input!$D$64*Input_series!AG599+Method_input!$D$65*F603","v":0}]
[587,0,0,0,0,0,0,0,0,0,16,12,16,12,0,0,0,12,0,12,0,0,16,12,null,0,{"$f":"Method_input!$D$65*B604+Method_input!$D$64*Input_series!AG600+Method_input!$D$65*C604+Method_input!$D$65*D604+Method_input!$D$65*E604+Method_input!$D$65*F604","v":0},{"$f":"Method_input!$D$65*B604+Method_input!$D$64*Input_series!AG600+Method_input!$D$65*F604","v":0}]
[588,0,0,0,0,0,0,0,0,0,16,12,16,12,0,0,0,12,0,12,0,0,16,12,null,0,{"$f":"Method_input!$D$65*B605+Method_input!$D$64*Input_series!AG601+Method_input!$D$65*C605+Method_input!$D$65*D605+Method_input!$D$65*E605+Method_input!$D$65*F605","v":0},{"$f":"Method_input!$D$65*B605+Method_input!$D$64*Input_series!AG601+Method_input!$D$65*F605","v":0}]
[589,0,0,0,0,0,0,0,0,0,16,12,16,12,0,0,0,12,0,12,0,0,16,12,null,0,{"$f":"Method_input!$D$65*B606+Method_input!$D$64*Input_series!AG602+Method_input!$D$65*C606+Method_input!$D$65*D606+Method_input!$D$65*E606+Method_input!$D$65*F606","v":0},{"$f":"Method_input!$D$65*B606+Method_input!$D$64*Input_series!AG602+Method_input!$D$65*F606","v":0}]
[590,0,0,0,0,0,0,0,0,0,16,12,16,12,0,0,0,12,0,12,0,0,16,12,null,0,{"$f":"Method_input!$D$65*B607+Method_input!$D$64*Input_series!AG603+Method_input!$D$65*C607+Method_input!$D$65*D607+Method_input!$D$65*E607+Method_input!$D$65*F607","v":0},{"$f":"Method_input!$D$65*B607+Method_input!$D$64*Input_series!AG603+Method_input!$D$65*F607","v":0}]
[591,0,0,0,0,0,0,0,0,0,16,12,16,12,0,0,0,12,0,12,0,0,16,12,null,0,{"$f":"Method_input!$D$65*B608+Method_input!$D$64*Input_series!AG604+Method_input!$D$65*C608+Method_input!$D$65*D608+Method_input!$D$65*E608+Method_input!$D$65*F608","v":0},{"$f":"Method_input!$D$65*B608+Method_input!$D$64*Input_series!AG604+Method_input!$D$65*F608","v":0}]
[592,0,0,0,0,0,0,0,0,0,16,12,16,12,0,0,0,12,0,12,0,0,16,12,null,0,{"$f":"Method_input!$D$65*B609+Method_input!$D$64*Input_series!AG605+Method_input!$D$65*C609+Method_input!$D$65*D609+Method_input!$D$65*E609+Method_input!$D$65*F609","v":0},{"$f":"Method_input!$D$65*B609+Method_input!$D$64*Input_series!AG605+Method_input!$D$65*F609","v":0}]
[593,0,0,0,0,0,0,0,0,0,16,12,16,12,0,0,0,12,0,12,0,0,16,12,null,0,{"$f":"Method_input!$D$65*B610+Method_input!$D$64*Input_series!AG606+Method_input!$D$65*C610+Method_input!$D$65*D610+Method_input!$D$65*E610+Method_input!$D$65*F610","v":0},{"$f":"Method_input!$D$65*B610+Method_input!$D$64*Input_series!AG606+Method_input!$D$65*F610","v":0}]
[594,0,0,0,0,0,0,0,0,0,16,12,16,12,0,0,0,12,0,12,0,0,16,12,null,0,{"$f":"Method_input!$D$65*B611+Method_input!$D$64*Input_series!AG607+Method_input!$D$65*C611+Method_input!$D$65*D611+Method_input!$D$65*E611+Method_input!$D$65*F611","v":0},{"$f":"Method_input!$D$65*B611+Method_input!$D$64*Input_series!AG607+Method_input!$D$65*F611","v":0}]
[595,0,0,0,0,0,0,0,0,0,16,12,16,12,0,0,0,12,0,12,0,0,16,12,null,0,{"$f":"Method_input!$D$65*B612+Method_input!$D$64*Input_series!AG608+Method_input!$D$65*C612+Method_input!$D$65*D612+Method_input!$D$65*E612+Method_input!$D$65*F612","v":0},{"$f":"Method_input!$D$65*B612+Method_input!$D$64*Input_series!AG608+Method_input!$D$65*F612","v":0}]
[596,0,0,0,0,0,0,0,0,0,16,12,16,12,0,0,0,12,0,12,0,0,16,12,null,0,{"$f":"Method_input!$D$65*B613+Method_input!$D$64*Input_series!AG609+Method_input!$D$65*C613+Method_input!$D$65*D613+Method_input!$D$65*E613+Method_input!$D$65*F613","v":0},{"$f":"Method_input!$D$65*B613+Method_input!$D$64*Input_series!AG609+Method_input!$D$65*F613","v":0}]
[597,0,0,0,0,0,0,0,0,0,16,12,16,12,0,0,0,12,0,12,0,0,16,12,null,0,{"$f":"Method_input!$D$65*B614+Method_input!$D$64*Input_series!AG610+Method_input!$D$65*C614+Method_input!$D$65*D614+Method_input!$D$65*E614+Method_input!$D$65*F614","v":0},{"$f":"Method_input!$D$65*B614+Method_input!$D$64*Input_series!AG610+Method_input!$D$65*F614","v":0}]
[598,0,0,0,0,0,0,0,0,0,16,12,16,12,0,0,0,12,0,12,0,0,16,12,null,0,{"$f":"Method_input!$D$65*B615+Method_input!$D$64*Input_series!AG611+Method_input!$D$65*C615+Method_input!$D$65*D615+Method_input!$D$65*E615+Method_input!$D$65*F615","v":0},{"$f":"Method_input!$D$65*B615+Method_input!$D$64*Input_series!AG611+Method_input!$D$65*F615","v":0}]
[599,0,0,0,0,0,0,0,0,0,16,12,16,12,0,0,0,12,0,12,0,0,16,12,null,0,{"$f":"Method_input!$D$65*B616+Method_input!$D$64*Input_series!AG612+Method_input!$D$65*C616+Method_input!$D$65*D616+Method_input!$D$65*E616+Method_input!$D$65*F616","v":0},{"$f":"Method_input!$D$65*B616+Method_input!$D$64*Input_series!AG612+Method_input!$D$65*F616","v":0}]
[600,0,0,0,0,0,0,0,0,0,16,12,16,12,0,0,0,12,0,12,0,0,16,12,null,0,{"$f":"Method_input!$D$65*B617+Method_input!$D$64*Input_series!AG613+Method_input!$D$65*C617+Method_input!$D$65*D617+Method_input!$D$65*E617+Method_input!$D$65*F617","v":0},{"$f":"Method_input!$D$65*B617+Method_input!$D$64*Input_series!AG613+Method_input!$D$65*F617","v":0}]
[601,0,0,0,0,0,0,0,0,0,16,12,16,12,0,0,0,12,0,12,0,0,16,12,null,0,{"$f":"Method_input!$D$65*B618+Method_input!$D$64*Input_series!AG614+Method_input!$D$65*C618+Method_input!$D$65*D618+Method_input!$D$65*E618+Method_input!$D$65*F618","v":0},{"$f":"Method_input!$D$65*B618+Method_input!$D$64*Input_series!AG614+Method_input!$D$65*F618","v":0}]
[602,0,0,0,0,0,0,0,0,0,16,12,16,12,0,0,0,12,0,12,0,0,16,12,null,0,{"$f":"Method_input!$D$65*B619+Method_input!$D$64*Input_series!AG615+Method_input!$D$65*C619+Method_input!$D$65*D619+Method_input!$D$65*E619+Method_input!$D$65*F619","v":0},{"$f":"Method_input!$D$65*B619+Method_input!$D$64*Input_series!AG615+Method_input!$D$65*F619","v":0}]
[603,0,0,0,0,0,0,0,0,0,16,12,16,12,0,0,0,12,0,12,0,0,16,12,null,0,{"$f":"Method_input!$D$65*B620+Method_input!$D$64*Input_series!AG616+Method_input!$D$65*C620+Method_input!$D$65*D620+Method_input!$D$65*E620+Method_input!$D$65*F620","v":0},{"$f":"Method_input!$D$65*B620+Method_input!$D$64*Input_series!AG616+Method_input!$D$65*F620","v":0}]
[604,0,0,0,0,0,0,0,0,0,16,12,16,12,0,0,0,12,0,12,0,0,16,12,null,0,{"$f":"Method_input!$D$65*B621+Method_input!$D$64*Input_series!AG617+Method_input!$D$65*C621+Method_input!$D$65*D621+Method_input!$D$65*E621+Method_input!$D$65*F621","v":0},{"$f":"Method_input!$D$65*B621+Method_input!$D$64*Input_series!AG617+Method_input!$D$65*F621","v":0}]
[605,0,0,0,0,0,0,0,0,0,16,12,16,12,0,0,0,12,0,12,0,0,16,12,null,0,{"$f":"Method_input!$D$65*B622+Method_input!$D$64*Input_series!AG618+Method_input!$D$65*C622+Method_input!$D$65*D622+Method_input!$D$65*E622+Method_input!$D$65*F622","v":0},{"$f":"Method_input!$D$65*B622+Method_input!$D$64*Input_series!AG618+Method_input!$D$65*F622","v":0}]
[606,0,0,0,0,0,0,0,0,0,16,12,16,12,0,0,0,12,0,12,0,0,16,12,null,0,{"$f":"Method_input!$D$65*B623+Method_input!$D$64*Input_series!AG619+Method_input!$D$65*C623+Method_input!$D$65*D623+Method_input!$D$65*E623+Method_input!$D$65*F623","v":0},{"$f":"Method_input!$D$65*B623+Method_input!$D$64*Input_series!AG619+Method_input!$D$65*F623","v":0}]
[607,0,0,0,0,0,0,0,0,0,16,12,16,12,0,0,0,12,0,12,0,0,16,12,null,0,{"$f":"Method_input!$D$65*B624+Method_input!$D$64*Input_series!AG620+Method_input!$D$65*C624+Method_input!$D$65*D624+Method_input!$D$65*E624+Method_input!$D$65*F624","v":0},{"$f":"Method_input!$D$65*B624+Method_input!$D$64*Input_series!AG620+Method_input!$D$65*F624","v":0}]
[608,0,0,0,0,0,0,0,0,0,16,12,16,12,0,0,0,12,0,12,0,0,16,12,null,0,{"$f":"Method_input!$D$65*B625+Method_input!$D$64*Input_series!AG621+Method_input!$D$65*C625+Method_input!$D$65*D625+Method_input!$D$65*E625+Method_input!$D$65*F625","v":0},{"$f":"Method_input!$D$65*B625+Method_input!$D$64*Input_series!AG621+Method_input!$D$65*F625","v":0}]
[609,0,0,0,0,0,0,0,0,0,16,12,16,12,0,0,0,12,0,12,0,0,16,12,null,0,{"$f":"Method_input!$D$65*B626+Method_input!$D$64*Input_series!AG622+Method_input!$D$65*C626+Method_input!$D$65*D626+Method_input!$D$65*E626+Method_input!$D$65*F626","v":0},{"$f":"Method_input!$D$65*B626+Method_input!$D$64*Input_series!AG622+Method_input!$D$65*F626","v":0}]
[610,0,0,0,0,0,0,0,0,0,16,12,16,12,0,0,0,12,0,12,0,0,16,12,null,0,{"$f":"Method_input!$D$65*B627+Method_input!$D$64*Input_series!AG623+Method_input!$D$65*C627+Method_input!$D$65*D627+Method_input!$D$65*E627+Method_input!$D$65*F627","v":0},{"$f":"Method_input!$D$65*B627+Method_input!$D$64*Input_series!AG623+Method_input!$D$65*F627","v":0}]
[611,0,0,0,0,0,0,0,0,0,16,12,16,12,0,0,0,12,0,12,0,0,16,12,null,0,{"$f":"Method_input!$D$65*B628+Method_input!$D$64*Input_series!AG624+Method_input!$D$65*C628+Method_input!$D$65*D628+Method_input!$D$65*E628+Method_input!$D$65*F628","v":0},{"$f":"Method_input!$D$65*B628+Method_input!$D$64*Input_series!AG624+Method_input!$D$65*F628","v":0}]
[612,0,0,0,0,0,0,0,0,0,16,12,16,12,0,0,0,12,0,12,0,0,16,12,null,0,{"$f":"Method_input!$D$65*B629+Method_input!$D$64*Input_series!AG625+Method_input!$D$65*C629+Method_input!$D$65*D629+Method_input!$D$65*E629+Method_input!$D$65*F629","v":0},{"$f":"Method_input!$D$65*B629+Method_input!$D$64*Input_series!AG625+Method_input!$D$65*F629","v":0}]
[613,0,0,0,0,0,0,0,0,0,16,12,16,12,0,0,0,12,0,12,0,0,16,12,null,0,{"$f":"Method_input!$D$65*B630+Method_input!$D$64*Input_series!AG626+Method_input!$D$65*C630+Method_input!$D$65*D630+Method_input!$D$65*E630+Method_input!$D$65*F630","v":0},{"$f":"Method_input!$D$65*B630+Method_input!$D$64*Input_series!AG626+Method_input!$D$65*F630","v":0}]
[614,0,0,0,0,0,0,0,0,0,16,12,16,12,0,0,0,12,0,12,0,0,16,12,null,0,{"$f":"Method_input!$D$65*B631+Method_input!$D$64*Input_series!AG627+Method_input!$D$65*C631+Method_input!$D$65*D631+Method_input!$D$65*E631+Method_input!$D$65*F631","v":0},{"$f":"Method_input!$D$65*B631+Method_input!$D$64*Input_series!AG627+Method_input!$D$65*F631","v":0}]
[615,0,0,0,0,0,0,0,0,0,16,12,16,12,0,0,0,12,0,12,0,0,16,12,null,0,{"$f":"Method_input!$D$65*B632+Method_input!$D$64*Input_series!AG628+Method_input!$D$65*C632+Method_input!$D$65*D632+Method_input!$D$65*E632+Method_input!$D$65*F632","v":0},{"$f":"Method_input!$D$65*B632+Method_input!$D$64*Input_series!AG628+Method_input!$D$65*F632","v":0}]
[616,0,0,0,0,0,0,0,0,0,16,12,16,12,0,0,0,12,0,12,0,0,16,12,null,0,{"$f":"Method_input!$D$65*B633+Method_input!$D$64*Input_series!AG629+Method_input!$D$65*C633+Method_input!$D$65*D633+Method_input!$D$65*E633+Method_input!$D$65*F633","v":0},{"$f":"Method_input!$D$65*B633+Method_input!$D$64*Input_series!AG629+Method_input!$D$65*F633","v":0}]
[617,0,0,0,0,0,0,0,0,0,16,12,16,12,0,0,0,12,0,12,0,0,16,12,null,0,{"$f":"Method_input!$D$65*B634+Method_input!$D$64*Input_series!AG630+Method_input!$D$65*C634+Method_input!$D$65*D634+Method_input!$D$65*E634+Method_input!$D$65*F634","v":0},{"$f":"Method_input!$D$65*B634+Method_input!$D$64*Input_series!AG630+Method_input!$D$65*F634","v":0}]
[618,0,0,0,0,0,0,0,0,0,16,12,16,12,0,0,0,12,0,12,0,0,16,12,null,0,{"$f":"Method_input!$D$65*B635+Method_input!$D$64*Input_series!AG631+Method_input!$D$65*C635+Method_input!$D$65*D635+Method_input!$D$65*E635+Method_input!$D$65*F635","v":0},{"$f":"Method_input!$D$65*B635+Method_input!$D$64*Input_series!AG631+Method_input!$D$65*F635","v":0}]
[619,0,0,0,0,0,0,0,0,0,16,12,16,12,0,0,0,12,0,12,0,0,16,12,null,0,{"$f":"Method_input!$D$65*B636+Method_input!$D$64*Input_series!AG632+Method_input!$D$65*C636+Method_input!$D$65*D636+Method_input!$D$65*E636+Method_input!$D$65*F636","v":0},{"$f":"Method_input!$D$65*B636+Method_input!$D$64*Input_series!AG632+Method_input!$D$65*F636","v":0}]
[620,0,0,0,0,0,0,0,0,0,16,12,16,12,0,0,0,12,0,12,0,0,16,12,null,0,{"$f":"Method_input!$D$65*B637+Method_input!$D$64*Input_series!AG633+Method_input!$D$65*C637+Method_input!$D$65*D637+Method_input!$D$65*E637+Method_input!$D$65*F637","v":0},{"$f":"Method_input!$D$65*B637+Method_input!$D$64*Input_series!AG633+Method_input!$D$65*F637","v":0}]
[621,0,0,0,0,0,0,0,0,0,16,12,16,12,0,0,0,12,0,12,0,0,16,12,null,0,{"$f":"Method_input!$D$65*B638+Method_input!$D$64*Input_series!AG634+Method_input!$D$65*C638+Method_input!$D$65*D638+Method_input!$D$65*E638+Method_input!$D$65*F638","v":0},{"$f":"Method_input!$D$65*B638+Method_input!$D$64*Input_series!AG634+Method_input!$D$65*F638","v":0}]
[622,0,0,0,0,0,0,0,0,0,16,12,16,12,0,0,0,12,0,12,0,0,16,12,null,0,{"$f":"Method_input!$D$65*B639+Method_input!$D$64*Input_series!AG635+Method_input!$D$65*C639+Method_input!$D$65*D639+Method_input!$D$65*E639+Method_input!$D$65*F639","v":0},{"$f":"Method_input!$D$65*B639+Method_input!$D$64*Input_series!AG635+Method_input!$D$65*F639","v":0}]
[623,0,0,0,0,0,0,0,0,0,16,12,16,12,0,0,0,12,0,12,0,0,16,12,null,0,{"$f":"Method_input!$D$65*B640+Method_input!$D$64*Input_series!AG636+Method_input!$D$65*C640+Method_input!$D$65*D640+Method_input!$D$65*E640+Method_input!$D$65*F640","v":0},{"$f":"Method_input!$D$65*B640+Method_input!$D$64*Input_series!AG636+Method_input!$D$65*F640","v":0}]
[624,0,0,0,0,0,0,0,0,0,16,12,16,12,0,0,0,12,0,12,0,0,16,12,null,0,{"$f":"Method_input!$D$65*B641+Method_input!$D$64*Input_series!AG637+Method_input!$D$65*C641+Method_input!$D$65*D641+Method_input!$D$65*E641+Method_input!$D$65*F641","v":0},{"$f":"Method_input!$D$65*B641+Method_input!$D$64*Input_series!AG637+Method_input!$D$65*F641","v":0}]
[625,0,0,0,0,0,0,0,0,0,16,12,16,12,0,0,0,12,0,12,0,0,16,12,null,0,{"$f":"Method_input!$D$65*B642+Method_input!$D$64*Input_series!AG638+Method_input!$D$65*C642+Method_input!$D$65*D642+Method_input!$D$65*E642+Method_input!$D$65*F642","v":0},{"$f":"Method_input!$D$65*B642+Method_input!$D$64*Input_series!AG638+Method_input!$D$65*F642","v":0}]
[626,0,0,0,0,0,0,0,0,0,16,12,16,12,0,0,0,12,0,12,0,0,16,12,null,0,{"$f":"Method_input!$D$65*B643+Method_input!$D$64*Input_series!AG639+Method_input!$D$65*C643+Method_input!$D$65*D643+Method_input!$D$65*E643+Method_input!$D$65*F643","v":0},{"$f":"Method_input!$D$65*B643+Method_input!$D$64*Input_series!AG639+Method_input!$D$65*F643","v":0}]
[627,0,0,0,0,0,0,0,0,0,16,12,16,12,0,0,0,12,0,12,0,0,16,12,null,0,{"$f":"Method_input!$D$65*B644+Method_input!$D$64*Input_series!AG640+Method_input!$D$65*C644+Method_input!$D$65*D644+Method_input!$D$65*E644+Method_input!$D$65*F644","v":0},{"$f":"Method_input!$D$65*B644+Method_input!$D$64*Input_series!AG640+Method_input!$D$65*F644","v":0}]
[628,0,0,0,0,0,0,0,0,0,16,12,16,12,0,0,0,12,0,12,0,0,16,12,null,0,{"$f":"Method_input!$D$65*B645+Method_input!$D$64*Input_series!AG641+Method_input!$D$65*C645+Method_input!$D$65*D645+Method_input!$D$65*E645+Method_input!$D$65*F645","v":0},{"$f":"Method_input!$D$65*B645+Method_input!$D$64*Input_series!AG641+Method_input!$D$65*F645","v":0}]
[629,0,0,0,0,0,0,0,0,0,16,12,16,12,0,0,0,12,0,12,0,0,16,12,null,0,{"$f":"Method_input!$D$65*B646+Method_input!$D$64*Input_series!AG642+Method_input!$D$65*C646+Method_input!$D$65*D646+Method_input!$D$65*E646+Method_input!$D$65*F646","v":0},{"$f":"Method_input!$D$65*B646+Method_input!$D$64*Input_series!AG642+Method_input!$D$65*F646","v":0}]
[630,0,0,0,0,0,0,0,0,0,16,12,16,12,0,0,0,12,0,12,0,0,16,12,null,0,{"$f":"Method_input!$D$65*B647+Method_input!$D$64*Input_series!AG643+Method_input!$D$65*C647+Method_input!$D$65*D647+Method_input!$D$65*E647+Method_input!$D$65*F647","v":0},{"$f":"Method_input!$D$65*B647+Method_input!$D$64*Input_series!AG643+Method_input!$D$65*F647","v":0}]
[631,0,0,0,0,0,0,0,0,0,16,12,16,12,0,0,0,12,0,12,0,0,16,12,null,0,{"$f":"Method_input!$D$65*B648+Method_input!$D$64*Input_series!AG644+Method_input!$D$65*C648+Method_input!$D$65*D648+Method_input!$D$65*E648+Method_input!$D$65*F648","v":0},{"$f":"Method_input!$D$65*B648+Method_input!$D$64*Input_series!AG644+Method_input!$D$65*F648","v":0}]
[632,0,0,0,0,0,0,0,0,0,16,12,16,12,0,0,0,12,0,12,0,0,16,12,null,0,{"$f":"Method_input!$D$65*B649+Method_input!$D$64*Input_series!AG645+Method_input!$D$65*C649+Method_input!$D$65*D649+Method_input!$D$65*E649+Method_input!$D$65*F649","v":0},{"$f":"Method_input!$D$65*B649+Method_input!$D$64*Input_series!AG645+Method_input!$D$65*F649","v":0}]
[633,0,0,0,0,0,0,0,0,0,16,12,16,12,0,0,0,12,0,12,0,0,16,12,null,0,{"$f":"Method_input!$D$65*B650+Method_input!$D$64*Input_series!AG646+Method_input!$D$65*C650+Method_input!$D$65*D650+Method_input!$D$65*E650+Method_input!$D$65*F650","v":0},{"$f":"Method_input!$D$65*B650+Method_input!$D$64*Input_series!AG646+Method_input!$D$65*F650","v":0}]
[634,0,0,0,0,0,0,0,0,0,16,12,16,12,0,0,0,12,0,12,0,0,16,12,null,0,{"$f":"Method_input!$D$65*B651+Method_input!$D$64*Input_series!AG647+Method_input!$D$65*C651+Method_input!$D$65*D651+Method_input!$D$65*E651+Method_input!$D$65*F651","v":0},{"$f":"Method_input!$D$65*B651+Method_input!$D$64*Input_series!AG647+Method_input!$D$65*F651","v":0}]
[635,0,0,0,0,0,0,0,0,0,16,12,16,12,0,0,0,12,0,12,0,0,16,12,null,0,{"$f":"Method_input!$D$65*B652+Method_input!$D$64*Input_series!AG648+Method_input!$D$65*C652+Method_input!$D$65*D652+Method_input!$D$65*E652+Method_input!$D$65*F652","v":0},{"$f":"Method_input!$D$65*B652+Method_input!$D$64*Input_series!AG648+Method_input!$D$65*F652","v":0}]
[636,0,0,0,0,0,0,0,0,0,16,12,16,12,0,0,0,12,0,12,0,0,16,12,null,0,{"$f":"Method_input!$D$65*B653+Method_input!$D$64*Input_series!AG649+Method_input!$D$65*C653+Method_input!$D$65*D653+Method_input!$D$65*E653+Method_input!$D$65*F653","v":0},{"$f":"Method_input!$D$65*B653+Method_input!$D$64*Input_series!AG649+Method_input!$D$65*F653","v":0}]
[637,0,0,0,0,0,0,0,0,0,16,12,16,12,0,0,0,12,0,12,0,0,16,12,null,0,{"$f":"Method_input!$D$65*B654+Method_input!$D$64*Input_series!AG650+Method_input!$D$65*C654+Method_input!$D$65*D654+Method_input!$D$65*E654+Method_input!$D$65*F654","v":0},{"$f":"Method_input!$D$65*B654+Method_input!$D$64*Input_series!AG650+Method_input!$D$65*F654","v":0}]
[638,0,0,0,0,0,0,0,0,0,16,12,16,12,0,0,0,12,0,12,0,0,16,12,null,0,{"$f":"Method_input!$D$65*B655+Method_input!$D$64*Input_series!AG651+Method_input!$D$65*C655+Method_input!$D$65*D655+Method_input!$D$65*E655+Method_input!$D$65*F655","v":0},{"$f":"Method_input!$D$65*B655+Method_input!$D$64*Input_series!AG651+Method_input!$D$65*F655","v":0}]
[639,0,0,0,0,0,0,0,0,0,16,12,16,12,0,0,0,12,0,12,0,0,16,12,null,0,{"$f":"Method_input!$D$65*B656+Method_input!$D$64*Input_series!AG652+Method_input!$D$65*C656+Method_input!$D$65*D656+Method_input!$D$65*E656+Method_input!$D$65*F656","v":0},{"$f":"Method_input!$D$65*B656+Method_input!$D$64*Input_series!AG652+Method_input!$D$65*F656","v":0}]
[640,0,0,0,0,0,0,0,0,0,16,12,16,12,0,0,0,12,0,12,0,0,16,12,null,0,{"$f":"Method_input!$D$65*B657+Method_input!$D$64*Input_series!AG653+Method_input!$D$65*C657+Method_input!$D$65*D657+Method_input!$D$65*E657+Method_input!$D$65*F657","v":0},{"$f":"Method_input!$D$65*B657+Method_input!$D$64*Input_series!AG653+Method_input!$D$65*F657","v":0}]
[641,0,0,0,0,0,0,0,0,0,16,12,16,12,0,0,0,12,0,12,0,0,16,12,null,{"$f":"SUM(G658:J658,U658:V658)","v":0},{"$f":"Method_input!$D$65*B658+Method_input!$D$64*Input_series!AG654+Method_input!$D$65*C658+Method_input!$D$65*D658+Method_input!$D$65*E658+Method_input!$D$65*F658","v":0},{"$f":"Method_input!$D$65*B658+Method_input!$D$64*Input_series!AG654+Method_input!$D$65*F658","v":0}]
[642,0,0,0,0,0,0,0,0,0,16,12,16,12,0,0,0,12,0,12,0,0,16,12,null,0,{"$f":"Method_input!$D$65*B659+Method_input!$D$64*Input_series!AG655+Method_input!$D$65*C659+Method_input!$D$65*D659+Method_input!$D$65*E659+Method_input!$D$65*F659","v":0},{"$f":"Method_input!$D$65*B659+Method_input!$D$64*Input_series!AG655+Method_input!$D$65*F659","v":0}]
[643,0,0,0,0,0,0,0,0,0,16,12,16,12,0,0,0,12,0,12,0,0,16,12,null,0,{"$f":"Method_input!$D$65*B660+Method_input!$D$64*Input_series!AG656+Method_input!$D$65*C660+Method_input!$D$65*D660+Method_input!$D$65*E660+Method_input!$D$65*F660","v":0},{"$f":"Method_input!$D$65*B660+Method_input!$D$64*Input_series!AG656+Method_input!$D$65*F660","v":0}]
[644,0,0,0,0,0,0,0,0,0,16,12,16,12,0,0,0,12,0,12,0,0,16,12,null,0,{"$f":"Method_input!$D$65*B661+Method_input!$D$64*Input_series!AG657+Method_input!$D$65*C661+Method_input!$D$65*D661+Method_input!$D$65*E661+Method_input!$D$65*F661","v":0},{"$f":"Method_input!$D$65*B661+Method_input!$D$64*Input_series!AG657+Method_input!$D$65*F661","v":0}]
[645,0,0,0,0,0,0,0,0,0,16,12,16,12,0,0,0,12,0,12,0,0,16,12,null,0,{"$f":"Method_input!$D$65*B662+Method_input!$D$64*Input_series!AG658+Method_input!$D$65*C662+Method_input!$D$65*D662+Method_input!$D$65*E662+Method_input!$D$65*F662","v":0},{"$f":"Method_input!$D$65*B662+Method_input!$D$64*Input_series!AG658+Method_input!$D$65*F662","v":0}]
[646,0,0,0,0,0,0,0,0,0,16,12,16,12,0,0,0,12,0,12,0,0,16,12,null,0,{"$f":"Method_input!$D$65*B663+Method_input!$D$64*Input_series!AG659+Method_input!$D$65*C663+Method_input!$D$65*D663+Method_input!$D$65*E663+Method_input!$D$65*F663","v":0},{"$f":"Method_input!$D$65*B663+Method_input!$D$64*Input_series!AG659+Method_input!$D$65*F663","v":0}]
[647,0,0,0,0,0,0,0,0,0,16,12,16,12,0,0,0,12,0,12,0,0,16,12,null,0,{"$f":"Method_input!$D$65*B664+Method_input!$D$64*Input_series!AG660+Method_input!$D$65*C664+Method_input!$D$65*D664+Method_input!$D$65*E664+Method_input!$D$65*F664","v":0},{"$f":"Method_input!$D$65*B664+Method_input!$D$64*Input_series!AG660+Method_input!$D$65*F664","v":0}]
[648,0,0,0,0,0,0,0,0,0,16,12,16,12,0,0,0,12,0,12,0,0,16,12,null,0,{"$f":"Method_input!$D$65*B665+Method_input!$D$64*Input_series!AG661+Method_input!$D$65*C665+Method_input!$D$65*D665+Method_input!$D$65*E665+Method_input!$D$65*F665","v":0},{"$f":"Method_input!$D$65*B665+Method_input!$D$64*Input_series!AG661+Method_input!$D$65*F665","v":0}]
[649,0,0,0,0,0,0,0,0,0,16,12,16,12,0,0,0,12,0,12,0,0,16,12,null,0,{"$f":"Method_input!$D$65*B666+Method_input!$D$64*Input_series!AG662+Method_input!$D$65*C666+Method_input!$D$65*D666+Method_input!$D$65*E666+Method_input!$D$65*F666","v":0},{"$f":"Method_input!$D$65*B666+Method_input!$D$64*Input_series!AG662+Method_input!$D$65*F666","v":0}]
[650,0,0,0,0,0,0,0,0,0,16,12,16,12,0,0,0,12,0,12,0,0,16,12,null,0,{"$f":"Method_input!$D$65*B667+Method_input!$D$64*Input_series!AG663+Method_input!$D$65*C667+Method_input!$D$65*D667+Method_input!$D$65*E667+Method_input!$D$65*F667","v":0},{"$f":"Method_input!$D$65*B667+Method_input!$D$64*Input_series!AG663+Method_input!$D$65*F667","v":0}]
[651,0,0,0,0,0,0,0,0,0,16,12,16,12,0,0,0,12,0,12,0,0,16,12,null,0,{"$f":"Method_input!$D$65*B668+Method_input!$D$64*Input_series!AG664+Method_input!$D$65*C668+Method_input!$D$65*D668+Method_input!$D$65*E668+Method_input!$D$65*F668","v":0},{"$f":"Method_input!$D$65*B668+Method_input!$D$64*Input_series!AG664+Method_input!$D$65*F668","v":0}]
[652,0,0,0,0,0,0,0,0,0,16,12,16,12,0,0,0,12,0,12,0,0,16,12,null,0,{"$f":"Method_input!$D$65*B669+Method_input!$D$64*Input_series!AG665+Method_input!$D$65*C669+Method_input!$D$65*D669+Method_input!$D$65*E669+Method_input!$D$65*F669","v":0},{"$f":"Method_input!$D$65*B669+Method_input!$D$64*Input_series!AG665+Method_input!$D$65*F669","v":0}]
[653,0,0,0,0,0,0,0,0,0,16,12,16,12,0,0,0,12,0,12,0,0,16,12,null,0,{"$f":"Method_input!$D$65*B670+Method_input!$D$64*Input_series!AG666+Method_input!$D$65*C670+Method_input!$D$65*D670+Method_input!$D$65*E670+Method_input!$D$65*F670","v":0},{"$f":"Method_input!$D$65*B670+Method_input!$D$64*Input_series!AG666+Method_input!$D$65*F670","v":0}]
[654,0,0,0,0,0,0,0,0,0,16,12,16,12,0,0,0,12,0,12,0,0,16,12,null,0,{"$f":"Method_input!$D$65*B671+Method_input!$D$64*Input_series!AG667+Method_input!$D$65*C671+Method_input!$D$65*D671+Method_input!$D$65*E671+Method_input!$D$65*F671","v":0},{"$f":"Method_input!$D$65*B671+Method_input!$D$64*Input_series!AG667+Method_input!$D$65*F671","v":0}]
[655,0,0,0,0,0,0,0,0,0,16,12,16,12,0,0,0,12,0,12,0,0,16,12,null,0,{"$f":"Method_input!$D$65*B672+Method_input!$D$64*Input_series!AG668+Method_input!$D$65*C672+Method_input!$D$65*D672+Method_input!$D$65*E672+Method_input!$D$65*F672","v":0},{"$f":"Method_input!$D$65*B672+Method_input!$D$64*Input_series!AG668+Method_input!$D$65*F672","v":0}]
[656,0,0,0,0,0,0,0,0,0,16,12,16,12,0,0,0,12,0,12,0,0,16,12,null,0,{"$f":"Method_input!$D$65*B673+Method_input!$D$64*Input_series!AG669+Method_input!$D$65*C673+Method_input!$D$65*D673+Method_input!$D$65*E673+Method_input!$D$65*F673","v":0},{"$f":"Method_input!$D$65*B673+Method_input!$D$64*Input_series!AG669+Method_input!$D$65*F673","v":0}]
[657,0,0,0,0,0,0,0,0,0,16,12,16,12,0,0,0,12,0,12,0,0,16,12,null,0,{"$f":"Method_input!$D$65*B674+Method_input!$D$64*Input_series!AG670+Method_input!$D$65*C674+Method_input!$D$65*D674+Method_input!$D$65*E674+Method_input!$D$65*F674","v":0},{"$f":"Method_input!$D$65*B674+Method_input!$D$64*Input_series!AG670+Method_input!$D$65*F674","v":0}]
[658,0,0,0,0,0,0,0,0,0,16,12,16,12,0,0,0,12,0,12,0,0,16,12,null,0,{"$f":"Method_input!$D$65*B675+Method_input!$D$64*Input_series!AG671+Method_input!$D$65*C675+Method_input!$D$65*D675+Method_input!$D$65*E675+Method_input!$D$65*F675","v":0},{"$f":"Method_input!$D$65*B675+Method_input!$D$64*Input_series!AG671+Method_input!$D$65*F675","v":0}]
[659,0,0,0,0,0,0,0,0,0,16,12,16,12,0,0,0,12,0,12,0,0,16,12,null,0,{"$f":"Method_input!$D$65*B676+Method_input!$D$64*Input_series!AG672+Method_input!$D$65*C676+Method_input!$D$65*D676+Method_input!$D$65*E676+Method_input!$D$65*F676","v":0},{"$f":"Method_input!$D$65*B676+Method_input!$D$64*Input_series!AG672+Method_input!$D$65*F676","v":0}]
[660,0,0,0,0,0,0,0,0,0,16,12,16,12,0,0,0,12,0,12,0,0,16,12,null,0,{"$f":"Method_input!$D$65*B677+Method_input!$D$64*Input_series!AG673+Method_input!$D$65*C677+Method_input!$D$65*D677+Method_input!$D$65*E677+Method_input!$D$65*F677","v":0},{"$f":"Method_input!$D$65*B677+Method_input!$D$64*Input_series!AG673+Method_input!$D$65*F677","v":0}]
[661,0,0,0,0,0,0,0,0,0,16,12,16,12,0,0,0,12,0,12,0,0,16,12,null,0,{"$f":"Method_input!$D$65*B678+Method_input!$D$64*Input_series!AG674+Method_input!$D$65*C678+Method_input!$D$65*D678+Method_input!$D$65*E678+Method_input!$D$65*F678","v":0},{"$f":"Method_input!$D$65*B678+Method_input!$D$64*Input_series!AG674+Method_input!$D$65*F678","v":0}]
[662,0,0,0,0,0,0,0,0,0,16,12,16,12,0,0,0,12,0,12,0,0,16,12,null,0,{"$f":"Method_input!$D$65*B679+Method_input!$D$64*Input_series!AG675+Method_input!$D$65*C679+Method_input!$D$65*D679+Method_input!$D$65*E679+Method_input!$D$65*F679","v":0},{"$f":"Method_input!$D$65*B679+Method_input!$D$64*Input_series!AG675+Method_input!$D$65*F679","v":0}]
[663,0,0,0,0,0,0,0,0,0,16,12,16,12,0,0,0,12,0,12,0,0,16,12,null,0,{"$f":"Method_input!$D$65*B680+Method_input!$D$64*Input_series!AG676+Method_input!$D$65*C680+Method_input!$D$65*D680+Method_input!$D$65*E680+Method_input!$D$65*F680","v":0},{"$f":"Method_input!$D$65*B680+Method_input!$D$64*Input_series!AG676+Method_input!$D$65*F680","v":0}]
[664,0,0,0,0,0,0,0,0,0,16,12,16,12,0,0,0,12,0,12,0,0,16,12,null,0,{"$f":"Method_input!$D$65*B681+Method_input!$D$64*Input_series!AG677+Method_input!$D$65*C681+Method_input!$D$65*D681+Method_input!$D$65*E681+Method_input!$D$65*F681","v":0},{"$f":"Method_input!$D$65*B681+Method_input!$D$64*Input_series!AG677+Method_input!$D$65*F681","v":0}]
[665,0,0,0,0,0,0,0,0,0,16,12,16,12,0,0,0,12,0,12,0,0,16,12,null,0,{"$f":"Method_input!$D$65*B682+Method_input!$D$64*Input_series!AG678+Method_input!$D$65*C682+Method_input!$D$65*D682+Method_input!$D$65*E682+Method_input!$D$65*F682","v":0},{"$f":"Method_input!$D$65*B682+Method_input!$D$64*Input_series!AG678+Method_input!$D$65*F682","v":0}]
[666,0,0,0,0,0,0,0,0,0,16,12,16,12,0,0,0,12,0,12,0,0,16,12,null,0,{"$f":"Method_input!$D$65*B683+Method_input!$D$64*Input_series!AG679+Method_input!$D$65*C683+Method_input!$D$65*D683+Method_input!$D$65*E683+Method_input!$D$65*F683","v":0},{"$f":"Method_input!$D$65*B683+Method_input!$D$64*Input_series!AG679+Method_input!$D$65*F683","v":0}]
[667,0,0,0,0,0,0,0,0,0,16,12,16,12,0,0,0,12,0,12,0,0,16,12,null,0,{"$f":"Method_input!$D$65*B684+Method_input!$D$64*Input_series!AG680+Method_input!$D$65*C684+Method_input!$D$65*D684+Method_input!$D$65*E684+Method_input!$D$65*F684","v":0},{"$f":"Method_input!$D$65*B684+Method_input!$D$64*Input_series!AG680+Method_input!$D$65*F684","v":0}]
[668,0,0,0,0,0,0,0,0,0,16,12,16,12,0,0,0,12,0,12,0,0,16,12,null,0,{"$f":"Method_input!$D$65*B685+Method_input!$D$64*Input_series!AG681+Method_input!$D$65*C685+Method_input!$D$65*D685+Method_input!$D$65*E685+Method_input!$D$65*F685","v":0},{"$f":"Method_input!$D$65*B685+Method_input!$D$64*Input_series!AG681+Method_input!$D$65*F685","v":0}]
[669,0,0,0,0,0,0,0,0,0,16,12,16,12,0,0,0,12,0,12,0,0,16,12,null,0,{"$f":"Method_input!$D$65*B686+Method_input!$D$64*Input_series!AG682+Method_input!$D$65*C686+Method_input!$D$65*D686+Method_input!$D$65*E686+Method_input!$D$65*F686","v":0},{"$f":"Method_input!$D$65*B686+Method_input!$D$64*Input_series!AG682+Method_input!$D$65*F686","v":0}]
[670,0,0,0,0,0,0,0,0,0,16,12,16,12,0,0,0,12,0,12,0,0,16,12,null,0,{"$f":"Method_input!$D$65*B687+Method_input!$D$64*Input_series!AG683+Method_input!$D$65*C687+Method_input!$D$65*D687+Method_input!$D$65*E687+Method_input!$D$65*F687","v":0},{"$f":"Method_input!$D$65*B687+Method_input!$D$64*Input_series!AG683+Method_input!$D$65*F687","v":0}]
[671,0,0,0,0,0,0,0,0,0,16,12,16,12,0,0,0,12,0,12,0,0,16,12,null,0,{"$f":"Method_input!$D$65*B688+Method_input!$D$64*Input_series!AG684+Method_input!$D$65*C688+Method_input!$D$65*D688+Method_input!$D$65*E688+Method_input!$D$65*F688","v":0},{"$f":"Method_input!$D$65*B688+Method_input!$D$64*Input_series!AG684+Method_input!$D$65*F688","v":0}]
[672,0,0,0,0,0,0,0,0,0,16,12,16,12,0,0,0,12,0,12,0,0,16,12,null,0,{"$f":"Method_input!$D$65*B689+Method_input!$D$64*Input_series!AG685+Method_input!$D$65*C689+Method_input!$D$65*D689+Method_input!$D$65*E689+Method_input!$D$65*F689","v":0},{"$f":"Method_input!$D$65*B689+Method_input!$D$64*Input_series!AG685+Method_input!$D$65*F689","v":0}]
[673,0,0,0,0,0,0,0,0,0,16,12,16,12,0,0,0,12,0,12,0,0,16,12,null,0,{"$f":"Method_input!$D$65*B690+Method_input!$D$64*Input_series!AG686+Method_input!$D$65*C690+Method_input!$D$65*D690+Method_input!$D$65*E690+Method_input!$D$65*F690","v":0},{"$f":"Method_input!$D$65*B690+Method_input!$D$64*Input_series!AG686+Method_input!$D$65*F690","v":0}]
[674,0,0,0,0,0,0,0,0,0,16,12,16,12,0,0,0,12,0,12,0,0,16,12,null,0,{"$f":"Method_input!$D$65*B691+Method_input!$D$64*Input_series!AG687+Method_input!$D$65*C691+Method_input!$D$65*D691+Method_input!$D$65*E691+Method_input!$D$65*F691","v":0},{"$f":"Method_input!$D$65*B691+Method_input!$D$64*Input_series!AG687+Method_input!$D$65*F691","v":0}]
[675,0,0,0,0,0,0,0,0,0,16,12,16,12,0,0,0,12,0,12,0,0,16,12,null,0,{"$f":"Method_input!$D$65*B692+Method_input!$D$64*Input_series!AG688+Method_input!$D$65*C692+Method_input!$D$65*D692+Method_input!$D$65*E692+Method_input!$D$65*F692","v":0},{"$f":"Method_input!$D$65*B692+Method_input!$D$64*Input_series!AG688+Method_input!$D$65*F692","v":0}]
[676,0,0,0,0,0,0,0,0,0,16,12,16,12,0,0,0,12,0,12,0,0,16,12,null,0,{"$f":"Method_input!$D$65*B693+Method_input!$D$64*Input_series!AG689+Method_input!$D$65*C693+Method_input!$D$65*D693+Method_input!$D$65*E693+Method_input!$D$65*F693","v":0},{"$f":"Method_input!$D$65*B693+Method_input!$D$64*Input_series!AG689+Method_input!$D$65*F693","v":0}]
[677,0,0,0,0,0,0,0,0,0,16,12,16,12,0,0,0,12,0,12,0,0,16,12,null,0,{"$f":"Method_input!$D$65*B694+Method_input!$D$64*Input_series!AG690+Method_input!$D$65*C694+Method_input!$D$65*D694+Method_input!$D$65*E694+Method_input!$D$65*F694","v":0},{"$f":"Method_input!$D$65*B694+Method_input!$D$64*Input_series!AG690+Method_input!$D$65*F694","v":0}]
[678,0,0,0,0,0,0,0,0,0,16,12,16,12,0,0,0,12,0,12,0,0,16,12,null,0,{"$f":"Method_input!$D$65*B695+Method_input!$D$64*Input_series!AG691+Method_input!$D$65*C695+Method_input!$D$65*D695+Method_input!$D$65*E695+Method_input!$D$65*F695","v":0},{"$f":"Method_input!$D$65*B695+Method_input!$D$64*Input_series!AG691+Method_input!$D$65*F695","v":0}]
[679,0,0,0,0,0,0,0,0,0,16,12,16,12,0,0,0,12,0,12,0,0,16,12,null,0,{"$f":"Method_input!$D$65*B696+Method_input!$D$64*Input_series!AG692+Method_input!$D$65*C696+Method_input!$D$65*D696+Method_input!$D$65*E696+Method_input!$D$65*F696","v":0},{"$f":"Method_input!$D$65*B696+Method_input!$D$64*Input_series!AG692+Method_input!$D$65*F696","v":0}]
[680,0,0,0,0,0,0,0,0,0,16,12,16,12,0,0,0,12,0,12,0,0,16,12,null,0,{"$f":"Method_input!$D$65*B697+Method_input!$D$64*Input_series!AG693+Method_input!$D$65*C697+Method_input!$D$65*D697+Method_input!$D$65*E697+Method_input!$D$65*F697","v":0},{"$f":"Method_input!$D$65*B697+Method_input!$D$64*Input_series!AG693+Method_input!$D$65*F697","v":0}]
[681,0,0,0,0,0,0,0,0,0,16,12,16,12,0,0,0,12,0,12,0,0,16,12,null,0,{"$f":"Method_input!$D$65*B698+Method_input!$D$64*Input_series!AG694+Method_input!$D$65*C698+Method_input!$D$65*D698+Method_input!$D$65*E698+Method_input!$D$65*F698","v":0},{"$f":"Method_input!$D$65*B698+Method_input!$D$64*Input_series!AG694+Method_input!$D$65*F698","v":0}]
[682,0,0,0,0,0,0,0,0,0,16,12,16,12,0,0,0,12,0,12,0,0,16,12,null,0,{"$f":"Method_input!$D$65*B699+Method_input!$D$64*Input_series!AG695+Method_input!$D$65*C699+Method_input!$D$65*D699+Method_input!$D$65*E699+Method_input!$D$65*F699","v":0},{"$f":"Method_input!$D$65*B699+Method_input!$D$64*Input_series!AG695+Method_input!$D$65*F699","v":0}]
[683,0,0,0,0,0,0,0,0,0,16,12,16,12,0,0,0,12,0,12,0,0,16,12,null,0,{"$f":"Method_input!$D$65*B700+Method_input!$D$64*Input_series!AG696+Method_input!$D$65*C700+Method_input!$D$65*D700+Method_input!$D$65*E700+Method_input!$D$65*F700","v":0},{"$f":"Method_input!$D$65*B700+Method_input!$D$64*Input_series!AG696+Method_input!$D$65*F700","v":0}]
[684,0,0,0,0,0,0,0,0,0,16,12,16,12,0,0,0,12,0,12,0,0,16,12,null,0,{"$f":"Method_input!$D$65*B701+Method_input!$D$64*Input_series!AG697+Method_input!$D$65*C701+Method_input!$D$65*D701+Method_input!$D$65*E701+Method_input!$D$65*F701","v":0},{"$f":"Method_input!$D$65*B701+Method_input!$D$64*Input_series!AG697+Method_input!$D$65*F701","v":0}]
[685,0,0,0,0,0,0,0,0,0,16,12,16,12,0,0,0,12,0,12,0,0,16,12,null,0,{"$f":"Method_input!$D$65*B702+Method_input!$D$64*Input_series!AG698+Method_input!$D$65*C702+Method_input!$D$65*D702+Method_input!$D$65*E702+Method_input!$D$65*F702","v":0},{"$f":"Method_input!$D$65*B702+Method_input!$D$64*Input_series!AG698+Method_input!$D$65*F702","v":0}]
[686,0,0,0,0,0,0,0,0,0,16,12,16,12,0,0,0,12,0,12,0,0,16,12,null,0,{"$f":"Method_input!$D$65*B703+Method_input!$D$64*Input_series!AG699+Method_input!$D$65*C703+Method_input!$D$65*D703+Method_input!$D$65*E703+Method_input!$D$65*F703","v":0},{"$f":"Method_input!$D$65*B703+Method_input!$D$64*Input_series!AG699+Method_input!$D$65*F703","v":0}]
[687,0,0,0,0,0,0,0,0,0,16,12,16,12,0,0,0,12,0,12,0,0,16,12,null,0,{"$f":"Method_input!$D$65*B704+Method_input!$D$64*Input_series!AG700+Method_input!$D$65*C704+Method_input!$D$65*D704+Method_input!$D$65*E704+Method_input!$D$65*F704","v":0},{"$f":"Method_input!$D$65*B704+Method_input!$D$64*Input_series!AG700+Method_input!$D$65*F704","v":0}]
[688,0,0,0,0,0,0,0,0,0,16,12,16,12,0,0,0,12,0,12,0,0,16,12,null,0,{"$f":"Method_input!$D$65*B705+Method_input!$D$64*Input_series!AG701+Method_input!$D$65*C705+Method_input!$D$65*D705+Method_input!$D$65*E705+Method_input!$D$65*F705","v":0},{"$f":"Method_input!$D$65*B705+Method_input!$D$64*Input_series!AG701+Method_input!$D$65*F705","v":0}]
[689,0,0,0,0,0,0,0,0,0,16,12,16,12,0,0,0,12,0,12,0,0,16,12,null,0,{"$f":"Method_input!$D$65*B706+Method_input!$D$64*Input_series!AG702+Method_input!$D$65*C706+Method_input!$D$65*D706+Method_input!$D$65*E706+Method_input!$D$65*F706","v":0},{"$f":"Method_input!$D$65*B706+Method_input!$D$64*Input_series!AG702+Method_input!$D$65*F706","v":0}]
[690,0,0,0,0,0,0,0,0,0,16,12,16,12,0,0,0,12,0,12,0,0,16,12,null,0,{"$f":"Method_input!$D$65*B707+Method_input!$D$64*Input_series!AG703+Method_input!$D$65*C707+Method_input!$D$65*D707+Method_input!$D$65*E707+Method_input!$D$65*F707","v":0},{"$f":"Method_input!$D$65*B707+Method_input!$D$64*Input_series!AG703+Method_input!$D$65*F707","v":0}]
[691,0,0,0,0,0,0,0,0,0,16,12,16,12,0,0,0,12,0,12,0,0,16,12,null,0,{"$f":"Method_input!$D$65*B708+Method_input!$D$64*Input_series!AG704+Method_input!$D$65*C708+Method_input!$D$65*D708+Method_input!$D$65*E708+Method_input!$D$65*F708","v":0},{"$f":"Method_input!$D$65*B708+Method_input!$D$64*Input_series!AG704+Method_input!$D$65*F708","v":0}]
[692,0,0,0,0,0,0,0,0,0,16,12,16,12,0,0,0,12,0,12,0,0,16,12,null,0,{"$f":"Method_input!$D$65*B709+Method_input!$D$64*Input_series!AG705+Method_input!$D$65*C709+Method_input!$D$65*D709+Method_input!$D$65*E709+Method_input!$D$65*F709","v":0},{"$f":"Method_input!$D$65*B709+Method_input!$D$64*Input_series!AG705+Method_input!$D$65*F709","v":0}]
[693,0,0,0,0,0,0,0,0,0,16,12,16,12,0,0,0,12,0,12,0,0,16,12,null,0,{"$f":"Method_input!$D$65*B710+Method_input!$D$64*Input_series!AG706+Method_input!$D$65*C710+Method_input!$D$65*D710+Method_input!$D$65*E710+Method_input!$D$65*F710","v":0},{"$f":"Method_input!$D$65*B710+Method_input!$D$64*Input_series!AG706+Method_input!$D$65*F710","v":0}]
[694,0,0,0,0,0,0,0,0,0,16,12,16,12,0,0,0,12,0,12,0,0,16,12,null,0,{"$f":"Method_input!$D$65*B711+Method_input!$D$64*Input_series!AG707+Method_input!$D$65*C711+Method_input!$D$65*D711+Method_input!$D$65*E711+Method_input!$D$65*F711","v":0},{"$f":"Method_input!$D$65*B711+Method_input!$D$64*Input_series!AG707+Method_input!$D$65*F711","v":0}]
[695,0,0,0,0,0,0,0,0,0,16,12,16,12,0,0,0,12,0,12,0,0,16,12,null,0,{"$f":"Method_input!$D$65*B712+Method_input!$D$64*Input_series!AG708+Method_input!$D$65*C712+Method_input!$D$65*D712+Method_input!$D$65*E712+Method_input!$D$65*F712","v":0},{"$f":"Method_input!$D$65*B712+Method_input!$D$64*Input_series!AG708+Method_input!$D$65*F712","v":0}]
[696,0,0,0,0,0,0,0,0,0,16,12,16,12,0,0,0,12,0,12,0,0,16,12,null,0,{"$f":"Method_input!$D$65*B713+Method_input!$D$64*Input_series!AG709+Method_input!$D$65*C713+Method_input!$D$65*D713+Method_input!$D$65*E713+Method_input!$D$65*F713","v":0},{"$f":"Method_input!$D$65*B713+Method_input!$D$64*Input_series!AG709+Method_input!$D$65*F713","v":0}]
[697,0,0,0,0,0,0,0,0,0,16,12,16,12,0,0,0,12,0,12,0,0,16,12,null,0,{"$f":"Method_input!$D$65*B714+Method_input!$D$64*Input_series!AG710+Method_input!$D$65*C714+Method_input!$D$65*D714+Method_input!$D$65*E714+Method_input!$D$65*F714","v":0},{"$f":"Method_input!$D$65*B714+Method_input!$D$64*Input_series!AG710+Method_input!$D$65*F714","v":0}]
[698,0,0,0,0,0,0,0,0,0,16,12,16,12,0,0,0,12,0,12,0,0,16,12,null,0,{"$f":"Method_input!$D$65*B715+Method_input!$D$64*Input_series!AG711+Method_input!$D$65*C715+Method_input!$D$65*D715+Method_input!$D$65*E715+Method_input!$D$65*F715","v":0},{"$f":"Method_input!$D$65*B715+Method_input!$D$64*Input_series!AG711+Method_input!$D$65*F715","v":0}]
[699,0,0,0,0,0,0,0,0,0,16,12,16,12,0,0,0,12,0,12,0,0,16,12,null,0,{"$f":"Method_input!$D$65*B716+Method_input!$D$64*Input_series!AG712+Method_input!$D$65*C716+Method_input!$D$65*D716+Method_input!$D$65*E716+Method_input!$D$65*F716","v":0},{"$f":"Method_input!$D$65*B716+Method_input!$D$64*Input_series!AG712+Method_input!$D$65*F716","v":0}]
[700,0,0,0,0,0,0,0,0,0,16,12,16,12,0,0,0,12,0,12,0,0,16,12,null,0,{"$f":"Method_input!$D$65*B717+Method_input!$D$64*Input_series!AG713+Method_input!$D$65*C717+Method_input!$D$65*D717+Method_input!$D$65*E717+Method_input!$D$65*F717","v":0},{"$f":"Method_input!$D$65*B717+Method_input!$D$64*Input_series!AG713+Method_input!$D$65*F717","v":0}]
[701,0,0,0,0,0,0,0,0,0,16,12,16,12,0,0,0,12,0,12,0,0,16,12,null,0,{"$f":"Method_input!$D$65*B718+Method_input!$D$64*Input_series!AG714+Method_input!$D$65*C718+Method_input!$D$65*D718+Method_input!$D$65*E718+Method_input!$D$65*F718","v":0},{"$f":"Method_input!$D$65*B718+Method_input!$D$64*Input_series!AG714+Method_input!$D$65*F718","v":0}]
[702,0,0,0,0,0,0,0,0,0,16,12,16,12,0,0,0,12,0,12,0,0,16,12,null,0,{"$f":"Method_input!$D$65*B719+Method_input!$D$64*Input_series!AG715+Method_input!$D$65*C719+Method_input!$D$65*D719+Method_input!$D$65*E719+Method_input!$D$65*F719","v":0},{"$f":"Method_input!$D$65*B719+Method_input!$D$64*Input_series!AG715+Method_input!$D$65*F719","v":0}]
[703,0,0,0,0,0,0,0,0,0,16,12,16,12,0,0,0,12,0,12,0,0,16,12,null,0,{"$f":"Method_input!$D$65*B720+Method_input!$D$64*Input_series!AG716+Method_input!$D$65*C720+Method_input!$D$65*D720+Method_input!$D$65*E720+Method_input!$D$65*F720","v":0},{"$f":"Method_input!$D$65*B720+Method_input!$D$64*Input_series!AG716+Method_input!$D$65*F720","v":0}]
[704,0,0,0,0,0,0,0,0,0,16,12,16,12,0,0,0,12,0,12,0,0,16,12,null,0,{"$f":"Method_input!$D$65*B721+Method_input!$D$64*Input_series!AG717+Method_input!$D$65*C721+Method_input!$D$65*D721+Method_input!$D$65*E721+Method_input!$D$65*F721","v":0},{"$f":"Method_input!$D$65*B721+Method_input!$D$64*Input_series!AG717+Method_input!$D$65*F721","v":0}]
[705,0,0,0,0,0,0,0,0,0,16,12,16,12,0,0,0,12,0,12,0,0,16,12,null,{"$f":"SUM(G722:J722,U722:V722)","v":0},{"$f":"Method_input!$D$65*B722+Method_input!$D$64*Input_series!AG718+Method_input!$D$65*C722+Method_input!$D$65*D722+Method_input!$D$65*E722+Method_input!$D$65*F722","v":0},{"$f":"Method_input!$D$65*B722+Method_input!$D$64*Input_series!AG718+Method_input!$D$65*F722","v":0}]
[706,0,0,0,0,0,0,0,0,0,16,12,16,12,0,0,0,12,0,12,0,0,16,12,null,0,{"$f":"Method_input!$D$65*B723+Method_input!$D$64*Input_series!AG719+Method_input!$D$65*C723+Method_input!$D$65*D723+Method_input!$D$65*E723+Method_input!$D$65*F723","v":0},{"$f":"Method_input!$D$65*B723+Method_input!$D$64*Input_series!AG719+Method_input!$D$65*F723","v":0}]
[707,0,0,0,0,0,0,0,0,0,16,12,16,12,0,0,0,12,0,12,0,0,16,12,null,0,{"$f":"Method_input!$D$65*B724+Method_input!$D$64*Input_series!AG720+Method_input!$D$65*C724+Method_input!$D$65*D724+Method_input!$D$65*E724+Method_input!$D$65*F724","v":0},{"$f":"Method_input!$D$65*B724+Method_input!$D$64*Input_series!AG720+Method_input!$D$65*F724","v":0}]
[708,0,0,0,0,0,0,0,0,0,16,12,16,12,0,0,0,12,0,12,0,0,16,12,null,0,{"$f":"Method_input!$D$65*B725+Method_input!$D$64*Input_series!AG721+Method_input!$D$65*C725+Method_input!$D$65*D725+Method_input!$D$65*E725+Method_input!$D$65*F725","v":0},{"$f":"Method_input!$D$65*B725+Method_input!$D$64*Input_series!AG721+Method_input!$D$65*F725","v":0}]
[709,0,0,0,0,0,0,0,0,0,16,12,16,12,0,0,0,12,0,12,0,0,16,12,null,0,{"$f":"Method_input!$D$65*B726+Method_input!$D$64*Input_series!AG722+Method_input!$D$65*C726+Method_input!$D$65*D726+Method_input!$D$65*E726+Method_input!$D$65*F726","v":0},{"$f":"Method_input!$D$65*B726+Method_input!$D$64*Input_series!AG722+Method_input!$D$65*F726","v":0}]
[710,0,0,0,0,0,0,0,0,0,16,12,16,12,0,0,0,12,0,12,0,0,16,12,null,0,{"$f":"Method_input!$D$65*B727+Method_input!$D$64*Input_series!AG723+Method_input!$D$65*C727+Method_input!$D$65*D727+Method_input!$D$65*E727+Method_input!$D$65*F727","v":0},{"$f":"Method_input!$D$65*B727+Method_input!$D$64*Input_series!AG723+Method_input!$D$65*F727","v":0}]
[711,0,0,0,0,0,0,0,0,0,16,12,16,12,0,0,0,12,0,12,0,0,16,12,null,0,{"$f":"Method_input!$D$65*B728+Method_input!$D$64*Input_series!AG724+Method_input!$D$65*C728+Method_input!$D$65*D728+Method_input!$D$65*E728+Method_input!$D$65*F728","v":0},{"$f":"Method_input!$D$65*B728+Method_input!$D$64*Input_series!AG724+Method_input!$D$65*F728","v":0}]
[712,0,0,0,0,0,0,0,0,0,16,12,16,12,0,0,0,12,0,12,0,0,16,12,null,0,{"$f":"Method_input!$D$65*B729+Method_input!$D$64*Input_series!AG725+Method_input!$D$65*C729+Method_input!$D$65*D729+Method_input!$D$65*E729+Method_input!$D$65*F729","v":0},{"$f":"Method_input!$D$65*B729+Method_input!$D$64*Input_series!AG725+Method_input!$D$65*F729","v":0}]
[713,0,0,0,0,0,0,0,0,0,16,12,16,12,0,0,0,12,0,12,0,0,16,12,null,0,{"$f":"Method_input!$D$65*B730+Method_input!$D$64*Input_series!AG726+Method_input!$D$65*C730+Method_input!$D$65*D730+Method_input!$D$65*E730+Method_input!$D$65*F730","v":0},{"$f":"Method_input!$D$65*B730+Method_input!$D$64*Input_series!AG726+Method_input!$D$65*F730","v":0}]
[714,0,0,0,0,0,0,0,0,0,16,12,16,12,0,0,0,12,0,12,0,0,16,12,null,0,{"$f":"Method_input!$D$65*B731+Method_input!$D$64*Input_series!AG727+Method_input!$D$65*C731+Method_input!$D$65*D731+Method_input!$D$65*E731+Method_input!$D$65*F731","v":0},{"$f":"Method_input!$D$65*B731+Method_input!$D$64*Input_series!AG727+Method_input!$D$65*F731","v":0}]
[715,0,0,0,0,0,0,0,0,0,16,12,16,12,0,0,0,12,0,12,0,0,16,12,null,0,{"$f":"Method_input!$D$65*B732+Method_input!$D$64*Input_series!AG728+Method_input!$D$65*C732+Method_input!$D$65*D732+Method_input!$D$65*E732+Method_input!$D$65*F732","v":0},{"$f":"Method_input!$D$65*B732+Method_input!$D$64*Input_series!AG728+Method_input!$D$65*F732","v":0}]
[716,0,0,0,0,0,0,0,0,0,16,12,16,12,0,0,0,12,0,12,0,0,16,12,null,0,{"$f":"Method_input!$D$65*B733+Method_input!$D$64*Input_series!AG729+Method_input!$D$65*C733+Method_input!$D$65*D733+Method_input!$D$65*E733+Method_input!$D$65*F733","v":0},{"$f":"Method_input!$D$65*B733+Method_input!$D$64*Input_series!AG729+Method_input!$D$65*F733","v":0}]
[717,0,0,0,0,0,0,0,0,0,16,12,16,12,0,0,0,12,0,12,0,0,16,12,null,0,{"$f":"Method_input!$D$65*B734+Method_input!$D$64*Input_series!AG730+Method_input!$D$65*C734+Method_input!$D$65*D734+Method_input!$D$65*E734+Method_input!$D$65*F734","v":0},{"$f":"Method_input!$D$65*B734+Method_input!$D$64*Input_series!AG730+Method_input!$D$65*F734","v":0}]
[718,0,0,0,0,0,0,0,0,0,16,12,16,12,0,0,0,12,0,12,0,0,16,12,null,0,{"$f":"Method_input!$D$65*B735+Method_input!$D$64*Input_series!AG731+Method_input!$D$65*C735+Method_input!$D$65*D735+Method_input!$D$65*E735+Method_input!$D$65*F735","v":0},{"$f":"Method_input!$D$65*B735+Method_input!$D$64*Input_series!AG731+Method_input!$D$65*F735","v":0}]
[719,0,0,0,0,0,0,0,0,0,16,12,16,12,0,0,0,12,0,12,0,0,16,12,null,0,{"$f":"Method_input!$D$65*B736+Method_input!$D$64*Input_series!AG732+Method_input!$D$65*C736+Method_input!$D$65*D736+Method_input!$D$65*E736+Method_input!$D$65*F736","v":0},{"$f":"Method_input!$D$65*B736+Method_input!$D$64*Input_series!AG732+Method_input!$D$65*F736","v":0}]
[720,0,0,0,0,0,0,0,0,0,16,12,16,12,0,0,0,12,0,12,0,0,16,12,null,0,{"$f":"Method_input!$D$65*B737+Method_input!$D$64*Input_series!AG733+Method_input!$D$65*C737+Method_input!$D$65*D737+Method_input!$D$65*E737+Method_input!$D$65*F737","v":0},{"$f":"Method_input!$D$65*B737+Method_input!$D$64*Input_series!AG733+Method_input!$D$65*F737","v":0}]
[721,0,0,0,0,0,0,0,0,0,16,12,16,12,0,0,0,12,0,12,0,0,16,12,null,0,{"$f":"Method_input!$D$65*B738+Method_input!$D$64*Input_series!AG734+Method_input!$D$65*C738+Method_input!$D$65*D738+Method_input!$D$65*E738+Method_input!$D$65*F738","v":0},{"$f":"Method_input!$D$65*B738+Method_input!$D$64*Input_series!AG734+Method_input!$D$65*F738","v":0}]
[722,0,0,0,0,0,0,0,0,0,16,12,16,12,0,0,0,12,0,12,0,0,16,12,null,0,{"$f":"Method_input!$D$65*B739+Method_input!$D$64*Input_series!AG735+Method_input!$D$65*C739+Method_input!$D$65*D739+Method_input!$D$65*E739+Method_input!$D$65*F739","v":0},{"$f":"Method_input!$D$65*B739+Method_input!$D$64*Input_series!AG735+Method_input!$D$65*F739","v":0}]
[723,0,0,0,0,0,0,0,0,0,16,12,16,12,0,0,0,12,0,12,0,0,16,12,null,0,{"$f":"Method_input!$D$65*B740+Method_input!$D$64*Input_series!AG736+Method_input!$D$65*C740+Method_input!$D$65*D740+Method_input!$D$65*E740+Method_input!$D$65*F740","v":0},{"$f":"Method_input!$D$65*B740+Method_input!$D$64*Input_series!AG736+Method_input!$D$65*F740","v":0}]
[724,0,0,0,0,0,0,0,0,0,16,12,16,12,0,0,0,12,0,12,0,0,16,12,null,0,{"$f":"Method_input!$D$65*B741+Method_input!$D$64*Input_series!AG737+Method_input!$D$65*C741+Method_input!$D$65*D741+Method_input!$D$65*E741+Method_input!$D$65*F741","v":0},{"$f":"Method_input!$D$65*B741+Method_input!$D$64*Input_series!AG737+Method_input!$D$65*F741","v":0}]
[725,0,0,0,0,0,0,0,0,0,16,12,16,12,0,0,0,12,0,12,0,0,16,12,null,0,{"$f":"Method_input!$D$65*B742+Method_input!$D$64*Input_series!AG738+Method_input!$D$65*C742+Method_input!$D$65*D742+Method_input!$D$65*E742+Method_input!$D$65*F742","v":0},{"$f":"Method_input!$D$65*B742+Method_input!$D$64*Input_series!AG738+Method_input!$D$65*F742","v":0}]
[726,0,0,0,0,0,0,0,0,0,16,12,16,12,0,0,0,12,0,12,0,0,16,12,null,0,{"$f":"Method_input!$D$65*B743+Method_input!$D$64*Input_series!AG739+Method_input!$D$65*C743+Method_input!$D$65*D743+Method_input!$D$65*E743+Method_input!$D$65*F743","v":0},{"$f":"Method_input!$D$65*B743+Method_input!$D$64*Input_series!AG739+Method_input!$D$65*F743","v":0}]
[727,0,0,0,0,0,0,0,0,0,16,12,16,12,0,0,0,12,0,12,0,0,16,12,null,0,{"$f":"Method_input!$D$65*B744+Method_input!$D$64*Input_series!AG740+Method_input!$D$65*C744+Method_input!$D$65*D744+Method_input!$D$65*E744+Method_input!$D$65*F744","v":0},{"$f":"Method_input!$D$65*B744+Method_input!$D$64*Input_series!AG740+Method_input!$D$65*F744","v":0}]
[728,0,0,0,0,0,0,0,0,0,16,12,16,12,0,0,0,12,0,12,0,0,16,12,null,0,{"$f":"Method_input!$D$65*B745+Method_input!$D$64*Input_series!AG741+Method_input!$D$65*C745+Method_input!$D$65*D745+Method_input!$D$65*E745+Method_input!$D$65*F745","v":0},{"$f":"Method_input!$D$65*B745+Method_input!$D$64*Input_series!AG741+Method_input!$D$65*F745","v":0}]
[729,0,0,0,0,0,0,0,0,0,16,12,16,12,0,0,0,12,0,12,0,0,16,12,null,0,{"$f":"Method_input!$D$65*B746+Method_input!$D$64*Input_series!AG742+Method_input!$D$65*C746+Method_input!$D$65*D746+Method_input!$D$65*E746+Method_input!$D$65*F746","v":0},{"$f":"Method_input!$D$65*B746+Method_input!$D$64*Input_series!AG742+Method_input!$D$65*F746","v":0}]
[730,0,0,0,0,0,0,0,0,0,16,12,16,12,0,0,0,12,0,12,0,0,16,12,null,0,{"$f":"Method_input!$D$65*B747+Method_input!$D$64*Input_series!AG743+Method_input!$D$65*C747+Method_input!$D$65*D747+Method_input!$D$65*E747+Method_input!$D$65*F747","v":0},{"$f":"Method_input!$D$65*B747+Method_input!$D$64*Input_series!AG743+Method_input!$D$65*F747","v":0}]
[731,0,0,0,0,0,0,0,0,0,16,12,16,12,0,0,0,12,0,12,0,0,16,12,null,0,{"$f":"Method_input!$D$65*B748+Method_input!$D$64*Input_series!AG744+Method_input!$D$65*C748+Method_input!$D$65*D748+Method_input!$D$65*E748+Method_input!$D$65*F748","v":0},{"$f":"Method_input!$D$65*B748+Method_input!$D$64*Input_series!AG744+Method_input!$D$65*F748","v":0}]
[732,0,0,0,0,0,0,0,0,0,16,12,16,12,0,0,0,12,0,12,0,0,16,12,null,0,{"$f":"Method_input!$D$65*B749+Method_input!$D$64*Input_series!AG745+Method_input!$D$65*C749+Method_input!$D$65*D749+Method_input!$D$65*E749+Method_input!$D$65*F749","v":0},{"$f":"Method_input!$D$65*B749+Method_input!$D$64*Input_series!AG745+Method_input!$D$65*F749","v":0}]
[733,0,0,0,0,0,0,0,0,0,16,12,16,12,0,0,0,12,0,12,0,0,16,12,null,0,{"$f":"Method_input!$D$65*B750+Method_input!$D$64*Input_series!AG746+Method_input!$D$65*C750+Method_input!$D$65*D750+Method_input!$D$65*E750+Method_input!$D$65*F750","v":0},{"$f":"Method_input!$D$65*B750+Method_input!$D$64*Input_series!AG746+Method_input!$D$65*F750","v":0}]
[734,0,0,0,0,0,0,0,0,0,16,12,16,12,0,0,0,12,0,12,0,0,16,12,null,0,{"$f":"Method_input!$D$65*B751+Method_input!$D$64*Input_series!AG747+Method_input!$D$65*C751+Method_input!$D$65*D751+Method_input!$D$65*E751+Method_input!$D$65*F751","v":0},{"$f":"Method_input!$D$65*B751+Method_input!$D$64*Input_series!AG747+Method_input!$D$65*F751","v":0}]
[735,0,0,0,0,0,0,0,0,0,16,12,16,12,0,0,0,12,0,12,0,0,16,12,null,0,{"$f":"Method_input!$D$65*B752+Method_input!$D$64*Input_series!AG748+Method_input!$D$65*C752+Method_input!$D$65*D752+Method_input!$D$65*E752+Method_input!$D$65*F752","v":0},{"$f":"Method_input!$D$65*B752+Method_input!$D$64*Input_series!AG748+Method_input!$D$65*F752","v":0}]
[736,0,0,0,0,0,0,0,0,0,16,12,16,12,0,0,0,12,0,12,0,0,16,12,null,0,{"$f":"Method_input!$D$65*B753+Method_input!$D$64*Input_series!AG749+Method_input!$D$65*C753+Method_input!$D$65*D753+Method_input!$D$65*E753+Method_input!$D$65*F753","v":0},{"$f":"Method_input!$D$65*B753+Method_input!$D$64*Input_series!AG749+Method_input!$D$65*F753","v":0}]
[737,0,0,0,0,0,0,0,0,0,16,12,16,12,0,0,0,12,0,12,0,0,16,12,null,0,{"$f":"Method_input!$D$65*B754+Method_input!$D$64*Input_series!AG750+Method_input!$D$65*C754+Method_input!$D$65*D754+Method_input!$D$65*E754+Method_input!$D$65*F754","v":0},{"$f":"Method_input!$D$65*B754+Method_input!$D$64*Input_series!AG750+Method_input!$D$65*F754","v":0}]
[738,0,0,0,0,0,0,0,0,0,16,12,16,12,0,0,0,12,0,12,0,0,16,12,null,0,{"$f":"Method_input!$D$65*B755+Method_input!$D$64*Input_series!AG751+Method_input!$D$65*C755+Method_input!$D$65*D755+Method_input!$D$65*E755+Method_input!$D$65*F755","v":0},{"$f":"Method_input!$D$65*B755+Method_input!$D$64*Input_series!AG751+Method_input!$D$65*F755","v":0}]
[739,0,0,0,0,0,0,0,0,0,16,12,16,12,0,0,0,12,0,12,0,0,16,12,null,0,{"$f":"Method_input!$D$65*B756+Method_input!$D$64*Input_series!AG752+Method_input!$D$65*C756+Method_input!$D$65*D756+Method_input!$D$65*E756+Method_input!$D$65*F756","v":0},{"$f":"Method_input!$D$65*B756+Method_input!$D$64*Input_series!AG752+Method_input!$D$65*F756","v":0}]
[740,0,0,0,0,0,0,0,0,0,16,12,16,12,0,0,0,12,0,12,0,0,16,12,null,0,{"$f":"Method_input!$D$65*B757+Method_input!$D$64*Input_series!AG753+Method_input!$D$65*C757+Method_input!$D$65*D757+Method_input!$D$65*E757+Method_input!$D$65*F757","v":0},{"$f":"Method_input!$D$65*B757+Method_input!$D$64*Input_series!AG753+Method_input!$D$65*F757","v":0}]
[741,0,0,0,0,0,0,0,0,0,16,12,16,12,0,0,0,12,0,12,0,0,16,12,null,0,{"$f":"Method_input!$D$65*B758+Method_input!$D$64*Input_series!AG754+Method_input!$D$65*C758+Method_input!$D$65*D758+Method_input!$D$65*E758+Method_input!$D$65*F758","v":0},{"$f":"Method_input!$D$65*B758+Method_input!$D$64*Input_series!AG754+Method_input!$D$65*F758","v":0}]
[742,0,0,0,0,0,0,0,0,0,16,12,16,12,0,0,0,12,0,12,0,0,16,12,null,0,{"$f":"Method_input!$D$65*B759+Method_input!$D$64*Input_series!AG755+Method_input!$D$65*C759+Method_input!$D$65*D759+Method_input!$D$65*E759+Method_input!$D$65*F759","v":0},{"$f":"Method_input!$D$65*B759+Method_input!$D$64*Input_series!AG755+Method_input!$D$65*F759","v":0}]
[743,0,0,0,0,0,0,0,0,0,16,12,16,12,0,0,0,12,0,12,0,0,16,12,null,0,{"$f":"Method_input!$D$65*B760+Method_input!$D$64*Input_series!AG756+Method_input!$D$65*C760+Method_input!$D$65*D760+Method_input!$D$65*E760+Method_input!$D$65*F760","v":0},{"$f":"Method_input!$D$65*B760+Method_input!$D$64*Input_series!AG756+Method_input!$D$65*F760","v":0}]
[744,0,0,0,0,0,0,0,0,0,16,12,16,12,0,0,0,12,0,12,0,0,16,12,null,0,{"$f":"Method_input!$D$65*B761+Method_input!$D$64*Input_series!AG757+Method_input!$D$65*C761+Method_input!$D$65*D761+Method_input!$D$65*E761+Method_input!$D$65*F761","v":0},{"$f":"Method_input!$D$65*B761+Method_input!$D$64*Input_series!AG757+Method_input!$D$65*F761","v":0}]
[745,0,0,0,0,0,0,0,0,0,16,12,16,12,0,0,0,12,0,12,0,0,16,12,null,0,{"$f":"Method_input!$D$65*B762+Method_input!$D$64*Input_series!AG758+Method_input!$D$65*C762+Method_input!$D$65*D762+Method_input!$D$65*E762+Method_input!$D$65*F762","v":0},{"$f":"Method_input!$D$65*B762+Method_input!$D$64*Input_series!AG758+Method_input!$D$65*F762","v":0}]
[746,0,0,0,0,0,0,0,0,0,16,12,16,12,0,0,0,12,0,12,0,0,16,12,null,0,{"$f":"Method_input!$D$65*B763+Method_input!$D$64*Input_series!AG759+Method_input!$D$65*C763+Method_input!$D$65*D763+Method_input!$D$65*E763+Method_input!$D$65*F763","v":0},{"$f":"Method_input!$D$65*B763+Method_input!$D$64*Input_series!AG759+Method_input!$D$65*F763","v":0}]
[747,0,0,0,0,0,0,0,0,0,16,12,16,12,0,0,0,12,0,12,0,0,16,12,null,0,{"$f":"Method_input!$D$65*B764+Method_input!$D$64*Input_series!AG760+Method_input!$D$65*C764+Method_input!$D$65*D764+Method_input!$D$65*E764+Method_input!$D$65*F764","v":0},{"$f":"Method_input!$D$65*B764+Method_input!$D$64*Input_series!AG760+Method_input!$D$65*F764","v":0}]
[748,0,0,0,0,0,0,0,0,0,16,12,16,12,0,0,0,12,0,12,0,0,16,12,null,0,{"$f":"Method_input!$D$65*B765+Method_input!$D$64*Input_series!AG761+Method_input!$D$65*C765+Method_input!$D$65*D765+Method_input!$D$65*E765+Method_input!$D$65*F765","v":0},{"$f":"Method_input!$D$65*B765+Method_input!$D$64*Input_series!AG761+Method_input!$D$65*F765","v":0}]
[749,0,0,0,0,0,0,0,0,0,16,12,16,12,0,0,0,12,0,12,0,0,16,12,null,0,{"$f":"Method_input!$D$65*B766+Method_input!$D$64*Input_series!AG762+Method_input!$D$65*C766+Method_input!$D$65*D766+Method_input!$D$65*E766+Method_input!$D$65*F766","v":0},{"$f":"Method_input!$D$65*B766+Method_input!$D$64*Input_series!AG762+Method_input!$D$65*F766","v":0}]
[750,0,0,0,0,0,0,0,0,0,16,12,16,12,0,0,0,12,0,12,0,0,16,12,null,0,{"$f":"Method_input!$D$65*B767+Method_input!$D$64*Input_series!AG763+Method_input!$D$65*C767+Method_input!$D$65*D767+Method_input!$D$65*E767+Method_input!$D$65*F767","v":0},{"$f":"Method_input!$D$65*B767+Method_input!$D$64*Input_series!AG763+Method_input!$D$65*F767","v":0}]
[751,0,0,0,0,0,0,0,0,0,16,12,16,12,0,0,0,12,0,12,0,0,16,12,null,0,{"$f":"Method_input!$D$65*B768+Method_input!$D$64*Input_series!AG764+Method_input!$D$65*C768+Method_input!$D$65*D768+Method_input!$D$65*E768+Method_input!$D$65*F768","v":0},{"$f":"Method_input!$D$65*B768+Method_input!$D$64*Input_series!AG764+Method_input!$D$65*F768","v":0}]
[752,0,0,0,0,0,0,0,0,0,16,12,16,12,0,0,0,12,0,12,0,0,16,12,null,0,{"$f":"Method_input!$D$65*B769+Method_input!$D$64*Input_series!AG765+Method_input!$D$65*C769+Method_input!$D$65*D769+Method_input!$D$65*E769+Method_input!$D$65*F769","v":0},{"$f":"Method_input!$D$65*B769+Method_input!$D$64*Input_series!AG765+Method_input!$D$65*F769","v":0}]
[753,0,0,0,0,0,0,0,0,0,16,12,16,12,0,0,0,12,0,12,0,0,16,12,null,0,{"$f":"Method_input!$D$65*B770+Method_input!$D$64*Input_series!AG766+Method_input!$D$65*C770+Method_input!$D$65*D770+Method_input!$D$65*E770+Method_input!$D$65*F770","v":0},{"$f":"Method_input!$D$65*B770+Method_input!$D$64*Input_series!AG766+Method_input!$D$65*F770","v":0}]
[754,0,0,0,0,0,0,0,0,0,16,12,16,12,0,0,0,12,0,12,0,0,16,12,null,0,{"$f":"Method_input!$D$65*B771+Method_input!$D$64*Input_series!AG767+Method_input!$D$65*C771+Method_input!$D$65*D771+Method_input!$D$65*E771+Method_input!$D$65*F771","v":0},{"$f":"Method_input!$D$65*B771+Method_input!$D$64*Input_series!AG767+Method_input!$D$65*F771","v":0}]
[755,0,0,0,0,0,0,0,0,0,16,12,16,12,0,0,0,12,0,12,0,0,16,12,null,0,{"$f":"Method_input!$D$65*B772+Method_input!$D$64*Input_series!AG768+Method_input!$D$65*C772+Method_input!$D$65*D772+Method_input!$D$65*E772+Method_input!$D$65*F772","v":0},{"$f":"Method_input!$D$65*B772+Method_input!$D$64*Input_series!AG768+Method_input!$D$65*F772","v":0}]
[756,0,0,0,0,0,0,0,0,0,16,12,16,12,0,0,0,12,0,12,0,0,16,12,null,0,{"$f":"Method_input!$D$65*B773+Method_input!$D$64*Input_series!AG769+Method_input!$D$65*C773+Method_input!$D$65*D773+Method_input!$D$65*E773+Method_input!$D$65*F773","v":0},{"$f":"Method_input!$D$65*B773+Method_input!$D$64*Input_series!AG769+Method_input!$D$65*F773","v":0}]
[757,0,0,0,0,0,0,0,0,0,16,12,16,12,0,0,0,12,0,12,0,0,16,12,null,0,{"$f":"Method_input!$D$65*B774+Method_input!$D$64*Input_series!AG770+Method_input!$D$65*C774+Method_input!$D$65*D774+Method_input!$D$65*E774+Method_input!$D$65*F774","v":0},{"$f":"Method_input!$D$65*B774+Method_input!$D$64*Input_series!AG770+Method_input!$D$65*F774","v":0}]
[758,0,0,0,0,0,0,0,0,0,16,12,16,12,0,0,0,12,0,12,0,0,16,12,null,0,{"$f":"Method_input!$D$65*B775+Method_input!$D$64*Input_series!AG771+Method_input!$D$65*C775+Method_input!$D$65*D775+Method_input!$D$65*E775+Method_input!$D$65*F775","v":0},{"$f":"Method_input!$D$65*B775+Method_input!$D$64*Input_series!AG771+Method_input!$D$65*F775","v":0}]
[759,0,0,0,0,0,0,0,0,0,16,12,16,12,0,0,0,12,0,12,0,0,16,12,null,0,{"$f":"Method_input!$D$65*B776+Method_input!$D$64*Input_series!AG772+Method_input!$D$65*C776+Method_input!$D$65*D776+Method_input!$D$65*E776+Method_input!$D$65*F776","v":0},{"$f":"Method_input!$D$65*B776+Method_input!$D$64*Input_series!AG772+Method_input!$D$65*F776","v":0}]
[760,0,0,0,0,0,0,0,0,0,16,12,16,12,0,0,0,12,0,12,0,0,16,12,null,0,{"$f":"Method_input!$D$65*B777+Method_input!$D$64*Input_series!AG773+Method_input!$D$65*C777+Method_input!$D$65*D777+Method_input!$D$65*E777+Method_input!$D$65*F777","v":0},{"$f":"Method_input!$D$65*B777+Method_input!$D$64*Input_series!AG773+Method_input!$D$65*F777","v":0}]
[761,0,0,0,0,0,0,0,0,0,16,12,16,12,0,0,0,12,0,12,0,0,16,12,null,0,{"$f":"Method_input!$D$65*B778+Method_input!$D$64*Input_series!AG774+Method_input!$D$65*C778+Method_input!$D$65*D778+Method_input!$D$65*E778+Method_input!$D$65*F778","v":0},{"$f":"Method_input!$D$65*B778+Method_input!$D$64*Input_series!AG774+Method_input!$D$65*F778","v":0}]
[762,0,0,0,0,0,0,0,0,0,16,12,16,12,0,0,0,12,0,12,0,0,16,12,null,0,{"$f":"Method_input!$D$65*B779+Method_input!$D$64*Input_series!AG775+Method_input!$D$65*C779+Method_input!$D$65*D779+Method_input!$D$65*E779+Method_input!$D$65*F779","v":0},{"$f":"Method_input!$D$65*B779+Method_input!$D$64*Input_series!AG775+Method_input!$D$65*F779","v":0}]
[763,0,0,0,0,0,0,0,0,0,16,12,16,12,0,0,0,12,0,12,0,0,16,12,null,0,{"$f":"Method_input!$D$65*B780+Method_input!$D$64*Input_series!AG776+Method_input!$D$65*C780+Method_input!$D$65*D780+Method_input!$D$65*E780+Method_input!$D$65*F780","v":0},{"$f":"Method_input!$D$65*B780+Method_input!$D$64*Input_series!AG776+Method_input!$D$65*F780","v":0}]
[764,0,0,0,0,0,0,0,0,0,16,12,16,12,0,0,0,12,0,12,0,0,16,12,null,0,{"$f":"Method_input!$D$65*B781+Method_input!$D$64*Input_series!AG777+Method_input!$D$65*C781+Method_input!$D$65*D781+Method_input!$D$65*E781+Method_input!$D$65*F781","v":0},{"$f":"Method_input!$D$65*B781+Method_input!$D$64*Input_series!AG777+Method_input!$D$65*F781","v":0}]
[765,0,0,0,0,0,0,0,0,0,16,12,16,12,0,0,0,12,0,12,0,0,16,12,null,0,{"$f":"Method_input!$D$65*B782+Method_input!$D$64*Input_series!AG778+Method_input!$D$65*C782+Method_input!$D$65*D782+Method_input!$D$65*E782+Method_input!$D$65*F782","v":0},{"$f":"Method_input!$D$65*B782+Method_input!$D$64*Input_series!AG778+Method_input!$D$65*F782","v":0}]
[766,0,0,0,0,0,0,0,0,0,16,12,16,12,0,0,0,12,0,12,0,0,16,12,null,0,{"$f":"Method_input!$D$65*B783+Method_input!$D$64*Input_series!AG779+Method_input!$D$65*C783+Method_input!$D$65*D783+Method_input!$D$65*E783+Method_input!$D$65*F783","v":0},{"$f":"Method_input!$D$65*B783+Method_input!$D$64*Input_series!AG779+Method_input!$D$65*F783","v":0}]
[767,0,0,0,0,0,0,0,0,0,16,12,16,12,0,0,0,12,0,12,0,0,16,12,null,0,{"$f":"Method_input!$D$65*B784+Method_input!$D$64*Input_series!AG780+Method_input!$D$65*C784+Method_input!$D$65*D784+Method_input!$D$65*E784+Method_input!$D$65*F784","v":0},{"$f":"Method_input!$D$65*B784+Method_input!$D$64*Input_series!AG780+Method_input!$D$65*F784","v":0}]
[768,0,0,0,0,0,0,0,0,0,16,12,16,12,0,0,0,12,0,12,0,0,16,12,null,0,{"$f":"Method_input!$D$65*B785+Method_input!$D$64*Input_series!AG781+Method_input!$D$65*C785+Method_input!$D$65*D785+Method_input!$D$65*E785+Method_input!$D$65*F785","v":0},{"$f":"Method_input!$D$65*B785+Method_input!$D$64*Input_series!AG781+Method_input!$D$65*F785","v":0}]
[769,0,0,0,0,0,0,0,0,0,16,12,16,12,0,0,0,12,0,12,0,0,16,12,null,{"$f":"SUM(G786:J786,U786:V786)","v":0},{"$f":"Method_input!$D$65*B786+Method_input!$D$64*Input_series!AG782+Method_input!$D$65*C786+Method_input!$D$65*D786+Method_input!$D$65*E786+Method_input!$D$65*F786","v":0},{"$f":"Method_input!$D$65*B786+Method_input!$D$64*Input_series!AG782+Method_input!$D$65*F786","v":0}]
[770,0,0,0,0,0,0,0,0,0,16,12,16,12,0,0,0,12,0,12,0,0,16,12,null,0,{"$f":"Method_input!$D$65*B787+Method_input!$D$64*Input_series!AG783+Method_input!$D$65*C787+Method_input!$D$65*D787+Method_input!$D$65*E787+Method_input!$D$65*F787","v":0},{"$f":"Method_input!$D$65*B787+Method_input!$D$64*Input_series!AG783+Method_input!$D$65*F787","v":0}]
[771,0,0,0,0,0,0,0,0,0,16,12,16,12,0,0,0,12,0,12,0,0,16,12,null,0,{"$f":"Method_input!$D$65*B788+Method_input!$D$64*Input_series!AG784+Method_input!$D$65*C788+Method_input!$D$65*D788+Method_input!$D$65*E788+Method_input!$D$65*F788","v":0},{"$f":"Method_input!$D$65*B788+Method_input!$D$64*Input_series!AG784+Method_input!$D$65*F788","v":0}]
[772,0,0,0,0,0,0,0,0,0,16,12,16,12,0,0,0,12,0,12,0,0,16,12,null,0,{"$f":"Method_input!$D$65*B789+Method_input!$D$64*Input_series!AG785+Method_input!$D$65*C789+Method_input!$D$65*D789+Method_input!$D$65*E789+Method_input!$D$65*F789","v":0},{"$f":"Method_input!$D$65*B789+Method_input!$D$64*Input_series!AG785+Method_input!$D$65*F789","v":0}]
[773,0,0,0,0,0,0,0,0,0,16,12,16,12,0,0,0,12,0,12,0,0,16,12,null,0,{"$f":"Method_input!$D$65*B790+Method_input!$D$64*Input_series!AG786+Method_input!$D$65*C790+Method_input!$D$65*D790+Method_input!$D$65*E790+Method_input!$D$65*F790","v":0},{"$f":"Method_input!$D$65*B790+Method_input!$D$64*Input_series!AG786+Method_input!$D$65*F790","v":0}]
[774,0,0,0,0,0,0,0,0,0,16,12,16,12,0,0,0,12,0,12,0,0,16,12,null,0,{"$f":"Method_input!$D$65*B791+Method_input!$D$64*Input_series!AG787+Method_input!$D$65*C791+Method_input!$D$65*D791+Method_input!$D$65*E791+Method_input!$D$65*F791","v":0},{"$f":"Method_input!$D$65*B791+Method_input!$D$64*Input_series!AG787+Method_input!$D$65*F791","v":0}]
[775,0,0,0,0,0,0,0,0,0,16,12,16,12,0,0,0,12,0,12,0,0,16,12,null,0,{"$f":"Method_input!$D$65*B792+Method_input!$D$64*Input_series!AG788+Method_input!$D$65*C792+Method_input!$D$65*D792+Method_input!$D$65*E792+Method_input!$D$65*F792","v":0},{"$f":"Method_input!$D$65*B792+Method_input!$D$64*Input_series!AG788+Method_input!$D$65*F792","v":0}]
[776,0,0,0,0,0,0,0,0,0,16,12,16,12,0,0,0,12,0,12,0,0,16,12,null,0,{"$f":"Method_input!$D$65*B793+Method_input!$D$64*Input_series!AG789+Method_input!$D$65*C793+Method_input!$D$65*D793+Method_input!$D$65*E793+Method_input!$D$65*F793","v":0},{"$f":"Method_input!$D$65*B793+Method_input!$D$64*Input_series!AG789+Method_input!$D$65*F793","v":0}]
[777,0,0,0,0,0,0,0,0,0,16,12,16,12,0,0,0,12,0,12,0,0,16,12,null,0,{"$f":"Method_input!$D$65*B794+Method_input!$D$64*Input_series!AG790+Method_input!$D$65*C794+Method_input!$D$65*D794+Method_input!$D$65*E794+Method_input!$D$65*F794","v":0},{"$f":"Method_input!$D$65*B794+Method_input!$D$64*Input_series!AG790+Method_input!$D$65*F794","v":0}]
[778,0,0,0,0,0,0,0,0,0,16,12,16,12,0,0,0,12,0,12,0,0,16,12,null,0,{"$f":"Method_input!$D$65*B795+Method_input!$D$64*Input_series!AG791+Method_input!$D$65*C795+Method_input!$D$65*D795+Method_input!$D$65*E795+Method_input!$D$65*F795","v":0},{"$f":"Method_input!$D$65*B795+Method_input!$D$64*Input_series!AG791+Method_input!$D$65*F795","v":0}]
[779,0,0,0,0,0,0,0,0,0,16,12,16,12,0,0,0,12,0,12,0,0,16,12,null,0,{"$f":"Method_input!$D$65*B796+Method_input!$D$64*Input_series!AG792+Method_input!$D$65*C796+Method_input!$D$65*D796+Method_input!$D$65*E796+Method_input!$D$65*F796","v":0},{"$f":"Method_input!$D$65*B796+Method_input!$D$64*Input_series!AG792+Method_input!$D$65*F796","v":0}]
[780,0,0,0,0,0,0,0,0,0,16,12,16,12,0,0,0,12,0,12,0,0,16,12,null,0,{"$f":"Method_input!$D$65*B797+Method_input!$D$64*Input_series!AG793+Method_input!$D$65*C797+Method_input!$D$65*D797+Method_input!$D$65*E797+Method_input!$D$65*F797","v":0},{"$f":"Method_input!$D$65*B797+Method_input!$D$64*Input_series!AG793+Method_input!$D$65*F797","v":0}]
[781,0,0,0,0,0,0,0,0,0,16,12,16,12,0,0,0,12,0,12,0,0,16,12,null,0,{"$f":"Method_input!$D$65*B798+Method_input!$D$64*Input_series!AG794+Method_input!$D$65*C798+Method_input!$D$65*D798+Method_input!$D$65*E798+Method_input!$D$65*F798","v":0},{"$f":"Method_input!$D$65*B798+Method_input!$D$64*Input_series!AG794+Method_input!$D$65*F798","v":0}]
[782,0,0,0,0,0,0,0,0,0,16,12,16,12,0,0,0,12,0,12,0,0,16,12,null,0,{"$f":"Method_input!$D$65*B799+Method_input!$D$64*Input_series!AG795+Method_input!$D$65*C799+Method_input!$D$65*D799+Method_input!$D$65*E799+Method_input!$D$65*F799","v":0},{"$f":"Method_input!$D$65*B799+Method_input!$D$64*Input_series!AG795+Method_input!$D$65*F799","v":0}]
[783,0,0,0,0,0,0,0,0,0,16,12,16,12,0,0,0,12,0,12,0,0,16,12,null,0,{"$f":"Method_input!$D$65*B800+Method_input!$D$64*Input_series!AG796+Method_input!$D$65*C800+Method_input!$D$65*D800+Method_input!$D$65*E800+Method_input!$D$65*F800","v":0},{"$f":"Method_input!$D$65*B800+Method_input!$D$64*Input_series!AG796+Method_input!$D$65*F800","v":0}]
[784,0,0,0,0,0,0,0,0,0,16,12,16,12,0,0,0,12,0,12,0,0,16,12,null,0,{"$f":"Method_input!$D$65*B801+Method_input!$D$64*Input_series!AG797+Method_input!$D$65*C801+Method_input!$D$65*D801+Method_input!$D$65*E801+Method_input!$D$65*F801","v":0},{"$f":"Method_input!$D$65*B801+Method_input!$D$64*Input_series!AG797+Method_input!$D$65*F801","v":0}]
[785,0,0,0,0,0,0,0,0,0,16,12,16,12,0,0,0,12,0,12,0,0,16,12,null,0,{"$f":"Method_input!$D$65*B802+Method_input!$D$64*Input_series!AG798+Method_input!$D$65*C802+Method_input!$D$65*D802+Method_input!$D$65*E802+Method_input!$D$65*F802","v":0},{"$f":"Method_input!$D$65*B802+Method_input!$D$64*Input_series!AG798+Method_input!$D$65*F802","v":0}]
[786,0,0,0,0,0,0,0,0,0,16,12,16,12,0,0,0,12,0,12,0,0,16,12,null,0,{"$f":"Method_input!$D$65*B803+Method_input!$D$64*Input_series!AG799+Method_input!$D$65*C803+Method_input!$D$65*D803+Method_input!$D$65*E803+Method_input!$D$65*F803","v":0},{"$f":"Method_input!$D$65*B803+Method_input!$D$64*Input_series!AG799+Method_input!$D$65*F803","v":0}]
[787,0,0,0,0,0,0,0,0,0,16,12,16,12,0,0,0,12,0,12,0,0,16,12,null,0,{"$f":"Method_input!$D$65*B804+Method_input!$D$64*Input_series!AG800+Method_input!$D$65*C804+Method_input!$D$65*D804+Method_input!$D$65*E804+Method_input!$D$65*F804","v":0},{"$f":"Method_input!$D$65*B804+Method_input!$D$64*Input_series!AG800+Method_input!$D$65*F804","v":0}]
[788,0,0,0,0,0,0,0,0,0,16,12,16,12,0,0,0,12,0,12,0,0,16,12,null,0,{"$f":"Method_input!$D$65*B805+Method_input!$D$64*Input_series!AG801+Method_input!$D$65*C805+Method_input!$D$65*D805+Method_input!$D$65*E805+Method_input!$D$65*F805","v":0},{"$f":"Method_input!$D$65*B805+Method_input!$D$64*Input_series!AG801+Method_input!$D$65*F805","v":0}]
[789,0,0,0,0,0,0,0,0,0,16,12,16,12,0,0,0,12,0,12,0,0,16,12,null,0,{"$f":"Method_input!$D$65*B806+Method_input!$D$64*Input_series!AG802+Method_input!$D$65*C806+Method_input!$D$65*D806+Method_input!$D$65*E806+Method_input!$D$65*F806","v":0},{"$f":"Method_input!$D$65*B806+Method_input!$D$64*Input_series!AG802+Method_input!$D$65*F806","v":0}]
[790,0,0,0,0,0,0,0,0,0,16,12,16,12,0,0,0,12,0,12,0,0,16,12,null,0,{"$f":"Method_input!$D$65*B807+Method_input!$D$64*Input_series!AG803+Method_input!$D$65*C807+Method_input!$D$65*D807+Method_input!$D$65*E807+Method_input!$D$65*F807","v":0},{"$f":"Method_input!$D$65*B807+Method_input!$D$64*Input_series!AG803+Method_input!$D$65*F807","v":0}]
[791,0,0,0,0,0,0,0,0,0,16,12,16,12,0,0,0,12,0,12,0,0,16,12,null,0,{"$f":"Method_input!$D$65*B808+Method_input!$D$64*Input_series!AG804+Method_input!$D$65*C808+Method_input!$D$65*D808+Method_input!$D$65*E808+Method_input!$D$65*F808","v":0},{"$f":"Method_input!$D$65*B808+Method_input!$D$64*Input_series!AG804+Method_input!$D$65*F808","v":0}]
[792,0,0,0,0,0,0,0,0,0,16,12,16,12,0,0,0,12,0,12,0,0,16,12,null,0,{"$f":"Method_input!$D$65*B809+Method_input!$D$64*Input_series!AG805+Method_input!$D$65*C809+Method_input!$D$65*D809+Method_input!$D$65*E809+Method_input!$D$65*F809","v":0},{"$f":"Method_input!$D$65*B809+Method_input!$D$64*Input_series!AG805+Method_input!$D$65*F809","v":0}]
[793,0,0,0,0,0,0,0,0,0,16,12,16,12,0,0,0,12,0,12,0,0,16,12,null,0,{"$f":"Method_input!$D$65*B810+Method_input!$D$64*Input_series!AG806+Method_input!$D$65*C810+Method_input!$D$65*D810+Method_input!$D$65*E810+Method_input!$D$65*F810","v":0},{"$f":"Method_input!$D$65*B810+Method_input!$D$64*Input_series!AG806+Method_input!$D$65*F810","v":0}]
[794,0,0,0,0,0,0,0,0,0,16,12,16,12,0,0,0,12,0,12,0,0,16,12,null,0,{"$f":"Method_input!$D$65*B811+Method_input!$D$64*Input_series!AG807+Method_input!$D$65*C811+Method_input!$D$65*D811+Method_input!$D$65*E811+Method_input!$D$65*F811","v":0},{"$f":"Method_input!$D$65*B811+Method_input!$D$64*Input_series!AG807+Method_input!$D$65*F811","v":0}]
[795,0,0,0,0,0,0,0,0,0,16,12,16,12,0,0,0,12,0,12,0,0,16,12,null,0,{"$f":"Method_input!$D$65*B812+Method_input!$D$64*Input_series!AG808+Method_input!$D$65*C812+Method_input!$D$65*D812+Method_input!$D$65*E812+Method_input!$D$65*F812","v":0},{"$f":"Method_input!$D$65*B812+Method_input!$D$64*Input_series!AG808+Method_input!$D$65*F812","v":0}]
[796,0,0,0,0,0,0,0,0,0,16,12,16,12,0,0,0,12,0,12,0,0,16,12,null,0,{"$f":"Method_input!$D$65*B813+Method_input!$D$64*Input_series!AG809+Method_input!$D$65*C813+Method_input!$D$65*D813+Method_input!$D$65*E813+Method_input!$D$65*F813","v":0},{"$f":"Method_input!$D$65*B813+Method_input!$D$64*Input_series!AG809+Method_input!$D$65*F813","v":0}]
[797,0,0,0,0,0,0,0,0,0,16,12,16,12,0,0,0,12,0,12,0,0,16,12,null,0,{"$f":"Method_input!$D$65*B814+Method_input!$D$64*Input_series!AG810+Method_input!$D$65*C814+Method_input!$D$65*D814+Method_input!$D$65*E814+Method_input!$D$65*F814","v":0},{"$f":"Method_input!$D$65*B814+Method_input!$D$64*Input_series!AG810+Method_input!$D$65*F814","v":0}]
[798,0,0,0,0,0,0,0,0,0,16,12,16,12,0,0,0,12,0,12,0,0,16,12,null,0,{"$f":"Method_input!$D$65*B815+Method_input!$D$64*Input_series!AG811+Method_input!$D$65*C815+Method_input!$D$65*D815+Method_input!$D$65*E815+Method_input!$D$65*F815","v":0},{"$f":"Method_input!$D$65*B815+Method_input!$D$64*Input_series!AG811+Method_input!$D$65*F815","v":0}]
[799,0,0,0,0,0,0,0,0,0,16,12,16,12,0,0,0,12,0,12,0,0,16,12,null,0,{"$f":"Method_input!$D$65*B816+Method_input!$D$64*Input_series!AG812+Method_input!$D$65*C816+Method_input!$D$65*D816+Method_input!$D$65*E816+Method_input!$D$65*F816","v":0},{"$f":"Method_input!$D$65*B816+Method_input!$D$64*Input_series!AG812+Method_input!$D$65*F816","v":0}]
[800,0,0,0,0,0,0,0,0,0,16,12,16,12,0,0,0,12,0,12,0,0,16,12,null,0,{"$f":"Method_input!$D$65*B817+Method_input!$D$64*Input_series!AG813+Method_input!$D$65*C817+Method_input!$D$65*D817+Method_input!$D$65*E817+Method_input!$D$65*F817","v":0},{"$f":"Method_input!$D$65*B817+Method_input!$D$64*Input_series!AG813+Method_input!$D$65*F817","v":0}]
[801,0,0,0,0,0,0,0,0,0,16,12,16,12,0,0,0,12,0,12,0,0,16,12,null,0,{"$f":"Method_input!$D$65*B818+Method_input!$D$64*Input_series!AG814+Method_input!$D$65*C818+Method_input!$D$65*D818+Method_input!$D$65*E818+Method_input!$D$65*F818","v":0},{"$f":"Method_input!$D$65*B818+Method_input!$D$64*Input_series!AG814+Method_input!$D$65*F818","v":0}]
[802,0,0,0,0,0,0,0,0,0,16,12,16,12,0,0,0,12,0,12,0,0,16,12,null,0,{"$f":"Method_input!$D$65*B819+Method_input!$D$64*Input_series!AG815+Method_input!$D$65*C819+Method_input!$D$65*D819+Method_input!$D$65*E819+Method_input!$D$65*F819","v":0},{"$f":"Method_input!$D$65*B819+Method_input!$D$64*Input_series!AG815+Method_input!$D$65*F819","v":0}]
[803,0,0,0,0,0,0,0,0,0,16,12,16,12,0,0,0,12,0,12,0,0,16,12,null,0,{"$f":"Method_input!$D$65*B820+Method_input!$D$64*Input_series!AG816+Method_input!$D$65*C820+Method_input!$D$65*D820+Method_input!$D$65*E820+Method_input!$D$65*F820","v":0},{"$f":"Method_input!$D$65*B820+Method_input!$D$64*Input_series!AG816+Method_input!$D$65*F820","v":0}]
[804,0,0,0,0,0,0,0,0,0,16,12,16,12,0,0,0,12,0,12,0,0,16,12,null,0,{"$f":"Method_input!$D$65*B821+Method_input!$D$64*Input_series!AG817+Method_input!$D$65*C821+Method_input!$D$65*D821+Method_input!$D$65*E821+Method_input!$D$65*F821","v":0},{"$f":"Method_input!$D$65*B821+Method_input!$D$64*Input_series!AG817+Method_input!$D$65*F821","v":0}]
[805,0,0,0,0,0,0,0,0,0,16,12,16,12,0,0,0,12,0,12,0,0,16,12,null,0,{"$f":"Method_input!$D$65*B822+Method_input!$D$64*Input_series!AG818+Method_input!$D$65*C822+Method_input!$D$65*D822+Method_input!$D$65*E822+Method_input!$D$65*F822","v":0},{"$f":"Method_input!$D$65*B822+Method_input!$D$64*Input_series!AG818+Method_input!$D$65*F822","v":0}]
[806,0,0,0,0,0,0,0,0,0,16,12,16,12,0,0,0,12,0,12,0,0,16,12,null,0,{"$f":"Method_input!$D$65*B823+Method_input!$D$64*Input_series!AG819+Method_input!$D$65*C823+Method_input!$D$65*D823+Method_input!$D$65*E823+Method_input!$D$65*F823","v":0},{"$f":"Method_input!$D$65*B823+Method_input!$D$64*Input_series!AG819+Method_input!$D$65*F823","v":0}]
[807,0,0,0,0,0,0,0,0,0,16,12,16,12,0,0,0,12,0,12,0,0,16,12,null,0,{"$f":"Method_input!$D$65*B824+Method_input!$D$64*Input_series!AG820+Method_input!$D$65*C824+Method_input!$D$65*D824+Method_input!$D$65*E824+Method_input!$D$65*F824","v":0},{"$f":"Method_input!$D$65*B824+Method_input!$D$64*Input_series!AG820+Method_input!$D$65*F824","v":0}]
[808,0,0,0,0,0,0,0,0,0,16,12,16,12,0,0,0,12,0,12,0,0,16,12,null,0,{"$f":"Method_input!$D$65*B825+Method_input!$D$64*Input_series!AG821+Method_input!$D$65*C825+Method_input!$D$65*D825+Method_input!$D$65*E825+Method_input!$D$65*F825","v":0},{"$f":"Method_input!$D$65*B825+Method_input!$D$64*Input_series!AG821+Method_input!$D$65*F825","v":0}]
[809,0,0,0,0,0,0,0,0,0,16,12,16,12,0,0,0,12,0,12,0,0,16,12,null,0,{"$f":"Method_input!$D$65*B826+Method_input!$D$64*Input_series!AG822+Method_input!$D$65*C826+Method_input!$D$65*D826+Method_input!$D$65*E826+Method_input!$D$65*F826","v":0},{"$f":"Method_input!$D$65*B826+Method_input!$D$64*Input_series!AG822+Method_input!$D$65*F826","v":0}]
[810,0,0,0,0,0,0,0,0,0,16,12,16,12,0,0,0,12,0,12,0,0,16,12,null,0,{"$f":"Method_input!$D$65*B827+Method_input!$D$64*Input_series!AG823+Method_input!$D$65*C827+Method_input!$D$65*D827+Method_input!$D$65*E827+Method_input!$D$65*F827","v":0},{"$f":"Method_input!$D$65*B827+Method_input!$D$64*Input_series!AG823+Method_input!$D$65*F827","v":0}]
[811,0,0,0,0,0,0,0,0,0,16,12,16,12,0,0,0,12,0,12,0,0,16,12,null,0,{"$f":"Method_input!$D$65*B828+Method_input!$D$64*Input_series!AG824+Method_input!$D$65*C828+Method_input!$D$65*D828+Method_input!$D$65*E828+Method_input!$D$65*F828","v":0},{"$f":"Method_input!$D$65*B828+Method_input!$D$64*Input_series!AG824+Method_input!$D$65*F828","v":0}]
[812,0,0,0,0,0,0,0,0,0,16,12,16,12,0,0,0,12,0,12,0,0,16,12,null,0,{"$f":"Method_input!$D$65*B829+Method_input!$D$64*Input_series!AG825+Method_input!$D$65*C829+Method_input!$D$65*D829+Method_input!$D$65*E829+Method_input!$D$65*F829","v":0},{"$f":"Method_input!$D$65*B829+Method_input!$D$64*Input_series!AG825+Method_input!$D$65*F829","v":0}]
[813,0,0,0,0,0,0,0,0,0,16,12,16,12,0,0,0,12,0,12,0,0,16,12,null,0,{"$f":"Method_input!$D$65*B830+Method_input!$D$64*Input_series!AG826+Method_input!$D$65*C830+Method_input!$D$65*D830+Method_input!$D$65*E830+Method_input!$D$65*F830","v":0},{"$f":"Method_input!$D$65*B830+Method_input!$D$64*Input_series!AG826+Method_input!$D$65*F830","v":0}]
[814,0,0,0,0,0,0,0,0,0,16,12,16,12,0,0,0,12,0,12,0,0,16,12,null,0,{"$f":"Method_input!$D$65*B831+Method_input!$D$64*Input_series!AG827+Method_input!$D$65*C831+Method_input!$D$65*D831+Method_input!$D$65*E831+Method_input!$D$65*F831","v":0},{"$f":"Method_input!$D$65*B831+Method_input!$D$64*Input_series!AG827+Method_input!$D$65*F831","v":0}]
[815,0,0,0,0,0,0,0,0,0,16,12,16,12,0,0,0,12,0,12,0,0,16,12,null,0,{"$f":"Method_input!$D$65*B832+Method_input!$D$64*Input_series!AG828+Method_input!$D$65*C832+Method_input!$D$65*D832+Method_input!$D$65*E832+Method_input!$D$65*F832","v":0},{"$f":"Method_input!$D$65*B832+Method_input!$D$64*Input_series!AG828+Method_input!$D$65*F832","v":0}]
[816,0,0,0,0,0,0,0,0,0,16,12,16,12,0,0,0,12,0,12,0,0,16,12,null,0,{"$f":"Method_input!$D$65*B833+Method_input!$D$64*Input_series!AG829+Method_input!$D$65*C833+Method_input!$D$65*D833+Method_input!$D$65*E833+Method_input!$D$65*F833","v":0},{"$f":"Method_input!$D$65*B833+Method_input!$D$64*Input_series!AG829+Method_input!$D$65*F833","v":0}]
[817,0,0,0,0,0,0,0,0,0,16,12,16,12,0,0,0,12,0,12,0,0,16,12,null,0,{"$f":"Method_input!$D$65*B834+Method_input!$D$64*Input_series!AG830+Method_input!$D$65*C834+Method_input!$D$65*D834+Method_input!$D$65*E834+Method_input!$D$65*F834","v":0},{"$f":"Method_input!$D$65*B834+Method_input!$D$64*Input_series!AG830+Method_input!$D$65*F834","v":0}]
[818,0,0,0,0,0,0,0,0,0,16,12,16,12,0,0,0,12,0,12,0,0,16,12,null,0,{"$f":"Method_input!$D$65*B835+Method_input!$D$64*Input_series!AG831+Method_input!$D$65*C835+Method_input!$D$65*D835+Method_input!$D$65*E835+Method_input!$D$65*F835","v":0},{"$f":"Method_input!$D$65*B835+Method_input!$D$64*Input_series!AG831+Method_input!$D$65*F835","v":0}]
[819,0,0,0,0,0,0,0,0,0,16,12,16,12,0,0,0,12,0,12,0,0,16,12,null,0,{"$f":"Method_input!$D$65*B836+Method_input!$D$64*Input_series!AG832+Method_input!$D$65*C836+Method_input!$D$65*D836+Method_input!$D$65*E836+Method_input!$D$65*F836","v":0},{"$f":"Method_input!$D$65*B836+Method_input!$D$64*Input_series!AG832+Method_input!$D$65*F836","v":0}]
[820,0,0,0,0,0,0,0,0,0,16,12,16,12,0,0,0,12,0,12,0,0,16,12,null,0,{"$f":"Method_input!$D$65*B837+Method_input!$D$64*Input_series!AG833+Method_input!$D$65*C837+Method_input!$D$65*D837+Method_input!$D$65*E837+Method_input!$D$65*F837","v":0},{"$f":"Method_input!$D$65*B837+Method_input!$D$64*Input_series!AG833+Method_input!$D$65*F837","v":0}]
[821,0,0,0,0,0,0,0,0,0,16,12,16,12,0,0,0,12,0,12,0,0,16,12,null,0,{"$f":"Method_input!$D$65*B838+Method_input!$D$64*Input_series!AG834+Method_input!$D$65*C838+Method_input!$D$65*D838+Method_input!$D$65*E838+Method_input!$D$65*F838","v":0},{"$f":"Method_input!$D$65*B838+Method_input!$D$64*Input_series!AG834+Method_input!$D$65*F838","v":0}]
[822,0,0,0,0,0,0,0,0,0,16,12,16,12,0,0,0,12,0,12,0,0,16,12,null,0,{"$f":"Method_input!$D$65*B839+Method_input!$D$64*Input_series!AG835+Method_input!$D$65*C839+Method_input!$D$65*D839+Method_input!$D$65*E839+Method_input!$D$65*F839","v":0},{"$f":"Method_input!$D$65*B839+Method_input!$D$64*Input_series!AG835+Method_input!$D$65*F839","v":0}]
[823,0,0,0,0,0,0,0,0,0,16,12,16,12,0,0,0,12,0,12,0,0,16,12,null,0,{"$f":"Method_input!$D$65*B840+Method_input!$D$64*Input_series!AG836+Method_input!$D$65*C840+Method_input!$D$65*D840+Method_input!$D$65*E840+Method_input!$D$65*F840","v":0},{"$f":"Method_input!$D$65*B840+Method_input!$D$64*Input_series!AG836+Method_input!$D$65*F840","v":0}]
[824,0,0,0,0,0,0,0,0,0,16,12,16,12,0,0,0,12,0,12,0,0,16,12,null,0,{"$f":"Method_input!$D$65*B841+Method_input!$D$64*Input_series!AG837+Method_input!$D$65*C841+Method_input!$D$65*D841+Method_input!$D$65*E841+Method_input!$D$65*F841","v":0},{"$f":"Method_input!$D$65*B841+Method_input!$D$64*Input_series!AG837+Method_input!$D$65*F841","v":0}]
[825,0,0,0,0,0,0,0,0,0,16,12,16,12,0,0,0,12,0,12,0,0,16,12,null,0,{"$f":"Method_input!$D$65*B842+Method_input!$D$64*Input_series!AG838+Method_input!$D$65*C842+Method_input!$D$65*D842+Method_input!$D$65*E842+Method_input!$D$65*F842","v":0},{"$f":"Method_input!$D$65*B842+Method_input!$D$64*Input_series!AG838+Method_input!$D$65*F842","v":0}]
[826,0,0,0,0,0,0,0,0,0,16,12,16,12,0,0,0,12,0,12,0,0,16,12,null,0,{"$f":"Method_input!$D$65*B843+Method_input!$D$64*Input_series!AG839+Method_input!$D$65*C843+Method_input!$D$65*D843+Method_input!$D$65*E843+Method_input!$D$65*F843","v":0},{"$f":"Method_input!$D$65*B843+Method_input!$D$64*Input_series!AG839+Method_input!$D$65*F843","v":0}]
[827,0,0,0,0,0,0,0,0,0,16,12,16,12,0,0,0,12,0,12,0,0,16,12,null,0,{"$f":"Method_input!$D$65*B844+Method_input!$D$64*Input_series!AG840+Method_input!$D$65*C844+Method_input!$D$65*D844+Method_input!$D$65*E844+Method_input!$D$65*F844","v":0},{"$f":"Method_input!$D$65*B844+Method_input!$D$64*Input_series!AG840+Method_input!$D$65*F844","v":0}]
[828,0,0,0,0,0,0,0,0,0,16,12,16,12,0,0,0,12,0,12,0,0,16,12,null,0,{"$f":"Method_input!$D$65*B845+Method_input!$D$64*Input_series!AG841+Method_input!$D$65*C845+Method_input!$D$65*D845+Method_input!$D$65*E845+Method_input!$D$65*F845","v":0},{"$f":"Method_input!$D$65*B845+Method_input!$D$64*Input_series!AG841+Method_input!$D$65*F845","v":0}]
[829,0,0,0,0,0,0,0,0,0,16,12,16,12,0,0,0,12,0,12,0,0,16,12,null,0,{"$f":"Method_input!$D$65*B846+Method_input!$D$64*Input_series!AG842+Method_input!$D$65*C846+Method_input!$D$65*D846+Method_input!$D$65*E846+Method_input!$D$65*F846","v":0},{"$f":"Method_input!$D$65*B846+Method_input!$D$64*Input_series!AG842+Method_input!$D$65*F846","v":0}]
[830,0,0,0,0,0,0,0,0,0,16,12,16,12,0,0,0,12,0,12,0,0,16,12,null,0,{"$f":"Method_input!$D$65*B847+Method_input!$D$64*Input_series!AG843+Method_input!$D$65*C847+Method_input!$D$65*D847+Method_input!$D$65*E847+Method_input!$D$65*F847","v":0},{"$f":"Method_input!$D$65*B847+Method_input!$D$64*Input_series!AG843+Method_input!$D$65*F847","v":0}]
[831,0,0,0,0,0,0,0,0,0,16,12,16,12,0,0,0,12,0,12,0,0,16,12,null,0,{"$f":"Method_input!$D$65*B848+Method_input!$D$64*Input_series!AG844+Method_input!$D$65*C848+Method_input!$D$65*D848+Method_input!$D$65*E848+Method_input!$D$65*F848","v":0},{"$f":"Method_input!$D$65*B848+Method_input!$D$64*Input_series!AG844+Method_input!$D$65*F848","v":0}]
[832,0,0,0,0,0,0,0,0,0,16,12,16,12,0,0,0,12,0,12,0,0,16,12,null,0,{"$f":"Method_input!$D$65*B849+Method_input!$D$64*Input_series!AG845+Method_input!$D$65*C849+Method_input!$D$65*D849+Method_input!$D$65*E849+Method_input!$D$65*F849","v":0},{"$f":"Method_input!$D$65*B849+Method_input!$D$64*Input_series!AG845+Method_input!$D$65*F849","v":0}]
[833,0,0,0,0,0,0,0,0,0,16,12,16,12,0,0,0,12,0,12,0,0,16,12,null,{"$f":"SUM(G850:J850,U850:V850)","v":0},{"$f":"Method_input!$D$65*B850+Method_input!$D$64*Input_series!AG846+Method_input!$D$65*C850+Method_input!$D$65*D850+Method_input!$D$65*E850+Method_input!$D$65*F850","v":0},{"$f":"Method_input!$D$65*B850+Method_input!$D$64*Input_series!AG846+Method_input!$D$65*F850","v":0}]
[834,0,0,0,0,0,0,0,0,0,16,12,16,12,0,0,0,12,0,12,0,0,16,12,null,0,{"$f":"Method_input!$D$65*B851+Method_input!$D$64*Input_series!AG847+Method_input!$D$65*C851+Method_input!$D$65*D851+Method_input!$D$65*E851+Method_input!$D$65*F851","v":0},{"$f":"Method_input!$D$65*B851+Method_input!$D$64*Input_series!AG847+Method_input!$D$65*F851","v":0}]
[835,0,0,0,0,0,0,0,0,0,16,12,16,12,0,0,0,12,0,12,0,0,16,12,null,0,{"$f":"Method_input!$D$65*B852+Method_input!$D$64*Input_series!AG848+Method_input!$D$65*C852+Method_input!$D$65*D852+Method_input!$D$65*E852+Method_input!$D$65*F852","v":0},{"$f":"Method_input!$D$65*B852+Method_input!$D$64*Input_series!AG848+Method_input!$D$65*F852","v":0}]
[836,0,0,0,0,0,0,0,0,0,16,12,16,12,0,0,0,12,0,12,0,0,16,12,null,0,{"$f":"Method_input!$D$65*B853+Method_input!$D$64*Input_series!AG849+Method_input!$D$65*C853+Method_input!$D$65*D853+Method_input!$D$65*E853+Method_input!$D$65*F853","v":0},{"$f":"Method_input!$D$65*B853+Method_input!$D$64*Input_series!AG849+Method_input!$D$65*F853","v":0}]
[837,0,0,0,0,0,0,0,0,0,16,12,16,12,0,0,0,12,0,12,0,0,16,12,null,0,{"$f":"Method_input!$D$65*B854+Method_input!$D$64*Input_series!AG850+Method_input!$D$65*C854+Method_input!$D$65*D854+Method_input!$D$65*E854+Method_input!$D$65*F854","v":0},{"$f":"Method_input!$D$65*B854+Method_input!$D$64*Input_series!AG850+Method_input!$D$65*F854","v":0}]
[838,0,0,0,0,0,0,0,0,0,16,12,16,12,0,0,0,12,0,12,0,0,16,12,null,0,{"$f":"Method_input!$D$65*B855+Method_input!$D$64*Input_series!AG851+Method_input!$D$65*C855+Method_input!$D$65*D855+Method_input!$D$65*E855+Method_input!$D$65*F855","v":0},{"$f":"Method_input!$D$65*B855+Method_input!$D$64*Input_series!AG851+Method_input!$D$65*F855","v":0}]
[839,0,0,0,0,0,0,0,0,0,16,12,16,12,0,0,0,12,0,12,0,0,16,12,null,0,{"$f":"Method_input!$D$65*B856+Method_input!$D$64*Input_series!AG852+Method_input!$D$65*C856+Method_input!$D$65*D856+Method_input!$D$65*E856+Method_input!$D$65*F856","v":0},{"$f":"Method_input!$D$65*B856+Method_input!$D$64*Input_series!AG852+Method_input!$D$65*F856","v":0}]
[840,0,0,0,0,0,0,0,0,0,16,12,16,12,0,0,0,12,0,12,0,0,16,12,null,0,{"$f":"Method_input!$D$65*B857+Method_input!$D$64*Input_series!AG853+Method_input!$D$65*C857+Method_input!$D$65*D857+Method_input!$D$65*E857+Method_input!$D$65*F857","v":0},{"$f":"Method_input!$D$65*B857+Method_input!$D$64*Input_series!AG853+Method_input!$D$65*F857","v":0}]
[841,0,0,0,0,0,0,0,0,0,16,12,16,12,0,0,0,12,0,12,0,0,16,12,null,0,{"$f":"Method_input!$D$65*B858+Method_input!$D$64*Input_series!AG854+Method_input!$D$65*C858+Method_input!$D$65*D858+Method_input!$D$65*E858+Method_input!$D$65*F858","v":0},{"$f":"Method_input!$D$65*B858+Method_input!$D$64*Input_series!AG854+Method_input!$D$65*F858","v":0}]
[842,0,0,0,0,0,0,0,0,0,16,12,16,12,0,0,0,12,0,12,0,0,16,12,null,0,{"$f":"Method_input!$D$65*B859+Method_input!$D$64*Input_series!AG855+Method_input!$D$65*C859+Method_input!$D$65*D859+Method_input!$D$65*E859+Method_input!$D$65*F859","v":0},{"$f":"Method_input!$D$65*B859+Method_input!$D$64*Input_series!AG855+Method_input!$D$65*F859","v":0}]
[843,0,0,0,0,0,0,0,0,0,16,12,16,12,0,0,0,12,0,12,0,0,16,12,null,0,{"$f":"Method_input!$D$65*B860+Method_input!$D$64*Input_series!AG856+Method_input!$D$65*C860+Method_input!$D$65*D860+Method_input!$D$65*E860+Method_input!$D$65*F860","v":0},{"$f":"Method_input!$D$65*B860+Method_input!$D$64*Input_series!AG856+Method_input!$D$65*F860","v":0}]
[844,0,0,0,0,0,0,0,0,0,16,12,16,12,0,0,0,12,0,12,0,0,16,12,null,0,{"$f":"Method_input!$D$65*B861+Method_input!$D$64*Input_series!AG857+Method_input!$D$65*C861+Method_input!$D$65*D861+Method_input!$D$65*E861+Method_input!$D$65*F861","v":0},{"$f":"Method_input!$D$65*B861+Method_input!$D$64*Input_series!AG857+Method_input!$D$65*F861","v":0}]
[845,0,0,0,0,0,0,0,0,0,16,12,16,12,0,0,0,12,0,12,0,0,16,12,null,0,{"$f":"Method_input!$D$65*B862+Method_input!$D$64*Input_series!AG858+Method_input!$D$65*C862+Method_input!$D$65*D862+Method_input!$D$65*E862+Method_input!$D$65*F862","v":0},{"$f":"Method_input!$D$65*B862+Method_input!$D$64*Input_series!AG858+Method_input!$D$65*F862","v":0}]
[846,0,0,0,0,0,0,0,0,0,16,12,16,12,0,0,0,12,0,12,0,0,16,12,null,0,{"$f":"Method_input!$D$65*B863+Method_input!$D$64*Input_series!AG859+Method_input!$D$65*C863+Method_input!$D$65*D863+Method_input!$D$65*E863+Method_input!$D$65*F863","v":0},{"$f":"Method_input!$D$65*B863+Method_input!$D$64*Input_series!AG859+Method_input!$D$65*F863","v":0}]
[847,0,0,0,0,0,0,0,0,0,16,12,16,12,0,0,0,12,0,12,0,0,16,12,null,0,{"$f":"Method_input!$D$65*B864+Method_input!$D$64*Input_series!AG860+Method_input!$D$65*C864+Method_input!$D$65*D864+Method_input!$D$65*E864+Method_input!$D$65*F864","v":0},{"$f":"Method_input!$D$65*B864+Method_input!$D$64*Input_series!AG860+Method_input!$D$65*F864","v":0}]
[848,0,0,0,0,0,0,0,0,0,16,12,16,12,0,0,0,12,0,12,0,0,16,12,null,0,{"$f":"Method_input!$D$65*B865+Method_input!$D$64*Input_series!AG861+Method_input!$D$65*C865+Method_input!$D$65*D865+Method_input!$D$65*E865+Method_input!$D$65*F865","v":0},{"$f":"Method_input!$D$65*B865+Method_input!$D$64*Input_series!AG861+Method_input!$D$65*F865","v":0}]
[849,0,0,0,0,0,0,0,0,0,16,12,16,12,0,0,0,12,0,12,0,0,16,12,null,0,{"$f":"Method_input!$D$65*B866+Method_input!$D$64*Input_series!AG862+Method_input!$D$65*C866+Method_input!$D$65*D866+Method_input!$D$65*E866+Method_input!$D$65*F866","v":0},{"$f":"Method_input!$D$65*B866+Method_input!$D$64*Input_series!AG862+Method_input!$D$65*F866","v":0}]
[850,0,0,0,0,0,0,0,0,0,16,12,16,12,0,0,0,12,0,12,0,0,16,12,null,0,{"$f":"Method_input!$D$65*B867+Method_input!$D$64*Input_series!AG863+Method_input!$D$65*C867+Method_input!$D$65*D867+Method_input!$D$65*E867+Method_input!$D$65*F867","v":0},{"$f":"Method_input!$D$65*B867+Method_input!$D$64*Input_series!AG863+Method_input!$D$65*F867","v":0}]
[851,0,0,0,0,0,0,0,0,0,16,12,16,12,0,0,0,12,0,12,0,0,16,12,null,0,{"$f":"Method_input!$D$65*B868+Method_input!$D$64*Input_series!AG864+Method_input!$D$65*C868+Method_input!$D$65*D868+Method_input!$D$65*E868+Method_input!$D$65*F868","v":0},{"$f":"Method_input!$D$65*B868+Method_input!$D$64*Input_series!AG864+Method_input!$D$65*F868","v":0}]
[852,0,0,0,0,0,0,0,0,0,16,12,16,12,0,0,0,12,0,12,0,0,16,12,null,0,{"$f":"Method_input!$D$65*B869+Method_input!$D$64*Input_series!AG865+Method_input!$D$65*C869+Method_input!$D$65*D869+Method_input!$D$65*E869+Method_input!$D$65*F869","v":0},{"$f":"Method_input!$D$65*B869+Method_input!$D$64*Input_series!AG865+Method_input!$D$65*F869","v":0}]
[853,0,0,0,0,0,0,0,0,0,16,12,16,12,0,0,0,12,0,12,0,0,16,12,null,0,{"$f":"Method_input!$D$65*B870+Method_input!$D$64*Input_series!AG866+Method_input!$D$65*C870+Method_input!$D$65*D870+Method_input!$D$65*E870+Method_input!$D$65*F870","v":0},{"$f":"Method_input!$D$65*B870+Method_input!$D$64*Input_series!AG866+Method_input!$D$65*F870","v":0}]
[854,0,0,0,0,0,0,0,0,0,16,12,16,12,0,0,0,12,0,12,0,0,16,12,null,0,{"$f":"Method_input!$D$65*B871+Method_input!$D$64*Input_series!AG867+Method_input!$D$65*C871+Method_input!$D$65*D871+Method_input!$D$65*E871+Method_input!$D$65*F871","v":0},{"$f":"Method_input!$D$65*B871+Method_input!$D$64*Input_series!AG867+Method_input!$D$65*F871","v":0}]
[855,0,0,0,0,0,0,0,0,0,16,12,16,12,0,0,0,12,0,12,0,0,16,12,null,0,{"$f":"Method_input!$D$65*B872+Method_input!$D$64*Input_series!AG868+Method_input!$D$65*C872+Method_input!$D$65*D872+Method_input!$D$65*E872+Method_input!$D$65*F872","v":0},{"$f":"Method_input!$D$65*B872+Method_input!$D$64*Input_series!AG868+Method_input!$D$65*F872","v":0}]
[856,0,0,0,0,0,0,0,0,0,16,12,16,12,0,0,0,12,0,12,0,0,16,12,null,0,{"$f":"Method_input!$D$65*B873+Method_input!$D$64*Input_series!AG869+Method_input!$D$65*C873+Method_input!$D$65*D873+Method_input!$D$65*E873+Method_input!$D$65*F873","v":0},{"$f":"Method_input!$D$65*B873+Method_input!$D$64*Input_series!AG869+Method_input!$D$65*F873","v":0}]
[857,0,0,0,0,0,0,0,0,0,16,12,16,12,0,0,0,12,0,12,0,0,16,12,null,0,{"$f":"Method_input!$D$65*B874+Method_input!$D$64*Input_series!AG870+Method_input!$D$65*C874+Method_input!$D$65*D874+Method_input!$D$65*E874+Method_input!$D$65*F874","v":0},{"$f":"Method_input!$D$65*B874+Method_input!$D$64*Input_series!AG870+Method_input!$D$65*F874","v":0}]
[858,0,0,0,0,0,0,0,0,0,16,12,16,12,0,0,0,12,0,12,0,0,16,12,null,0,{"$f":"Method_input!$D$65*B875+Method_input!$D$64*Input_series!AG871+Method_input!$D$65*C875+Method_input!$D$65*D875+Method_input!$D$65*E875+Method_input!$D$65*F875","v":0},{"$f":"Method_input!$D$65*B875+Method_input!$D$64*Input_series!AG871+Method_input!$D$65*F875","v":0}]
[859,0,0,0,0,0,0,0,0,0,16,12,16,12,0,0,0,12,0,12,0,0,16,12,null,0,{"$f":"Method_input!$D$65*B876+Method_input!$D$64*Input_series!AG872+Method_input!$D$65*C876+Method_input!$D$65*D876+Method_input!$D$65*E876+Method_input!$D$65*F876","v":0},{"$f":"Method_input!$D$65*B876+Method_input!$D$64*Input_series!AG872+Method_input!$D$65*F876","v":0}]
[860,0,0,0,0,0,0,0,0,0,16,12,16,12,0,0,0,12,0,12,0,0,16,12,null,0,{"$f":"Method_input!$D$65*B877+Method_input!$D$64*Input_series!AG873+Method_input!$D$65*C877+Method_input!$D$65*D877+Method_input!$D$65*E877+Method_input!$D$65*F877","v":0},{"$f":"Method_input!$D$65*B877+Method_input!$D$64*Input_series!AG873+Method_input!$D$65*F877","v":0}]
[861,0,0,0,0,0,0,0,0,0,16,12,16,12,0,0,0,12,0,12,0,0,16,12,null,0,{"$f":"Method_input!$D$65*B878+Method_input!$D$64*Input_series!AG874+Method_input!$D$65*C878+Method_input!$D$65*D878+Method_input!$D$65*E878+Method_input!$D$65*F878","v":0},{"$f":"Method_input!$D$65*B878+Method_input!$D$64*Input_series!AG874+Method_input!$D$65*F878","v":0}]
[862,0,0,0,0,0,0,0,0,0,16,12,16,12,0,0,0,12,0,12,0,0,16,12,null,0,{"$f":"Method_input!$D$65*B879+Method_input!$D$64*Input_series!AG875+Method_input!$D$65*C879+Method_input!$D$65*D879+Method_input!$D$65*E879+Method_input!$D$65*F879","v":0},{"$f":"Method_input!$D$65*B879+Method_input!$D$64*Input_series!AG875+Method_input!$D$65*F879","v":0}]
[863,0,0,0,0,0,0,0,0,0,16,12,16,12,0,0,0,12,0,12,0,0,16,12,null,0,{"$f":"Method_input!$D$65*B880+Method_input!$D$64*Input_series!AG876+Method_input!$D$65*C880+Method_input!$D$65*D880+Method_input!$D$65*E880+Method_input!$D$65*F880","v":0},{"$f":"Method_input!$D$65*B880+Method_input!$D$64*Input_series!AG876+Method_input!$D$65*F880","v":0}]
[864,0,0,0,0,0,0,0,0,0,16,12,16,12,0,0,0,12,0,12,0,0,16,12,null,0,{"$f":"Method_input!$D$65*B881+Method_input!$D$64*Input_series!AG877+Method_input!$D$65*C881+Method_input!$D$65*D881+Method_input!$D$65*E881+Method_input!$D$65*F881","v":0},{"$f":"Method_input!$D$65*B881+Method_input!$D$64*Input_series!AG877+Method_input!$D$65*F881","v":0}]
[865,0,0,0,0,0,0,0,0,0,16,12,16,12,0,0,0,12,0,12,0,0,16,12,null,0,{"$f":"Method_input!$D$65*B882+Method_input!$D$64*Input_series!AG878+Method_input!$D$65*C882+Method_input!$D$65*D882+Method_input!$D$65*E882+Method_input!$D$65*F882","v":0},{"$f":"Method_input!$D$65*B882+Method_input!$D$64*Input_series!AG878+Method_input!$D$65*F882","v":0}]
[866,0,0,0,0,0,0,0,0,0,16,12,16,12,0,0,0,12,0,12,0,0,16,12,null,0,{"$f":"Method_input!$D$65*B883+Method_input!$D$64*Input_series!AG879+Method_input!$D$65*C883+Method_input!$D$65*D883+Method_input!$D$65*E883+Method_input!$D$65*F883","v":0},{"$f":"Method_input!$D$65*B883+Method_input!$D$64*Input_series!AG879+Method_input!$D$65*F883","v":0}]
[867,0,0,0,0,0,0,0,0,0,16,12,16,12,0,0,0,12,0,12,0,0,16,12,null,0,{"$f":"Method_input!$D$65*B884+Method_input!$D$64*Input_series!AG880+Method_input!$D$65*C884+Method_input!$D$65*D884+Method_input!$D$65*E884+Method_input!$D$65*F884","v":0},{"$f":"Method_input!$D$65*B884+Method_input!$D$64*Input_series!AG880+Method_input!$D$65*F884","v":0}]
[868,0,0,0,0,0,0,0,0,0,16,12,16,12,0,0,0,12,0,12,0,0,16,12,null,0,{"$f":"Method_input!$D$65*B885+Method_input!$D$64*Input_series!AG881+Method_input!$D$65*C885+Method_input!$D$65*D885+Method_input!$D$65*E885+Method_input!$D$65*F885","v":0},{"$f":"Method_input!$D$65*B885+Method_input!$D$64*Input_series!AG881+Method_input!$D$65*F885","v":0}]
[869,0,0,0,0,0,0,0,0,0,16,12,16,12,0,0,0,12,0,12,0,0,16,12,null,0,{"$f":"Method_input!$D$65*B886+Method_input!$D$64*Input_series!AG882+Method_input!$D$65*C886+Method_input!$D$65*D886+Method_input!$D$65*E886+Method_input!$D$65*F886","v":0},{"$f":"Method_input!$D$65*B886+Method_input!$D$64*Input_series!AG882+Method_input!$D$65*F886","v":0}]
[870,0,0,0,0,0,0,0,0,0,16,12,16,12,0,0,0,12,0,12,0,0,16,12,null,0,{"$f":"Method_input!$D$65*B887+Method_input!$D$64*Input_series!AG883+Method_input!$D$65*C887+Method_input!$D$65*D887+Method_input!$D$65*E887+Method_input!$D$65*F887","v":0},{"$f":"Method_input!$D$65*B887+Method_input!$D$64*Input_series!AG883+Method_input!$D$65*F887","v":0}]
[871,0,0,0,0,0,0,0,0,0,16,12,16,12,0,0,0,12,0,12,0,0,16,12,null,0,{"$f":"Method_input!$D$65*B888+Method_input!$D$64*Input_series!AG884+Method_input!$D$65*C888+Method_input!$D$65*D888+Method_input!$D$65*E888+Method_input!$D$65*F888","v":0},{"$f":"Method_input!$D$65*B888+Method_input!$D$64*Input_series!AG884+Method_input!$D$65*F888","v":0}]
[872,0,0,0,0,0,0,0,0,0,16,12,16,12,0,0,0,12,0,12,0,0,16,12,null,0,{"$f":"Method_input!$D$65*B889+Method_input!$D$64*Input_series!AG885+Method_input!$D$65*C889+Method_input!$D$65*D889+Method_input!$D$65*E889+Method_input!$D$65*F889","v":0},{"$f":"Method_input!$D$65*B889+Method_input!$D$64*Input_series!AG885+Method_input!$D$65*F889","v":0}]
[873,0,0,0,0,0,0,0,0,0,16,12,16,12,0,0,0,12,0,12,0,0,16,12,null,0,{"$f":"Method_input!$D$65*B890+Method_input!$D$64*Input_series!AG886+Method_input!$D$65*C890+Method_input!$D$65*D890+Method_input!$D$65*E890+Method_input!$D$65*F890","v":0},{"$f":"Method_input!$D$65*B890+Method_input!$D$64*Input_series!AG886+Method_input!$D$65*F890","v":0}]
[874,0,0,0,0,0,0,0,0,0,16,12,16,12,0,0,0,12,0,12,0,0,16,12,null,0,{"$f":"Method_input!$D$65*B891+Method_input!$D$64*Input_series!AG887+Method_input!$D$65*C891+Method_input!$D$65*D891+Method_input!$D$65*E891+Method_input!$D$65*F891","v":0},{"$f":"Method_input!$D$65*B891+Method_input!$D$64*Input_series!AG887+Method_input!$D$65*F891","v":0}]
[875,0,0,0,0,0,0,0,0,0,16,12,16,12,0,0,0,12,0,12,0,0,16,12,null,0,{"$f":"Method_input!$D$65*B892+Method_input!$D$64*Input_series!AG888+Method_input!$D$65*C892+Method_input!$D$65*D892+Method_input!$D$65*E892+Method_input!$D$65*F892","v":0},{"$f":"Method_input!$D$65*B892+Method_input!$D$64*Input_series!AG888+Method_input!$D$65*F892","v":0}]
[876,0,0,0,0,0,0,0,0,0,16,12,16,12,0,0,0,12,0,12,0,0,16,12,null,0,{"$f":"Method_input!$D$65*B893+Method_input!$D$64*Input_series!AG889+Method_input!$D$65*C893+Method_input!$D$65*D893+Method_input!$D$65*E893+Method_input!$D$65*F893","v":0},{"$f":"Method_input!$D$65*B893+Method_input!$D$64*Input_series!AG889+Method_input!$D$65*F893","v":0}]
[877,0,0,0,0,0,0,0,0,0,16,12,16,12,0,0,0,12,0,12,0,0,16,12,null,0,{"$f":"Method_input!$D$65*B894+Method_input!$D$64*Input_series!AG890+Method_input!$D$65*C894+Method_input!$D$65*D894+Method_input!$D$65*E894+Method_input!$D$65*F894","v":0},{"$f":"Method_input!$D$65*B894+Method_input!$D$64*Input_series!AG890+Method_input!$D$65*F894","v":0}]
[878,0,0,0,0,0,0,0,0,0,16,12,16,12,0,0,0,12,0,12,0,0,16,12,null,0,{"$f":"Method_input!$D$65*B895+Method_input!$D$64*Input_series!AG891+Method_input!$D$65*C895+Method_input!$D$65*D895+Method_input!$D$65*E895+Method_input!$D$65*F895","v":0},{"$f":"Method_input!$D$65*B895+Method_input!$D$64*Input_series!AG891+Method_input!$D$65*F895","v":0}]
[879,0,0,0,0,0,0,0,0,0,16,12,16,12,0,0,0,12,0,12,0,0,16,12,null,0,{"$f":"Method_input!$D$65*B896+Method_input!$D$64*Input_series!AG892+Method_input!$D$65*C896+Method_input!$D$65*D896+Method_input!$D$65*E896+Method_input!$D$65*F896","v":0},{"$f":"Method_input!$D$65*B896+Method_input!$D$64*Input_series!AG892+Method_input!$D$65*F896","v":0}]
[880,0,0,0,0,0,0,0,0,0,16,12,16,12,0,0,0,12,0,12,0,0,16,12,null,0,{"$f":"Method_input!$D$65*B897+Method_input!$D$64*Input_series!AG893+Method_input!$D$65*C897+Method_input!$D$65*D897+Method_input!$D$65*E897+Method_input!$D$65*F897","v":0},{"$f":"Method_input!$D$65*B897+Method_input!$D$64*Input_series!AG893+Method_input!$D$65*F897","v":0}]
[881,0,0,0,0,0,0,0,0,0,16,12,16,12,0,0,0,12,0,12,0,0,16,12,null,0,{"$f":"Method_input!$D$65*B898+Method_input!$D$64*Input_series!AG894+Method_input!$D$65*C898+Method_input!$D$65*D898+Method_input!$D$65*E898+Method_input!$D$65*F898","v":0},{"$f":"Method_input!$D$65*B898+Method_input!$D$64*Input_series!AG894+Method_input!$D$65*F898","v":0}]
[882,0,0,0,0,0,0,0,0,0,16,12,16,12,0,0,0,12,0,12,0,0,16,12,null,0,{"$f":"Method_input!$D$65*B899+Method_input!$D$64*Input_series!AG895+Method_input!$D$65*C899+Method_input!$D$65*D899+Method_input!$D$65*E899+Method_input!$D$65*F899","v":0},{"$f":"Method_input!$D$65*B899+Method_input!$D$64*Input_series!AG895+Method_input!$D$65*F899","v":0}]
[883,0,0,0,0,0,0,0,0,0,16,12,16,12,0,0,0,12,0,12,0,0,16,12,null,0,{"$f":"Method_input!$D$65*B900+Method_input!$D$64*Input_series!AG896+Method_input!$D$65*C900+Method_input!$D$65*D900+Method_input!$D$65*E900+Method_input!$D$65*F900","v":0},{"$f":"Method_input!$D$65*B900+Method_input!$D$64*Input_series!AG896+Method_input!$D$65*F900","v":0}]
[884,0,0,0,0,0,0,0,0,0,16,12,16,12,0,0,0,12,0,12,0,0,16,12,null,0,{"$f":"Method_input!$D$65*B901+Method_input!$D$64*Input_series!AG897+Method_input!$D$65*C901+Method_input!$D$65*D901+Method_input!$D$65*E901+Method_input!$D$65*F901","v":0},{"$f":"Method_input!$D$65*B901+Method_input!$D$64*Input_series!AG897+Method_input!$D$65*F901","v":0}]
[885,0,0,0,0,0,0,0,0,0,16,12,16,12,0,0,0,12,0,12,0,0,16,12,null,0,{"$f":"Method_input!$D$65*B902+Method_input!$D$64*Input_series!AG898+Method_input!$D$65*C902+Method_input!$D$65*D902+Method_input!$D$65*E902+Method_input!$D$65*F902","v":0},{"$f":"Method_input!$D$65*B902+Method_input!$D$64*Input_series!AG898+Method_input!$D$65*F902","v":0}]
[886,0,0,0,0,0,0,0,0,0,16,12,16,12,0,0,0,12,0,12,0,0,16,12,null,0,{"$f":"Method_input!$D$65*B903+Method_input!$D$64*Input_series!AG899+Method_input!$D$65*C903+Method_input!$D$65*D903+Method_input!$D$65*E903+Method_input!$D$65*F903","v":0},{"$f":"Method_input!$D$65*B903+Method_input!$D$64*Input_series!AG899+Method_input!$D$65*F903","v":0}]
[887,0,0,0,0,0,0,0,0,0,16,12,16,12,0,0,0,12,0,12,0,0,16,12,null,0,{"$f":"Method_input!$D$65*B904+Method_input!$D$64*Input_series!AG900+Method_input!$D$65*C904+Method_input!$D$65*D904+Method_input!$D$65*E904+Method_input!$D$65*F904","v":0},{"$f":"Method_input!$D$65*B904+Method_input!$D$64*Input_series!AG900+Method_input!$D$65*F904","v":0}]
[888,0,0,0,0,0,0,0,0,0,16,12,16,12,0,0,0,12,0,12,0,0,16,12,null,0,{"$f":"Method_input!$D$65*B905+Method_input!$D$64*Input_series!AG901+Method_input!$D$65*C905+Method_input!$D$65*D905+Method_input!$D$65*E905+Method_input!$D$65*F905","v":0},{"$f":"Method_input!$D$65*B905+Method_input!$D$64*Input_series!AG901+Method_input!$D$65*F905","v":0}]
[889,0,0,0,0,0,0,0,0,0,16,12,16,12,0,0,0,12,0,12,0,0,16,12,null,0,{"$f":"Method_input!$D$65*B906+Method_input!$D$64*Input_series!AG902+Method_input!$D$65*C906+Method_input!$D$65*D906+Method_input!$D$65*E906+Method_input!$D$65*F906","v":0},{"$f":"Method_input!$D$65*B906+Method_input!$D$64*Input_series!AG902+Method_input!$D$65*F906","v":0}]
[890,0,0,0,0,0,0,0,0,0,16,12,16,12,0,0,0,12,0,12,0,0,16,12,null,0,{"$f":"Method_input!$D$65*B907+Method_input!$D$64*Input_series!AG903+Method_input!$D$65*C907+Method_input!$D$65*D907+Method_input!$D$65*E907+Method_input!$D$65*F907","v":0},{"$f":"Method_input!$D$65*B907+Method_input!$D$64*Input_series!AG903+Method_input!$D$65*F907","v":0}]
[891,0,0,0,0,0,0,0,0,0,16,12,16,12,0,0,0,12,0,12,0,0,16,12,null,0,{"$f":"Method_input!$D$65*B908+Method_input!$D$64*Input_series!AG904+Method_input!$D$65*C908+Method_input!$D$65*D908+Method_input!$D$65*E908+Method_input!$D$65*F908","v":0},{"$f":"Method_input!$D$65*B908+Method_input!$D$64*Input_series!AG904+Method_input!$D$65*F908","v":0}]
[892,0,0,0,0,0,0,0,0,0,16,12,16,12,0,0,0,12,0,12,0,0,16,12,null,0,{"$f":"Method_input!$D$65*B909+Method_input!$D$64*Input_series!AG905+Method_input!$D$65*C909+Method_input!$D$65*D909+Method_input!$D$65*E909+Method_input!$D$65*F909","v":0},{"$f":"Method_input!$D$65*B909+Method_input!$D$64*Input_series!AG905+Method_input!$D$65*F909","v":0}]
[893,0,0,0,0,0,0,0,0,0,16,12,16,12,0,0,0,12,0,12,0,0,16,12,null,0,{"$f":"Method_input!$D$65*B910+Method_input!$D$64*Input_series!AG906+Method_input!$D$65*C910+Method_input!$D$65*D910+Method_input!$D$65*E910+Method_input!$D$65*F910","v":0},{"$f":"Method_input!$D$65*B910+Method_input!$D$64*Input_series!AG906+Method_input!$D$65*F910","v":0}]
[894,0,0,0,0,0,0,0,0,0,16,12,16,12,0,0,0,12,0,12,0,0,16,12,null,0,{"$f":"Method_input!$D$65*B911+Method_input!$D$64*Input_series!AG907+Method_input!$D$65*C911+Method_input!$D$65*D911+Method_input!$D$65*E911+Method_input!$D$65*F911","v":0},{"$f":"Method_input!$D$65*B911+Method_input!$D$64*Input_series!AG907+Method_input!$D$65*F911","v":0}]
[895,0,0,0,0,0,0,0,0,0,16,12,16,12,0,0,0,12,0,12,0,0,16,12,null,0,{"$f":"Method_input!$D$65*B912+Method_input!$D$64*Input_series!AG908+Method_input!$D$65*C912+Method_input!$D$65*D912+Method_input!$D$65*E912+Method_input!$D$65*F912","v":0},{"$f":"Method_input!$D$65*B912+Method_input!$D$64*Input_series!AG908+Method_input!$D$65*F912","v":0}]
[896,0,0,0,0,0,0,0,0,0,16,12,16,12,0,0,0,12,0,12,0,0,16,12,null,0,{"$f":"Method_input!$D$65*B913+Method_input!$D$64*Input_series!AG909+Method_input!$D$65*C913+Method_input!$D$65*D913+Method_input!$D$65*E913+Method_input!$D$65*F913","v":0},{"$f":"Method_input!$D$65*B913+Method_input!$D$64*Input_series!AG909+Method_input!$D$65*F913","v":0}]
[897,0,0,0,0,0,0,0,0,0,16,12,16,12,0,0,0,12,0,12,0,0,16,12,null,{"$f":"SUM(G914:J914,U914:V914)","v":0},{"$f":"Method_input!$D$65*B914+Method_input!$D$64*Input_series!AG910+Method_input!$D$65*C914+Method_input!$D$65*D914+Method_input!$D$65*E914+Method_input!$D$65*F914","v":0},{"$f":"Method_input!$D$65*B914+Method_input!$D$64*Input_series!AG910+Method_input!$D$65*F914","v":0}]
[898,0,0,0,0,0,0,0,0,0,16,12,16,12,0,0,0,12,0,12,0,0,16,12,null,0,{"$f":"Method_input!$D$65*B915+Method_input!$D$64*Input_series!AG911+Method_input!$D$65*C915+Method_input!$D$65*D915+Method_input!$D$65*E915+Method_input!$D$65*F915","v":0},{"$f":"Method_input!$D$65*B915+Method_input!$D$64*Input_series!AG911+Method_input!$D$65*F915","v":0}]
[899,0,0,0,0,0,0,0,0,0,16,12,16,12,0,0,0,12,0,12,0,0,16,12,null,0,{"$f":"Method_input!$D$65*B916+Method_input!$D$64*Input_series!AG912+Method_input!$D$65*C916+Method_input!$D$65*D916+Method_input!$D$65*E916+Method_input!$D$65*F916","v":0},{"$f":"Method_input!$D$65*B916+Method_input!$D$64*Input_series!AG912+Method_input!$D$65*F916","v":0}]
[900,0,0,0,0,0,0,0,0,0,16,12,16,12,0,0,0,12,0,12,0,0,16,12,null,0,{"$f":"Method_input!$D$65*B917+Method_input!$D$64*Input_series!AG913+Method_input!$D$65*C917+Method_input!$D$65*D917+Method_input!$D$65*E917+Method_input!$D$65*F917","v":0},{"$f":"Method_input!$D$65*B917+Method_input!$D$64*Input_series!AG913+Method_input!$D$65*F917","v":0}]
[901,0,0,0,0,0,0,0,0,0,16,12,16,12,0,0,0,12,0,12,0,0,16,12,null,0,{"$f":"Method_input!$D$65*B918+Method_input!$D$64*Input_series!AG914+Method_input!$D$65*C918+Method_input!$D$65*D918+Method_input!$D$65*E918+Method_input!$D$65*F918","v":0},{"$f":"Method_input!$D$65*B918+Method_input!$D$64*Input_series!AG914+Method_input!$D$65*F918","v":0}]
[902,0,0,0,0,0,0,0,0,0,16,12,16,12,0,0,0,12,0,12,0,0,16,12,null,0,{"$f":"Method_input!$D$65*B919+Method_input!$D$64*Input_series!AG915+Method_input!$D$65*C919+Method_input!$D$65*D919+Method_input!$D$65*E919+Method_input!$D$65*F919","v":0},{"$f":"Method_input!$D$65*B919+Method_input!$D$64*Input_series!AG915+Method_input!$D$65*F919","v":0}]
[903,0,0,0,0,0,0,0,0,0,16,12,16,12,0,0,0,12,0,12,0,0,16,12,null,0,{"$f":"Method_input!$D$65*B920+Method_input!$D$64*Input_series!AG916+Method_input!$D$65*C920+Method_input!$D$65*D920+Method_input!$D$65*E920+Method_input!$D$65*F920","v":0},{"$f":"Method_input!$D$65*B920+Method_input!$D$64*Input_series!AG916+Method_input!$D$65*F920","v":0}]
[904,0,0,0,0,0,0,0,0,0,16,12,16,12,0,0,0,12,0,12,0,0,16,12,null,0,{"$f":"Method_input!$D$65*B921+Method_input!$D$64*Input_series!AG917+Method_input!$D$65*C921+Method_input!$D$65*D921+Method_input!$D$65*E921+Method_input!$D$65*F921","v":0},{"$f":"Method_input!$D$65*B921+Method_input!$D$64*Input_series!AG917+Method_input!$D$65*F921","v":0}]
[905,0,0,0,0,0,0,0,0,0,16,12,16,12,0,0,0,12,0,12,0,0,16,12,null,0,{"$f":"Method_input!$D$65*B922+Method_input!$D$64*Input_series!AG918+Method_input!$D$65*C922+Method_input!$D$65*D922+Method_input!$D$65*E922+Method_input!$D$65*F922","v":0},{"$f":"Method_input!$D$65*B922+Method_input!$D$64*Input_series!AG918+Method_input!$D$65*F922","v":0}]
[906,0,0,0,0,0,0,0,0,0,16,12,16,12,0,0,0,12,0,12,0,0,16,12,null,0,{"$f":"Method_input!$D$65*B923+Method_input!$D$64*Input_series!AG919+Method_input!$D$65*C923+Method_input!$D$65*D923+Method_input!$D$65*E923+Method_input!$D$65*F923","v":0},{"$f":"Method_input!$D$65*B923+Method_input!$D$64*Input_series!AG919+Method_input!$D$65*F923","v":0}]
[907,0,0,0,0,0,0,0,0,0,16,12,16,12,0,0,0,12,0,12,0,0,16,12,null,0,{"$f":"Method_input!$D$65*B924+Method_input!$D$64*Input_series!AG920+Method_input!$D$65*C924+Method_input!$D$65*D924+Method_input!$D$65*E924+Method_input!$D$65*F924","v":0},{"$f":"Method_input!$D$65*B924+Method_input!$D$64*Input_series!AG920+Method_input!$D$65*F924","v":0}]
[908,0,0,0,0,0,0,0,0,0,16,12,16,12,0,0,0,12,0,12,0,0,16,12,null,0,{"$f":"Method_input!$D$65*B925+Method_input!$D$64*Input_series!AG921+Method_input!$D$65*C925+Method_input!$D$65*D925+Method_input!$D$65*E925+Method_input!$D$65*F925","v":0},{"$f":"Method_input!$D$65*B925+Method_input!$D$64*Input_series!AG921+Method_input!$D$65*F925","v":0}]
[909,0,0,0,0,0,0,0,0,0,16,12,16,12,0,0,0,12,0,12,0,0,16,12,null,0,{"$f":"Method_input!$D$65*B926+Method_input!$D$64*Input_series!AG922+Method_input!$D$65*C926+Method_input!$D$65*D926+Method_input!$D$65*E926+Method_input!$D$65*F926","v":0},{"$f":"Method_input!$D$65*B926+Method_input!$D$64*Input_series!AG922+Method_input!$D$65*F926","v":0}]
[910,0,0,0,0,0,0,0,0,0,16,12,16,12,0,0,0,12,0,12,0,0,16,12,null,0,{"$f":"Method_input!$D$65*B927+Method_input!$D$64*Input_series!AG923+Method_input!$D$65*C927+Method_input!$D$65*D927+Method_input!$D$65*E927+Method_input!$D$65*F927","v":0},{"$f":"Method_input!$D$65*B927+Method_input!$D$64*Input_series!AG923+Method_input!$D$65*F927","v":0}]
[911,0,0,0,0,0,0,0,0,0,16,12,16,12,0,0,0,12,0,12,0,0,16,12,null,0,{"$f":"Method_input!$D$65*B928+Method_input!$D$64*Input_series!AG924+Method_input!$D$65*C928+Method_input!$D$65*D928+Method_input!$D$65*E928+Method_input!$D$65*F928","v":0},{"$f":"Method_input!$D$65*B928+Method_input!$D$64*Input_series!AG924+Method_input!$D$65*F928","v":0}]
[912,0,0,0,0,0,0,0,0,0,16,12,16,12,0,0,0,12,0,12,0,0,16,12,null,0,{"$f":"Method_input!$D$65*B929+Method_input!$D$64*Input_series!AG925+Method_input!$D$65*C929+Method_input!$D$65*D929+Method_input!$D$65*E929+Method_input!$D$65*F929","v":0},{"$f":"Method_input!$D$65*B929+Method_input!$D$64*Input_series!AG925+Method_input!$D$65*F929","v":0}]
[913,0,0,0,0,0,0,0,0,0,16,12,16,12,0,0,0,12,0,12,0,0,16,12,null,0,{"$f":"Method_input!$D$65*B930+Method_input!$D$64*Input_series!AG926+Method_input!$D$65*C930+Method_input!$D$65*D930+Method_input!$D$65*E930+Method_input!$D$65*F930","v":0},{"$f":"Method_input!$D$65*B930+Method_input!$D$64*Input_series!AG926+Method_input!$D$65*F930","v":0}]
[914,0,0,0,0,0,0,0,0,0,16,12,16,12,0,0,0,12,0,12,0,0,16,12,null,0,{"$f":"Method_input!$D$65*B931+Method_input!$D$64*Input_series!AG927+Method_input!$D$65*C931+Method_input!$D$65*D931+Method_input!$D$65*E931+Method_input!$D$65*F931","v":0},{"$f":"Method_input!$D$65*B931+Method_input!$D$64*Input_series!AG927+Method_input!$D$65*F931","v":0}]
[915,0,0,0,0,0,0,0,0,0,16,12,16,12,0,0,0,12,0,12,0,0,16,12,null,0,{"$f":"Method_input!$D$65*B932+Method_input!$D$64*Input_series!AG928+Method_input!$D$65*C932+Method_input!$D$65*D932+Method_input!$D$65*E932+Method_input!$D$65*F932","v":0},{"$f":"Method_input!$D$65*B932+Method_input!$D$64*Input_series!AG928+Method_input!$D$65*F932","v":0}]
[916,0,0,0,0,0,0,0,0,0,16,12,16,12,0,0,0,12,0,12,0,0,16,12,null,0,{"$f":"Method_input!$D$65*B933+Method_input!$D$64*Input_series!AG929+Method_input!$D$65*C933+Method_input!$D$65*D933+Method_input!$D$65*E933+Method_input!$D$65*F933","v":0},{"$f":"Method_input!$D$65*B933+Method_input!$D$64*Input_series!AG929+Method_input!$D$65*F933","v":0}]
[917,0,0,0,0,0,0,0,0,0,16,12,16,12,0,0,0,12,0,12,0,0,16,12,null,0,{"$f":"Method_input!$D$65*B934+Method_input!$D$64*Input_series!AG930+Method_input!$D$65*C934+Method_input!$D$65*D934+Method_input!$D$65*E934+Method_input!$D$65*F934","v":0},{"$f":"Method_input!$D$65*B934+Method_input!$D$64*Input_series!AG930+Method_input!$D$65*F934","v":0}]
[918,0,0,0,0,0,0,0,0,0,16,12,16,12,0,0,0,12,0,12,0,0,16,12,null,0,{"$f":"Method_input!$D$65*B935+Method_input!$D$64*Input_series!AG931+Method_input!$D$65*C935+Method_input!$D$65*D935+Method_input!$D$65*E935+Method_input!$D$65*F935","v":0},{"$f":"Method_input!$D$65*B935+Method_input!$D$64*Input_series!AG931+Method_input!$D$65*F935","v":0}]
[919,0,0,0,0,0,0,0,0,0,16,12,16,12,0,0,0,12,0,12,0,0,16,12,null,0,{"$f":"Method_input!$D$65*B936+Method_input!$D$64*Input_series!AG932+Method_input!$D$65*C936+Method_input!$D$65*D936+Method_input!$D$65*E936+Method_input!$D$65*F936","v":0},{"$f":"Method_input!$D$65*B936+Method_input!$D$64*Input_series!AG932+Method_input!$D$65*F936","v":0}]
[920,0,0,0,0,0,0,0,0,0,16,12,16,12,0,0,0,12,0,12,0,0,16,12,null,0,{"$f":"Method_input!$D$65*B937+Method_input!$D$64*Input_series!AG933+Method_input!$D$65*C937+Method_input!$D$65*D937+Method_input!$D$65*E937+Method_input!$D$65*F937","v":0},{"$f":"Method_input!$D$65*B937+Method_input!$D$64*Input_series!AG933+Method_input!$D$65*F937","v":0}]
[921,0,0,0,0,0,0,0,0,0,16,12,16,12,0,0,0,12,0,12,0,0,16,12,null,0,{"$f":"Method_input!$D$65*B938+Method_input!$D$64*Input_series!AG934+Method_input!$D$65*C938+Method_input!$D$65*D938+Method_input!$D$65*E938+Method_input!$D$65*F938","v":0},{"$f":"Method_input!$D$65*B938+Method_input!$D$64*Input_series!AG934+Method_input!$D$65*F938","v":0}]
[922,0,0,0,0,0,0,0,0,0,16,12,16,12,0,0,0,12,0,12,0,0,16,12,null,0,{"$f":"Method_input!$D$65*B939+Method_input!$D$64*Input_series!AG935+Method_input!$D$65*C939+Method_input!$D$65*D939+Method_input!$D$65*E939+Method_input!$D$65*F939","v":0},{"$f":"Method_input!$D$65*B939+Method_input!$D$64*Input_series!AG935+Method_input!$D$65*F939","v":0}]
[923,0,0,0,0,0,0,0,0,0,16,12,16,12,0,0,0,12,0,12,0,0,16,12,null,0,{"$f":"Method_input!$D$65*B940+Method_input!$D$64*Input_series!AG936+Method_input!$D$65*C940+Method_input!$D$65*D940+Method_input!$D$65*E940+Method_input!$D$65*F940","v":0},{"$f":"Method_input!$D$65*B940+Method_input!$D$64*Input_series!AG936+Method_input!$D$65*F940","v":0}]
[924,0,0,0,0,0,0,0,0,0,16,12,16,12,0,0,0,12,0,12,0,0,16,12,null,0,{"$f":"Method_input!$D$65*B941+Method_input!$D$64*Input_series!AG937+Method_input!$D$65*C941+Method_input!$D$65*D941+Method_input!$D$65*E941+Method_input!$D$65*F941","v":0},{"$f":"Method_input!$D$65*B941+Method_input!$D$64*Input_series!AG937+Method_input!$D$65*F941","v":0}]
[925,0,0,0,0,0,0,0,0,0,16,12,16,12,0,0,0,12,0,12,0,0,16,12,null,0,{"$f":"Method_input!$D$65*B942+Method_input!$D$64*Input_series!AG938+Method_input!$D$65*C942+Method_input!$D$65*D942+Method_input!$D$65*E942+Method_input!$D$65*F942","v":0},{"$f":"Method_input!$D$65*B942+Method_input!$D$64*Input_series!AG938+Method_input!$D$65*F942","v":0}]
[926,0,0,0,0,0,0,0,0,0,16,12,16,12,0,0,0,12,0,12,0,0,16,12,null,0,{"$f":"Method_input!$D$65*B943+Method_input!$D$64*Input_series!AG939+Method_input!$D$65*C943+Method_input!$D$65*D943+Method_input!$D$65*E943+Method_input!$D$65*F943","v":0},{"$f":"Method_input!$D$65*B943+Method_input!$D$64*Input_series!AG939+Method_input!$D$65*F943","v":0}]
[927,0,0,0,0,0,0,0,0,0,16,12,16,12,0,0,0,12,0,12,0,0,16,12,null,0,{"$f":"Method_input!$D$65*B944+Method_input!$D$64*Input_series!AG940+Method_input!$D$65*C944+Method_input!$D$65*D944+Method_input!$D$65*E944+Method_input!$D$65*F944","v":0},{"$f":"Method_input!$D$65*B944+Method_input!$D$64*Input_series!AG940+Method_input!$D$65*F944","v":0}]
[928,0,0,0,0,0,0,0,0,0,16,12,16,12,0,0,0,12,0,12,0,0,16,12,null,0,{"$f":"Method_input!$D$65*B945+Method_input!$D$64*Input_series!AG941+Method_input!$D$65*C945+Method_input!$D$65*D945+Method_input!$D$65*E945+Method_input!$D$65*F945","v":0},{"$f":"Method_input!$D$65*B945+Method_input!$D$64*Input_series!AG941+Method_input!$D$65*F945","v":0}]
[929,0,0,0,0,0,0,0,0,0,16,12,16,12,0,0,0,12,0,12,0,0,16,12,null,0,{"$f":"Method_input!$D$65*B946+Method_input!$D$64*Input_series!AG942+Method_input!$D$65*C946+Method_input!$D$65*D946+Method_input!$D$65*E946+Method_input!$D$65*F946","v":0},{"$f":"Method_input!$D$65*B946+Method_input!$D$64*Input_series!AG942+Method_input!$D$65*F946","v":0}]
[930,0,0,0,0,0,0,0,0,0,16,12,16,12,0,0,0,12,0,12,0,0,16,12,null,0,{"$f":"Method_input!$D$65*B947+Method_input!$D$64*Input_series!AG943+Method_input!$D$65*C947+Method_input!$D$65*D947+Method_input!$D$65*E947+Method_input!$D$65*F947","v":0},{"$f":"Method_input!$D$65*B947+Method_input!$D$64*Input_series!AG943+Method_input!$D$65*F947","v":0}]
[931,0,0,0,0,0,0,0,0,0,16,12,16,12,0,0,0,12,0,12,0,0,16,12,null,0,{"$f":"Method_input!$D$65*B948+Method_input!$D$64*Input_series!AG944+Method_input!$D$65*C948+Method_input!$D$65*D948+Method_input!$D$65*E948+Method_input!$D$65*F948","v":0},{"$f":"Method_input!$D$65*B948+Method_input!$D$64*Input_series!AG944+Method_input!$D$65*F948","v":0}]
[932,0,0,0,0,0,0,0,0,0,16,12,16,12,0,0,0,12,0,12,0,0,16,12,null,0,{"$f":"Method_input!$D$65*B949+Method_input!$D$64*Input_series!AG945+Method_input!$D$65*C949+Method_input!$D$65*D949+Method_input!$D$65*E949+Method_input!$D$65*F949","v":0},{"$f":"Method_input!$D$65*B949+Method_input!$D$64*Input_series!AG945+Method_input!$D$65*F949","v":0}]
[933,0,0,0,0,0,0,0,0,0,16,12,16,12,0,0,0,12,0,12,0,0,16,12,null,0,{"$f":"Method_input!$D$65*B950+Method_input!$D$64*Input_series!AG946+Method_input!$D$65*C950+Method_input!$D$65*D950+Method_input!$D$65*E950+Method_input!$D$65*F950","v":0},{"$f":"Method_input!$D$65*B950+Method_input!$D$64*Input_series!AG946+Method_input!$D$65*F950","v":0}]
[934,0,0,0,0,0,0,0,0,0,16,12,16,12,0,0,0,12,0,12,0,0,16,12,null,0,{"$f":"Method_input!$D$65*B951+Method_input!$D$64*Input_series!AG947+Method_input!$D$65*C951+Method_input!$D$65*D951+Method_input!$D$65*E951+Method_input!$D$65*F951","v":0},{"$f":"Method_input!$D$65*B951+Method_input!$D$64*Input_series!AG947+Method_input!$D$65*F951","v":0}]
[935,0,0,0,0,0,0,0,0,0,16,12,16,12,0,0,0,12,0,12,0,0,16,12,null,0,{"$f":"Method_input!$D$65*B952+Method_input!$D$64*Input_series!AG948+Method_input!$D$65*C952+Method_input!$D$65*D952+Method_input!$D$65*E952+Method_input!$D$65*F952","v":0},{"$f":"Method_input!$D$65*B952+Method_input!$D$64*Input_series!AG948+Method_input!$D$65*F952","v":0}]
[936,0,0,0,0,0,0,0,0,0,16,12,16,12,0,0,0,12,0,12,0,0,16,12,null,0,{"$f":"Method_input!$D$65*B953+Method_input!$D$64*Input_series!AG949+Method_input!$D$65*C953+Method_input!$D$65*D953+Method_input!$D$65*E953+Method_input!$D$65*F953","v":0},{"$f":"Method_input!$D$65*B953+Method_input!$D$64*Input_series!AG949+Method_input!$D$65*F953","v":0}]
[937,0,0,0,0,0,0,0,0,0,16,12,16,12,0,0,0,12,0,12,0,0,16,12,null,0,{"$f":"Method_input!$D$65*B954+Method_input!$D$64*Input_series!AG950+Method_input!$D$65*C954+Method_input!$D$65*D954+Method_input!$D$65*E954+Method_input!$D$65*F954","v":0},{"$f":"Method_input!$D$65*B954+Method_input!$D$64*Input_series!AG950+Method_input!$D$65*F954","v":0}]
[938,0,0,0,0,0,0,0,0,0,16,12,16,12,0,0,0,12,0,12,0,0,16,12,null,0,{"$f":"Method_input!$D$65*B955+Method_input!$D$64*Input_series!AG951+Method_input!$D$65*C955+Method_input!$D$65*D955+Method_input!$D$65*E955+Method_input!$D$65*F955","v":0},{"$f":"Method_input!$D$65*B955+Method_input!$D$64*Input_series!AG951+Method_input!$D$65*F955","v":0}]
[939,0,0,0,0,0,0,0,0,0,16,12,16,12,0,0,0,12,0,12,0,0,16,12,null,0,{"$f":"Method_input!$D$65*B956+Method_input!$D$64*Input_series!AG952+Method_input!$D$65*C956+Method_input!$D$65*D956+Method_input!$D$65*E956+Method_input!$D$65*F956","v":0},{"$f":"Method_input!$D$65*B956+Method_input!$D$64*Input_series!AG952+Method_input!$D$65*F956","v":0}]
[940,0,0,0,0,0,0,0,0,0,16,12,16,12,0,0,0,12,0,12,0,0,16,12,null,0,{"$f":"Method_input!$D$65*B957+Method_input!$D$64*Input_series!AG953+Method_input!$D$65*C957+Method_input!$D$65*D957+Method_input!$D$65*E957+Method_input!$D$65*F957","v":0},{"$f":"Method_input!$D$65*B957+Method_input!$D$64*Input_series!AG953+Method_input!$D$65*F957","v":0}]
[941,0,0,0,0,0,0,0,0,0,16,12,16,12,0,0,0,12,0,12,0,0,16,12,null,0,{"$f":"Method_input!$D$65*B958+Method_input!$D$64*Input_series!AG954+Method_input!$D$65*C958+Method_input!$D$65*D958+Method_input!$D$65*E958+Method_input!$D$65*F958","v":0},{"$f":"Method_input!$D$65*B958+Method_input!$D$64*Input_series!AG954+Method_input!$D$65*F958","v":0}]
[942,0,0,0,0,0,0,0,0,0,16,12,16,12,0,0,0,12,0,12,0,0,16,12,null,0,{"$f":"Method_input!$D$65*B959+Method_input!$D$64*Input_series!AG955+Method_input!$D$65*C959+Method_input!$D$65*D959+Method_input!$D$65*E959+Method_input!$D$65*F959","v":0},{"$f":"Method_input!$D$65*B959+Method_input!$D$64*Input_series!AG955+Method_input!$D$65*F959","v":0}]
[943,0,0,0,0,0,0,0,0,0,16,12,16,12,0,0,0,12,0,12,0,0,16,12,null,0,{"$f":"Method_input!$D$65*B960+Method_input!$D$64*Input_series!AG956+Method_input!$D$65*C960+Method_input!$D$65*D960+Method_input!$D$65*E960+Method_input!$D$65*F960","v":0},{"$f":"Method_input!$D$65*B960+Method_input!$D$64*Input_series!AG956+Method_input!$D$65*F960","v":0}]
[944,0,0,0,0,0,0,0,0,0,16,12,16,12,0,0,0,12,0,12,0,0,16,12,null,0,{"$f":"Method_input!$D$65*B961+Method_input!$D$64*Input_series!AG957+Method_input!$D$65*C961+Method_input!$D$65*D961+Method_input!$D$65*E961+Method_input!$D$65*F961","v":0},{"$f":"Method_input!$D$65*B961+Method_input!$D$64*Input_series!AG957+Method_input!$D$65*F961","v":0}]
[945,0,0,0,0,0,0,0,0,0,16,12,16,12,0,0,0,12,0,12,0,0,16,12,null,0,{"$f":"Method_input!$D$65*B962+Method_input!$D$64*Input_series!AG958+Method_input!$D$65*C962+Method_input!$D$65*D962+Method_input!$D$65*E962+Method_input!$D$65*F962","v":0},{"$f":"Method_input!$D$65*B962+Method_input!$D$64*Input_series!AG958+Method_input!$D$65*F962","v":0}]
[946,0,0,0,0,0,0,0,0,0,16,12,16,12,0,0,0,12,0,12,0,0,16,12,null,0,{"$f":"Method_input!$D$65*B963+Method_input!$D$64*Input_series!AG959+Method_input!$D$65*C963+Method_input!$D$65*D963+Method_input!$D$65*E963+Method_input!$D$65*F963","v":0},{"$f":"Method_input!$D$65*B963+Method_input!$D$64*Input_series!AG959+Method_input!$D$65*F963","v":0}]
[947,0,0,0,0,0,0,0,0,0,16,12,16,12,0,0,0,12,0,12,0,0,16,12,null,0,{"$f":"Method_input!$D$65*B964+Method_input!$D$64*Input_series!AG960+Method_input!$D$65*C964+Method_input!$D$65*D964+Method_input!$D$65*E964+Method_input!$D$65*F964","v":0},{"$f":"Method_input!$D$65*B964+Method_input!$D$64*Input_series!AG960+Method_input!$D$65*F964","v":0}]
[948,0,0,0,0,0,0,0,0,0,16,12,16,12,0,0,0,12,0,12,0,0,16,12,null,0,{"$f":"Method_input!$D$65*B965+Method_input!$D$64*Input_series!AG961+Method_input!$D$65*C965+Method_input!$D$65*D965+Method_input!$D$65*E965+Method_input!$D$65*F965","v":0},{"$f":"Method_input!$D$65*B965+Method_input!$D$64*Input_series!AG961+Method_input!$D$65*F965","v":0}]
[949,0,0,0,0,0,0,0,0,0,16,12,16,12,0,0,0,12,0,12,0,0,16,12,null,0,{"$f":"Method_input!$D$65*B966+Method_input!$D$64*Input_series!AG962+Method_input!$D$65*C966+Method_input!$D$65*D966+Method_input!$D$65*E966+Method_input!$D$65*F966","v":0},{"$f":"Method_input!$D$65*B966+Method_input!$D$64*Input_series!AG962+Method_input!$D$65*F966","v":0}]
[950,0,0,0,0,0,0,0,0,0,16,12,16,12,0,0,0,12,0,12,0,0,16,12,null,0,{"$f":"Method_input!$D$65*B967+Method_input!$D$64*Input_series!AG963+Method_input!$D$65*C967+Method_input!$D$65*D967+Method_input!$D$65*E967+Method_input!$D$65*F967","v":0},{"$f":"Method_input!$D$65*B967+Method_input!$D$64*Input_series!AG963+Method_input!$D$65*F967","v":0}]
[951,0,0,0,0,0,0,0,0,0,16,12,16,12,0,0,0,12,0,12,0,0,16,12,null,0,{"$f":"Method_input!$D$65*B968+Method_input!$D$64*Input_series!AG964+Method_input!$D$65*C968+Method_input!$D$65*D968+Method_input!$D$65*E968+Method_input!$D$65*F968","v":0},{"$f":"Method_input!$D$65*B968+Method_input!$D$64*Input_series!AG964+Method_input!$D$65*F968","v":0}]
[952,0,0,0,0,0,0,0,0,0,16,12,16,12,0,0,0,12,0,12,0,0,16,12,null,0,{"$f":"Method_input!$D$65*B969+Method_input!$D$64*Input_series!AG965+Method_input!$D$65*C969+Method_input!$D$65*D969+Method_input!$D$65*E969+Method_input!$D$65*F969","v":0},{"$f":"Method_input!$D$65*B969+Method_input!$D$64*Input_series!AG965+Method_input!$D$65*F969","v":0}]
[953,0,0,0,0,0,0,0,0,0,16,12,16,12,0,0,0,12,0,12,0,0,16,12,null,0,{"$f":"Method_input!$D$65*B970+Method_input!$D$64*Input_series!AG966+Method_input!$D$65*C970+Method_input!$D$65*D970+Method_input!$D$65*E970+Method_input!$D$65*F970","v":0},{"$f":"Method_input!$D$65*B970+Method_input!$D$64*Input_series!AG966+Method_input!$D$65*F970","v":0}]
[954,0,0,0,0,0,0,0,0,0,16,12,16,12,0,0,0,12,0,12,0,0,16,12,null,0,{"$f":"Method_input!$D$65*B971+Method_input!$D$64*Input_series!AG967+Method_input!$D$65*C971+Method_input!$D$65*D971+Method_input!$D$65*E971+Method_input!$D$65*F971","v":0},{"$f":"Method_input!$D$65*B971+Method_input!$D$64*Input_series!AG967+Method_input!$D$65*F971","v":0}]
[955,0,0,0,0,0,0,0,0,0,16,12,16,12,0,0,0,12,0,12,0,0,16,12,null,0,{"$f":"Method_input!$D$65*B972+Method_input!$D$64*Input_series!AG968+Method_input!$D$65*C972+Method_input!$D$65*D972+Method_input!$D$65*E972+Method_input!$D$65*F972","v":0},{"$f":"Method_input!$D$65*B972+Method_input!$D$64*Input_series!AG968+Method_input!$D$65*F972","v":0}]
[956,0,0,0,0,0,0,0,0,0,16,12,16,12,0,0,0,12,0,12,0,0,16,12,null,0,{"$f":"Method_input!$D$65*B973+Method_input!$D$64*Input_series!AG969+Method_input!$D$65*C973+Method_input!$D$65*D973+Method_input!$D$65*E973+Method_input!$D$65*F973","v":0},{"$f":"Method_input!$D$65*B973+Method_input!$D$64*Input_series!AG969+Method_input!$D$65*F973","v":0}]
[957,0,0,0,0,0,0,0,0,0,16,12,16,12,0,0,0,12,0,12,0,0,16,12,null,0,{"$f":"Method_input!$D$65*B974+Method_input!$D$64*Input_series!AG970+Method_input!$D$65*C974+Method_input!$D$65*D974+Method_input!$D$65*E974+Method_input!$D$65*F974","v":0},{"$f":"Method_input!$D$65*B974+Method_input!$D$64*Input_series!AG970+Method_input!$D$65*F974","v":0}]
[958,0,0,0,0,0,0,0,0,0,16,12,16,12,0,0,0,12,0,12,0,0,16,12,null,0,{"$f":"Method_input!$D$65*B975+Method_input!$D$64*Input_series!AG971+Method_input!$D$65*C975+Method_input!$D$65*D975+Method_input!$D$65*E975+Method_input!$D$65*F975","v":0},{"$f":"Method_input!$D$65*B975+Method_input!$D$64*Input_series!AG971+Method_input!$D$65*F975","v":0}]
[959,0,0,0,0,0,0,0,0,0,16,12,16,12,0,0,0,12,0,12,0,0,16,12,null,0,{"$f":"Method_input!$D$65*B976+Method_input!$D$64*Input_series!AG972+Method_input!$D$65*C976+Method_input!$D$65*D976+Method_input!$D$65*E976+Method_input!$D$65*F976","v":0},{"$f":"Method_input!$D$65*B976+Method_input!$D$64*Input_series!AG972+Method_input!$D$65*F976","v":0}]
[960,0,0,0,0,0,0,0,0,0,16,12,16,12,0,0,0,12,0,12,0,0,16,12,null,0,{"$f":"Method_input!$D$65*B977+Method_input!$D$64*Input_series!AG973+Method_input!$D$65*C977+Method_input!$D$65*D977+Method_input!$D$65*E977+Method_input!$D$65*F977","v":0},{"$f":"Method_input!$D$65*B977+Method_input!$D$64*Input_series!AG973+Method_input!$D$65*F977","v":0}]
[961,0,0,0,0,0,0,0,0,0,16,12,16,12,0,0,0,12,0,12,0,0,16,12,null,{"$f":"SUM(G978:J978,U978:V978)","v":0},{"$f":"Method_input!$D$65*B978+Method_input!$D$64*Input_series!AG974+Method_input!$D$65*C978+Method_input!$D$65*D978+Method_input!$D$65*E978+Method_input!$D$65*F978","v":0},{"$f":"Method_input!$D$65*B978+Method_input!$D$64*Input_series!AG974+Method_input!$D$65*F978","v":0}]
[962,0,0,0,0,0,0,0,0,0,16,12,16,12,0,0,0,12,0,12,0,0,16,12,null,0,{"$f":"Method_input!$D$65*B979+Method_input!$D$64*Input_series!AG975+Method_input!$D$65*C979+Method_input!$D$65*D979+Method_input!$D$65*E979+Method_input!$D$65*F979","v":0},{"$f":"Method_input!$D$65*B979+Method_input!$D$64*Input_series!AG975+Method_input!$D$65*F979","v":0}]
[963,0,0,0,0,0,0,0,0,0,16,12,16,12,0,0,0,12,0,12,0,0,16,12,null,0,{"$f":"Method_input!$D$65*B980+Method_input!$D$64*Input_series!AG976+Method_input!$D$65*C980+Method_input!$D$65*D980+Method_input!$D$65*E980+Method_input!$D$65*F980","v":0},{"$f":"Method_input!$D$65*B980+Method_input!$D$64*Input_series!AG976+Method_input!$D$65*F980","v":0}]
[964,0,0,0,0,0,0,0,0,0,16,12,16,12,0,0,0,12,0,12,0,0,16,12,null,0,{"$f":"Method_input!$D$65*B981+Method_input!$D$64*Input_series!AG977+Method_input!$D$65*C981+Method_input!$D$65*D981+Method_input!$D$65*E981+Method_input!$D$65*F981","v":0},{"$f":"Method_input!$D$65*B981+Method_input!$D$64*Input_series!AG977+Method_input!$D$65*F981","v":0}]
[965,0,0,0,0,0,0,0,0,0,16,12,16,12,0,0,0,12,0,12,0,0,16,12,null,0,{"$f":"Method_input!$D$65*B982+Method_input!$D$64*Input_series!AG978+Method_input!$D$65*C982+Method_input!$D$65*D982+Method_input!$D$65*E982+Method_input!$D$65*F982","v":0},{"$f":"Method_input!$D$65*B982+Method_input!$D$64*Input_series!AG978+Method_input!$D$65*F982","v":0}]
[966,0,0,0,0,0,0,0,0,0,16,12,16,12,0,0,0,12,0,12,0,0,16,12,null,0,{"$f":"Method_input!$D$65*B983+Method_input!$D$64*Input_series!AG979+Method_input!$D$65*C983+Method_input!$D$65*D983+Method_input!$D$65*E983+Method_input!$D$65*F983","v":0},{"$f":"Method_input!$D$65*B983+Method_input!$D$64*Input_series!AG979+Method_input!$D$65*F983","v":0}]
[967,0,0,0,0,0,0,0,0,0,16,12,16,12,0,0,0,12,0,12,0,0,16,12,null,0,{"$f":"Method_input!$D$65*B984+Method_input!$D$64*Input_series!AG980+Method_input!$D$65*C984+Method_input!$D$65*D984+Method_input!$D$65*E984+Method_input!$D$65*F984","v":0},{"$f":"Method_input!$D$65*B984+Method_input!$D$64*Input_series!AG980+Method_input!$D$65*F984","v":0}]
[968,0,0,0,0,0,0,0,0,0,16,12,16,12,0,0,0,12,0,12,0,0,16,12,null,0,{"$f":"Method_input!$D$65*B985+Method_input!$D$64*Input_series!AG981+Method_input!$D$65*C985+Method_input!$D$65*D985+Method_input!$D$65*E985+Method_input!$D$65*F985","v":0},{"$f":"Method_input!$D$65*B985+Method_input!$D$64*Input_series!AG981+Method_input!$D$65*F985","v":0}]
[969,0,0,0,0,0,0,0,0,0,16,12,16,12,0,0,0,12,0,12,0,0,16,12,null,0,{"$f":"Method_input!$D$65*B986+Method_input!$D$64*Input_series!AG982+Method_input!$D$65*C986+Method_input!$D$65*D986+Method_input!$D$65*E986+Method_input!$D$65*F986","v":0},{"$f":"Method_input!$D$65*B986+Method_input!$D$64*Input_series!AG982+Method_input!$D$65*F986","v":0}]
[970,0,0,0,0,0,0,0,0,0,16,12,16,12,0,0,0,12,0,12,0,0,16,12,null,0,{"$f":"Method_input!$D$65*B987+Method_input!$D$64*Input_series!AG983+Method_input!$D$65*C987+Method_input!$D$65*D987+Method_input!$D$65*E987+Method_input!$D$65*F987","v":0},{"$f":"Method_input!$D$65*B987+Method_input!$D$64*Input_series!AG983+Method_input!$D$65*F987","v":0}]
[971,0,0,0,0,0,0,0,0,0,16,12,16,12,0,0,0,12,0,12,0,0,16,12,null,0,{"$f":"Method_input!$D$65*B988+Method_input!$D$64*Input_series!AG984+Method_input!$D$65*C988+Method_input!$D$65*D988+Method_input!$D$65*E988+Method_input!$D$65*F988","v":0},{"$f":"Method_input!$D$65*B988+Method_input!$D$64*Input_series!AG984+Method_input!$D$65*F988","v":0}]
[972,0,0,0,0,0,0,0,0,0,16,12,16,12,0,0,0,12,0,12,0,0,16,12,null,0,{"$f":"Method_input!$D$65*B989+Method_input!$D$64*Input_series!AG985+Method_input!$D$65*C989+Method_input!$D$65*D989+Method_input!$D$65*E989+Method_input!$D$65*F989","v":0},{"$f":"Method_input!$D$65*B989+Method_input!$D$64*Input_series!AG985+Method_input!$D$65*F989","v":0}]
[973,0,0,0,0,0,0,0,0,0,16,12,16,12,0,0,0,12,0,12,0,0,16,12,null,0,{"$f":"Method_input!$D$65*B990+Method_input!$D$64*Input_series!AG986+Method_input!$D$65*C990+Method_input!$D$65*D990+Method_input!$D$65*E990+Method_input!$D$65*F990","v":0},{"$f":"Method_input!$D$65*B990+Method_input!$D$64*Input_series!AG986+Method_input!$D$65*F990","v":0}]
[974,0,0,0,0,0,0,0,0,0,16,12,16,12,0,0,0,12,0,12,0,0,16,12,null,0,{"$f":"Method_input!$D$65*B991+Method_input!$D$64*Input_series!AG987+Method_input!$D$65*C991+Method_input!$D$65*D991+Method_input!$D$65*E991+Method_input!$D$65*F991","v":0},{"$f":"Method_input!$D$65*B991+Method_input!$D$64*Input_series!AG987+Method_input!$D$65*F991","v":0}]
[975,0,0,0,0,0,0,0,0,0,16,12,16,12,0,0,0,12,0,12,0,0,16,12,null,0,{"$f":"Method_input!$D$65*B992+Method_input!$D$64*Input_series!AG988+Method_input!$D$65*C992+Method_input!$D$65*D992+Method_input!$D$65*E992+Method_input!$D$65*F992","v":0},{"$f":"Method_input!$D$65*B992+Method_input!$D$64*Input_series!AG988+Method_input!$D$65*F992","v":0}]
[976,0,0,0,0,0,0,0,0,0,16,12,16,12,0,0,0,12,0,12,0,0,16,12,null,0,{"$f":"Method_input!$D$65*B993+Method_input!$D$64*Input_series!AG989+Method_input!$D$65*C993+Method_input!$D$65*D993+Method_input!$D$65*E993+Method_input!$D$65*F993","v":0},{"$f":"Method_input!$D$65*B993+Method_input!$D$64*Input_series!AG989+Method_input!$D$65*F993","v":0}]
[977,0,0,0,0,0,0,0,0,0,16,12,16,12,0,0,0,12,0,12,0,0,16,12,null,0,{"$f":"Method_input!$D$65*B994+Method_input!$D$64*Input_series!AG990+Method_input!$D$65*C994+Method_input!$D$65*D994+Method_input!$D$65*E994+Method_input!$D$65*F994","v":0},{"$f":"Method_input!$D$65*B994+Method_input!$D$64*Input_series!AG990+Method_input!$D$65*F994","v":0}]
[978,0,0,0,0,0,0,0,0,0,16,12,16,12,0,0,0,12,0,12,0,0,16,12,null,0,{"$f":"Method_input!$D$65*B995+Method_input!$D$64*Input_series!AG991+Method_input!$D$65*C995+Method_input!$D$65*D995+Method_input!$D$65*E995+Method_input!$D$65*F995","v":0},{"$f":"Method_input!$D$65*B995+Method_input!$D$64*Input_series!AG991+Method_input!$D$65*F995","v":0}]
[979,0,0,0,0,0,0,0,0,0,16,12,16,12,0,0,0,12,0,12,0,0,16,12,null,0,{"$f":"Method_input!$D$65*B996+Method_input!$D$64*Input_series!AG992+Method_input!$D$65*C996+Method_input!$D$65*D996+Method_input!$D$65*E996+Method_input!$D$65*F996","v":0},{"$f":"Method_input!$D$65*B996+Method_input!$D$64*Input_series!AG992+Method_input!$D$65*F996","v":0}]
[980,0,0,0,0,0,0,0,0,0,16,12,16,12,0,0,0,12,0,12,0,0,16,12,null,0,{"$f":"Method_input!$D$65*B997+Method_input!$D$64*Input_series!AG993+Method_input!$D$65*C997+Method_input!$D$65*D997+Method_input!$D$65*E997+Method_input!$D$65*F997","v":0},{"$f":"Method_input!$D$65*B997+Method_input!$D$64*Input_series!AG993+Method_input!$D$65*F997","v":0}]
[981,0,0,0,0,0,0,0,0,0,16,12,16,12,0,0,0,12,0,12,0,0,16,12,null,0,{"$f":"Method_input!$D$65*B998+Method_input!$D$64*Input_series!AG994+Method_input!$D$65*C998+Method_input!$D$65*D998+Method_input!$D$65*E998+Method_input!$D$65*F998","v":0},{"$f":"Method_input!$D$65*B998+Method_input!$D$64*Input_series!AG994+Method_input!$D$65*F998","v":0}]
[982,0,0,0,0,0,0,0,0,0,16,12,16,12,0,0,0,12,0,12,0,0,16,12,null,0,{"$f":"Method_input!$D$65*B999+Method_input!$D$64*Input_series!AG995+Method_input!$D$65*C999+Method_input!$D$65*D999+Method_input!$D$65*E999+Method_input!$D$65*F999","v":0},{"$f":"Method_input!$D$65*B999+Method_input!$D$64*Input_series!AG995+Method_input!$D$65*F999","v":0}]
[983,0,0,0,0,0,0,0,0,0,16,12,16,12,0,0,0,12,0,12,0,0,16,12,null,0,{"$f":"Method_input!$D$65*B1000+Method_input!$D$64*Input_series!AG996+Method_input!$D$65*C1000+Method_input!$D$65*D1000+Method_input!$D$65*E1000+Method_input!$D$65*F1000","v":0},{"$f":"Method_input!$D$65*B1000+Method_input!$D$64*Input_series!AG996+Method_input!$D$65*F1000","v":0}]
[988,0,0,0,0,0,0,0,0,0,16,12,16,12,0,0,0,12,0,12,0,0,16,12,null,0,{"$f":"Method_input!$D$65*B1005+Method_input!$D$64*Input_series!AG1001+Method_input!$D$65*C1005+Method_input!$D$65*D1005+Method_input!$D$65*E1005+Method_input!$D$65*F1005","v":0},{"$f":"Method_input!$D$65*B1005+Method_input!$D$64*Input_series!AG1001+Method_input!$D$65*F1005","v":0}]
[993,0,0,0,0,0,0,0,0,0,16,12,16,12,0,0,0,12,0,12,0,0,16,12,null,0,{"$f":"Method_input!$D$65*B1010+Method_input!$D$64*Input_series!AG1006+Method_input!$D$65*C1010+Method_input!$D$65*D1010+Method_input!$D$65*E1010+Method_input!$D$65*F1010","v":0},{"$f":"Method_input!$D$65*B1010+Method_input!$D$64*Input_series!AG1006+Method_input!$D$65*F1010","v":0}]
[1002,0,0,0,0,0,0,0,0,0,16,12,16,12,0,0,0,12,0,12,0,0,16,12,null,0,{"$f":"Method_input!$D$65*B1019+Method_input!$D$64*Input_series!AG1015+Method_input!$D$65*C1019+Method_input!$D$65*D1019+Method_input!$D$65*E1019+Method_input!$D$65*F1019","v":0},{"$f":"Method_input!$D$65*B1019+Method_input!$D$64*Input_series!AG1015+Method_input!$D$65*F1019","v":0}]
[1010,0,0,0,0,0,0,0,0,0,16,12,16,12,0,0,0,12,0,12,0,0,16,12,null,0,{"$f":"Method_input!$D$65*B1027+Method_input!$D$64*Input_series!AG1023+Method_input!$D$65*C1027+Method_input!$D$65*D1027+Method_input!$D$65*E1027+Method_input!$D$65*F1027","v":0},{"$f":"Method_input!$D$65*B1027+Method_input!$D$64*Input_series!AG1023+Method_input!$D$65*F1027","v":0}]
[1016,0,0,0,0,0,0,0,0,0,16,12,16,12,0,0,0,12,0,12,0,0,16,12,null,0,{"$f":"Method_input!$D$65*B1033+Method_input!$D$64*Input_series!AG1029+Method_input!$D$65*C1033+Method_input!$D$65*D1033+Method_input!$D$65*E1033+Method_input!$D$65*F1033","v":0},{"$f":"Method_input!$D$65*B1033+Method_input!$D$64*Input_series!AG1029+Method_input!$D$65*F1033","v":0}]
[1027,0,0,0,0,0,0,0,0,0,16,12,16,12,0,0,0,12,0,12,0,0,16,12,null,0,{"$f":"Method_input!$D$65*B1044+Method_input!$D$64*Input_series!AG1040+Method_input!$D$65*C1044+Method_input!$D$65*D1044+Method_input!$D$65*E1044+Method_input!$D$65*F1044","v":0},{"$f":"Method_input!$D$65*B1044+Method_input!$D$64*Input_series!AG1040+Method_input!$D$65*F1044","v":0}]
[1030,0,0,0,0,0,0,0,0,0,16,12,16,12,0,0,0,12,0,12,0,0,16,12,null,0,{"$f":"Method_input!$D$65*B1047+Method_input!$D$64*Input_series!AG1043+Method_input!$D$65*C1047+Method_input!$D$65*D1047+Method_input!$D$65*E1047+Method_input!$D$65*F1047","v":0},{"$f":"Method_input!$D$65*B1047+Method_input!$D$64*Input_series!AG1043+Method_input!$D$65*F1047","v":0}]
[1036,0,0,0,0,0,0,0,0,0,16,12,16,12,0,0,0,12,0,12,0,0,16,12,null,0,{"$f":"Method_input!$D$65*B1053+Method_input!$D$64*Input_series!AG1049+Method_input!$D$65*C1053+Method_input!$D$65*D1053+Method_input!$D$65*E1053+Method_input!$D$65*F1053","v":0},{"$f":"Method_input!$D$65*B1053+Method_input!$D$64*Input_series!AG1049+Method_input!$D$65*F1053","v":0}]
[1044,0,0,0,0,0,0,0,0,0,16,12,16,12,0,0,0,12,0,12,0,0,16,12,null,0,{"$f":"Method_input!$D$65*B1061+Method_input!$D$64*Input_series!AG1057+Method_input!$D$65*C1061+Method_input!$D$65*D1061+Method_input!$D$65*E1061+Method_input!$D$65*F1061","v":0},{"$f":"Method_input!$D$65*B1061+Method_input!$D$64*Input_series!AG1057+Method_input!$D$65*F1061","v":0}]
[1053,0,0,0,0,0,0,0,0,0,16,12,16,12,0,0,0,12,0,12,0,0,16,12,null,0,{"$f":"Method_input!$D$65*B1070+Method_input!$D$64*Input_series!AG1066+Method_input!$D$65*C1070+Method_input!$D$65*D1070+Method_input!$D$65*E1070+Method_input!$D$65*F1070","v":0},{"$f":"Method_input!$D$65*B1070+Method_input!$D$64*Input_series!AG1066+Method_input!$D$65*F1070","v":0}]
[1061,0,0,0,0,0,0,0,0,0,16,12,16,12,0,0,0,12,0,12,0,0,16,12,null,0,{"$f":"Method_input!$D$65*B1078+Method_input!$D$64*Input_series!AG1074+Method_input!$D$65*C1078+Method_input!$D$65*D1078+Method_input!$D$65*E1078+Method_input!$D$65*F1078","v":0},{"$f":"Method_input!$D$65*B1078+Method_input!$D$64*Input_series!AG1074+Method_input!$D$65*F1078","v":0}]
[1070,0,0,0,0,0,0,0,0,0,16,12,16,12,0,0,0,12,0,12,0,0,16,12,null,0,{"$f":"Method_input!$D$65*B1087+Method_input!$D$64*Input_series!AG1083+Method_input!$D$65*C1087+Method_input!$D$65*D1087+Method_input!$D$65*E1087+Method_input!$D$65*F1087","v":0},{"$f":"Method_input!$D$65*B1087+Method_input!$D$64*Input_series!AG1083+Method_input!$D$65*F1087","v":0}]
[1075,0,0,0,0,0,0,0,0,0,16,12,16,12,0,0,0,12,0,12,0,0,16,12,null,0,{"$f":"Method_input!$D$65*B1092+Method_input!$D$64*Input_series!AG1088+Method_input!$D$65*C1092+Method_input!$D$65*D1092+Method_input!$D$65*E1092+Method_input!$D$65*F1092","v":0},{"$f":"Method_input!$D$65*B1092+Method_input!$D$64*Input_series!AG1088+Method_input!$D$65*F1092","v":0}]
[1087,0,0,0,0,0,0,0,0,0,16,12,16,12,0,0,0,12,0,12,0,0,16,12,null,0,{"$f":"Method_input!$D$65*B1104+Method_input!$D$64*Input_series!AG1100+Method_input!$D$65*C1104+Method_input!$D$65*D1104+Method_input!$D$65*E1104+Method_input!$D$65*F1104","v":0},{"$f":"Method_input!$D$65*B1104+Method_input!$D$64*Input_series!AG1100+Method_input!$D$65*F1104","v":0}]
[1089,0,0,0,0,0,0,0,0,0,16,12,16,12,0,0,0,12,0,12,0,0,16,12,null,{"$f":"SUM(G1106:J1106,U1106:V1106)","v":0},{"$f":"Method_input!$D$65*B1106+Method_input!$D$64*Input_series!AG1102+Method_input!$D$65*C1106+Method_input!$D$65*D1106+Method_input!$D$65*E1106+Method_input!$D$65*F1106","v":0},{"$f":"Method_input!$D$65*B1106+Method_input!$D$64*Input_series!AG1102+Method_input!$D$65*F1106","v":0}]
[1096,0,0,0,0,0,0,0,0,0,16,12,16,12,0,0,0,12,0,12,0,0,16,12,null,0,{"$f":"Method_input!$D$65*B1113+Method_input!$D$64*Input_series!AG1109+Method_input!$D$65*C1113+Method_input!$D$65*D1113+Method_input!$D$65*E1113+Method_input!$D$65*F1113","v":0},{"$f":"Method_input!$D$65*B1113+Method_input!$D$64*Input_series!AG1109+Method_input!$D$65*F1113","v":0}]
[1110,0,0,0,0,0,0,0,0,0,16,12,16,12,0,0,0,12,0,12,0,0,16,12,null,0,{"$f":"Method_input!$D$65*B1127+Method_input!$D$64*Input_series!AG1123+Method_input!$D$65*C1127+Method_input!$D$65*D1127+Method_input!$D$65*E1127+Method_input!$D$65*F1127","v":0},{"$f":"Method_input!$D$65*B1127+Method_input!$D$64*Input_series!AG1123+Method_input!$D$65*F1127","v":0}]
[1113,0,0,0,0,0,0,0,0,0,16,12,16,12,0,0,0,12,0,12,0,0,16,12,null,0,{"$f":"Method_input!$D$65*B1130+Method_input!$D$64*Input_series!AG1126+Method_input!$D$65*C1130+Method_input!$D$65*D1130+Method_input!$D$65*E1130+Method_input!$D$65*F1130","v":0},{"$f":"Method_input!$D$65*B1130+Method_input!$D$64*Input_series!AG1126+Method_input!$D$65*F1130","v":0}]
[1122,0,0,0,0,0,0,0,0,0,16,12,16,12,0,0,0,12,0,12,0,0,16,12,null,0,{"$f":"Method_input!$D$65*B1139+Method_input!$D$64*Input_series!AG1135+Method_input!$D$65*C1139+Method_input!$D$65*D1139+Method_input!$D$65*E1139+Method_input!$D$65*F1139","v":0},{"$f":"Method_input!$D$65*B1139+Method_input!$D$64*Input_series!AG1135+Method_input!$D$65*F1139","v":0}]
[1133,0,0,0,0,0,0,0,0,0,16,12,16,12,0,0,0,12,0,12,0,0,16,12,null,0,{"$f":"Method_input!$D$65*B1150+Method_input!$D$64*Input_series!AG1146+Method_input!$D$65*C1150+Method_input!$D$65*D1150+Method_input!$D$65*E1150+Method_input!$D$65*F1150","v":0},{"$f":"Method_input!$D$65*B1150+Method_input!$D$64*Input_series!AG1146+Method_input!$D$65*F1150","v":0}]
[1139,0,0,0,0,0,0,0,0,0,16,12,16,12,0,0,0,12,0,12,0,0,16,12,null,0,{"$f":"Method_input!$D$65*B1156+Method_input!$D$64*Input_series!AG1152+Method_input!$D$65*C1156+Method_input!$D$65*D1156+Method_input!$D$65*E1156+Method_input!$D$65*F1156","v":0},{"$f":"Method_input!$D$65*B1156+Method_input!$D$64*Input_series!AG1152+Method_input!$D$65*F1156","v":0}]
[1147,0,0,0,0,0,0,0,0,0,16,12,16,12,0,0,0,12,0,12,0,0,16,12,null,0,{"$f":"Method_input!$D$65*B1164+Method_input!$D$64*Input_series!AG1160+Method_input!$D$65*C1164+Method_input!$D$65*D1164+Method_input!$D$65*E1164+Method_input!$D$65*F1164","v":0},{"$f":"Method_input!$D$65*B1164+Method_input!$D$64*Input_series!AG1160+Method_input!$D$65*F1164","v":0}]
[1156,0,0,0,0,0,0,0,0,0,16,12,16,12,0,0,0,12,0,12,0,0,16,12,null,0,{"$f":"Method_input!$D$65*B1173+Method_input!$D$64*Input_series!AG1169+Method_input!$D$65*C1173+Method_input!$D$65*D1173+Method_input!$D$65*E1173+Method_input!$D$65*F1173","v":0},{"$f":"Method_input!$D$65*B1173+Method_input!$D$64*Input_series!AG1169+Method_input!$D$65*F1173","v":0}]
[1157,0,0,0,0,0,0,0,0,0,16,12,16,12,0,0,0,12,0,12,0,0,16,12,null,0,{"$f":"Method_input!$D$65*B1174+Method_input!$D$64*Input_series!AG1170+Method_input!$D$65*C1174+Method_input!$D$65*D1174+Method_input!$D$65*E1174+Method_input!$D$65*F1174","v":0},{"$f":"Method_input!$D$65*B1174+Method_input!$D$64*Input_series!AG1170+Method_input!$D$65*F1174","v":0}]
[1165,0,0,0,0,0,0,0,0,0,16,12,16,12,0,0,0,12,0,12,0,0,16,12,null,0,{"$f":"Method_input!$D$65*B1182+Method_input!$D$64*Input_series!AG1178+Method_input!$D$65*C1182+Method_input!$D$65*D1182+Method_input!$D$65*E1182+Method_input!$D$65*F1182","v":0},{"$f":"Method_input!$D$65*B1182+Method_input!$D$64*Input_series!AG1178+Method_input!$D$65*F1182","v":0}]
[1178,0,0,0,0,0,0,0,0,0,16,12,16,12,0,0,0,12,0,12,0,0,16,12,null,0,{"$f":"Method_input!$D$65*B1195+Method_input!$D$64*Input_series!AG1191+Method_input!$D$65*C1195+Method_input!$D$65*D1195+Method_input!$D$65*E1195+Method_input!$D$65*F1195","v":0},{"$f":"Method_input!$D$65*B1195+Method_input!$D$64*Input_series!AG1191+Method_input!$D$65*F1195","v":0}]
[1182,0,0,0,0,0,0,0,0,0,16,12,16,12,0,0,0,12,0,12,0,0,16,12,null,0,{"$f":"Method_input!$D$65*B1199+Method_input!$D$64*Input_series!AG1195+Method_input!$D$65*C1199+Method_input!$D$65*D1199+Method_input!$D$65*E1199+Method_input!$D$65*F1199","v":0},{"$f":"Method_input!$D$65*B1199+Method_input!$D$64*Input_series!AG1195+Method_input!$D$65*F1199","v":0}]
[1192,0,0,0,0,0,0,0,0,0,16,12,16,12,0,0,0,12,0,12,0,0,16,12,null,0,{"$f":"Method_input!$D$65*B1209+Method_input!$D$64*Input_series!AG1205+Method_input!$D$65*C1209+Method_input!$D$65*D1209+Method_input!$D$65*E1209+Method_input!$D$65*F1209","v":0},{"$f":"Method_input!$D$65*B1209+Method_input!$D$64*Input_series!AG1205+Method_input!$D$65*F1209","v":0}]
[1199,0,0,0,0,0,0,0,0,0,16,12,16,12,0,0,0,12,0,12,0,0,16,12,null,0,{"$f":"Method_input!$D$65*B1216+Method_input!$D$64*Input_series!AG1212+Method_input!$D$65*C1216+Method_input!$D$65*D1216+Method_input!$D$65*E1216+Method_input!$D$65*F1216","v":0},{"$f":"Method_input!$D$65*B1216+Method_input!$D$64*Input_series!AG1212+Method_input!$D$65*F1216","v":0}]
[1206,0,0,0,0,0,0,0,0,0,16,12,16,12,0,0,0,12,0,12,0,0,16,12,null,0,{"$f":"Method_input!$D$65*B1223+Method_input!$D$64*Input_series!AG1219+Method_input!$D$65*C1223+Method_input!$D$65*D1223+Method_input!$D$65*E1223+Method_input!$D$65*F1223","v":0},{"$f":"Method_input!$D$65*B1223+Method_input!$D$64*Input_series!AG1219+Method_input!$D$65*F1223","v":0}]
[1216,0,0,0,0,0,0,0,0,0,16,12,16,12,0,0,0,12,0,12,0,0,16,12,null,0,{"$f":"Method_input!$D$65*B1233+Method_input!$D$64*Input_series!AG1229+Method_input!$D$65*C1233+Method_input!$D$65*D1233+Method_input!$D$65*E1233+Method_input!$D$65*F1233","v":0},{"$f":"Method_input!$D$65*B1233+Method_input!$D$64*Input_series!AG1229+Method_input!$D$65*F1233","v":0}]
[1223,0,0,0,0,0,0,0,0,0,16,12,16,12,0,0,0,12,0,12,0,0,16,12,null,0,{"$f":"Method_input!$D$65*B1240+Method_input!$D$64*Input_series!AG1236+Method_input!$D$65*C1240+Method_input!$D$65*D1240+Method_input!$D$65*E1240+Method_input!$D$65*F1240","v":0},{"$f":"Method_input!$D$65*B1240+Method_input!$D$64*Input_series!AG1236+Method_input!$D$65*F1240","v":0}]
[1225,0,0,0,0,0,0,0,0,0,16,12,16,12,0,0,0,12,0,12,0,0,16,12,null,0,{"$f":"Method_input!$D$65*B1242+Method_input!$D$64*Input_series!AG1238+Method_input!$D$65*C1242+Method_input!$D$65*D1242+Method_input!$D$65*E1242+Method_input!$D$65*F1242","v":0},{"$f":"Method_input!$D$65*B1242+Method_input!$D$64*Input_series!AG1238+Method_input!$D$65*F1242","v":0}]
[1237,0,0,0,0,0,0,0,0,0,16,12,16,12,0,0,0,12,0,12,0,0,16,12,null,0,{"$f":"Method_input!$D$65*B1254+Method_input!$D$64*Input_series!AG1250+Method_input!$D$65*C1254+Method_input!$D$65*D1254+Method_input!$D$65*E1254+Method_input!$D$65*F1254","v":0},{"$f":"Method_input!$D$65*B1254+Method_input!$D$64*Input_series!AG1250+Method_input!$D$65*F1254","v":0}]
[1242,0,0,0,0,0,0,0,0,0,16,12,16,12,0,0,0,12,0,12,0,0,16,12,null,0,{"$f":"Method_input!$D$65*B1259+Method_input!$D$64*Input_series!AG1255+Method_input!$D$65*C1259+Method_input!$D$65*D1259+Method_input!$D$65*E1259+Method_input!$D$65*F1259","v":0},{"$f":"Method_input!$D$65*B1259+Method_input!$D$64*Input_series!AG1255+Method_input!$D$65*F1259","v":0}]
[1251,0,0,0,0,0,0,0,0,0,16,12,16,12,0,0,0,12,0,12,0,0,16,12,null,0,{"$f":"Method_input!$D$65*B1268+Method_input!$D$64*Input_series!AG1264+Method_input!$D$65*C1268+Method_input!$D$65*D1268+Method_input!$D$65*E1268+Method_input!$D$65*F1268","v":0},{"$f":"Method_input!$D$65*B1268+Method_input!$D$64*Input_series!AG1264+Method_input!$D$65*F1268","v":0}]
[1260,0,0,0,0,0,0,0,0,0,16,12,16,12,0,0,0,12,0,12,0,0,16,12,null,0,{"$f":"Method_input!$D$65*B1277+Method_input!$D$64*Input_series!AG1273+Method_input!$D$65*C1277+Method_input!$D$65*D1277+Method_input!$D$65*E1277+Method_input!$D$65*F1277","v":0},{"$f":"Method_input!$D$65*B1277+Method_input!$D$64*Input_series!AG1273+Method_input!$D$65*F1277","v":0}]
[1268,0,0,0,0,0,0,0,0,0,16,12,16,12,0,0,0,12,0,12,0,0,16,12,null,0,{"$f":"Method_input!$D$65*B1285+Method_input!$D$64*Input_series!AG1281+Method_input!$D$65*C1285+Method_input!$D$65*D1285+Method_input!$D$65*E1285+Method_input!$D$65*F1285","v":0},{"$f":"Method_input!$D$65*B1285+Method_input!$D$64*Input_series!AG1281+Method_input!$D$65*F1285","v":0}]
[1274,0,0,0,0,0,0,0,0,0,16,12,16,12,0,0,0,12,0,12,0,0,16,12,null,0,{"$f":"Method_input!$D$65*B1291+Method_input!$D$64*Input_series!AG1287+Method_input!$D$65*C1291+Method_input!$D$65*D1291+Method_input!$D$65*E1291+Method_input!$D$65*F1291","v":0},{"$f":"Method_input!$D$65*B1291+Method_input!$D$64*Input_series!AG1287+Method_input!$D$65*F1291","v":0}]
[1277,0,0,0,0,0,0,0,0,0,16,12,16,12,0,0,0,12,0,12,0,0,16,12,null,0,{"$f":"Method_input!$D$65*B1294+Method_input!$D$64*Input_series!AG1290+Method_input!$D$65*C1294+Method_input!$D$65*D1294+Method_input!$D$65*E1294+Method_input!$D$65*F1294","v":0},{"$f":"Method_input!$D$65*B1294+Method_input!$D$64*Input_series!AG1290+Method_input!$D$65*F1294","v":0}]
[1288,0,0,0,0,0,0,0,0,0,16,12,16,12,0,0,0,12,0,12,0,0,16,12,null,0,{"$f":"Method_input!$D$65*B1305+Method_input!$D$64*Input_series!AG1301+Method_input!$D$65*C1305+Method_input!$D$65*D1305+Method_input!$D$65*E1305+Method_input!$D$65*F1305","v":0},{"$f":"Method_input!$D$65*B1305+Method_input!$D$64*Input_series!AG1301+Method_input!$D$65*F1305","v":0}]
[1294,0,0,0,0,0,0,0,0,0,16,12,16,12,0,0,0,12,0,12,0,0,16,12,null,0,{"$f":"Method_input!$D$65*B1311+Method_input!$D$64*Input_series!AG1307+Method_input!$D$65*C1311+Method_input!$D$65*D1311+Method_input!$D$65*E1311+Method_input!$D$65*F1311","v":0},{"$f":"Method_input!$D$65*B1311+Method_input!$D$64*Input_series!AG1307+Method_input!$D$65*F1311","v":0}]
[1302,0,0,0,0,0,0,0,0,0,16,12,16,12,0,0,0,12,0,12,0,0,16,12,null,0,{"$f":"Method_input!$D$65*B1319+Method_input!$D$64*Input_series!AG1315+Method_input!$D$65*C1319+Method_input!$D$65*D1319+Method_input!$D$65*E1319+Method_input!$D$65*F1319","v":0},{"$f":"Method_input!$D$65*B1319+Method_input!$D$64*Input_series!AG1315+Method_input!$D$65*F1319","v":0}]
[1311,0,0,0,0,0,0,0,0,0,16,12,16,12,0,0,0,12,0,12,0,0,16,12,null,0,{"$f":"Method_input!$D$65*B1328+Method_input!$D$64*Input_series!AG1324+Method_input!$D$65*C1328+Method_input!$D$65*D1328+Method_input!$D$65*E1328+Method_input!$D$65*F1328","v":0},{"$f":"Method_input!$D$65*B1328+Method_input!$D$64*Input_series!AG1324+Method_input!$D$65*F1328","v":0}]
[1319,0,0,0,0,0,0,0,0,0,16,12,16,12,0,0,0,12,0,12,0,0,16,12,null,0,{"$f":"Method_input!$D$65*B1336+Method_input!$D$64*Input_series!AG1332+Method_input!$D$65*C1336+Method_input!$D$65*D1336+Method_input!$D$65*E1336+Method_input!$D$65*F1336","v":0},{"$f":"Method_input!$D$65*B1336+Method_input!$D$64*Input_series!AG1332+Method_input!$D$65*F1336","v":0}]
[1328,0,0,0,0,0,0,0,0,0,16,12,16,12,0,0,0,12,0,12,0,0,16,12,null,0,{"$f":"Method_input!$D$65*B1345+Method_input!$D$64*Input_series!AG1341+Method_input!$D$65*C1345+Method_input!$D$65*D1345+Method_input!$D$65*E1345+Method_input!$D$65*F1345","v":0},{"$f":"Method_input!$D$65*B1345+Method_input!$D$64*Input_series!AG1341+Method_input!$D$65*F1345","v":0}]
[1333,0,0,0,0,0,0,0,0,0,16,12,16,12,0,0,0,12,0,12,0,0,16,12,null,0,{"$f":"Method_input!$D$65*B1350+Method_input!$D$64*Input_series!AG1346+Method_input!$D$65*C1350+Method_input!$D$65*D1350+Method_input!$D$65*E1350+Method_input!$D$65*F1350","v":0},{"$f":"Method_input!$D$65*B1350+Method_input!$D$64*Input_series!AG1346+Method_input!$D$65*F1350","v":0}]
[1337,0,0,0,0,0,0,0,0,0,16,12,16,12,0,0,0,12,0,12,0,0,16,12,null,0,{"$f":"Method_input!$D$65*B1354+Method_input!$D$64*Input_series!AG1350+Method_input!$D$65*C1354+Method_input!$D$65*D1354+Method_input!$D$65*E1354+Method_input!$D$65*F1354","v":0},{"$f":"Method_input!$D$65*B1354+Method_input!$D$64*Input_series!AG1350+Method_input!$D$65*F1354","v":0}]
[1347,0,0,0,0,0,0,0,0,0,16,12,16,12,0,0,0,12,0,12,0,0,16,12,null,0,{"$f":"Method_input!$D$65*B1364+Method_input!$D$64*Input_series!AG1360+Method_input!$D$65*C1364+Method_input!$D$65*D1364+Method_input!$D$65*E1364+Method_input!$D$65*F1364","v":0},{"$f":"Method_input!$D$65*B1364+Method_input!$D$64*Input_series!AG1360+Method_input!$D$65*F1364","v":0}]
[1354,0,0,0,0,0,0,0,0,0,16,12,16,12,0,0,0,12,0,12,0,0,16,12,null,0,{"$f":"Method_input!$D$65*B1371+Method_input!$D$64*Input_series!AG1367+Method_input!$D$65*C1371+Method_input!$D$65*D1371+Method_input!$D$65*E1371+Method_input!$D$65*F1371","v":0},{"$f":"Method_input!$D$65*B1371+Method_input!$D$64*Input_series!AG1367+Method_input!$D$65*F1371","v":0}]
[1361,0,0,0,0,0,0,0,0,0,16,12,16,12,0,0,0,12,0,12,0,0,16,12,null,0,{"$f":"Method_input!$D$65*B1378+Method_input!$D$64*Input_series!AG1374+Method_input!$D$65*C1378+Method_input!$D$65*D1378+Method_input!$D$65*E1378+Method_input!$D$65*F1378","v":0},{"$f":"Method_input!$D$65*B1378+Method_input!$D$64*Input_series!AG1374+Method_input!$D$65*F1378","v":0}]
[1371,0,0,0,0,0,0,0,0,0,16,12,16,12,0,0,0,12,0,12,0,0,16,12,null,0,{"$f":"Method_input!$D$65*B1388+Method_input!$D$64*Input_series!AG1384+Method_input!$D$65*C1388+Method_input!$D$65*D1388+Method_input!$D$65*E1388+Method_input!$D$65*F1388","v":0},{"$f":"Method_input!$D$65*B1388+Method_input!$D$64*Input_series!AG1384+Method_input!$D$65*F1388","v":0}]
[1380,0,0,0,0,0,0,0,0,0,16,12,16,12,0,0,0,12,0,12,0,0,16,12,null,0,{"$f":"Method_input!$D$65*B1397+Method_input!$D$64*Input_series!AG1393+Method_input!$D$65*C1397+Method_input!$D$65*D1397+Method_input!$D$65*E1397+Method_input!$D$65*F1397","v":0},{"$f":"Method_input!$D$65*B1397+Method_input!$D$64*Input_series!AG1393+Method_input!$D$65*F1397","v":0}]
[1384,0,0,0,0,0,0,0,0,0,16,12,16,12,0,0,0,12,0,12,0,0,16,12,null,0,{"$f":"Method_input!$D$65*B1401+Method_input!$D$64*Input_series!AG1397+Method_input!$D$65*C1401+Method_input!$D$65*D1401+Method_input!$D$65*E1401+Method_input!$D$65*F1401","v":0},{"$f":"Method_input!$D$65*B1401+Method_input!$D$64*Input_series!AG1397+Method_input!$D$65*F1401","v":0}]
[1397,0,0,0,0,0,0,0,0,0,16,12,16,12,0,0,0,12,0,12,0,0,16,12,null,0,{"$f":"Method_input!$D$65*B1414+Method_input!$D$64*Input_series!AG1410+Method_input!$D$65*C1414+Method_input!$D$65*D1414+Method_input!$D$65*E1414+Method_input!$D$65*F1414","v":0},{"$f":"Method_input!$D$65*B1414+Method_input!$D$64*Input_series!AG1410+Method_input!$D$65*F1414","v":0}]
[1398,0,0,0,0,0,0,0,0,0,16,12,16,12,0,0,0,12,0,12,0,0,16,12,null,0,{"$f":"Method_input!$D$65*B1415+Method_input!$D$64*Input_series!AG1411+Method_input!$D$65*C1415+Method_input!$D$65*D1415+Method_input!$D$65*E1415+Method_input!$D$65*F1415","v":0},{"$f":"Method_input!$D$65*B1415+Method_input!$D$64*Input_series!AG1411+Method_input!$D$65*F1415","v":0}]
[1406,0,0,5.74663E-4,0,0,0,0,0,0,16,12,16,18.03448275862069,0,1.2417956594714286E-2,8.6925696162999999E-2,12,0,12,0,8.6637789999999992E-2,16,12.009993390064235,null,8.6637789999999992E-2,{"$f":"Method_input!$D$65*B1423+Method_input!$D$64*Input_series!AG1419+Method_input!$D$65*C1423+Method_input!$D$65*D1423+Method_input!$D$65*E1423+Method_input!$D$65*F1423","v":5.74663E-4},{"$f":"Method_input!$D$65*B1423+Method_input!$D$64*Input_series!AG1419+Method_input!$D$65*F1423","v":0}]
[1415,0,0,0,0,0,0,0,0,0,16,12,16,12,0,0,0,12,0,12,0,0,16,12,null,0,{"$f":"Method_input!$D$65*B1432+Method_input!$D$64*Input_series!AG1428+Method_input!$D$65*C1432+Method_input!$D$65*D1432+Method_input!$D$65*E1432+Method_input!$D$65*F1432","v":0},{"$f":"Method_input!$D$65*B1432+Method_input!$D$64*Input_series!AG1428+Method_input!$D$65*F1432","v":0}]
[1423,0,0,0,0,0,0,0,0,0,16,12,16,12,0,0,0,12,0,12,0,0,16,12,null,0,{"$f":"Method_input!$D$65*B1440+Method_input!$D$64*Input_series!AG1436+Method_input!$D$65*C1440+Method_input!$D$65*D1440+Method_input!$D$65*E1440+Method_input!$D$65*F1440","v":0},{"$f":"Method_input!$D$65*B1440+Method_input!$D$64*Input_series!AG1436+Method_input!$D$65*F1440","v":0}]
[1429,0,0,0,0,0,0,0,0,0,16,12,16,12,0,0,0,12,0,12,0,0,16,12,null,0,{"$f":"Method_input!$D$65*B1446+Method_input!$D$64*Input_series!AG1442+Method_input!$D$65*C1446+Method_input!$D$65*D1446+Method_input!$D$65*E1446+Method_input!$D$65*F1446","v":0},{"$f":"Method_input!$D$65*B1446+Method_input!$D$64*Input_series!AG1442+Method_input!$D$65*F1446","v":0}]
[1440,0,0,0,0,0,0,0,0,0,16,12,16,12,0,0,0,12,0,12,0,0,16,12,null,0,{"$f":"Method_input!$D$65*B1457+Method_input!$D$64*Input_series!AG1453+Method_input!$D$65*C1457+Method_input!$D$65*D1457+Method_input!$D$65*E1457+Method_input!$D$65*F1457","v":0},{"$f":"Method_input!$D$65*B1457+Method_input!$D$64*Input_series!AG1453+Method_input!$D$65*F1457","v":0}]
[1443,0,0,0,0,0,0,0,0,0,16,12,16,12,0,0,0,12,0,12,0,0,16,12,null,0,{"$f":"Method_input!$D$65*B1460+Method_input!$D$64*Input_series!AG1456+Method_input!$D$65*C1460+Method_input!$D$65*D1460+Method_input!$D$65*E1460+Method_input!$D$65*F1460","v":0},{"$f":"Method_input!$D$65*B1460+Method_input!$D$64*Input_series!AG1456+Method_input!$D$65*F1460","v":0}]
[1457,0,0,0,0,0,0,0,0,0,16,12,16,12,0,0,0,12,0,12,0,0,16,12,null,0,{"$f":"Method_input!$D$65*B1474+Method_input!$D$64*Input_series!AG1470+Method_input!$D$65*C1474+Method_input!$D$65*D1474+Method_input!$D$65*E1474+Method_input!$D$65*F1474","v":0},{"$f":"Method_input!$D$65*B1474+Method_input!$D$64*Input_series!AG1470+Method_input!$D$65*F1474","v":0}]
[1464,0,0,0,0,0,0,0,0,0,16,12,16,12,0,0,0,12,0,12,0,0,16,12,null,0,{"$f":"Method_input!$D$65*B1481+Method_input!$D$64*Input_series!AG1477+Method_input!$D$65*C1481+Method_input!$D$65*D1481+Method_input!$D$65*E1481+Method_input!$D$65*F1481","v":0},{"$f":"Method_input!$D$65*B1481+Method_input!$D$64*Input_series!AG1477+Method_input!$D$65*F1481","v":0}]
[1466,0,0,0,0,0,0,0,0,0,16,12,16,12,0,0,0,12,0,12,0,0,16,12,null,0,{"$f":"Method_input!$D$65*B1483+Method_input!$D$64*Input_series!AG1479+Method_input!$D$65*C1483+Method_input!$D$65*D1483+Method_input!$D$65*E1483+Method_input!$D$65*F1483","v":0},{"$f":"Method_input!$D$65*B1483+Method_input!$D$64*Input_series!AG1479+Method_input!$D$65*F1483","v":0}]
[1474,0,0,0,0,0,0,0,0,0,16,12,16,12,0,0,0,12,0,12,0,0,16,12,null,0,{"$f":"Method_input!$D$65*B1491+Method_input!$D$64*Input_series!AG1487+Method_input!$D$65*C1491+Method_input!$D$65*D1491+Method_input!$D$65*E1491+Method_input!$D$65*F1491","v":0},{"$f":"Method_input!$D$65*B1491+Method_input!$D$64*Input_series!AG1487+Method_input!$D$65*F1491","v":0}]
[1483,0,0,0,0,0,0,0,0,0,16,12,16,12,0,0,0,12,0,12,0,0,16,12,null,0,{"$f":"Method_input!$D$65*B1500+Method_input!$D$64*Input_series!AG1496+Method_input!$D$65*C1500+Method_input!$D$65*D1500+Method_input!$D$65*E1500+Method_input!$D$65*F1500","v":0},{"$f":"Method_input!$D$65*B1500+Method_input!$D$64*Input_series!AG1496+Method_input!$D$65*F1500","v":0}]
[1488,0,0,0,0,0,0,0,0,0,16,12,16,12,0,0,0,12,0,12,0,0,16,12,null,0,{"$f":"Method_input!$D$65*B1505+Method_input!$D$64*Input_series!AG1501+Method_input!$D$65*C1505+Method_input!$D$65*D1505+Method_input!$D$65*E1505+Method_input!$D$65*F1505","v":0},{"$f":"Method_input!$D$65*B1505+Method_input!$D$64*Input_series!AG1501+Method_input!$D$65*F1505","v":0}]
[1500,0,0,0,0,0,0,0,0,0,16,12,16,12,0,0,0,12,0,12,0,0,16,12,null,0,{"$f":"Method_input!$D$65*B1517+Method_input!$D$64*Input_series!AG1513+Method_input!$D$65*C1517+Method_input!$D$65*D1517+Method_input!$D$65*E1517+Method_input!$D$65*F1517","v":0},{"$f":"Method_input!$D$65*B1517+Method_input!$D$64*Input_series!AG1513+Method_input!$D$65*F1517","v":0}]
[1509,0,0,0,0,0,0,0,0,0,16,12,16,12,0,0,0,12,0,12,0,0,16,12,null,0,{"$f":"Method_input!$D$65*B1526+Method_input!$D$64*Input_series!AG1522+Method_input!$D$65*C1526+Method_input!$D$65*D1526+Method_input!$D$65*E1526+Method_input!$D$65*F1526","v":0},{"$f":"Method_input!$D$65*B1526+Method_input!$D$64*Input_series!AG1522+Method_input!$D$65*F1526","v":0}]
[1511,0,0,0,0,0,0,0,0,0,16,12,16,12,0,0,0,12,0,12,0,0,16,12,null,0,{"$f":"Method_input!$D$65*B1528+Method_input!$D$64*Input_series!AG1524+Method_input!$D$65*C1528+Method_input!$D$65*D1528+Method_input!$D$65*E1528+Method_input!$D$65*F1528","v":0},{"$f":"Method_input!$D$65*B1528+Method_input!$D$64*Input_series!AG1524+Method_input!$D$65*F1528","v":0}]
[1518,0,0,0,0,0,0,0,0,0,16,12,16,12,0,0,0,12,0,12,0,0,16,12,null,0,{"$f":"Method_input!$D$65*B1535+Method_input!$D$64*Input_series!AG1531+Method_input!$D$65*C1535+Method_input!$D$65*D1535+Method_input!$D$65*E1535+Method_input!$D$65*F1535","v":0},{"$f":"Method_input!$D$65*B1535+Method_input!$D$64*Input_series!AG1531+Method_input!$D$65*F1535","v":0}]
[1532,0,0,0,0,0,0,0,0,0,16,12,16,12,0,0,0,12,0,12,0,0,16,12,null,0,{"$f":"Method_input!$D$65*B1549+Method_input!$D$64*Input_series!AG1545+Method_input!$D$65*C1549+Method_input!$D$65*D1549+Method_input!$D$65*E1549+Method_input!$D$65*F1549","v":0},{"$f":"Method_input!$D$65*B1549+Method_input!$D$64*Input_series!AG1545+Method_input!$D$65*F1549","v":0}]
[1535,0,0,0,0,0,0,0,0,0,16,12,16,12,0,0,0,12,0,12,0,0,16,12,null,0,{"$f":"Method_input!$D$65*B1552+Method_input!$D$64*Input_series!AG1548+Method_input!$D$65*C1552+Method_input!$D$65*D1552+Method_input!$D$65*E1552+Method_input!$D$65*F1552","v":0},{"$f":"Method_input!$D$65*B1552+Method_input!$D$64*Input_series!AG1548+Method_input!$D$65*F1552","v":0}]
[1546,0,0,0,0,0,0,0,0,0,16,12,16,12,0,0,0,12,0,12,0,0,16,12,null,0,{"$f":"Method_input!$D$65*B1563+Method_input!$D$64*Input_series!AG1559+Method_input!$D$65*C1563+Method_input!$D$65*D1563+Method_input!$D$65*E1563+Method_input!$D$65*F1563","v":0},{"$f":"Method_input!$D$65*B1563+Method_input!$D$64*Input_series!AG1559+Method_input!$D$65*F1563","v":0}]
[1552,0,0,0,0,0,0,0,0,0,16,12,16,12,0,0,0,12,0,12,0,0,16,12,null,0,{"$f":"Method_input!$D$65*B1569+Method_input!$D$64*Input_series!AG1565+Method_input!$D$65*C1569+Method_input!$D$65*D1569+Method_input!$D$65*E1569+Method_input!$D$65*F1569","v":0},{"$f":"Method_input!$D$65*B1569+Method_input!$D$64*Input_series!AG1565+Method_input!$D$65*F1569","v":0}]
[1560,0,0,0,0,0,0,0,0,0,16,12,16,12,0,0,0,12,0,12,0,0,16,12,null,0,{"$f":"Method_input!$D$65*B1577+Method_input!$D$64*Input_series!AG1573+Method_input!$D$65*C1577+Method_input!$D$65*D1577+Method_input!$D$65*E1577+Method_input!$D$65*F1577","v":0},{"$f":"Method_input!$D$65*B1577+Method_input!$D$64*Input_series!AG1573+Method_input!$D$65*F1577","v":0}]
[1569,0,0,0,0,0,0,0,0,0,16,12,16,12,0,0,0,12,0,12,0,0,16,12,null,0,{"$f":"Method_input!$D$65*B1586+Method_input!$D$64*Input_series!AG1582+Method_input!$D$65*C1586+Method_input!$D$65*D1586+Method_input!$D$65*E1586+Method_input!$D$65*F1586","v":0},{"$f":"Method_input!$D$65*B1586+Method_input!$D$64*Input_series!AG1582+Method_input!$D$65*F1586","v":0}]
[1577,0,0,1.2259796000000001E-3,0,0,0,0,0,0,16,12,22.03448275862069,18.03448275862069,8.0721685900000006E-2,0.15317027230900002,1.637243707463,12,0,12,0.56728529999999999,1.071904,15.988073651508106,12.000810193010569,null,1.6391893,{"$f":"Method_input!$D$65*B1594+Method_input!$D$64*Input_series!AG1590+Method_input!$D$65*C1594+Method_input!$D$65*D1594+Method_input!$D$65*E1594+Method_input!$D$65*F1594","v":1.2259796000000001E-3},{"$f":"Method_input!$D$65*B1594+Method_input!$D$64*Input_series!AG1590+Method_input!$D$65*F1594","v":0}]
[1578,0,0,0,0,0,0,0,0,0,16,12,16,12,0,0,0,12,0,12,0,0,16,12,null,0,{"$f":"Method_input!$D$65*B1595+Method_input!$D$64*Input_series!AG1591+Method_input!$D$65*C1595+Method_input!$D$65*D1595+Method_input!$D$65*E1595+Method_input!$D$65*F1595","v":0},{"$f":"Method_input!$D$65*B1595+Method_input!$D$64*Input_series!AG1591+Method_input!$D$65*F1595","v":0}]
[1591,0,0,0,0,0,0,0,0,0,16,12,16,12,0,0,0,12,0,12,0,0,16,12,null,0,{"$f":"Method_input!$D$65*B1608+Method_input!$D$64*Input_series!AG1604+Method_input!$D$65*C1608+Method_input!$D$65*D1608+Method_input!$D$65*E1608+Method_input!$D$65*F1608","v":0},{"$f":"Method_input!$D$65*B1608+Method_input!$D$64*Input_series!AG1604+Method_input!$D$65*F1608","v":0}]
[1595,0,0,1.2259796000000001E-3,0,0,0,0,0,0,16,12,22.03448275862069,18.03448275862069,9.7483011185714272E-2,8.7048258023285724E-2,1.2917188844630001,12,0,12,0.66140329999999992,0.60904990000000003,16.092756119337956,12.001425617087232,null,1.2704531999999999,{"$f":"Method_input!$D$65*B1612+Method_input!$D$64*Input_series!AG1608+Method_input!$D$65*C1612+Method_input!$D$65*D1612+Method_input!$D$65*E1612+Method_input!$D$65*F1612","v":1.2259796000000001E-3},{"$f":"Method_input!$D$65*B1612+Method_input!$D$64*Input_series!AG1608+Method_input!$D$65*F1612","v":0}]
[1605,0,0,0,0,0,0,0,0,0,16,12,16,12,0,0,0,12,0,12,0,0,16,12,null,0,{"$f":"Method_input!$D$65*B1622+Method_input!$D$64*Input_series!AG1618+Method_input!$D$65*C1622+Method_input!$D$65*D1622+Method_input!$D$65*E1622+Method_input!$D$65*F1622","v":0},{"$f":"Method_input!$D$65*B1622+Method_input!$D$64*Input_series!AG1618+Method_input!$D$65*F1622","v":0}]
[1612,0,0,0,0,0,0,0,0,0,16,12,16,12,0,0,0,12,0,12,0,0,16,12,null,0,{"$f":"Method_input!$D$65*B1629+Method_input!$D$64*Input_series!AG1625+Method_input!$D$65*C1629+Method_input!$D$65*D1629+Method_input!$D$65*E1629+Method_input!$D$65*F1629","v":0},{"$f":"Method_input!$D$65*B1629+Method_input!$D$64*Input_series!AG1625+Method_input!$D$65*F1629","v":0}]
[1619,0,0,0,0,0,0,0,0,0,16,12,16,12,0,0,0,12,0,12,0,0,16,12,null,0,{"$f":"Method_input!$D$65*B1636+Method_input!$D$64*Input_series!AG1632+Method_input!$D$65*C1636+Method_input!$D$65*D1636+Method_input!$D$65*E1636+Method_input!$D$65*F1636","v":0},{"$f":"Method_input!$D$65*B1636+Method_input!$D$64*Input_series!AG1632+Method_input!$D$65*F1636","v":0}]
[1629,0,0,0,0,0,0,0,0,0,16,12,16,12,0,0,0,12,0,12,0,0,16,12,null,0,{"$f":"Method_input!$D$65*B1646+Method_input!$D$64*Input_series!AG1642+Method_input!$D$65*C1646+Method_input!$D$65*D1646+Method_input!$D$65*E1646+Method_input!$D$65*F1646","v":0},{"$f":"Method_input!$D$65*B1646+Method_input!$D$64*Input_series!AG1642+Method_input!$D$65*F1646","v":0}]
[1638,0,0,0,0,0,0,0,0,0,16,12,16,12,0,0,0,12,0,12,0,0,16,12,null,0,{"$f":"Method_input!$D$65*B1655+Method_input!$D$64*Input_series!AG1651+Method_input!$D$65*C1655+Method_input!$D$65*D1655+Method_input!$D$65*E1655+Method_input!$D$65*F1655","v":0},{"$f":"Method_input!$D$65*B1655+Method_input!$D$64*Input_series!AG1651+Method_input!$D$65*F1655","v":0}]
[1642,0,0,0,0,0,0,0,0,0,16,12,16,12,0,0,0,12,0,12,0,0,16,12,null,0,{"$f":"Method_input!$D$65*B1659+Method_input!$D$64*Input_series!AG1655+Method_input!$D$65*C1659+Method_input!$D$65*D1659+Method_input!$D$65*E1659+Method_input!$D$65*F1659","v":0},{"$f":"Method_input!$D$65*B1659+Method_input!$D$64*Input_series!AG1655+Method_input!$D$65*F1659","v":0}]
[1647,0,0,1.2259796000000001E-3,0,0,0,0,0,0,16,12,22.03448275862069,18.03448275862069,0.38637693547142854,0.33480827230899995,5.0482964544629993,12,0,12,2.7059859999999998,2.3433699999999997,15.998496809479988,12.000370652383216,null,5.0493559999999995,{"$f":"Method_input!$D$65*B1664+Method_input!$D$64*Input_series!AG1660+Method_input!$D$65*C1664+Method_input!$D$65*D1664+Method_input!$D$65*E1664+Method_input!$D$65*F1664","v":1.2259796000000001E-3},{"$f":"Method_input!$D$65*B1664+Method_input!$D$64*Input_series!AG1660+Method_input!$D$65*F1664","v":0}]
[1659,0,0,0,0,0,0,0,0,0,16,12,16,12,0,0,0,12,0,12,0,0,16,12,null,0,{"$f":"Method_input!$D$65*B1676+Method_input!$D$64*Input_series!AG1672+Method_input!$D$65*C1676+Method_input!$D$65*D1676+Method_input!$D$65*E1676+Method_input!$D$65*F1676","v":0},{"$f":"Method_input!$D$65*B1676+Method_input!$D$64*Input_series!AG1672+Method_input!$D$65*F1676","v":0}]
[1664,0,0,0,0,0,0,0,0,0,16,12,16,12,0,0,0,12,0,12,0,0,16,12,null,0,{"$f":"Method_input!$D$65*B1681+Method_input!$D$64*Input_series!AG1677+Method_input!$D$65*C1681+Method_input!$D$65*D1681+Method_input!$D$65*E1681+Method_input!$D$65*F1681","v":0},{"$f":"Method_input!$D$65*B1681+Method_input!$D$64*Input_series!AG1677+Method_input!$D$65*F1681","v":0}]
[1673,0,0,1.2259796000000001E-3,0,0,0,0,0,0,16,12,22.03448275862069,18.03448275862069,0.3742336353285714,0.31470755802328571,4.8225883534629999,12,0,12,2.6222399999999997,2.2026650000000001,15.997000130613925,12.000394326354382,null,4.8249049999999993,{"$f":"Method_input!$D$65*B1690+Method_input!$D$64*Input_series!AG1686+Method_input!$D$65*C1690+Method_input!$D$65*D1690+Method_input!$D$65*E1690+Method_input!$D$65*F1690","v":1.2259796000000001E-3},{"$f":"Method_input!$D$65*B1690+Method_input!$D$64*Input_series!AG1686+Method_input!$D$65*F1690","v":0}]
[1681,0,0,0,0,0,0,0,0,0,16,12,16,12,0,0,0,12,0,12,0,0,16,12,null,0,{"$f":"Method_input!$D$65*B1698+Method_input!$D$64*Input_series!AG1694+Method_input!$D$65*C1698+Method_input!$D$65*D1698+Method_input!$D$65*E1698+Method_input!$D$65*F1698","v":0},{"$f":"Method_input!$D$65*B1698+Method_input!$D$64*Input_series!AG1694+Method_input!$D$65*F1698","v":0}]
[1687,0,0,0,0,0,0,0,0,0,16,12,16,12,0,0,0,12,0,12,0,0,16,12,null,0,{"$f":"Method_input!$D$65*B1704+Method_input!$D$64*Input_series!AG1700+Method_input!$D$65*C1704+Method_input!$D$65*D1704+Method_input!$D$65*E1704+Method_input!$D$65*F1704","v":0},{"$f":"Method_input!$D$65*B1704+Method_input!$D$64*Input_series!AG1700+Method_input!$D$65*F1704","v":0}]
[1698,0,0,0,0,0,0,0,0,0,16,12,16,12,0,0,0,12,0,12,0,0,16,12,null,0,{"$f":"Method_input!$D$65*B1715+Method_input!$D$64*Input_series!AG1711+Method_input!$D$65*C1715+Method_input!$D$65*D1715+Method_input!$D$65*E1715+Method_input!$D$65*F1715","v":0},{"$f":"Method_input!$D$65*B1715+Method_input!$D$64*Input_series!AG1711+Method_input!$D$65*F1715","v":0}]
[1701,0,0,0,0,0,0,0,0,0,16,12,16,12,0,0,0,12,0,12,0,0,16,12,null,0,{"$f":"Method_input!$D$65*B1718+Method_input!$D$64*Input_series!AG1714+Method_input!$D$65*C1718+Method_input!$D$65*D1718+Method_input!$D$65*E1718+Method_input!$D$65*F1718","v":0},{"$f":"Method_input!$D$65*B1718+Method_input!$D$64*Input_series!AG1714+Method_input!$D$65*F1718","v":0}]
[1707,0,0,0,0,0,0,0,0,0,16,12,16,12,0,0,0,12,0,12,0,0,16,12,null,0,{"$f":"Method_input!$D$65*B1724+Method_input!$D$64*Input_series!AG1720+Method_input!$D$65*C1724+Method_input!$D$65*D1724+Method_input!$D$65*E1724+Method_input!$D$65*F1724","v":0},{"$f":"Method_input!$D$65*B1724+Method_input!$D$64*Input_series!AG1720+Method_input!$D$65*F1724","v":0}]
[1715,0,0,0,0,0,0,0,0,0,16,12,16,12,0,0,0,12,0,12,0,0,16,12,null,0,{"$f":"Method_input!$D$65*B1732+Method_input!$D$64*Input_series!AG1728+Method_input!$D$65*C1732+Method_input!$D$65*D1732+Method_input!$D$65*E1732+Method_input!$D$65*F1732","v":0},{"$f":"Method_input!$D$65*B1732+Method_input!$D$64*Input_series!AG1728+Method_input!$D$65*F1732","v":0}]
[1724,0,0,0,0,0,0,0,0,0,16,12,16,12,0,0,0,12,0,12,0,0,16,12,null,0,{"$f":"Method_input!$D$65*B1741+Method_input!$D$64*Input_series!AG1737+Method_input!$D$65*C1741+Method_input!$D$65*D1741+Method_input!$D$65*E1741+Method_input!$D$65*F1741","v":0},{"$f":"Method_input!$D$65*B1741+Method_input!$D$64*Input_series!AG1737+Method_input!$D$65*F1741","v":0}]
[1732,0,0,0,0,0,0,0,0,0,16,12,16,12,0,0,0,12,0,12,0,0,16,12,null,0,{"$f":"Method_input!$D$65*B1749+Method_input!$D$64*Input_series!AG1745+Method_input!$D$65*C1749+Method_input!$D$65*D1749+Method_input!$D$65*E1749+Method_input!$D$65*F1749","v":0},{"$f":"Method_input!$D$65*B1749+Method_input!$D$64*Input_series!AG1745+Method_input!$D$65*F1749","v":0}]
[1741,0,0,5.74663E-4,0,0,0,0,0,0,16,12,16,18.03448275862069,0,1.7711472309000002E-2,0.12398030616300001,12,0,12,0,0.12369240000000001,16,12.007006615931566,null,0.12369240000000001,{"$f":"Method_input!$D$65*B1758+Method_input!$D$64*Input_series!AG1754+Method_input!$D$65*C1758+Method_input!$D$65*D1758+Method_input!$D$65*E1758+Method_input!$D$65*F1758","v":5.74663E-4},{"$f":"Method_input!$D$65*B1758+Method_input!$D$64*Input_series!AG1754+Method_input!$D$65*F1758","v":0}]
[1746,0,0,5.74663E-4,0,0,0,0,0,0,16,12,16,18.03448275862069,0,1.6324723090000001E-3,1.1427306163000001E-2,12,0,12,0,1.1139400000000001E-2,16,12.076018125004364,null,1.1139400000000001E-2,{"$f":"Method_input!$D$65*B1763+Method_input!$D$64*Input_series!AG1759+Method_input!$D$65*C1763+Method_input!$D$65*D1763+Method_input!$D$65*E1763+Method_input!$D$65*F1763","v":5.74663E-4},{"$f":"Method_input!$D$65*B1763+Method_input!$D$64*Input_series!AG1759+Method_input!$D$65*F1763","v":0}]
[1758,0,0,0,0,0,0,0,0,0,16,12,16,12,0,0,0,12,0,12,0,0,16,12,null,0,{"$f":"Method_input!$D$65*B1775+Method_input!$D$64*Input_series!AG1771+Method_input!$D$65*C1775+Method_input!$D$65*D1775+Method_input!$D$65*E1775+Method_input!$D$65*F1775","v":0},{"$f":"Method_input!$D$65*B1775+Method_input!$D$64*Input_series!AG1771+Method_input!$D$65*F1775","v":0}]
[1759,0,0,0,0,0,0,0,0,0,16,12,16,12,0,0,0,12,0,12,0,0,16,12,null,0,{"$f":"Method_input!$D$65*B1776+Method_input!$D$64*Input_series!AG1772+Method_input!$D$65*C1776+Method_input!$D$65*D1776+Method_input!$D$65*E1776+Method_input!$D$65*F1776","v":0},{"$f":"Method_input!$D$65*B1776+Method_input!$D$64*Input_series!AG1772+Method_input!$D$65*F1776","v":0}]
[1769,0,0,5.74663E-4,0,0,0,0,0,0,16,12,16,18.03448275862069,0,6.7683758023285717E-2,0.47378630616299999,12,0,12,0,0.47349839999999999,16,12.001833489860433,null,0.47349839999999999,{"$f":"Method_input!$D$65*B1786+Method_input!$D$64*Input_series!AG1782+Method_input!$D$65*C1786+Method_input!$D$65*D1786+Method_input!$D$65*E1786+Method_input!$D$65*F1786","v":5.74663E-4},{"$f":"Method_input!$D$65*B1786+Method_input!$D$64*Input_series!AG1782+Method_input!$D$65*F1786","v":0}]
[1776,0,0,0,0,0,0,0,0,0,16,12,16,12,0,0,0,12,0,12,0,0,16,12,null,0,{"$f":"Method_input!$D$65*B1793+Method_input!$D$64*Input_series!AG1789+Method_input!$D$65*C1793+Method_input!$D$65*D1793+Method_input!$D$65*E1793+Method_input!$D$65*F1793","v":0},{"$f":"Method_input!$D$65*B1793+Method_input!$D$64*Input_series!AG1789+Method_input!$D$65*F1793","v":0}]
[1783,0,0,0,0,0,0,0,0,0,16,12,16,12,0,0,0,12,0,12,0,0,16,12,null,0,{"$f":"Method_input!$D$65*B1800+Method_input!$D$64*Input_series!AG1796+Method_input!$D$65*C1800+Method_input!$D$65*D1800+Method_input!$D$65*E1800+Method_input!$D$65*F1800","v":0},{"$f":"Method_input!$D$65*B1800+Method_input!$D$64*Input_series!AG1796+Method_input!$D$65*F1800","v":0}]
[1793,0,0,1.2259796000000001E-3,0,0,0,0,0,0,16,12,22.03448275862069,18.03448275862069,0.21510213647142856,0.22745055802328573,3.0978688614629997,12,0,12,1.5078209999999999,1.591866,15.995779782094115,12.000545602020633,null,{"$f":"SUM(G1810:J1810,U1810:V1810)","v":3.0996869999999999},{"$f":"Method_input!$D$65*B1810+Method_input!$D$64*Input_series!AG1806+Method_input!$D$65*C1810+Method_input!$D$65*D1810+Method_input!$D$65*E1810+Method_input!$D$65*F1810","v":1.2259796000000001E-3},{"$f":"Method_input!$D$65*B1810+Method_input!$D$64*Input_series!AG1806+Method_input!$D$65*F1810","v":0}]
[1797,0,0,0,0,0,0,0,0,0,16,12,16,12,0,0,0,12,0,12,0,0,16,12,null,0,{"$f":"Method_input!$D$65*B1814+Method_input!$D$64*Input_series!AG1810+Method_input!$D$65*C1814+Method_input!$D$65*D1814+Method_input!$D$65*E1814+Method_input!$D$65*F1814","v":0},{"$f":"Method_input!$D$65*B1814+Method_input!$D$64*Input_series!AG1810+Method_input!$D$65*F1814","v":0}]
[1810,0,0,1.2259796000000001E-3,0,0,0,0,0,0,16,12,22.03448275862069,18.03448275862069,5.2721432614285711E-2,6.4243472309000002E-2,0.81875433446299994,12,0,12,0.34820800000000002,0.44941639999999999,16.170398117851917,12.001931674605862,null,0.79762440000000001,{"$f":"Method_input!$D$65*B1827+Method_input!$D$64*Input_series!AG1823+Method_input!$D$65*C1827+Method_input!$D$65*D1827+Method_input!$D$65*E1827+Method_input!$D$65*F1827","v":1.2259796000000001E-3},{"$f":"Method_input!$D$65*B1827+Method_input!$D$64*Input_series!AG1823+Method_input!$D$65*F1827","v":0}]
[1818,4.8736462093862816,0,1.2259796000000001E-3,0,0.2436823104693141,0,0,0,0,16,12,22.03448275862069,18.03448275862069,0.3839673950428571,0.11295760088042857,3.4784749714630001,12,50,4,2.6898429999999998,0.79041530000000004,15.997674871384623,12.00109862004048,null,3.4802583,{"$f":"Method_input!$D$65*B1835+Method_input!$D$64*Input_series!AG1831+Method_input!$D$65*C1835+Method_input!$D$65*D1835+Method_input!$D$65*E1835+Method_input!$D$65*F1835","v":5.1185544994555956},{"$f":"Method_input!$D$65*B1835+Method_input!$D$64*Input_series!AG1831+Method_input!$D$65*F1835","v":5.1173285198555956}]
[1819,4.3622141997593271,0,0,0,0.21811070998796636,0,0,0,0,16,12,16,12,0,0,0,12,50,4,0,0,16,12,null,0,{"$f":"Method_input!$D$65*B1836+Method_input!$D$64*Input_series!AG1832+Method_input!$D$65*C1836+Method_input!$D$65*D1836+Method_input!$D$65*E1836+Method_input!$D$65*F1836","v":4.5803249097472936},{"$f":"Method_input!$D$65*B1836+Method_input!$D$64*Input_series!AG1832+Method_input!$D$65*F1836","v":4.5803249097472936}]
[1828,0,0,0,0,0,0,0,0,0,16,12,16,12,0,0,0,12,0,12,0,0,16,12,null,0,{"$f":"Method_input!$D$65*B1845+Method_input!$D$64*Input_series!AG1841+Method_input!$D$65*C1845+Method_input!$D$65*D1845+Method_input!$D$65*E1845+Method_input!$D$65*F1845","v":0},{"$f":"Method_input!$D$65*B1845+Method_input!$D$64*Input_series!AG1841+Method_input!$D$65*F1845","v":0}]
[1836,0,0,1.2259796000000001E-3,0,0,0,0,0,0,16,12,22.03448275862069,18.03448275862069,0.61783406318571421,0.41111327230900002,7.202631348463,12,0,12,4.3262989999999997,2.8775050000000002,15.998981035895767,12.000301857158137,null,7.2038039999999999,{"$f":"Method_input!$D$65*B1853+Method_input!$D$64*Input_series!AG1849+Method_input!$D$65*C1853+Method_input!$D$65*D1853+Method_input!$D$65*E1853+Method_input!$D$65*F1853","v":1.2259796000000001E-3},{"$f":"Method_input!$D$65*B1853+Method_input!$D$64*Input_series!AG1849+Method_input!$D$65*F1853","v":0}]
[1842,0,0,1.2259796000000001E-3,0,0,0,0,0,0,16,12,22.03448275862069,18.03448275862069,0.31109918147142857,0.11352334373757143,2.972357676463,12,0,12,2.1799040000000001,0.79437550000000001,15.99693837285662,12.001093145074536,null,2.9742795000000002,{"$f":"Method_input!$D$65*B1859+Method_input!$D$64*Input_series!AG1855+Method_input!$D$65*C1859+Method_input!$D$65*D1859+Method_input!$D$65*E1859+Method_input!$D$65*F1859","v":1.2259796000000001E-3},{"$f":"Method_input!$D$65*B1859+Method_input!$D$64*Input_series!AG1855+Method_input!$D$65*F1859","v":0}]
[1853,0,0,0,0,0,0,0,0,0,16,12,16,12,0,0,0,12,0,12,0,0,16,12,null,0,{"$f":"Method_input!$D$65*B1870+Method_input!$D$64*Input_series!AG1866+Method_input!$D$65*C1870+Method_input!$D$65*D1870+Method_input!$D$65*E1870+Method_input!$D$65*F1870","v":0},{"$f":"Method_input!$D$65*B1870+Method_input!$D$64*Input_series!AG1866+Method_input!$D$65*F1870","v":0}]
[1863,0,0,0,0,0,0,0,0,0,16,12,16,12,0,0,0,12,0,12,0,0,16,12,null,0,{"$f":"Method_input!$D$65*B1880+Method_input!$D$64*Input_series!AG1876+Method_input!$D$65*C1880+Method_input!$D$65*D1880+Method_input!$D$65*E1880+Method_input!$D$65*F1880","v":0},{"$f":"Method_input!$D$65*B1880+Method_input!$D$64*Input_series!AG1876+Method_input!$D$65*F1880","v":0}]
[1870,0,0,0,0,0,0,0,0,0,16,12,16,12,0,0,0,12,0,12,0,0,16,12,null,0,{"$f":"Method_input!$D$65*B1887+Method_input!$D$64*Input_series!AG1883+Method_input!$D$65*C1887+Method_input!$D$65*D1887+Method_input!$D$65*E1887+Method_input!$D$65*F1887","v":0},{"$f":"Method_input!$D$65*B1887+Method_input!$D$64*Input_series!AG1883+Method_input!$D$65*F1887","v":0}]
[1877,0,0,0,0,0,0,0,0,0,16,12,16,12,0,0,0,12,0,12,0,0,16,12,null,0,{"$f":"Method_input!$D$65*B1894+Method_input!$D$64*Input_series!AG1890+Method_input!$D$65*C1894+Method_input!$D$65*D1894+Method_input!$D$65*E1894+Method_input!$D$65*F1894","v":0},{"$f":"Method_input!$D$65*B1894+Method_input!$D$64*Input_series!AG1890+Method_input!$D$65*F1894","v":0}]
[1879,0,0,0,0,0,0,0,0,0,16,12,16,12,0,0,0,12,0,12,0,0,16,12,null,0,{"$f":"Method_input!$D$65*B1896+Method_input!$D$64*Input_series!AG1892+Method_input!$D$65*C1896+Method_input!$D$65*D1896+Method_input!$D$65*E1896+Method_input!$D$65*F1896","v":0},{"$f":"Method_input!$D$65*B1896+Method_input!$D$64*Input_series!AG1892+Method_input!$D$65*F1896","v":0}]
[1888,0,0,0,0,0,0,0,0,0,14.68,12,14.68,12,0,0,0,12,0,12,0,0,14.68,12,null,0,{"$f":"Method_input!$D$65*B1905+Method_input!$D$64*Input_series!AG1901+Method_input!$D$65*C1905+Method_input!$D$65*D1905+Method_input!$D$65*E1905+Method_input!$D$65*F1905","v":0},{"$f":"Method_input!$D$65*B1905+Method_input!$D$64*Input_series!AG1901+Method_input!$D$65*F1905","v":0}]
[1900,0,0,0,0,0,0,0,0,0,16,12,16,12,0,0,0,12,0,12,0,0,16,12,null,0,{"$f":"Method_input!$D$65*B1917+Method_input!$D$64*Input_series!AG1913+Method_input!$D$65*C1917+Method_input!$D$65*D1917+Method_input!$D$65*E1917+Method_input!$D$65*F1917","v":0},{"$f":"Method_input!$D$65*B1917+Method_input!$D$64*Input_series!AG1913+Method_input!$D$65*F1917","v":0}]
[1905,0,0,1.2259796000000001E-3,0,0,0,0,0,0,16,12,22.03448275862069,18.03448275862069,0.39516446947142853,0.12259838659471428,3.6243399924629998,12,0,12,2.7672140000000001,0.85790080000000002,15.998840821264592,12.001012227709504,null,3.6251148,{"$f":"Method_input!$D$65*B1922+Method_input!$D$64*Input_series!AG1918+Method_input!$D$65*C1922+Method_input!$D$65*D1922+Method_input!$D$65*E1922+Method_input!$D$65*F1922","v":1.2259796000000001E-3},{"$f":"Method_input!$D$65*B1922+Method_input!$D$64*Input_series!AG1918+Method_input!$D$65*F1922","v":0}]
[1910,6.4380264741275566,0,1.2259796000000001E-3,0,0.32190132370637786,0,0,0,0,13.48,12,19.514482758620691,18.03448275862069,0.36623080638571437,0.1100825580232857,3.3341935508630005,12,50,4,2.5635920000000003,0.77028999999999992,13.480027828573832,12.001127312866634,null,3.333882,{"$f":"Method_input!$D$65*B1927+Method_input!$D$64*Input_series!AG1923+Method_input!$D$65*C1927+Method_input!$D$65*D1927+Method_input!$D$65*E1927+Method_input!$D$65*F1927","v":6.7611537774339343},{"$f":"Method_input!$D$65*B1927+Method_input!$D$64*Input_series!AG1923+Method_input!$D$65*F1927","v":6.7599277978339343}]
[1922,0,0,0,0,0,0,0,0,0,16,12,16,12,0,0,0,12,0,12,0,0,16,12,null,0,{"$f":"Method_input!$D$65*B1939+Method_input!$D$64*Input_series!AG1935+Method_input!$D$65*C1939+Method_input!$D$65*D1939+Method_input!$D$65*E1939+Method_input!$D$65*F1939","v":0},{"$f":"Method_input!$D$65*B1939+Method_input!$D$64*Input_series!AG1935+Method_input!$D$65*F1939","v":0}]
[1931,0,0,1.2259796000000001E-3,0,0,0,0,0,0,16,12,22.03448275862069,18.03448275862069,0.23580464175714289,0.20320684373757145,3.0730803984630004,12,0,12,1.6521729999999999,1.4221600000000001,15.997184059080826,12.000610695396716,null,3.0743330000000002,{"$f":"Method_input!$D$65*B1948+Method_input!$D$64*Input_series!AG1944+Method_input!$D$65*C1948+Method_input!$D$65*D1948+Method_input!$D$65*E1948+Method_input!$D$65*F1948","v":1.2259796000000001E-3},{"$f":"Method_input!$D$65*B1948+Method_input!$D$64*Input_series!AG1944+Method_input!$D$65*F1948","v":0}]
[1939,0,0,0,0,0,0,0,0,0,16,12,16,12,0,0,0,12,0,12,0,0,16,12,null,0,{"$f":"Method_input!$D$65*B1956+Method_input!$D$64*Input_series!AG1952+Method_input!$D$65*C1956+Method_input!$D$65*D1956+Method_input!$D$65*E1956+Method_input!$D$65*F1956","v":0},{"$f":"Method_input!$D$65*B1956+Method_input!$D$64*Input_series!AG1952+Method_input!$D$65*F1956","v":0}]
[1945,0,0,0,0,0,0,0,0,0,16,12,16,12,0,0,0,12,0,12,0,0,16,12,null,0,{"$f":"Method_input!$D$65*B1962+Method_input!$D$64*Input_series!AG1958+Method_input!$D$65*C1962+Method_input!$D$65*D1962+Method_input!$D$65*E1962+Method_input!$D$65*F1962","v":0},{"$f":"Method_input!$D$65*B1962+Method_input!$D$64*Input_series!AG1958+Method_input!$D$65*F1962","v":0}]
[1948,0,0,0,0,0,0,0,0,0,16,12,16,12,0,0,0,12,0,12,0,0,16,12,null,0,{"$f":"Method_input!$D$65*B1965+Method_input!$D$64*Input_series!AG1961+Method_input!$D$65*C1965+Method_input!$D$65*D1965+Method_input!$D$65*E1965+Method_input!$D$65*F1965","v":0},{"$f":"Method_input!$D$65*B1965+Method_input!$D$64*Input_series!AG1961+Method_input!$D$65*F1965","v":0}]
[1959,0,0,0,0,0,0,0,0,0,16,12,16,12,0,0,0,12,0,12,0,0,16,12,null,0,{"$f":"Method_input!$D$65*B1976+Method_input!$D$64*Input_series!AG1972+Method_input!$D$65*C1976+Method_input!$D$65*D1976+Method_input!$D$65*E1976+Method_input!$D$65*F1976","v":0},{"$f":"Method_input!$D$65*B1976+Method_input!$D$64*Input_series!AG1972+Method_input!$D$65*F1976","v":0}]
[1965,0,0,0,0,0,0,0,0,0,16,12,16,12,0,0,0,12,0,12,0,0,16,12,null,0,{"$f":"Method_input!$D$65*B1982+Method_input!$D$64*Input_series!AG1978+Method_input!$D$65*C1982+Method_input!$D$65*D1982+Method_input!$D$65*E1982+Method_input!$D$65*F1982","v":0},{"$f":"Method_input!$D$65*B1982+Method_input!$D$64*Input_series!AG1978+Method_input!$D$65*F1982","v":0}]
[1973,0,0,0,0,0,0,0,0,0,16,12,16,12,0,0,0,12,0,12,0,0,16,12,null,0,{"$f":"Method_input!$D$65*B1990+Method_input!$D$64*Input_series!AG1986+Method_input!$D$65*C1990+Method_input!$D$65*D1990+Method_input!$D$65*E1990+Method_input!$D$65*F1990","v":0},{"$f":"Method_input!$D$65*B1990+Method_input!$D$64*Input_series!AG1986+Method_input!$D$65*F1990","v":0}]
[1982,0,0,0,0,0,0,0,0,0,16,12,16,12,0,0,0,12,0,12,0,0,16,12,null,0,{"$f":"Method_input!$D$65*B1999+Method_input!$D$64*Input_series!AG1995+Method_input!$D$65*C1999+Method_input!$D$65*D1999+Method_input!$D$65*E1999+Method_input!$D$65*F1999","v":0},{"$f":"Method_input!$D$65*B1999+Method_input!$D$64*Input_series!AG1995+Method_input!$D$65*F1999","v":0}]
[1990,0,0,0,0,0,0,0,0,0,16,12,16,12,0,0,0,12,0,12,0,0,16,12,null,0,{"$f":"Method_input!$D$65*B2007+Method_input!$D$64*Input_series!AG2003+Method_input!$D$65*C2007+Method_input!$D$65*D2007+Method_input!$D$65*E2007+Method_input!$D$65*F2007","v":0},{"$f":"Method_input!$D$65*B2007+Method_input!$D$64*Input_series!AG2003+Method_input!$D$65*F2007","v":0}]
[1999,0,0,0,0,0,0,0,0,0,16,12,16,12,0,0,0,12,0,12,0,0,16,12,null,0,{"$f":"Method_input!$D$65*B2016+Method_input!$D$64*Input_series!AG2012+Method_input!$D$65*C2016+Method_input!$D$65*D2016+Method_input!$D$65*E2016+Method_input!$D$65*F2016","v":0},{"$f":"Method_input!$D$65*B2016+Method_input!$D$64*Input_series!AG2012+Method_input!$D$65*F2016","v":0}]
[2004,0,0,0,0,0,0,0,0,0,16,12,16,12,0,0,0,12,0,12,0,0,16,12,null,0,{"$f":"Method_input!$D$65*B2021+Method_input!$D$64*Input_series!AG2017+Method_input!$D$65*C2021+Method_input!$D$65*D2021+Method_input!$D$65*E2021+Method_input!$D$65*F2021","v":0},{"$f":"Method_input!$D$65*B2021+Method_input!$D$64*Input_series!AG2017+Method_input!$D$65*F2021","v":0}]
[2008,0,0,0,0,0,0,0,0,0,16,12,16,12,0,0,0,12,0,12,0,0,16,12,null,0,{"$f":"Method_input!$D$65*B2025+Method_input!$D$64*Input_series!AG2021+Method_input!$D$65*C2025+Method_input!$D$65*D2025+Method_input!$D$65*E2025+Method_input!$D$65*F2025","v":0},{"$f":"Method_input!$D$65*B2025+Method_input!$D$64*Input_series!AG2021+Method_input!$D$65*F2025","v":0}]
[2017,0,0,0,0,0,0,0,0,0,16,12,16,12,0,0,0,12,0,12,0,0,16,12,null,0,{"$f":"Method_input!$D$65*B2034+Method_input!$D$64*Input_series!AG2030+Method_input!$D$65*C2034+Method_input!$D$65*D2034+Method_input!$D$65*E2034+Method_input!$D$65*F2034","v":0},{"$f":"Method_input!$D$65*B2034+Method_input!$D$64*Input_series!AG2030+Method_input!$D$65*F2034","v":0}]
[2027,0,0,0,0,0,0,0,0,0,16,12,16,12,0,0,0,12,0,12,0,0,16,12,null,0,{"$f":"Method_input!$D$65*B2044+Method_input!$D$64*Input_series!AG2040+Method_input!$D$65*C2044+Method_input!$D$65*D2044+Method_input!$D$65*E2044+Method_input!$D$65*F2044","v":0},{"$f":"Method_input!$D$65*B2044+Method_input!$D$64*Input_series!AG2040+Method_input!$D$65*F2044","v":0}]
[2034,0,0,0,0,0,0,0,0,0,16,12,16,12,0,0,0,12,0,12,0,0,16,12,null,0,{"$f":"Method_input!$D$65*B2051+Method_input!$D$64*Input_series!AG2047+Method_input!$D$65*C2051+Method_input!$D$65*D2051+Method_input!$D$65*E2051+Method_input!$D$65*F2051","v":0},{"$f":"Method_input!$D$65*B2051+Method_input!$D$64*Input_series!AG2047+Method_input!$D$65*F2051","v":0}]
[2041,0,0,0,0,0,0,0,0,0,16,12,16,12,0,0,0,12,0,12,0,0,16,12,null,0,{"$f":"Method_input!$D$65*B2058+Method_input!$D$64*Input_series!AG2054+Method_input!$D$65*C2058+Method_input!$D$65*D2058+Method_input!$D$65*E2058+Method_input!$D$65*F2058","v":0},{"$f":"Method_input!$D$65*B2058+Method_input!$D$64*Input_series!AG2054+Method_input!$D$65*F2058","v":0}]
[2051,0,0,0,0,0,0,0,0,0,16,12,16,12,0,0,0,12,0,12,0,0,16,12,null,0,{"$f":"Method_input!$D$65*B2068+Method_input!$D$64*Input_series!AG2064+Method_input!$D$65*C2068+Method_input!$D$65*D2068+Method_input!$D$65*E2068+Method_input!$D$65*F2068","v":0},{"$f":"Method_input!$D$65*B2068+Method_input!$D$64*Input_series!AG2064+Method_input!$D$65*F2068","v":0}]
[2055,0,0,0,0,0,0,0,0,0,16,12,16,12,0,0,0,12,0,12,0,0,16,12,null,0,{"$f":"Method_input!$D$65*B2072+Method_input!$D$64*Input_series!AG2068+Method_input!$D$65*C2072+Method_input!$D$65*D2072+Method_input!$D$65*E2072+Method_input!$D$65*F2072","v":0},{"$f":"Method_input!$D$65*B2072+Method_input!$D$64*Input_series!AG2068+Method_input!$D$65*F2072","v":0}]
[2060,0,0,0,0,0,0,0,0,0,16,12,16,12,0,0,0,12,0,12,0,0,16,12,null,0,{"$f":"Method_input!$D$65*B2077+Method_input!$D$64*Input_series!AG2073+Method_input!$D$65*C2077+Method_input!$D$65*D2077+Method_input!$D$65*E2077+Method_input!$D$65*F2077","v":0},{"$f":"Method_input!$D$65*B2077+Method_input!$D$64*Input_series!AG2073+Method_input!$D$65*F2077","v":0}]
[2069,0,0,0,0,0,0,0,0,0,16,12,16,12,0,0,0,12,0,12,0,0,16,12,null,0,{"$f":"Method_input!$D$65*B2086+Method_input!$D$64*Input_series!AG2082+Method_input!$D$65*C2086+Method_input!$D$65*D2086+Method_input!$D$65*E2086+Method_input!$D$65*F2086","v":0},{"$f":"Method_input!$D$65*B2086+Method_input!$D$64*Input_series!AG2082+Method_input!$D$65*F2086","v":0}]
[2077,0,0,0,0,0,0,0,0,0,16,12,16,12,0,0,0,12,0,12,0,0,16,12,null,0,{"$f":"Method_input!$D$65*B2094+Method_input!$D$64*Input_series!AG2090+Method_input!$D$65*C2094+Method_input!$D$65*D2094+Method_input!$D$65*E2094+Method_input!$D$65*F2094","v":0},{"$f":"Method_input!$D$65*B2094+Method_input!$D$64*Input_series!AG2090+Method_input!$D$65*F2094","v":0}]
[2086,0,0,0,0,0,0,0,0,0,16,12,16,12,0,0,0,12,0,12,0,0,16,12,null,0,{"$f":"Method_input!$D$65*B2103+Method_input!$D$64*Input_series!AG2099+Method_input!$D$65*C2103+Method_input!$D$65*D2103+Method_input!$D$65*E2103+Method_input!$D$65*F2103","v":0},{"$f":"Method_input!$D$65*B2103+Method_input!$D$64*Input_series!AG2099+Method_input!$D$65*F2103","v":0}]
[2094,0,0,0,0,0,0,0,0,0,16,12,16,12,0,0,0,12,0,12,0,0,16,12,null,0,{"$f":"Method_input!$D$65*B2111+Method_input!$D$64*Input_series!AG2107+Method_input!$D$65*C2111+Method_input!$D$65*D2111+Method_input!$D$65*E2111+Method_input!$D$65*F2111","v":0},{"$f":"Method_input!$D$65*B2111+Method_input!$D$64*Input_series!AG2107+Method_input!$D$65*F2111","v":0}]
[2100,0,0,1.2259796000000001E-3,0,0,0,0,0,0,16,12,22.03448275862069,18.03448275862069,2.9704579757142857E-2,8.1874043737571442E-2,0.78105036446300002,12,0,12,0.18688640000000001,0.57283040000000007,16.305387402004023,12.001515712164522,null,0.75971680000000008,{"$f":"Method_input!$D$65*B2117+Method_input!$D$64*Input_series!AG2113+Method_input!$D$65*C2117+Method_input!$D$65*D2117+Method_input!$D$65*E2117+Method_input!$D$65*F2117","v":1.2259796000000001E-3},{"$f":"Method_input!$D$65*B2117+Method_input!$D$64*Input_series!AG2113+Method_input!$D$65*F2117","v":0}]
[2111,0,0,0,0,0,0,0,0,0,16,12,16,12,0,0,0,12,0,12,0,0,16,12,null,0,{"$f":"Method_input!$D$65*B2128+Method_input!$D$64*Input_series!AG2124+Method_input!$D$65*C2128+Method_input!$D$65*D2128+Method_input!$D$65*E2128+Method_input!$D$65*F2128","v":0},{"$f":"Method_input!$D$65*B2128+Method_input!$D$64*Input_series!AG2124+Method_input!$D$65*F2128","v":0}]
[2114,0,0,0,0,0,0,0,0,0,16,12,16,12,0,0,0,12,0,12,0,0,16,12,null,0,{"$f":"Method_input!$D$65*B2131+Method_input!$D$64*Input_series!AG2127+Method_input!$D$65*C2131+Method_input!$D$65*D2131+Method_input!$D$65*E2131+Method_input!$D$65*F2131","v":0},{"$f":"Method_input!$D$65*B2131+Method_input!$D$64*Input_series!AG2127+Method_input!$D$65*F2131","v":0}]
[2120,0,0,0,0,0,0,0,0,0,16,12,16,12,0,0,0,12,0,12,0,0,16,12,null,0,{"$f":"Method_input!$D$65*B2137+Method_input!$D$64*Input_series!AG2133+Method_input!$D$65*C2137+Method_input!$D$65*D2137+Method_input!$D$65*E2137+Method_input!$D$65*F2137","v":0},{"$f":"Method_input!$D$65*B2137+Method_input!$D$64*Input_series!AG2133+Method_input!$D$65*F2137","v":0}]
[2128,0,0,0,0,0,0,0,0,0,16,12,16,12,0,0,0,12,0,12,0,0,16,12,null,0,{"$f":"Method_input!$D$65*B2145+Method_input!$D$64*Input_series!AG2141+Method_input!$D$65*C2145+Method_input!$D$65*D2145+Method_input!$D$65*E2145+Method_input!$D$65*F2145","v":0},{"$f":"Method_input!$D$65*B2145+Method_input!$D$64*Input_series!AG2141+Method_input!$D$65*F2145","v":0}]
[2137,0,0,0,0,0,0,0,0,0,16,12,16,12,0,0,0,12,0,12,0,0,16,12,null,0,{"$f":"Method_input!$D$65*B2154+Method_input!$D$64*Input_series!AG2150+Method_input!$D$65*C2154+Method_input!$D$65*D2154+Method_input!$D$65*E2154+Method_input!$D$65*F2154","v":0},{"$f":"Method_input!$D$65*B2154+Method_input!$D$64*Input_series!AG2150+Method_input!$D$65*F2154","v":0}]
[2145,0,0,0,0,0,0,0,0,0,16,12,16,12,0,0,0,12,0,12,0,0,16,12,null,0,{"$f":"Method_input!$D$65*B2162+Method_input!$D$64*Input_series!AG2158+Method_input!$D$65*C2162+Method_input!$D$65*D2162+Method_input!$D$65*E2162+Method_input!$D$65*F2162","v":0},{"$f":"Method_input!$D$65*B2162+Method_input!$D$64*Input_series!AG2158+Method_input!$D$65*F2162","v":0}]
[2154,1.4754165560214367,0,1.2259796000000001E-3,0,7.3770827801071845E-2,0,0,0,0,16,12,22.03448275862069,18.03448275862069,7.4081957471428567E-2,5.9445100880428571E-2,0.93468940846299997,12,17.147848364389006,4,0.52080930000000003,0.41582780000000003,15.986992518405748,12.002087598174008,null,0.9366371,{"$f":"Method_input!$D$65*B2171+Method_input!$D$64*Input_series!AG2167+Method_input!$D$65*C2171+Method_input!$D$65*D2171+Method_input!$D$65*E2171+Method_input!$D$65*F2171","v":1.5504133634225086},{"$f":"Method_input!$D$65*B2171+Method_input!$D$64*Input_series!AG2167+Method_input!$D$65*F2171","v":1.5491873838225085}]
[2163,0,0,0,0,0,0,0,0,0,16,12,16,12,0,0,0,12,0,12,0,0,16,12,null,0,{"$f":"Method_input!$D$65*B2180+Method_input!$D$64*Input_series!AG2176+Method_input!$D$65*C2180+Method_input!$D$65*D2180+Method_input!$D$65*E2180+Method_input!$D$65*F2180","v":0},{"$f":"Method_input!$D$65*B2180+Method_input!$D$64*Input_series!AG2176+Method_input!$D$65*F2180","v":0}]
[2168,0,0,0,0,0,0,0,0,0,16,12,16,12,0,0,0,12,0,12,0,0,16,12,null,0,{"$f":"Method_input!$D$65*B2185+Method_input!$D$64*Input_series!AG2181+Method_input!$D$65*C2185+Method_input!$D$65*D2185+Method_input!$D$65*E2185+Method_input!$D$65*F2185","v":0},{"$f":"Method_input!$D$65*B2185+Method_input!$D$64*Input_series!AG2181+Method_input!$D$65*F2185","v":0}]
[2180,0,0,0,0,0,0,0,0,0,16,12,16,12,0,0,0,12,0,12,0,0,16,12,null,0,{"$f":"Method_input!$D$65*B2197+Method_input!$D$64*Input_series!AG2193+Method_input!$D$65*C2197+Method_input!$D$65*D2197+Method_input!$D$65*E2197+Method_input!$D$65*F2197","v":0},{"$f":"Method_input!$D$65*B2197+Method_input!$D$64*Input_series!AG2193+Method_input!$D$65*F2197","v":0}]
[2182,0,0,0,0,0,0,0,0,0,16,12,16,12,0,0,0,12,0,12,0,0,16,12,null,0,{"$f":"Method_input!$D$65*B2199+Method_input!$D$64*Input_series!AG2195+Method_input!$D$65*C2199+Method_input!$D$65*D2199+Method_input!$D$65*E2199+Method_input!$D$65*F2199","v":0},{"$f":"Method_input!$D$65*B2199+Method_input!$D$64*Input_series!AG2195+Method_input!$D$65*F2199","v":0}]
[2189,0,0,0,0,0,0,0,0,0,16,12,16,12,0,0,0,12,0,12,0,0,16,12,null,0,{"$f":"Method_input!$D$65*B2206+Method_input!$D$64*Input_series!AG2202+Method_input!$D$65*C2206+Method_input!$D$65*D2206+Method_input!$D$65*E2206+Method_input!$D$65*F2206","v":0},{"$f":"Method_input!$D$65*B2206+Method_input!$D$64*Input_series!AG2202+Method_input!$D$65*F2206","v":0}]
[2196,0,0,0,0,0,0,0,0,0,15.48,12,15.48,12,0,0,0,12,0,12,0,0,15.48,12,null,0,{"$f":"Method_input!$D$65*B2213+Method_input!$D$64*Input_series!AG2209+Method_input!$D$65*C2213+Method_input!$D$65*D2213+Method_input!$D$65*E2213+Method_input!$D$65*F2213","v":0},{"$f":"Method_input!$D$65*B2213+Method_input!$D$64*Input_series!AG2209+Method_input!$D$65*F2213","v":0}]
[2206,0,0,0,0,0,0,0,0,0,16,12,16,12,0,0,0,12,0,12,0,0,16,12,null,0,{"$f":"Method_input!$D$65*B2223+Method_input!$D$64*Input_series!AG2219+Method_input!$D$65*C2223+Method_input!$D$65*D2223+Method_input!$D$65*E2223+Method_input!$D$65*F2223","v":0},{"$f":"Method_input!$D$65*B2223+Method_input!$D$64*Input_series!AG2219+Method_input!$D$65*F2223","v":0}]
[2217,0,0,0,0,0,0,0,0,0,16,12,16,12,0,0,0,12,0,12,0,0,16,12,null,0,{"$f":"Method_input!$D$65*B2234+Method_input!$D$64*Input_series!AG2230+Method_input!$D$65*C2234+Method_input!$D$65*D2234+Method_input!$D$65*E2234+Method_input!$D$65*F2234","v":0},{"$f":"Method_input!$D$65*B2234+Method_input!$D$64*Input_series!AG2230+Method_input!$D$65*F2234","v":0}]
[2223,0,0,0,0,0,0,0,0,0,14.36,12,14.36,12,0,0,0,12,0,12,0,0,14.36,12,null,0,{"$f":"Method_input!$D$65*B2240+Method_input!$D$64*Input_series!AG2236+Method_input!$D$65*C2240+Method_input!$D$65*D2240+Method_input!$D$65*E2240+Method_input!$D$65*F2240","v":0},{"$f":"Method_input!$D$65*B2240+Method_input!$D$64*Input_series!AG2236+Method_input!$D$65*F2240","v":0}]
[2231,0,0,0,0,0,0,0,0,0,16,12,16,12,0,0,0,12,0,12,0,0,16,12,null,0,{"$f":"Method_input!$D$65*B2248+Method_input!$D$64*Input_series!AG2244+Method_input!$D$65*C2248+Method_input!$D$65*D2248+Method_input!$D$65*E2248+Method_input!$D$65*F2248","v":0},{"$f":"Method_input!$D$65*B2248+Method_input!$D$64*Input_series!AG2244+Method_input!$D$65*F2248","v":0}]
[2240,0,0,0,0,0,0,0,0,0,16,12,16,12,0,0,0,12,0,12,0,0,16,12,null,0,{"$f":"Method_input!$D$65*B2257+Method_input!$D$64*Input_series!AG2253+Method_input!$D$65*C2257+Method_input!$D$65*D2257+Method_input!$D$65*E2257+Method_input!$D$65*F2257","v":0},{"$f":"Method_input!$D$65*B2257+Method_input!$D$64*Input_series!AG2253+Method_input!$D$65*F2257","v":0}]
[2241,0,0,1.2259796000000001E-3,0,0,0,0,0,0,16,12,22.03448275862069,18.03448275862069,2.6415685471428568E-2,3.0179472308999998E-2,0.39616610446299994,12,0,12,0.16383019999999998,0.2109684,16.343963580268532,12.00411198323089,null,{"$f":"SUM(G2258:J2258,U2258:V2258)","v":0.37479859999999998},{"$f":"Method_input!$D$65*B2258+Method_input!$D$64*Input_series!AG2254+Method_input!$D$65*C2258+Method_input!$D$65*D2258+Method_input!$D$65*E2258+Method_input!$D$65*F2258","v":1.2259796000000001E-3},{"$f":"Method_input!$D$65*B2258+Method_input!$D$64*Input_series!AG2254+Method_input!$D$65*F2258","v":0}]
[2249,4.3886075630474837,0,1.2259796000000001E-3,0,0.21943037815237421,0,0,0,0,12.919999999999998,12,18.954482758620689,18.03448275862069,0.58426404718571434,0.29016470088042856,6.121001236463,12,33.003917510338994,4,4.090795,2.0308649999999999,12.91930160466582,12.00042767946506,null,6.1216600000000003,{"$f":"Method_input!$D$65*B2266+Method_input!$D$64*Input_series!AG2262+Method_input!$D$65*C2266+Method_input!$D$65*D2266+Method_input!$D$65*E2266+Method_input!$D$65*F2266","v":4.609263920799858},{"$f":"Method_input!$D$65*B2266+Method_input!$D$64*Input_series!AG2262+Method_input!$D$65*F2266","v":4.608037941199858}]
[2262,0,0,0,0,0,0,0,0,0,16,12,16,12,0,0,0,12,0,12,0,0,16,12,null,0,{"$f":"Method_input!$D$65*B2279+Method_input!$D$64*Input_series!AG2275+Method_input!$D$65*C2279+Method_input!$D$65*D2279+Method_input!$D$65*E2279+Method_input!$D$65*F2279","v":0},{"$f":"Method_input!$D$65*B2279+Method_input!$D$64*Input_series!AG2275+Method_input!$D$65*F2279","v":0}]
[2266,0,0,1.2259796000000001E-3,0,0,0,0,0,0,16,12,22.03448275862069,18.03448275862069,0.3782654744714285,0.31444898659471432,4.8490012274629999,12,0,12,2.6486579999999997,2.2008550000000002,15.999088764060984,12.000394650608976,null,4.849513,{"$f":"Method_input!$D$65*B2283+Method_input!$D$64*Input_series!AG2279+Method_input!$D$65*C2283+Method_input!$D$65*D2283+Method_input!$D$65*E2283+Method_input!$D$65*F2283","v":1.2259796000000001E-3},{"$f":"Method_input!$D$65*B2283+Method_input!$D$64*Input_series!AG2279+Method_input!$D$65*F2283","v":0}]
[2276,0,0,0,0,0,0,0,0,0,16,12,16,12,0,0,0,12,0,12,0,0,16,12,null,0,{"$f":"Method_input!$D$65*B2293+Method_input!$D$64*Input_series!AG2289+Method_input!$D$65*C2293+Method_input!$D$65*D2293+Method_input!$D$65*E2293+Method_input!$D$65*F2293","v":0},{"$f":"Method_input!$D$65*B2293+Method_input!$D$64*Input_series!AG2289+Method_input!$D$65*F2293","v":0}]
[2283,0,0,0,0,0,0,0,0,0,16,12,16,12,0,0,0,12,0,12,0,0,16,12,null,0,{"$f":"Method_input!$D$65*B2300+Method_input!$D$64*Input_series!AG2296+Method_input!$D$65*C2300+Method_input!$D$65*D2300+Method_input!$D$65*E2300+Method_input!$D$65*F2300","v":0},{"$f":"Method_input!$D$65*B2300+Method_input!$D$64*Input_series!AG2296+Method_input!$D$65*F2300","v":0}]
[2292,0,0,1.2259796000000001E-3,0,0,0,0,0,0,16,12,22.03448275862069,18.03448275862069,0.10086269261428571,0.10725114373757143,1.4567968544630001,12,0,12,0.70801250000000004,0.75047010000000003,15.991565643176825,12.001157073759096,null,1.4584826,{"$f":"Method_input!$D$65*B2309+Method_input!$D$64*Input_series!AG2305+Method_input!$D$65*C2309+Method_input!$D$65*D2309+Method_input!$D$65*E2309+Method_input!$D$65*F2309","v":1.2259796000000001E-3},{"$f":"Method_input!$D$65*B2309+Method_input!$D$64*Input_series!AG2305+Method_input!$D$65*F2309","v":0}]
[2299,0,0,0,0,0,0,0,0,0,16,12,16,12,0,0,0,12,0,12,0,0,16,12,null,0,{"$f":"Method_input!$D$65*B2316+Method_input!$D$64*Input_series!AG2312+Method_input!$D$65*C2316+Method_input!$D$65*D2316+Method_input!$D$65*E2316+Method_input!$D$65*F2316","v":0},{"$f":"Method_input!$D$65*B2316+Method_input!$D$64*Input_series!AG2312+Method_input!$D$65*F2316","v":0}]
[2301,0,0,0,0,0,0,0,0,0,16,12,16,12,0,0,0,12,0,12,0,0,16,12,null,0,{"$f":"Method_input!$D$65*B2318+Method_input!$D$64*Input_series!AG2314+Method_input!$D$65*C2318+Method_input!$D$65*D2318+Method_input!$D$65*E2318+Method_input!$D$65*F2318","v":0},{"$f":"Method_input!$D$65*B2318+Method_input!$D$64*Input_series!AG2314+Method_input!$D$65*F2318","v":0}]
[2313,0,0,0,0,0,0,0,0,0,16,12,16,12,0,0,0,12,0,12,0,0,16,12,null,0,{"$f":"Method_input!$D$65*B2330+Method_input!$D$64*Input_series!AG2326+Method_input!$D$65*C2330+Method_input!$D$65*D2330+Method_input!$D$65*E2330+Method_input!$D$65*F2330","v":0},{"$f":"Method_input!$D$65*B2330+Method_input!$D$64*Input_series!AG2326+Method_input!$D$65*F2330","v":0}]
[2318,0,0,1.2259796000000001E-3,0,0,0,0,0,0,16,12,22.03448275862069,18.03448275862069,0.49186471875714294,0.16756655802328574,4.6160189374630001,12,0,12,3.4442060000000003,1.1726780000000001,15.998989622047914,12.000740586221474,null,4.6168840000000007,{"$f":"Method_input!$D$65*B2335+Method_input!$D$64*Input_series!AG2331+Method_input!$D$65*C2335+Method_input!$D$65*D2335+Method_input!$D$65*E2335+Method_input!$D$65*F2335","v":1.2259796000000001E-3},{"$f":"Method_input!$D$65*B2335+Method_input!$D$64*Input_series!AG2331+Method_input!$D$65*F2335","v":0}]
[2330,0,0,0,0,0,0,0,0,0,16,12,16,12,0,0,0,12,0,12,0,0,16,12,null,0,{"$f":"Method_input!$D$65*B2347+Method_input!$D$64*Input_series!AG2343+Method_input!$D$65*C2347+Method_input!$D$65*D2347+Method_input!$D$65*E2347+Method_input!$D$65*F2347","v":0},{"$f":"Method_input!$D$65*B2347+Method_input!$D$64*Input_series!AG2343+Method_input!$D$65*F2347","v":0}]
[2335,0,0,0,0,0,0,0,0,0,16,12,16,12,0,0,0,12,0,12,0,0,16,12,null,0,{"$f":"Method_input!$D$65*B2352+Method_input!$D$64*Input_series!AG2348+Method_input!$D$65*C2352+Method_input!$D$65*D2352+Method_input!$D$65*E2352+Method_input!$D$65*F2352","v":0},{"$f":"Method_input!$D$65*B2352+Method_input!$D$64*Input_series!AG2348+Method_input!$D$65*F2352","v":0}]
[2344,0,0,0,0,0,0,0,0,0,16,12,16,12,0,0,0,12,0,12,0,0,16,12,null,0,{"$f":"Method_input!$D$65*B2361+Method_input!$D$64*Input_series!AG2357+Method_input!$D$65*C2361+Method_input!$D$65*D2361+Method_input!$D$65*E2361+Method_input!$D$65*F2361","v":0},{"$f":"Method_input!$D$65*B2361+Method_input!$D$64*Input_series!AG2357+Method_input!$D$65*F2361","v":0}]
[2352,0,0,0,0,0,0,0,0,0,16,12,16,12,0,0,0,12,0,12,0,0,16,12,null,0,{"$f":"Method_input!$D$65*B2369+Method_input!$D$64*Input_series!AG2365+Method_input!$D$65*C2369+Method_input!$D$65*D2369+Method_input!$D$65*E2369+Method_input!$D$65*F2369","v":0},{"$f":"Method_input!$D$65*B2369+Method_input!$D$64*Input_series!AG2365+Method_input!$D$65*F2369","v":0}]
[2358,0,0,0,0,0,0,0,0,0,16,12,16,12,0,0,0,12,0,12,0,0,16,12,null,0,{"$f":"Method_input!$D$65*B2375+Method_input!$D$64*Input_series!AG2371+Method_input!$D$65*C2375+Method_input!$D$65*D2375+Method_input!$D$65*E2375+Method_input!$D$65*F2375","v":0},{"$f":"Method_input!$D$65*B2375+Method_input!$D$64*Input_series!AG2371+Method_input!$D$65*F2375","v":0}]
[2361,0,0,0,0,0,0,0,0,0,16,12,16,12,0,0,0,12,0,12,0,0,16,12,null,0,{"$f":"Method_input!$D$65*B2378+Method_input!$D$64*Input_series!AG2374+Method_input!$D$65*C2378+Method_input!$D$65*D2378+Method_input!$D$65*E2378+Method_input!$D$65*F2378","v":0},{"$f":"Method_input!$D$65*B2378+Method_input!$D$64*Input_series!AG2374+Method_input!$D$65*F2378","v":0}]
[2372,0,0,0,0,0,0,0,0,0,16,12,16,12,0,0,0,12,0,12,0,0,16,12,null,0,{"$f":"Method_input!$D$65*B2389+Method_input!$D$64*Input_series!AG2385+Method_input!$D$65*C2389+Method_input!$D$65*D2389+Method_input!$D$65*E2389+Method_input!$D$65*F2389","v":0},{"$f":"Method_input!$D$65*B2389+Method_input!$D$64*Input_series!AG2385+Method_input!$D$65*F2389","v":0}]
[2378,0,0,0,0,0,0,0,0,0,16,12,16,12,0,0,0,12,0,12,0,0,16,12,null,0,{"$f":"Method_input!$D$65*B2395+Method_input!$D$64*Input_series!AG2391+Method_input!$D$65*C2395+Method_input!$D$65*D2395+Method_input!$D$65*E2395+Method_input!$D$65*F2395","v":0},{"$f":"Method_input!$D$65*B2395+Method_input!$D$64*Input_series!AG2391+Method_input!$D$65*F2395","v":0}]
[2386,0,0,0,0,0,0,0,0,0,16,12,16,12,0,0,0,12,0,12,0,0,16,12,null,0,{"$f":"Method_input!$D$65*B2403+Method_input!$D$64*Input_series!AG2399+Method_input!$D$65*C2403+Method_input!$D$65*D2403+Method_input!$D$65*E2403+Method_input!$D$65*F2403","v":0},{"$f":"Method_input!$D$65*B2403+Method_input!$D$64*Input_series!AG2399+Method_input!$D$65*F2403","v":0}]
[2395,0,0,0,0,0,0,0,0,0,16,12,16,12,0,0,0,12,0,12,0,0,16,12,null,0,{"$f":"Method_input!$D$65*B2412+Method_input!$D$64*Input_series!AG2408+Method_input!$D$65*C2412+Method_input!$D$65*D2412+Method_input!$D$65*E2412+Method_input!$D$65*F2412","v":0},{"$f":"Method_input!$D$65*B2412+Method_input!$D$64*Input_series!AG2408+Method_input!$D$65*F2412","v":0}]
[2403,0,0,0,0,0,0,0,0,0,16,12,16,12,0,0,0,12,0,12,0,0,16,12,null,0,{"$f":"Method_input!$D$65*B2420+Method_input!$D$64*Input_series!AG2416+Method_input!$D$65*C2420+Method_input!$D$65*D2420+Method_input!$D$65*E2420+Method_input!$D$65*F2420","v":0},{"$f":"Method_input!$D$65*B2420+Method_input!$D$64*Input_series!AG2416+Method_input!$D$65*F2420","v":0}]
[2412,0,0,5.74663E-4,0,0,0,0,0,0,16,12,16,18.03448275862069,0,6.691257230900001E-2,0.46838800616300003,12,0,12,0,0.46810010000000002,16,12.001854621333024,null,0.46810010000000002,{"$f":"Method_input!$D$65*B2429+Method_input!$D$64*Input_series!AG2425+Method_input!$D$65*C2429+Method_input!$D$65*D2429+Method_input!$D$65*E2429+Method_input!$D$65*F2429","v":5.74663E-4},{"$f":"Method_input!$D$65*B2429+Method_input!$D$64*Input_series!AG2425+Method_input!$D$65*F2429","v":0}]
[2421,0,0,0,0,0,0,0,0,0,16,12,16,12,0,0,0,12,0,12,0,0,16,12,null,0,{"$f":"Method_input!$D$65*B2438+Method_input!$D$64*Input_series!AG2434+Method_input!$D$65*C2438+Method_input!$D$65*D2438+Method_input!$D$65*E2438+Method_input!$D$65*F2438","v":0},{"$f":"Method_input!$D$65*B2438+Method_input!$D$64*Input_series!AG2434+Method_input!$D$65*F2438","v":0}]
[2426,0,0,0,0,0,0,0,0,0,16,12,16,12,0,0,0,12,0,12,0,0,16,12,null,0,{"$f":"Method_input!$D$65*B2443+Method_input!$D$64*Input_series!AG2439+Method_input!$D$65*C2443+Method_input!$D$65*D2443+Method_input!$D$65*E2443+Method_input!$D$65*F2443","v":0},{"$f":"Method_input!$D$65*B2443+Method_input!$D$64*Input_series!AG2439+Method_input!$D$65*F2443","v":0}]
[2430,0,0,0,0,0,0,0,0,0,16,12,16,12,0,0,0,12,0,12,0,0,16,12,null,0,{"$f":"Method_input!$D$65*B2447+Method_input!$D$64*Input_series!AG2443+Method_input!$D$65*C2447+Method_input!$D$65*D2447+Method_input!$D$65*E2447+Method_input!$D$65*F2447","v":0},{"$f":"Method_input!$D$65*B2447+Method_input!$D$64*Input_series!AG2443+Method_input!$D$65*F2447","v":0}]
[2440,0,0,0,0,0,0,0,0,0,16,12,16,12,0,0,0,12,0,12,0,0,16,12,null,0,{"$f":"Method_input!$D$65*B2457+Method_input!$D$64*Input_series!AG2453+Method_input!$D$65*C2457+Method_input!$D$65*D2457+Method_input!$D$65*E2457+Method_input!$D$65*F2457","v":0},{"$f":"Method_input!$D$65*B2457+Method_input!$D$64*Input_series!AG2453+Method_input!$D$65*F2457","v":0}]
[2447,0,0,0,0,0,0,0,0,0,16,12,16,12,0,0,0,12,0,12,0,0,16,12,null,0,{"$f":"Method_input!$D$65*B2464+Method_input!$D$64*Input_series!AG2460+Method_input!$D$65*C2464+Method_input!$D$65*D2464+Method_input!$D$65*E2464+Method_input!$D$65*F2464","v":0},{"$f":"Method_input!$D$65*B2464+Method_input!$D$64*Input_series!AG2460+Method_input!$D$65*F2464","v":0}]
[2454,0,0,0,0,0,0,0,0,0,16,12,16,12,0,0,0,12,0,12,0,0,16,12,null,0,{"$f":"Method_input!$D$65*B2471+Method_input!$D$64*Input_series!AG2467+Method_input!$D$65*C2471+Method_input!$D$65*D2471+Method_input!$D$65*E2471+Method_input!$D$65*F2471","v":0},{"$f":"Method_input!$D$65*B2471+Method_input!$D$64*Input_series!AG2467+Method_input!$D$65*F2471","v":0}]
[2464,0,0,0,0,0,0,0,0,0,16,12,16,12,0,0,0,12,0,12,0,0,16,12,null,0,{"$f":"Method_input!$D$65*B2481+Method_input!$D$64*Input_series!AG2477+Method_input!$D$65*C2481+Method_input!$D$65*D2481+Method_input!$D$65*E2481+Method_input!$D$65*F2481","v":0},{"$f":"Method_input!$D$65*B2481+Method_input!$D$64*Input_series!AG2477+Method_input!$D$65*F2481","v":0}]
[2468,0,0,0,0,0,0,0,0,0,16,12,16,12,0,0,0,12,0,12,0,0,16,12,null,0,{"$f":"Method_input!$D$65*B2485+Method_input!$D$64*Input_series!AG2481+Method_input!$D$65*C2485+Method_input!$D$65*D2485+Method_input!$D$65*E2485+Method_input!$D$65*F2485","v":0},{"$f":"Method_input!$D$65*B2485+Method_input!$D$64*Input_series!AG2481+Method_input!$D$65*F2485","v":0}]
[2481,0,0,0,0,0,0,0,0,0,16,12,16,12,0,0,0,12,0,12,0,0,16,12,null,0,{"$f":"Method_input!$D$65*B2498+Method_input!$D$64*Input_series!AG2494+Method_input!$D$65*C2498+Method_input!$D$65*D2498+Method_input!$D$65*E2498+Method_input!$D$65*F2498","v":0},{"$f":"Method_input!$D$65*B2498+Method_input!$D$64*Input_series!AG2494+Method_input!$D$65*F2498","v":0}]
[2482,0,0,0,0,0,0,0,0,0,16,12,16,12,0,0,0,12,0,12,0,0,16,12,null,0,{"$f":"Method_input!$D$65*B2499+Method_input!$D$64*Input_series!AG2495+Method_input!$D$65*C2499+Method_input!$D$65*D2499+Method_input!$D$65*E2499+Method_input!$D$65*F2499","v":0},{"$f":"Method_input!$D$65*B2499+Method_input!$D$64*Input_series!AG2495+Method_input!$D$65*F2499","v":0}]
[2490,0,0,0,0,0,0,0,0,0,16,12,16,12,0,0,0,12,0,12,0,0,16,12,null,0,{"$f":"Method_input!$D$65*B2507+Method_input!$D$64*Input_series!AG2503+Method_input!$D$65*C2507+Method_input!$D$65*D2507+Method_input!$D$65*E2507+Method_input!$D$65*F2507","v":0},{"$f":"Method_input!$D$65*B2507+Method_input!$D$64*Input_series!AG2503+Method_input!$D$65*F2507","v":0}]
[2499,0,0,0,0,0,0,0,0,0,16,12,16,12,0,0,0,12,0,12,0,0,16,12,null,0,{"$f":"Method_input!$D$65*B2516+Method_input!$D$64*Input_series!AG2512+Method_input!$D$65*C2516+Method_input!$D$65*D2516+Method_input!$D$65*E2516+Method_input!$D$65*F2516","v":0},{"$f":"Method_input!$D$65*B2516+Method_input!$D$64*Input_series!AG2512+Method_input!$D$65*F2516","v":0}]
[2507,0,0,0,0,0,0,0,0,0,16,12,16,12,0,0,0,12,0,12,0,0,16,12,null,0,{"$f":"Method_input!$D$65*B2524+Method_input!$D$64*Input_series!AG2520+Method_input!$D$65*C2524+Method_input!$D$65*D2524+Method_input!$D$65*E2524+Method_input!$D$65*F2524","v":0},{"$f":"Method_input!$D$65*B2524+Method_input!$D$64*Input_series!AG2520+Method_input!$D$65*F2524","v":0}]
[2513,0,0,5.74663E-4,0,0,0,0,0,0,16,12,16,18.03448275862069,0,1.3451120880428572E-2,9.4157846163000006E-2,12,0,12,0,9.3869939999999999E-2,16,12.009225809890109,null,9.3869939999999999E-2,{"$f":"Method_input!$D$65*B2530+Method_input!$D$64*Input_series!AG2526+Method_input!$D$65*C2530+Method_input!$D$65*D2530+Method_input!$D$65*E2530+Method_input!$D$65*F2530","v":5.74663E-4},{"$f":"Method_input!$D$65*B2530+Method_input!$D$64*Input_series!AG2526+Method_input!$D$65*F2530","v":0}]
[2524,0,0,0,0,0,0,0,0,0,16,12,16,12,0,0,0,12,0,12,0,0,16,12,null,0,{"$f":"Method_input!$D$65*B2541+Method_input!$D$64*Input_series!AG2537+Method_input!$D$65*C2541+Method_input!$D$65*D2541+Method_input!$D$65*E2541+Method_input!$D$65*F2541","v":0},{"$f":"Method_input!$D$65*B2541+Method_input!$D$64*Input_series!AG2537+Method_input!$D$65*F2541","v":0}]
[2527,0,0,0,0,0,0,0,0,0,16,12,16,12,0,0,0,12,0,12,0,0,16,12,null,0,{"$f":"Method_input!$D$65*B2544+Method_input!$D$64*Input_series!AG2540+Method_input!$D$65*C2544+Method_input!$D$65*D2544+Method_input!$D$65*E2544+Method_input!$D$65*F2544","v":0},{"$f":"Method_input!$D$65*B2544+Method_input!$D$64*Input_series!AG2540+Method_input!$D$65*F2544","v":0}]
[2541,0,0,0,0,0,0,0,0,0,16,12,16,12,0,0,0,12,0,12,0,0,16,12,null,0,{"$f":"Method_input!$D$65*B2558+Method_input!$D$64*Input_series!AG2554+Method_input!$D$65*C2558+Method_input!$D$65*D2558+Method_input!$D$65*E2558+Method_input!$D$65*F2558","v":0},{"$f":"Method_input!$D$65*B2558+Method_input!$D$64*Input_series!AG2554+Method_input!$D$65*F2558","v":0}]
[2542,0,0,0,0,0,0,0,0,0,16,12,16,12,0,0,0,12,0,12,0,0,16,12,null,0,{"$f":"Method_input!$D$65*B2559+Method_input!$D$64*Input_series!AG2555+Method_input!$D$65*C2559+Method_input!$D$65*D2559+Method_input!$D$65*E2559+Method_input!$D$65*F2559","v":0},{"$f":"Method_input!$D$65*B2559+Method_input!$D$64*Input_series!AG2555+Method_input!$D$65*F2559","v":0}]
[2550,0,0,0,0,0,0,0,0,0,16,12,16,12,0,0,0,12,0,12,0,0,16,12,null,0,{"$f":"Method_input!$D$65*B2567+Method_input!$D$64*Input_series!AG2563+Method_input!$D$65*C2567+Method_input!$D$65*D2567+Method_input!$D$65*E2567+Method_input!$D$65*F2567","v":0},{"$f":"Method_input!$D$65*B2567+Method_input!$D$64*Input_series!AG2563+Method_input!$D$65*F2567","v":0}]
[2559,0,0,0,0,0,0,0,0,0,16,12,16,12,0,0,0,12,0,12,0,0,16,12,null,0,{"$f":"Method_input!$D$65*B2576+Method_input!$D$64*Input_series!AG2572+Method_input!$D$65*C2576+Method_input!$D$65*D2576+Method_input!$D$65*E2576+Method_input!$D$65*F2576","v":0},{"$f":"Method_input!$D$65*B2576+Method_input!$D$64*Input_series!AG2572+Method_input!$D$65*F2576","v":0}]
[2571,0,0,0,0,0,0,0,0,0,16,12,16,12,0,0,0,12,0,12,0,0,16,12,null,0,{"$f":"Method_input!$D$65*B2588+Method_input!$D$64*Input_series!AG2584+Method_input!$D$65*C2588+Method_input!$D$65*D2588+Method_input!$D$65*E2588+Method_input!$D$65*F2588","v":0},{"$f":"Method_input!$D$65*B2588+Method_input!$D$64*Input_series!AG2584+Method_input!$D$65*F2588","v":0}]
[2576,0,0,0,0,0,0,0,0,0,16,12,16,12,0,0,0,12,0,12,0,0,16,12,null,0,{"$f":"Method_input!$D$65*B2593+Method_input!$D$64*Input_series!AG2589+Method_input!$D$65*C2593+Method_input!$D$65*D2593+Method_input!$D$65*E2593+Method_input!$D$65*F2593","v":0},{"$f":"Method_input!$D$65*B2593+Method_input!$D$64*Input_series!AG2589+Method_input!$D$65*F2593","v":0}]
[2581,0,0,5.74663E-4,0,0,0,0,0,0,16,12,16,18.03448275862069,0,3.248241516614285E-2,0.22737690616299996,12,0,12,0,0.22708899999999999,16,12.003820451263152,null,0.22708899999999999,{"$f":"Method_input!$D$65*B2598+Method_input!$D$64*Input_series!AG2594+Method_input!$D$65*C2598+Method_input!$D$65*D2598+Method_input!$D$65*E2598+Method_input!$D$65*F2598","v":5.74663E-4},{"$f":"Method_input!$D$65*B2598+Method_input!$D$64*Input_series!AG2594+Method_input!$D$65*F2598","v":0}]
[2593,0,0,0,0,0,0,0,0,0,16,12,16,12,0,0,0,12,0,12,0,0,16,12,null,0,{"$f":"Method_input!$D$65*B2610+Method_input!$D$64*Input_series!AG2606+Method_input!$D$65*C2610+Method_input!$D$65*D2610+Method_input!$D$65*E2610+Method_input!$D$65*F2610","v":0},{"$f":"Method_input!$D$65*B2610+Method_input!$D$64*Input_series!AG2606+Method_input!$D$65*F2610","v":0}]
[2595,0,0,0,0,0,0,0,0,0,16,12,16,12,0,0,0,12,0,12,0,0,16,12,null,0,{"$f":"Method_input!$D$65*B2612+Method_input!$D$64*Input_series!AG2608+Method_input!$D$65*C2612+Method_input!$D$65*D2612+Method_input!$D$65*E2612+Method_input!$D$65*F2612","v":0},{"$f":"Method_input!$D$65*B2612+Method_input!$D$64*Input_series!AG2608+Method_input!$D$65*F2612","v":0}]
[2602,0,0,5.74663E-4,0,0,0,0,0,0,16,12,16,18.03448275862069,0,1.8784729451857139E-2,0.13149310616299997,12,0,12,0,0.13120519999999999,16,12.006606296053919,null,0.13120519999999999,{"$f":"Method_input!$D$65*B2619+Method_input!$D$64*Input_series!AG2615+Method_input!$D$65*C2619+Method_input!$D$65*D2619+Method_input!$D$65*E2619+Method_input!$D$65*F2619","v":5.74663E-4},{"$f":"Method_input!$D$65*B2619+Method_input!$D$64*Input_series!AG2615+Method_input!$D$65*F2619","v":0}]
[2616,0,0,0,0,0,0,0,0,0,16,12,16,12,0,0,0,12,0,12,0,0,16,12,null,0,{"$f":"Method_input!$D$65*B2633+Method_input!$D$64*Input_series!AG2629+Method_input!$D$65*C2633+Method_input!$D$65*D2633+Method_input!$D$65*E2633+Method_input!$D$65*F2633","v":0},{"$f":"Method_input!$D$65*B2633+Method_input!$D$64*Input_series!AG2629+Method_input!$D$65*F2633","v":0}]
[2619,0,0,0,0,0,0,0,0,0,16,12,16,12,0,0,0,12,0,12,0,0,16,12,null,0,{"$f":"Method_input!$D$65*B2636+Method_input!$D$64*Input_series!AG2632+Method_input!$D$65*C2636+Method_input!$D$65*D2636+Method_input!$D$65*E2636+Method_input!$D$65*F2636","v":0},{"$f":"Method_input!$D$65*B2636+Method_input!$D$64*Input_series!AG2632+Method_input!$D$65*F2636","v":0}]
[2630,0,0,1.2259796000000001E-3,0,0,0,0,0,0,13.64,12,19.674482758620691,18.03448275862069,0.30178349147142847,8.8667886594714293E-2,2.7331596464629992,12,0,12,2.1137689999999996,0.62038729999999997,13.638165275631341,12.0013995764286,null,2.7341562999999995,{"$f":"Method_input!$D$65*B2647+Method_input!$D$64*Input_series!AG2643+Method_input!$D$65*C2647+Method_input!$D$65*D2647+Method_input!$D$65*E2647+Method_input!$D$65*F2647","v":1.2259796000000001E-3},{"$f":"Method_input!$D$65*B2647+Method_input!$D$64*Input_series!AG2643+Method_input!$D$65*F2647","v":0}]
[2636,0,0,0,0,0,0,0,0,0,16,12,16,12,0,0,0,12,0,12,0,0,16,12,null,0,{"$f":"Method_input!$D$65*B2653+Method_input!$D$64*Input_series!AG2649+Method_input!$D$65*C2653+Method_input!$D$65*D2653+Method_input!$D$65*E2653+Method_input!$D$65*F2653","v":0},{"$f":"Method_input!$D$65*B2653+Method_input!$D$64*Input_series!AG2649+Method_input!$D$65*F2653","v":0}]
[2644,0,0,0,0,0,0,0,0,0,16,12,16,12,0,0,0,12,0,12,0,0,16,12,null,0,{"$f":"Method_input!$D$65*B2661+Method_input!$D$64*Input_series!AG2657+Method_input!$D$65*C2661+Method_input!$D$65*D2661+Method_input!$D$65*E2661+Method_input!$D$65*F2661","v":0},{"$f":"Method_input!$D$65*B2661+Method_input!$D$64*Input_series!AG2657+Method_input!$D$65*F2661","v":0}]
[2653,0,0,1.2259796000000001E-3,0,0,0,0,0,0,13,12,19.03448275862069,18.03448275862069,0.55910494470000005,0.17432670088042859,5.1340215190630003,12,0,12,3.9130579999999999,1.2199990000000001,13.00052162567,12.00071186733544,null,5.133057,{"$f":"Method_input!$D$65*B2670+Method_input!$D$64*Input_series!AG2666+Method_input!$D$65*C2670+Method_input!$D$65*D2670+Method_input!$D$65*E2670+Method_input!$D$65*F2670","v":1.2259796000000001E-3},{"$f":"Method_input!$D$65*B2670+Method_input!$D$64*Input_series!AG2666+Method_input!$D$65*F2670","v":0}]
[2661,0,0,0,0,0,0,0,0,0,16,12,16,12,0,0,0,12,0,12,0,0,16,12,null,0,{"$f":"Method_input!$D$65*B2678+Method_input!$D$64*Input_series!AG2674+Method_input!$D$65*C2678+Method_input!$D$65*D2678+Method_input!$D$65*E2678+Method_input!$D$65*F2678","v":0},{"$f":"Method_input!$D$65*B2678+Method_input!$D$64*Input_series!AG2674+Method_input!$D$65*F2678","v":0}]
[2662,0,0,0,0,0,0,0,0,0,16,12,16,12,0,0,0,12,0,12,0,0,16,12,null,0,{"$f":"Method_input!$D$65*B2679+Method_input!$D$64*Input_series!AG2675+Method_input!$D$65*C2679+Method_input!$D$65*D2679+Method_input!$D$65*E2679+Method_input!$D$65*F2679","v":0},{"$f":"Method_input!$D$65*B2679+Method_input!$D$64*Input_series!AG2675+Method_input!$D$65*F2679","v":0}]
[2671,0,0,0,0,0,0,0,0,0,16,12,16,12,0,0,0,12,0,12,0,0,16,12,null,0,{"$f":"Method_input!$D$65*B2688+Method_input!$D$64*Input_series!AG2684+Method_input!$D$65*C2688+Method_input!$D$65*D2688+Method_input!$D$65*E2688+Method_input!$D$65*F2688","v":0},{"$f":"Method_input!$D$65*B2688+Method_input!$D$64*Input_series!AG2684+Method_input!$D$65*F2688","v":0}]
[2684,0,0,0,0,0,0,0,0,0,16,12,16,12,0,0,0,12,0,12,0,0,16,12,null,0,{"$f":"Method_input!$D$65*B2701+Method_input!$D$64*Input_series!AG2697+Method_input!$D$65*C2701+Method_input!$D$65*D2701+Method_input!$D$65*E2701+Method_input!$D$65*F2701","v":0},{"$f":"Method_input!$D$65*B2701+Method_input!$D$64*Input_series!AG2697+Method_input!$D$65*F2701","v":0}]
[2688,0,0,0,0,0,0,0,0,0,16,12,16,12,0,0,0,12,0,12,0,0,16,12,null,0,{"$f":"Method_input!$D$65*B2705+Method_input!$D$64*Input_series!AG2701+Method_input!$D$65*C2705+Method_input!$D$65*D2705+Method_input!$D$65*E2705+Method_input!$D$65*F2705","v":0},{"$f":"Method_input!$D$65*B2705+Method_input!$D$64*Input_series!AG2701+Method_input!$D$65*F2705","v":0}]
[2698,0,0,0,0,0,0,0,0,0,16,12,16,12,0,0,0,12,0,12,0,0,16,12,null,0,{"$f":"Method_input!$D$65*B2715+Method_input!$D$64*Input_series!AG2711+Method_input!$D$65*C2715+Method_input!$D$65*D2715+Method_input!$D$65*E2715+Method_input!$D$65*F2715","v":0},{"$f":"Method_input!$D$65*B2715+Method_input!$D$64*Input_series!AG2711+Method_input!$D$65*F2715","v":0}]
[2705,0,0,0,0,0,0,0,0,0,16,12,16,12,0,0,0,12,0,12,0,0,16,12,null,0,{"$f":"Method_input!$D$65*B2722+Method_input!$D$64*Input_series!AG2718+Method_input!$D$65*C2722+Method_input!$D$65*D2722+Method_input!$D$65*E2722+Method_input!$D$65*F2722","v":0},{"$f":"Method_input!$D$65*B2722+Method_input!$D$64*Input_series!AG2718+Method_input!$D$65*F2722","v":0}]
[2712,0,0,0,0,0,0,0,0,0,16,12,16,12,0,0,0,12,0,12,0,0,16,12,null,0,{"$f":"Method_input!$D$65*B2729+Method_input!$D$64*Input_series!AG2725+Method_input!$D$65*C2729+Method_input!$D$65*D2729+Method_input!$D$65*E2729+Method_input!$D$65*F2729","v":0},{"$f":"Method_input!$D$65*B2729+Method_input!$D$64*Input_series!AG2725+Method_input!$D$65*F2729","v":0}]
[2722,0,0,0,0,0,0,0,0,0,16,12,16,12,0,0,0,12,0,12,0,0,16,12,null,0,{"$f":"Method_input!$D$65*B2739+Method_input!$D$64*Input_series!AG2735+Method_input!$D$65*C2739+Method_input!$D$65*D2739+Method_input!$D$65*E2739+Method_input!$D$65*F2739","v":0},{"$f":"Method_input!$D$65*B2739+Method_input!$D$64*Input_series!AG2735+Method_input!$D$65*F2739","v":0}]
[2726,0,0,0,0,0,0,0,0,0,16,12,16,12,0,0,0,12,0,12,0,0,16,12,null,0,{"$f":"Method_input!$D$65*B2743+Method_input!$D$64*Input_series!AG2739+Method_input!$D$65*C2743+Method_input!$D$65*D2743+Method_input!$D$65*E2743+Method_input!$D$65*F2743","v":0},{"$f":"Method_input!$D$65*B2743+Method_input!$D$64*Input_series!AG2739+Method_input!$D$65*F2743","v":0}]
[2731,0,0,0,0,0,0,0,0,0,16,12,16,12,0,0,0,12,0,12,0,0,16,12,null,0,{"$f":"Method_input!$D$65*B2748+Method_input!$D$64*Input_series!AG2744+Method_input!$D$65*C2748+Method_input!$D$65*D2748+Method_input!$D$65*E2748+Method_input!$D$65*F2748","v":0},{"$f":"Method_input!$D$65*B2748+Method_input!$D$64*Input_series!AG2744+Method_input!$D$65*F2748","v":0}]
[2743,0,0,0,0,0,0,0,0,0,16,12,16,12,0,0,0,12,0,12,0,0,16,12,null,0,{"$f":"Method_input!$D$65*B2760+Method_input!$D$64*Input_series!AG2756+Method_input!$D$65*C2760+Method_input!$D$65*D2760+Method_input!$D$65*E2760+Method_input!$D$65*F2760","v":0},{"$f":"Method_input!$D$65*B2760+Method_input!$D$64*Input_series!AG2756+Method_input!$D$65*F2760","v":0}]
[2748,0,0,5.74663E-4,0,0,0,0,0,0,16,12,16,18.03448275862069,0,4.097750088042857E-2,0.286842506163,12,0,12,0,0.28655459999999999,16,12.003028429781841,null,0.28655459999999999,{"$f":"Method_input!$D$65*B2765+Method_input!$D$64*Input_series!AG2761+Method_input!$D$65*C2765+Method_input!$D$65*D2765+Method_input!$D$65*E2765+Method_input!$D$65*F2765","v":5.74663E-4},{"$f":"Method_input!$D$65*B2765+Method_input!$D$64*Input_series!AG2761+Method_input!$D$65*F2765","v":0}]
[2757,0,0,0,0,0,0,0,0,0,16,12,16,12,0,0,0,12,0,12,0,0,16,12,null,0,{"$f":"Method_input!$D$65*B2774+Method_input!$D$64*Input_series!AG2770+Method_input!$D$65*C2774+Method_input!$D$65*D2774+Method_input!$D$65*E2774+Method_input!$D$65*F2774","v":0},{"$f":"Method_input!$D$65*B2774+Method_input!$D$64*Input_series!AG2770+Method_input!$D$65*F2774","v":0}]
[2765,0,0,0,0,0,0,0,0,0,16,12,16,12,0,0,0,12,0,12,0,0,16,12,null,0,{"$f":"Method_input!$D$65*B2782+Method_input!$D$64*Input_series!AG2778+Method_input!$D$65*C2782+Method_input!$D$65*D2782+Method_input!$D$65*E2782+Method_input!$D$65*F2782","v":0},{"$f":"Method_input!$D$65*B2782+Method_input!$D$64*Input_series!AG2778+Method_input!$D$65*F2782","v":0}]
[2771,0,0,0,0,0,0,0,0,0,16,12,16,12,0,0,0,12,0,12,0,0,16,12,null,0,{"$f":"Method_input!$D$65*B2788+Method_input!$D$64*Input_series!AG2784+Method_input!$D$65*C2788+Method_input!$D$65*D2788+Method_input!$D$65*E2788+Method_input!$D$65*F2788","v":0},{"$f":"Method_input!$D$65*B2788+Method_input!$D$64*Input_series!AG2784+Method_input!$D$65*F2788","v":0}]
[2782,0,0,0,0,0,0,0,0,0,16,12,16,12,0,0,0,12,0,12,0,0,16,12,null,0,{"$f":"Method_input!$D$65*B2799+Method_input!$D$64*Input_series!AG2795+Method_input!$D$65*C2799+Method_input!$D$65*D2799+Method_input!$D$65*E2799+Method_input!$D$65*F2799","v":0},{"$f":"Method_input!$D$65*B2799+Method_input!$D$64*Input_series!AG2795+Method_input!$D$65*F2799","v":0}]
[2785,0,0,0,0,0,0,0,0,0,16,12,16,12,0,0,0,12,0,12,0,0,16,12,null,0,{"$f":"Method_input!$D$65*B2802+Method_input!$D$64*Input_series!AG2798+Method_input!$D$65*C2802+Method_input!$D$65*D2802+Method_input!$D$65*E2802+Method_input!$D$65*F2802","v":0},{"$f":"Method_input!$D$65*B2802+Method_input!$D$64*Input_series!AG2798+Method_input!$D$65*F2802","v":0}]
[2791,0,0,0,0,0,0,0,0,0,16,12,16,12,0,0,0,12,0,12,0,0,16,12,null,0,{"$f":"Method_input!$D$65*B2808+Method_input!$D$64*Input_series!AG2804+Method_input!$D$65*C2808+Method_input!$D$65*D2808+Method_input!$D$65*E2808+Method_input!$D$65*F2808","v":0},{"$f":"Method_input!$D$65*B2808+Method_input!$D$64*Input_series!AG2804+Method_input!$D$65*F2808","v":0}]
[2800,0,0,1.2259796000000001E-3,0,0,0,0,0,0,16,12,22.03448275862069,18.03448275862069,0.26992238889999998,0.34818555802328571,4.3267556284630002,12,0,12,1.891445,2.437011,15.996824953078207,12.000356411922299,null,4.3284560000000001,{"$f":"Method_input!$D$65*B2817+Method_input!$D$64*Input_series!AG2813+Method_input!$D$65*C2817+Method_input!$D$65*D2817+Method_input!$D$65*E2817+Method_input!$D$65*F2817","v":1.2259796000000001E-3},{"$f":"Method_input!$D$65*B2817+Method_input!$D$64*Input_series!AG2813+Method_input!$D$65*F2817","v":0}]
[2808,0,0,0,0,0,0,0,0,0,16,12,16,12,0,0,0,12,0,12,0,0,16,12,null,0,{"$f":"Method_input!$D$65*B2825+Method_input!$D$64*Input_series!AG2821+Method_input!$D$65*C2825+Method_input!$D$65*D2825+Method_input!$D$65*E2825+Method_input!$D$65*F2825","v":0},{"$f":"Method_input!$D$65*B2825+Method_input!$D$64*Input_series!AG2821+Method_input!$D$65*F2825","v":0}]
[2817,0,0,0,0,0,0,0,0,0,16,12,16,12,0,0,0,12,0,12,0,0,16,12,null,{"$f":"SUM(G2834:J2834,U2834:V2834)","v":0},{"$f":"Method_input!$D$65*B2834+Method_input!$D$64*Input_series!AG2830+Method_input!$D$65*C2834+Method_input!$D$65*D2834+Method_input!$D$65*E2834+Method_input!$D$65*F2834","v":0},{"$f":"Method_input!$D$65*B2834+Method_input!$D$64*Input_series!AG2830+Method_input!$D$65*F2834","v":0}]
[2822,0,0,0,0,0,0,0,0,0,16,12,16,12,0,0,0,12,0,12,0,0,16,12,null,0,{"$f":"Method_input!$D$65*B2839+Method_input!$D$64*Input_series!AG2835+Method_input!$D$65*C2839+Method_input!$D$65*D2839+Method_input!$D$65*E2839+Method_input!$D$65*F2839","v":0},{"$f":"Method_input!$D$65*B2839+Method_input!$D$64*Input_series!AG2835+Method_input!$D$65*F2839","v":0}]
[2834,0,0,0,0,0,0,0,0,0,16,12,16,12,0,0,0,12,0,12,0,0,16,12,null,0,{"$f":"Method_input!$D$65*B2851+Method_input!$D$64*Input_series!AG2847+Method_input!$D$65*C2851+Method_input!$D$65*D2851+Method_input!$D$65*E2851+Method_input!$D$65*F2851","v":0},{"$f":"Method_input!$D$65*B2851+Method_input!$D$64*Input_series!AG2847+Method_input!$D$65*F2851","v":0}]
[2839,0,0,0,0,0,0,0,0,0,16,12,16,12,0,0,0,12,0,12,0,0,16,12,null,0,{"$f":"Method_input!$D$65*B2856+Method_input!$D$64*Input_series!AG2852+Method_input!$D$65*C2856+Method_input!$D$65*D2856+Method_input!$D$65*E2856+Method_input!$D$65*F2856","v":0},{"$f":"Method_input!$D$65*B2856+Method_input!$D$64*Input_series!AG2852+Method_input!$D$65*F2856","v":0}]
[2843,0,0,0,0,0,0,0,0,0,16,12,16,12,0,0,0,12,0,12,0,0,16,12,null,0,{"$f":"Method_input!$D$65*B2860+Method_input!$D$64*Input_series!AG2856+Method_input!$D$65*C2860+Method_input!$D$65*D2860+Method_input!$D$65*E2860+Method_input!$D$65*F2860","v":0},{"$f":"Method_input!$D$65*B2860+Method_input!$D$64*Input_series!AG2856+Method_input!$D$65*F2860","v":0}]
[2853,0,0,0,0,0,0,0,0,0,16,12,16,12,0,0,0,12,0,12,0,0,16,12,null,0,{"$f":"Method_input!$D$65*B2870+Method_input!$D$64*Input_series!AG2866+Method_input!$D$65*C2870+Method_input!$D$65*D2870+Method_input!$D$65*E2870+Method_input!$D$65*F2870","v":0},{"$f":"Method_input!$D$65*B2870+Method_input!$D$64*Input_series!AG2866+Method_input!$D$65*F2870","v":0}]
[2860,0,0,0,0,0,0,0,0,0,16,12,16,12,0,0,0,12,0,12,0,0,16,12,null,0,{"$f":"Method_input!$D$65*B2877+Method_input!$D$64*Input_series!AG2873+Method_input!$D$65*C2877+Method_input!$D$65*D2877+Method_input!$D$65*E2877+Method_input!$D$65*F2877","v":0},{"$f":"Method_input!$D$65*B2877+Method_input!$D$64*Input_series!AG2873+Method_input!$D$65*F2877","v":0}]
[2867,0,0,0,0,0,0,0,0,0,16,12,16,12,0,0,0,12,0,12,0,0,16,12,null,0,{"$f":"Method_input!$D$65*B2884+Method_input!$D$64*Input_series!AG2880+Method_input!$D$65*C2884+Method_input!$D$65*D2884+Method_input!$D$65*E2884+Method_input!$D$65*F2884","v":0},{"$f":"Method_input!$D$65*B2884+Method_input!$D$64*Input_series!AG2880+Method_input!$D$65*F2884","v":0}]
[2877,0,0,0,0,0,0,0,0,0,16,12,16,12,0,0,0,12,0,12,0,0,16,12,null,0,{"$f":"Method_input!$D$65*B2894+Method_input!$D$64*Input_series!AG2890+Method_input!$D$65*C2894+Method_input!$D$65*D2894+Method_input!$D$65*E2894+Method_input!$D$65*F2894","v":0},{"$f":"Method_input!$D$65*B2894+Method_input!$D$64*Input_series!AG2890+Method_input!$D$65*F2894","v":0}]
[2881,0,0,0,0,0,0,0,0,0,16,12,16,12,0,0,0,12,0,12,0,0,16,12,null,{"$f":"SUM(G2898:J2898,U2898:V2898)","v":0},{"$f":"Method_input!$D$65*B2898+Method_input!$D$64*Input_series!AG2894+Method_input!$D$65*C2898+Method_input!$D$65*D2898+Method_input!$D$65*E2898+Method_input!$D$65*F2898","v":0},{"$f":"Method_input!$D$65*B2898+Method_input!$D$64*Input_series!AG2894+Method_input!$D$65*F2898","v":0}]
[2894,0,0,0,0,0,0,0,0,0,16,12,16,12,0,0,0,12,0,12,0,0,16,12,null,0,{"$f":"Method_input!$D$65*B2911+Method_input!$D$64*Input_series!AG2907+Method_input!$D$65*C2911+Method_input!$D$65*D2911+Method_input!$D$65*E2911+Method_input!$D$65*F2911","v":0},{"$f":"Method_input!$D$65*B2911+Method_input!$D$64*Input_series!AG2907+Method_input!$D$65*F2911","v":0}]
[2902,0,0,0,0,0,0,0,0,0,16,12,16,12,0,0,0,12,0,12,0,0,16,12,null,0,{"$f":"Method_input!$D$65*B2919+Method_input!$D$64*Input_series!AG2915+Method_input!$D$65*C2919+Method_input!$D$65*D2919+Method_input!$D$65*E2919+Method_input!$D$65*F2919","v":0},{"$f":"Method_input!$D$65*B2919+Method_input!$D$64*Input_series!AG2915+Method_input!$D$65*F2919","v":0}]
[2903,0,0,0,0,0,0,0,0,0,16,12,16,12,0,0,0,12,0,12,0,0,16,12,null,0,{"$f":"Method_input!$D$65*B2920+Method_input!$D$64*Input_series!AG2916+Method_input!$D$65*C2920+Method_input!$D$65*D2920+Method_input!$D$65*E2920+Method_input!$D$65*F2920","v":0},{"$f":"Method_input!$D$65*B2920+Method_input!$D$64*Input_series!AG2916+Method_input!$D$65*F2920","v":0}]
[2912,0,0,0,0,0,0,0,0,0,16,12,16,12,0,0,0,12,0,12,0,0,16,12,null,0,{"$f":"Method_input!$D$65*B2929+Method_input!$D$64*Input_series!AG2925+Method_input!$D$65*C2929+Method_input!$D$65*D2929+Method_input!$D$65*E2929+Method_input!$D$65*F2929","v":0},{"$f":"Method_input!$D$65*B2929+Method_input!$D$64*Input_series!AG2925+Method_input!$D$65*F2929","v":0}]
[2920,0,0,0,0,0,0,0,0,0,16,12,16,12,0,0,0,12,0,12,0,0,16,12,null,0,{"$f":"Method_input!$D$65*B2937+Method_input!$D$64*Input_series!AG2933+Method_input!$D$65*C2937+Method_input!$D$65*D2937+Method_input!$D$65*E2937+Method_input!$D$65*F2937","v":0},{"$f":"Method_input!$D$65*B2937+Method_input!$D$64*Input_series!AG2933+Method_input!$D$65*F2937","v":0}]
[2929,0,0,0,0,0,0,0,0,0,16,12,16,12,0,0,0,12,0,12,0,0,16,12,null,0,{"$f":"Method_input!$D$65*B2946+Method_input!$D$64*Input_series!AG2942+Method_input!$D$65*C2946+Method_input!$D$65*D2946+Method_input!$D$65*E2946+Method_input!$D$65*F2946","v":0},{"$f":"Method_input!$D$65*B2946+Method_input!$D$64*Input_series!AG2942+Method_input!$D$65*F2946","v":0}]
[2935,0,0,0,0,0,0,0,0,0,16,12,16,12,0,0,0,12,0,12,0,0,16,12,null,0,{"$f":"Method_input!$D$65*B2952+Method_input!$D$64*Input_series!AG2948+Method_input!$D$65*C2952+Method_input!$D$65*D2952+Method_input!$D$65*E2952+Method_input!$D$65*F2952","v":0},{"$f":"Method_input!$D$65*B2952+Method_input!$D$64*Input_series!AG2948+Method_input!$D$65*F2952","v":0}]
[2946,0,0,0,0,0,0,0,0,0,16,12,16,12,0,0,0,12,0,12,0,0,16,12,null,0,{"$f":"Method_input!$D$65*B2963+Method_input!$D$64*Input_series!AG2959+Method_input!$D$65*C2963+Method_input!$D$65*D2963+Method_input!$D$65*E2963+Method_input!$D$65*F2963","v":0},{"$f":"Method_input!$D$65*B2963+Method_input!$D$64*Input_series!AG2959+Method_input!$D$65*F2963","v":0}]
[2949,0,0,0,0,0,0,0,0,0,16,12,16,12,0,0,0,12,0,12,0,0,16,12,null,0,{"$f":"Method_input!$D$65*B2966+Method_input!$D$64*Input_series!AG2962+Method_input!$D$65*C2966+Method_input!$D$65*D2966+Method_input!$D$65*E2966+Method_input!$D$65*F2966","v":0},{"$f":"Method_input!$D$65*B2966+Method_input!$D$64*Input_series!AG2962+Method_input!$D$65*F2966","v":0}]
[2963,0,0,0,0,0,0,0,0,0,16,12,16,12,0,0,0,12,0,12,0,0,16,12,null,0,{"$f":"Method_input!$D$65*B2980+Method_input!$D$64*Input_series!AG2976+Method_input!$D$65*C2980+Method_input!$D$65*D2980+Method_input!$D$65*E2980+Method_input!$D$65*F2980","v":0},{"$f":"Method_input!$D$65*B2980+Method_input!$D$64*Input_series!AG2976+Method_input!$D$65*F2980","v":0}]
[2970,0,0,0,0,0,0,0,0,0,16,12,16,12,0,0,0,12,0,12,0,0,16,12,null,0,{"$f":"Method_input!$D$65*B2987+Method_input!$D$64*Input_series!AG2983+Method_input!$D$65*C2987+Method_input!$D$65*D2987+Method_input!$D$65*E2987+Method_input!$D$65*F2987","v":0},{"$f":"Method_input!$D$65*B2987+Method_input!$D$64*Input_series!AG2983+Method_input!$D$65*F2987","v":0}]
[2972,0,0,0,0,0,0,0,0,0,16,12,16,12,0,0,0,12,0,12,0,0,16,12,null,0,{"$f":"Method_input!$D$65*B2989+Method_input!$D$64*Input_series!AG2985+Method_input!$D$65*C2989+Method_input!$D$65*D2989+Method_input!$D$65*E2989+Method_input!$D$65*F2989","v":0},{"$f":"Method_input!$D$65*B2989+Method_input!$D$64*Input_series!AG2985+Method_input!$D$65*F2989","v":0}]
[2984,0,0,0,0,0,0,0,0,0,16,12,16,12,0,0,0,12,0,12,0,0,16,12,null,0,{"$f":"Method_input!$D$65*B3001+Method_input!$D$64*Input_series!AG2997+Method_input!$D$65*C3001+Method_input!$D$65*D3001+Method_input!$D$65*E3001+Method_input!$D$65*F3001","v":0},{"$f":"Method_input!$D$65*B3001+Method_input!$D$64*Input_series!AG2997+Method_input!$D$65*F3001","v":0}]
[2989,0,0,1.2259796000000001E-3,0,0,0,0,0,0,16,12,22.03448275862069,18.03448275862069,0.32732253004285711,0.14197471516614288,3.2850807164629998,12,0,12,2.2922759999999998,0.9935351,15.998659065802526,12.000874081584925,null,3.2858110999999997,{"$f":"Method_input!$D$65*B3006+Method_input!$D$64*Input_series!AG3002+Method_input!$D$65*C3006+Method_input!$D$65*D3006+Method_input!$D$65*E3006+Method_input!$D$65*F3006","v":1.2259796000000001E-3},{"$f":"Method_input!$D$65*B3006+Method_input!$D$64*Input_series!AG3002+Method_input!$D$65*F3006","v":0}]
[2994,5.234657039711192,0,1.2259796000000001E-3,0,0.26173285198555962,0,0,0,0,16,12,22.03448275862069,18.03448275862069,0.48948052361428579,0.20151598659471434,4.8369755714630003,12,50,4,3.4280200000000001,1.4103240000000001,15.998541438655376,12.000615819549351,null,4.8383440000000002,{"$f":"Method_input!$D$65*B3011+Method_input!$D$64*Input_series!AG3007+Method_input!$D$65*C3011+Method_input!$D$65*D3011+Method_input!$D$65*E3011+Method_input!$D$65*F3011","v":5.4976158712967518},{"$f":"Method_input!$D$65*B3011+Method_input!$D$64*Input_series!AG3007+Method_input!$D$65*F3011","v":5.4963898916967517}]
[3006,0,0,0,0,0,0,0,0,0,16,12,16,12,0,0,0,12,0,12,0,0,16,12,null,0,{"$f":"Method_input!$D$65*B3023+Method_input!$D$64*Input_series!AG3019+Method_input!$D$65*C3023+Method_input!$D$65*D3023+Method_input!$D$65*E3023+Method_input!$D$65*F3023","v":0},{"$f":"Method_input!$D$65*B3023+Method_input!$D$64*Input_series!AG3019+Method_input!$D$65*F3023","v":0}]
[3015,0,0,1.2259796000000001E-3,0,0,0,0,0,0,13.959999999999999,12,19.994482758620688,18.03448275862069,0.17330615689999998,8.0206572308999996E-2,1.774589104463,12,0,12,1.214126,0.56115809999999999,13.957555398299515,12.001547223381815,null,1.7752840999999999,{"$f":"Method_input!$D$65*B3032+Method_input!$D$64*Input_series!AG3028+Method_input!$D$65*C3032+Method_input!$D$65*D3032+Method_input!$D$65*E3032+Method_input!$D$65*F3032","v":1.2259796000000001E-3},{"$f":"Method_input!$D$65*B3032+Method_input!$D$64*Input_series!AG3028+Method_input!$D$65*F3032","v":0}]
[3023,0,0,0,0,0,0,0,0,0,16,12,16,12,0,0,0,12,0,12,0,0,16,12,null,0,{"$f":"Method_input!$D$65*B3040+Method_input!$D$64*Input_series!AG3036+Method_input!$D$65*C3040+Method_input!$D$65*D3040+Method_input!$D$65*E3040+Method_input!$D$65*F3040","v":0},{"$f":"Method_input!$D$65*B3040+Method_input!$D$64*Input_series!AG3036+Method_input!$D$65*F3040","v":0}]
[3029,0,0,0,0,0,0,0,0,0,16,12,16,12,0,0,0,12,0,12,0,0,16,12,null,0,{"$f":"Method_input!$D$65*B3046+Method_input!$D$64*Input_series!AG3042+Method_input!$D$65*C3046+Method_input!$D$65*D3046+Method_input!$D$65*E3046+Method_input!$D$65*F3046","v":0},{"$f":"Method_input!$D$65*B3046+Method_input!$D$64*Input_series!AG3042+Method_input!$D$65*F3046","v":0}]
[3032,0,0,0,0,0,0,0,0,0,16,12,16,12,0,0,0,12,0,12,0,0,16,12,null,0,{"$f":"Method_input!$D$65*B3049+Method_input!$D$64*Input_series!AG3045+Method_input!$D$65*C3049+Method_input!$D$65*D3049+Method_input!$D$65*E3049+Method_input!$D$65*F3049","v":0},{"$f":"Method_input!$D$65*B3049+Method_input!$D$64*Input_series!AG3045+Method_input!$D$65*F3049","v":0}]
[3043,0,0,0,0,0,0,0,0,0,16,12,16,12,0,0,0,12,0,12,0,0,16,12,null,0,{"$f":"Method_input!$D$65*B3060+Method_input!$D$64*Input_series!AG3056+Method_input!$D$65*C3060+Method_input!$D$65*D3060+Method_input!$D$65*E3060+Method_input!$D$65*F3060","v":0},{"$f":"Method_input!$D$65*B3060+Method_input!$D$64*Input_series!AG3056+Method_input!$D$65*F3060","v":0}]
[3049,0,0,0,0,0,0,0,0,0,16,12,16,12,0,0,0,12,0,12,0,0,16,12,null,0,{"$f":"Method_input!$D$65*B3066+Method_input!$D$64*Input_series!AG3062+Method_input!$D$65*C3066+Method_input!$D$65*D3066+Method_input!$D$65*E3066+Method_input!$D$65*F3066","v":0},{"$f":"Method_input!$D$65*B3066+Method_input!$D$64*Input_series!AG3062+Method_input!$D$65*F3066","v":0}]
[3058,0,0,0,0,0,0,0,0,0,16,12,16,12,0,0,0,12,0,12,0,0,16,12,null,0,{"$f":"Method_input!$D$65*B3075+Method_input!$D$64*Input_series!AG3071+Method_input!$D$65*C3075+Method_input!$D$65*D3075+Method_input!$D$65*E3075+Method_input!$D$65*F3075","v":0},{"$f":"Method_input!$D$65*B3075+Method_input!$D$64*Input_series!AG3071+Method_input!$D$65*F3075","v":0}]
[3066,0,0,0,0,0,0,0,0,0,16,12,16,12,0,0,0,12,0,12,0,0,16,12,null,0,{"$f":"Method_input!$D$65*B3083+Method_input!$D$64*Input_series!AG3079+Method_input!$D$65*C3083+Method_input!$D$65*D3083+Method_input!$D$65*E3083+Method_input!$D$65*F3083","v":0},{"$f":"Method_input!$D$65*B3083+Method_input!$D$64*Input_series!AG3079+Method_input!$D$65*F3083","v":0}]
[3075,0,0,0,0,0,0,0,0,0,16,12,16,12,0,0,0,12,0,12,0,0,16,12,null,0,{"$f":"Method_input!$D$65*B3092+Method_input!$D$64*Input_series!AG3088+Method_input!$D$65*C3092+Method_input!$D$65*D3092+Method_input!$D$65*E3092+Method_input!$D$65*F3092","v":0},{"$f":"Method_input!$D$65*B3092+Method_input!$D$64*Input_series!AG3088+Method_input!$D$65*F3092","v":0}]
[3080,0,0,0,0,0,0,0,0,0,16,12,16,12,0,0,0,12,0,12,0,0,16,12,null,0,{"$f":"Method_input!$D$65*B3097+Method_input!$D$64*Input_series!AG3093+Method_input!$D$65*C3097+Method_input!$D$65*D3097+Method_input!$D$65*E3097+Method_input!$D$65*F3097","v":0},{"$f":"Method_input!$D$65*B3097+Method_input!$D$64*Input_series!AG3093+Method_input!$D$65*F3097","v":0}]
[3084,0,0,0,0,0,0,0,0,0,16,12,16,12,0,0,0,12,0,12,0,0,16,12,null,0,{"$f":"Method_input!$D$65*B3101+Method_input!$D$64*Input_series!AG3097+Method_input!$D$65*C3101+Method_input!$D$65*D3101+Method_input!$D$65*E3101+Method_input!$D$65*F3101","v":0},{"$f":"Method_input!$D$65*B3101+Method_input!$D$64*Input_series!AG3097+Method_input!$D$65*F3101","v":0}]
[3097,0,0,0,0,0,0,0,0,0,16,12,16,12,0,0,0,12,0,12,0,0,16,12,null,0,{"$f":"Method_input!$D$65*B3114+Method_input!$D$64*Input_series!AG3110+Method_input!$D$65*C3114+Method_input!$D$65*D3114+Method_input!$D$65*E3114+Method_input!$D$65*F3114","v":0},{"$f":"Method_input!$D$65*B3114+Method_input!$D$64*Input_series!AG3110+Method_input!$D$65*F3114","v":0}]
[3101,0,0,0,0,0,0,0,0,0,16,12,16,12,0,0,0,12,0,12,0,0,16,12,null,0,{"$f":"Method_input!$D$65*B3118+Method_input!$D$64*Input_series!AG3114+Method_input!$D$65*C3118+Method_input!$D$65*D3118+Method_input!$D$65*E3118+Method_input!$D$65*F3118","v":0},{"$f":"Method_input!$D$65*B3118+Method_input!$D$64*Input_series!AG3114+Method_input!$D$65*F3118","v":0}]
[3111,0,0,1.2259796000000001E-3,0,0,0,0,0,0,16,12,22.03448275862069,18.03448275862069,0.1422338729,0.14319912945185714,1.998031016463,12,0,12,0.9971006,1.0021059999999999,15.99556494867924,12.000866607810583,null,1.9992065999999999,{"$f":"Method_input!$D$65*B3128+Method_input!$D$64*Input_series!AG3124+Method_input!$D$65*C3128+Method_input!$D$65*D3128+Method_input!$D$65*E3128+Method_input!$D$65*F3128","v":1.2259796000000001E-3},{"$f":"Method_input!$D$65*B3128+Method_input!$D$64*Input_series!AG3124+Method_input!$D$65*F3128","v":0}]
[3118,0,0,0,0,0,0,0,0,0,16,12,16,12,0,0,0,12,0,12,0,0,16,12,null,0,{"$f":"Method_input!$D$65*B3135+Method_input!$D$64*Input_series!AG3131+Method_input!$D$65*C3135+Method_input!$D$65*D3135+Method_input!$D$65*E3135+Method_input!$D$65*F3135","v":0},{"$f":"Method_input!$D$65*B3135+Method_input!$D$64*Input_series!AG3131+Method_input!$D$65*F3135","v":0}]
[3125,0,0,0,0,0,0,0,0,0,16,12,16,12,0,0,0,12,0,12,0,0,16,12,null,0,{"$f":"Method_input!$D$65*B3142+Method_input!$D$64*Input_series!AG3138+Method_input!$D$65*C3142+Method_input!$D$65*D3142+Method_input!$D$65*E3142+Method_input!$D$65*F3142","v":0},{"$f":"Method_input!$D$65*B3142+Method_input!$D$64*Input_series!AG3138+Method_input!$D$65*F3142","v":0}]
[3135,0,0,1.2259796000000001E-3,0,0,0,0,0,0,15.64,12,21.674482758620691,18.03448275862069,0.73013126775714299,0.44862284373757144,8.2512787804630001,12,0,12,5.1121930000000004,3.140072,15.639247817294887,12.000276618736169,null,8.2522650000000013,{"$f":"Method_input!$D$65*B3152+Method_input!$D$64*Input_series!AG3148+Method_input!$D$65*C3152+Method_input!$D$65*D3152+Method_input!$D$65*E3152+Method_input!$D$65*F3152","v":1.2259796000000001E-3},{"$f":"Method_input!$D$65*B3152+Method_input!$D$64*Input_series!AG3148+Method_input!$D$65*F3152","v":0}]
[3139,4.8435619735258735,0,6.5131659999999997E-4,0,0.2421780986762937,0,0,0,0,16,12,22.03448275862069,12,0.17161546075714287,0,1.2013082253,12,50,4,1.203163,0,15.995341492835662,12,null,1.203163,{"$f":"Method_input!$D$65*B3156+Method_input!$D$64*Input_series!AG3152+Method_input!$D$65*C3156+Method_input!$D$65*D3156+Method_input!$D$65*E3156+Method_input!$D$65*F3156","v":5.0863913888021672},{"$f":"Method_input!$D$65*B3156+Method_input!$D$64*Input_series!AG3152+Method_input!$D$65*F3156","v":5.0857400722021673}]
[3144,0,0,0,0,0,0,0,0,0,16,12,16,12,0,0,0,12,0,12,0,0,16,12,null,0,{"$f":"Method_input!$D$65*B3161+Method_input!$D$64*Input_series!AG3157+Method_input!$D$65*C3161+Method_input!$D$65*D3161+Method_input!$D$65*E3161+Method_input!$D$65*F3161","v":0},{"$f":"Method_input!$D$65*B3161+Method_input!$D$64*Input_series!AG3157+Method_input!$D$65*F3161","v":0}]
[3153,0,0,1.2259796000000001E-3,0,0,0,0,0,0,16,12,22.03448275862069,18.03448275862069,0.51816399861428575,0.18444055802328574,4.9182318964630003,12,0,12,3.627939,1.2907960000000001,15.999341998946649,12.000672831861829,null,4.9187349999999999,{"$f":"Method_input!$D$65*B3170+Method_input!$D$64*Input_series!AG3166+Method_input!$D$65*C3170+Method_input!$D$65*D3170+Method_input!$D$65*E3170+Method_input!$D$65*F3170","v":1.2259796000000001E-3},{"$f":"Method_input!$D$65*B3170+Method_input!$D$64*Input_series!AG3166+Method_input!$D$65*F3170","v":0}]
[3161,0,0,1.2259796000000001E-3,0,0,0,0,0,0,16,12,22.03448275862069,18.03448275862069,0.30029359818571427,0.19520370088042854,3.4684810934629997,12,0,12,2.1040109999999999,1.3661379999999999,15.997192671703258,12.000635733254503,null,3.4701489999999997,{"$f":"Method_input!$D$65*B3178+Method_input!$D$64*Input_series!AG3174+Method_input!$D$65*C3178+Method_input!$D$65*D3178+Method_input!$D$65*E3178+Method_input!$D$65*F3178","v":1.2259796000000001E-3},{"$f":"Method_input!$D$65*B3178+Method_input!$D$64*Input_series!AG3174+Method_input!$D$65*F3178","v":0}]
[3170,0,0,0,0,0,0,0,0,0,16,12,16,12,0,0,0,12,0,12,0,0,16,12,null,0,{"$f":"Method_input!$D$65*B3187+Method_input!$D$64*Input_series!AG3183+Method_input!$D$65*C3187+Method_input!$D$65*D3187+Method_input!$D$65*E3187+Method_input!$D$65*F3187","v":0},{"$f":"Method_input!$D$65*B3187+Method_input!$D$64*Input_series!AG3183+Method_input!$D$65*F3187","v":0}]
[3178,0,0,1.2259796000000001E-3,0,0,0,0,0,0,16,12,22.03448275862069,18.03448275862069,0.40888971495714288,0.29294141516614286,4.9128179108629997,12,0,12,2.8628079999999998,2.0503020000000003,15.999388593146286,12.000423625604395,null,4.9131099999999996,{"$f":"Method_input!$D$65*B3195+Method_input!$D$64*Input_series!AG3191+Method_input!$D$65*C3195+Method_input!$D$65*D3195+Method_input!$D$65*E3195+Method_input!$D$65*F3195","v":1.2259796000000001E-3},{"$f":"Method_input!$D$65*B3195+Method_input!$D$64*Input_series!AG3191+Method_input!$D$65*F3195","v":0}]
[3184,0,0,1.2259796000000001E-3,0,0,0,0,0,0,13.64,12,19.674482758620691,18.03448275862069,0.30196071155714277,0.27285598659471427,4.0237168870629993,12,0,12,2.1137689999999996,1.9097039999999998,13.639937164838758,12.000454809460479,null,4.0234729999999992,{"$f":"Method_input!$D$65*B3201+Method_input!$D$64*Input_series!AG3197+Method_input!$D$65*C3201+Method_input!$D$65*D3201+Method_input!$D$65*E3201+Method_input!$D$65*F3201","v":1.2259796000000001E-3},{"$f":"Method_input!$D$65*B3201+Method_input!$D$64*Input_series!AG3197+Method_input!$D$65*F3201","v":0}]
[3195,0,0,0,0,0,0,0,0,0,16,12,16,12,0,0,0,12,0,12,0,0,16,12,null,0,{"$f":"Method_input!$D$65*B3212+Method_input!$D$64*Input_series!AG3208+Method_input!$D$65*C3212+Method_input!$D$65*D3212+Method_input!$D$65*E3212+Method_input!$D$65*F3212","v":0},{"$f":"Method_input!$D$65*B3212+Method_input!$D$64*Input_series!AG3208+Method_input!$D$65*F3212","v":0}]
[3204,0,0,0,0,0,0,0,0,0,16,12,16,12,0,0,0,12,0,12,0,0,16,12,null,0,{"$f":"Method_input!$D$65*B3221+Method_input!$D$64*Input_series!AG3217+Method_input!$D$65*C3221+Method_input!$D$65*D3221+Method_input!$D$65*E3221+Method_input!$D$65*F3221","v":0},{"$f":"Method_input!$D$65*B3221+Method_input!$D$64*Input_series!AG3217+Method_input!$D$65*F3221","v":0}]
[3207,0,0,0,0,0,0,0,0,0,14.519999999999998,12,14.519999999999998,12,0,0,0,12,0,12,0,0,14.519999999999998,12,null,0,{"$f":"Method_input!$D$65*B3224+Method_input!$D$64*Input_series!AG3220+Method_input!$D$65*C3224+Method_input!$D$65*D3224+Method_input!$D$65*E3224+Method_input!$D$65*F3224","v":0},{"$f":"Method_input!$D$65*B3224+Method_input!$D$64*Input_series!AG3220+Method_input!$D$65*F3224","v":0}]
[3213,0,0,0,0,0,0,0,0,0,16,12,16,12,0,0,0,12,0,12,0,0,16,12,null,0,{"$f":"Method_input!$D$65*B3230+Method_input!$D$64*Input_series!AG3226+Method_input!$D$65*C3230+Method_input!$D$65*D3230+Method_input!$D$65*E3230+Method_input!$D$65*F3230","v":0},{"$f":"Method_input!$D$65*B3230+Method_input!$D$64*Input_series!AG3226+Method_input!$D$65*F3230","v":0}]
[3221,0,0,0,0,0,0,0,0,0,16,12,16,12,0,0,0,12,0,12,0,0,16,12,null,0,{"$f":"Method_input!$D$65*B3238+Method_input!$D$64*Input_series!AG3234+Method_input!$D$65*C3238+Method_input!$D$65*D3238+Method_input!$D$65*E3238+Method_input!$D$65*F3238","v":0},{"$f":"Method_input!$D$65*B3238+Method_input!$D$64*Input_series!AG3234+Method_input!$D$65*F3238","v":0}]
[3230,0,0,0,0,0,0,0,0,0,14.84,12,14.84,12,0,0,0,12,0,12,0,0,14.84,12,null,0,{"$f":"Method_input!$D$65*B3247+Method_input!$D$64*Input_series!AG3243+Method_input!$D$65*C3247+Method_input!$D$65*D3247+Method_input!$D$65*E3247+Method_input!$D$65*F3247","v":0},{"$f":"Method_input!$D$65*B3247+Method_input!$D$64*Input_series!AG3243+Method_input!$D$65*F3247","v":0}]
[3235,0,0,0,0,0,0,0,0,0,14.6,12,14.6,12,0,0,0,12,0,12,0,0,14.6,12,null,0,{"$f":"Method_input!$D$65*B3252+Method_input!$D$64*Input_series!AG3248+Method_input!$D$65*C3252+Method_input!$D$65*D3252+Method_input!$D$65*E3252+Method_input!$D$65*F3252","v":0},{"$f":"Method_input!$D$65*B3252+Method_input!$D$64*Input_series!AG3248+Method_input!$D$65*F3252","v":0}]
[3247,3.7048538078388711E-2,0,6.5131659999999997E-4,0,1.8524269039194357E-3,0,0,0,0,16,12,22.03448275862069,12,0.20459772118571426,0,1.4321840482999999,12,0.93166176638301013,12,1.4107989999999999,0,16.045052765882918,12,null,1.4107989999999999,{"$f":"Method_input!$D$65*B3264+Method_input!$D$64*Input_series!AG3260+Method_input!$D$65*C3264+Method_input!$D$65*D3264+Method_input!$D$65*E3264+Method_input!$D$65*F3264","v":3.9552281582308148E-2},{"$f":"Method_input!$D$65*B3264+Method_input!$D$64*Input_series!AG3260+Method_input!$D$65*F3264","v":3.8900964982308148E-2}]
[3252,0,0,1.5310321999999999E-3,0,0,0,0,0,0,14.280000000000001,12,20.314482758620692,18.03448275862069,1.1702971692285715,0.49507741516614279,11.657622090762999,12,0,12,8.1938420000000001,3.4652539999999998,14.279351102258792,12.000250662785758,null,11.659096,{"$f":"Method_input!$D$65*B3269+Method_input!$D$64*Input_series!AG3265+Method_input!$D$65*C3269+Method_input!$D$65*D3269+Method_input!$D$65*E3269+Method_input!$D$65*F3269","v":1.5310321999999999E-3},{"$f":"Method_input!$D$65*B3269+Method_input!$D$64*Input_series!AG3265+Method_input!$D$65*F3269","v":0}]
[3264,0,0,0,0,0,0,0,0,0,16,12,16,12,0,0,0,12,0,12,0,0,16,12,null,0,{"$f":"Method_input!$D$65*B3281+Method_input!$D$64*Input_series!AG3277+Method_input!$D$65*C3281+Method_input!$D$65*D3281+Method_input!$D$65*E3281+Method_input!$D$65*F3281","v":0},{"$f":"Method_input!$D$65*B3281+Method_input!$D$64*Input_series!AG3277+Method_input!$D$65*F3281","v":0}]
[3266,0,0,0,0,0,0,0,0,0,16,12,16,12,0,0,0,12,0,12,0,0,16,12,null,0,{"$f":"Method_input!$D$65*B3283+Method_input!$D$64*Input_series!AG3279+Method_input!$D$65*C3283+Method_input!$D$65*D3283+Method_input!$D$65*E3283+Method_input!$D$65*F3283","v":0},{"$f":"Method_input!$D$65*B3283+Method_input!$D$64*Input_series!AG3279+Method_input!$D$65*F3283","v":0}]
[3273,0,0,1.2259796000000001E-3,0,0,0,0,0,0,15.719999999999999,12,21.754482758620689,18.03448275862069,0.9542028944714287,0.33433927230900001,9.0197951674630001,12,0,12,6.6809669999999999,2.340087,15.719301304031479,12.000371172322039,null,9.0210539999999995,{"$f":"Method_input!$D$65*B3290+Method_input!$D$64*Input_series!AG3286+Method_input!$D$65*C3290+Method_input!$D$65*D3290+Method_input!$D$65*E3290+Method_input!$D$65*F3290","v":1.2259796000000001E-3},{"$f":"Method_input!$D$65*B3290+Method_input!$D$64*Input_series!AG3286+Method_input!$D$65*F3290","v":0}]
[3280,0,0,1.2259796000000001E-3,0,0,0,0,0,0,12.599999999999998,12,18.634482758620685,18.03448275862069,0.68593762702857164,0.65685141516614276,9.3995232953630001,12,0,12,4.8017370000000001,4.5976719999999993,12.599890905180832,12.00018892778669,null,9.3994089999999986,{"$f":"Method_input!$D$65*B3297+Method_input!$D$64*Input_series!AG3293+Method_input!$D$65*C3297+Method_input!$D$65*D3297+Method_input!$D$65*E3297+Method_input!$D$65*F3297","v":1.2259796000000001E-3},{"$f":"Method_input!$D$65*B3297+Method_input!$D$64*Input_series!AG3293+Method_input!$D$65*F3297","v":0}]
[3290,0,0,0,0,0,0,0,0,0,16,12,16,12,0,0,0,12,0,12,0,0,16,12,null,0,{"$f":"Method_input!$D$65*B3307+Method_input!$D$64*Input_series!AG3303+Method_input!$D$65*C3307+Method_input!$D$65*D3307+Method_input!$D$65*E3307+Method_input!$D$65*F3307","v":0},{"$f":"Method_input!$D$65*B3307+Method_input!$D$64*Input_series!AG3303+Method_input!$D$65*F3307","v":0}]
[3301,7.5320731168748142E-2,0,1.3151221E-3,0,3.7660365584374074E-3,0,0,0,0,15.24,12,21.274482758620689,18.03448275862069,1.056434993792857,0.38892184373757144,10.117497862713,12,1.1499861633799942,12,7.397322,2.7221649999999999,15.239070946862366,12.000319080776896,null,10.119486999999999,{"$f":"Method_input!$D$65*B3318+Method_input!$D$64*Input_series!AG3314+Method_input!$D$65*C3318+Method_input!$D$65*D3318+Method_input!$D$65*E3318+Method_input!$D$65*F3318","v":8.0401889827185546E-2},{"$f":"Method_input!$D$65*B3318+Method_input!$D$64*Input_series!AG3314+Method_input!$D$65*F3318","v":7.908676772718555E-2}]
[3307,0,0,6.5131659999999997E-4,0,0,0,0,0,0,16,12,22.03448275862069,12,0.48089381461428571,0,3.3662567022999998,12,0,12,3.368951,0,15.997585048548714,12,null,3.368951,{"$f":"Method_input!$D$65*B3324+Method_input!$D$64*Input_series!AG3320+Method_input!$D$65*C3324+Method_input!$D$65*D3324+Method_input!$D$65*E3324+Method_input!$D$65*F3324","v":6.5131659999999997E-4},{"$f":"Method_input!$D$65*B3324+Method_input!$D$64*Input_series!AG3320+Method_input!$D$65*F3324","v":0}]
[3315,0,0,0,0,0,0,0,0,0,16,12,16,12,0,0,0,12,0,12,0,0,16,12,null,0,{"$f":"Method_input!$D$65*B3332+Method_input!$D$64*Input_series!AG3328+Method_input!$D$65*C3332+Method_input!$D$65*D3332+Method_input!$D$65*E3332+Method_input!$D$65*F3332","v":0},{"$f":"Method_input!$D$65*B3332+Method_input!$D$64*Input_series!AG3328+Method_input!$D$65*F3332","v":0}]
[3324,0,0,1.2259796000000001E-3,0,0,0,0,0,0,12.84,12,18.87448275862069,18.03448275862069,0.60996068490000011,0.2283427008804286,5.8681237004630011,12,0,12,4.2685320000000004,1.5981110000000001,12.840842899365263,12.000543470334604,null,5.8666430000000007,{"$f":"Method_input!$D$65*B3341+Method_input!$D$64*Input_series!AG3337+Method_input!$D$65*C3341+Method_input!$D$65*D3341+Method_input!$D$65*E3341+Method_input!$D$65*F3341","v":1.2259796000000001E-3},{"$f":"Method_input!$D$65*B3341+Method_input!$D$64*Input_series!AG3337+Method_input!$D$65*F3341","v":0}]
[3325,0,0,1.2259796000000001E-3,0,0,0,0,0,0,12.36,12,18.39448275862069,18.03448275862069,0.76213478247142852,0.24201412945185716,7.0290423834629996,12,0,12,5.3349449999999994,1.693811,12.35999913881872,12.000512769582226,null,7.0287559999999996,{"$f":"Method_input!$D$65*B3342+Method_input!$D$64*Input_series!AG3338+Method_input!$D$65*C3342+Method_input!$D$65*D3342+Method_input!$D$65*E3342+Method_input!$D$65*F3342","v":1.2259796000000001E-3},{"$f":"Method_input!$D$65*B3342+Method_input!$D$64*Input_series!AG3338+Method_input!$D$65*F3342","v":0}]
[3338,0,0,0,0,0,0,0,0,0,16,12,16,12,0,0,0,12,0,12,0,0,16,12,null,0,{"$f":"Method_input!$D$65*B3355+Method_input!$D$64*Input_series!AG3351+Method_input!$D$65*C3355+Method_input!$D$65*D3355+Method_input!$D$65*E3355+Method_input!$D$65*F3355","v":0},{"$f":"Method_input!$D$65*B3355+Method_input!$D$64*Input_series!AG3351+Method_input!$D$65*F3355","v":0}]
[3342,0,0,0,0,0,0,0,0,0,16,12,16,12,0,0,0,12,0,12,0,0,16,12,null,0,{"$f":"Method_input!$D$65*B3359+Method_input!$D$64*Input_series!AG3355+Method_input!$D$65*C3359+Method_input!$D$65*D3359+Method_input!$D$65*E3359+Method_input!$D$65*F3359","v":0},{"$f":"Method_input!$D$65*B3359+Method_input!$D$64*Input_series!AG3355+Method_input!$D$65*F3359","v":0}]
[3348,0,0,1.597231E-3,0,0,0,0,0,0,14.44,12,20.474482758620688,18.03448275862069,1.2020536292857145,0.53071984373757142,12.129414311163002,12,0,12,8.4161720000000013,3.7147510000000001,14.439355773837635,12.000233828611302,null,12.130923000000001,{"$f":"Method_input!$D$65*B3365+Method_input!$D$64*Input_series!AG3361+Method_input!$D$65*C3365+Method_input!$D$65*D3365+Method_input!$D$65*E3365+Method_input!$D$65*F3365","v":1.597231E-3},{"$f":"Method_input!$D$65*B3365+Method_input!$D$64*Input_series!AG3361+Method_input!$D$65*F3365","v":0}]
[3359,0,0,0,0,0,0,0,0,0,16,12,16,12,0,0,0,12,0,12,0,0,16,12,null,0,{"$f":"Method_input!$D$65*B3376+Method_input!$D$64*Input_series!AG3372+Method_input!$D$65*C3376+Method_input!$D$65*D3376+Method_input!$D$65*E3376+Method_input!$D$65*F3376","v":0},{"$f":"Method_input!$D$65*B3376+Method_input!$D$64*Input_series!AG3372+Method_input!$D$65*F3376","v":0}]
[3369,0,0,0,0,0,0,0,0,0,16,12,16,12,0,0,0,12,0,12,0,0,16,12,null,0,{"$f":"Method_input!$D$65*B3386+Method_input!$D$64*Input_series!AG3382+Method_input!$D$65*C3386+Method_input!$D$65*D3386+Method_input!$D$65*E3386+Method_input!$D$65*F3386","v":0},{"$f":"Method_input!$D$65*B3386+Method_input!$D$64*Input_series!AG3382+Method_input!$D$65*F3386","v":0}]
[3376,0,0,0,0,0,0,0,0,0,16,12,16,12,0,0,0,12,0,12,0,0,16,12,null,0,{"$f":"Method_input!$D$65*B3393+Method_input!$D$64*Input_series!AG3389+Method_input!$D$65*C3393+Method_input!$D$65*D3393+Method_input!$D$65*E3393+Method_input!$D$65*F3393","v":0},{"$f":"Method_input!$D$65*B3393+Method_input!$D$64*Input_series!AG3389+Method_input!$D$65*F3393","v":0}]
[3383,0,0,0,0,0,0,0,0,0,16,12,16,12,0,0,0,12,0,12,0,0,16,12,null,0,{"$f":"Method_input!$D$65*B3400+Method_input!$D$64*Input_series!AG3396+Method_input!$D$65*C3400+Method_input!$D$65*D3400+Method_input!$D$65*E3400+Method_input!$D$65*F3400","v":0},{"$f":"Method_input!$D$65*B3400+Method_input!$D$64*Input_series!AG3396+Method_input!$D$65*F3400","v":0}]
[3385,0,0,0,0,0,0,0,0,0,16,12,16,12,0,0,0,12,0,12,0,0,16,12,null,0,{"$f":"Method_input!$D$65*B3402+Method_input!$D$64*Input_series!AG3398+Method_input!$D$65*C3402+Method_input!$D$65*D3402+Method_input!$D$65*E3402+Method_input!$D$65*F3402","v":0},{"$f":"Method_input!$D$65*B3402+Method_input!$D$64*Input_series!AG3398+Method_input!$D$65*F3402","v":0}]
[3397,0,0,0,0,0,0,0,0,0,16,12,16,12,0,0,0,12,0,12,0,0,16,12,null,0,{"$f":"Method_input!$D$65*B3414+Method_input!$D$64*Input_series!AG3410+Method_input!$D$65*C3414+Method_input!$D$65*D3414+Method_input!$D$65*E3414+Method_input!$D$65*F3414","v":0},{"$f":"Method_input!$D$65*B3414+Method_input!$D$64*Input_series!AG3410+Method_input!$D$65*F3414","v":0}]
[3402,0,0,0,0,0,0,0,0,0,16,12,16,12,0,0,0,12,0,12,0,0,16,12,null,0,{"$f":"Method_input!$D$65*B3419+Method_input!$D$64*Input_series!AG3415+Method_input!$D$65*C3419+Method_input!$D$65*D3419+Method_input!$D$65*E3419+Method_input!$D$65*F3419","v":0},{"$f":"Method_input!$D$65*B3419+Method_input!$D$64*Input_series!AG3415+Method_input!$D$65*F3419","v":0}]
[3414,0,0,0,0,0,0,0,0,0,16,12,16,12,0,0,0,12,0,12,0,0,16,12,null,0,{"$f":"Method_input!$D$65*B3431+Method_input!$D$64*Input_series!AG3427+Method_input!$D$65*C3431+Method_input!$D$65*D3431+Method_input!$D$65*E3431+Method_input!$D$65*F3431","v":0},{"$f":"Method_input!$D$65*B3431+Method_input!$D$64*Input_series!AG3427+Method_input!$D$65*F3431","v":0}]
[3419,0,0,1.2259796000000001E-3,0,0,0,0,0,0,16,12,22.03448275862069,18.03448275862069,0.59927137475714309,0.64021241516614269,8.6763865294630005,12,0,12,4.1965020000000006,4.4811989999999993,15.998847467706348,12.000193837984256,null,8.677700999999999,{"$f":"Method_input!$D$65*B3436+Method_input!$D$64*Input_series!AG3432+Method_input!$D$65*C3436+Method_input!$D$65*D3436+Method_input!$D$65*E3436+Method_input!$D$65*F3436","v":1.2259796000000001E-3},{"$f":"Method_input!$D$65*B3436+Method_input!$D$64*Input_series!AG3432+Method_input!$D$65*F3436","v":0}]
[3428,0,0,0,0,0,0,0,0,0,16,12,16,12,0,0,0,12,0,12,0,0,16,12,null,0,{"$f":"Method_input!$D$65*B3445+Method_input!$D$64*Input_series!AG3441+Method_input!$D$65*C3445+Method_input!$D$65*D3445+Method_input!$D$65*E3445+Method_input!$D$65*F3445","v":0},{"$f":"Method_input!$D$65*B3445+Method_input!$D$64*Input_series!AG3441+Method_input!$D$65*F3445","v":0}]
[3436,0,0,0,0,0,0,0,0,0,16,12,16,12,0,0,0,12,0,12,0,0,16,12,null,0,{"$f":"Method_input!$D$65*B3453+Method_input!$D$64*Input_series!AG3449+Method_input!$D$65*C3453+Method_input!$D$65*D3453+Method_input!$D$65*E3453+Method_input!$D$65*F3453","v":0},{"$f":"Method_input!$D$65*B3453+Method_input!$D$64*Input_series!AG3449+Method_input!$D$65*F3453","v":0}]
[3442,0,0,1.2259796000000001E-3,0,0,0,0,0,0,16,12,22.03448275862069,18.03448275862069,0.68030654632857157,0.45040441516614282,7.9149767304630014,12,0,12,4.7632690000000002,3.1525430000000001,15.999288368663349,12.000275524572746,null,7.9158120000000007,{"$f":"Method_input!$D$65*B3459+Method_input!$D$64*Input_series!AG3455+Method_input!$D$65*C3459+Method_input!$D$65*D3459+Method_input!$D$65*E3459+Method_input!$D$65*F3459","v":1.2259796000000001E-3},{"$f":"Method_input!$D$65*B3459+Method_input!$D$64*Input_series!AG3455+Method_input!$D$65*F3459","v":0}]
[3445,6.4681107099879664,0,1.2259796000000001E-3,0,0.32340553549939832,0,0,0,0,13.399999999999999,12,19.434482758620689,18.03448275862069,0.39842997371428573,0.12078988659471428,3.6345390221630001,12,50,4,2.788503,0.84524129999999997,13.400548290005334,12.001027383066168,null,3.6337443,{"$f":"Method_input!$D$65*B3462+Method_input!$D$64*Input_series!AG3458+Method_input!$D$65*C3462+Method_input!$D$65*D3462+Method_input!$D$65*E3462+Method_input!$D$65*F3462","v":6.7927422250873644},{"$f":"Method_input!$D$65*B3462+Method_input!$D$64*Input_series!AG3458+Method_input!$D$65*F3462","v":6.7915162454873652}]
[3454,0,0,0,0,0,0,0,0,0,16,12,16,12,0,0,0,12,0,12,0,0,16,12,null,0,{"$f":"Method_input!$D$65*B3471+Method_input!$D$64*Input_series!AG3467+Method_input!$D$65*C3471+Method_input!$D$65*D3471+Method_input!$D$65*E3471+Method_input!$D$65*F3471","v":0},{"$f":"Method_input!$D$65*B3471+Method_input!$D$64*Input_series!AG3467+Method_input!$D$65*F3471","v":0}]
[3465,0,0,1.2259796000000001E-3,0,0,0,0,0,0,15.08,12,21.114482758620689,18.03448275862069,0.94397275104285727,0.33026627230900002,8.9196731634630009,12,0,12,6.6090949999999999,2.3115760000000001,15.079412907375724,12.000375749794808,null,8.9206710000000005,{"$f":"Method_input!$D$65*B3482+Method_input!$D$64*Input_series!AG3478+Method_input!$D$65*C3482+Method_input!$D$65*D3482+Method_input!$D$65*E3482+Method_input!$D$65*F3482","v":1.2259796000000001E-3},{"$f":"Method_input!$D$65*B3482+Method_input!$D$64*Input_series!AG3478+Method_input!$D$65*F3482","v":0}]
[3471,8.1829121540312872,0,3.4535059999999999E-3,0,0.40914560770156438,0,0,0,0,9,10,15.03448275862069,16.03448275862069,1.8186827745000003,1.0249535580232856,19.905454327663001,9,50,4,12.729340000000001,7.1743869999999994,9.0003411481707651,10.000121076202019,null,19.903727,{"$f":"Method_input!$D$65*B3488+Method_input!$D$64*Input_series!AG3484+Method_input!$D$65*C3488+Method_input!$D$65*D3488+Method_input!$D$65*E3488+Method_input!$D$65*F3488","v":8.5955112677328511},{"$f":"Method_input!$D$65*B3488+Method_input!$D$64*Input_series!AG3484+Method_input!$D$65*F3488","v":8.5920577617328515}]
[3479,0,0,0,0,0,0,0,0,0,16,12,16,12,0,0,0,12,0,12,0,0,16,12,null,0,{"$f":"Method_input!$D$65*B3496+Method_input!$D$64*Input_series!AG3492+Method_input!$D$65*C3496+Method_input!$D$65*D3496+Method_input!$D$65*E3496+Method_input!$D$65*F3496","v":0},{"$f":"Method_input!$D$65*B3496+Method_input!$D$64*Input_series!AG3492+Method_input!$D$65*F3496","v":0}]
[3488,0,0,8.1888870000000006E-4,0,0,0,0,0,0,14.6,12,20.634482758620688,12,1.09985048305,0,7.69895338135,12,0,12,7.7004330000000003,0,14.599420133309653,12,null,7.7004330000000003,{"$f":"Method_input!$D$65*B3505+Method_input!$D$64*Input_series!AG3501+Method_input!$D$65*C3505+Method_input!$D$65*D3505+Method_input!$D$65*E3505+Method_input!$D$65*F3505","v":8.1888870000000006E-4},{"$f":"Method_input!$D$65*B3505+Method_input!$D$64*Input_series!AG3501+Method_input!$D$65*F3505","v":0}]
[3493,0,0,3.3517589999999997E-3,0,0,0,0,0,0,9,10,15.03448275862069,16.03448275862069,1.7926897925714287,0.58651455802328578,16.654430454162998,9,0,9,12.54744,4.1053139999999999,9.0003338625965554,10.000211584661207,null,16.652754000000002,{"$f":"Method_input!$D$65*B3510+Method_input!$D$64*Input_series!AG3506+Method_input!$D$65*C3510+Method_input!$D$65*D3510+Method_input!$D$65*E3510+Method_input!$D$65*F3510","v":3.3517589999999997E-3},{"$f":"Method_input!$D$65*B3510+Method_input!$D$64*Input_series!AG3506+Method_input!$D$65*F3510","v":0}]
[3505,0,0,0,0,0,0,0,0,0,16,12,16,12,0,0,0,12,0,12,0,0,16,12,null,0,{"$f":"Method_input!$D$65*B3522+Method_input!$D$64*Input_series!AG3518+Method_input!$D$65*C3522+Method_input!$D$65*D3522+Method_input!$D$65*E3522+Method_input!$D$65*F3522","v":0},{"$f":"Method_input!$D$65*B3522+Method_input!$D$64*Input_series!AG3518+Method_input!$D$65*F3522","v":0}]
[3510,0,0,0,0,0,0,0,0,0,16,12,16,12,0,0,0,12,0,12,0,0,16,12,null,0,{"$f":"Method_input!$D$65*B3527+Method_input!$D$64*Input_series!AG3523+Method_input!$D$65*C3527+Method_input!$D$65*D3527+Method_input!$D$65*E3527+Method_input!$D$65*F3527","v":0},{"$f":"Method_input!$D$65*B3527+Method_input!$D$64*Input_series!AG3523+Method_input!$D$65*F3527","v":0}]
[3514,0,0,1.6340320000000001E-3,0,0,0,0,0,0,10.919999999999998,11.919999999999998,16.954482758620689,17.954482758620689,1.2191761518571429,0.70758027230900011,13.487294969163001,10.919999999999998,0,10.919999999999998,8.534199000000001,4.9527740000000007,10.920012042827086,11.920175382905526,null,13.486973000000003,{"$f":"Method_input!$D$65*B3531+Method_input!$D$64*Input_series!AG3527+Method_input!$D$65*C3531+Method_input!$D$65*D3531+Method_input!$D$65*E3531+Method_input!$D$65*F3531","v":1.6340320000000001E-3},{"$f":"Method_input!$D$65*B3531+Method_input!$D$64*Input_series!AG3527+Method_input!$D$65*F3531","v":0}]
[3524,0,0,0,0,0,0,0,0,0,16,12,16,12,0,0,0,12,0,12,0,0,16,12,null,0,{"$f":"Method_input!$D$65*B3541+Method_input!$D$64*Input_series!AG3537+Method_input!$D$65*C3541+Method_input!$D$65*D3541+Method_input!$D$65*E3541+Method_input!$D$65*F3541","v":0},{"$f":"Method_input!$D$65*B3541+Method_input!$D$64*Input_series!AG3537+Method_input!$D$65*F3541","v":0}]
[3531,0,0,0,0,0,0,0,0,0,16,12,16,12,0,0,0,12,0,12,0,0,16,12,null,0,{"$f":"Method_input!$D$65*B3548+Method_input!$D$64*Input_series!AG3544+Method_input!$D$65*C3548+Method_input!$D$65*D3548+Method_input!$D$65*E3548+Method_input!$D$65*F3548","v":0},{"$f":"Method_input!$D$65*B3548+Method_input!$D$64*Input_series!AG3544+Method_input!$D$65*F3548","v":0}]
[3538,0,0,0,0,0,0,0,0,0,16,12,16,12,0,0,0,12,0,12,0,0,16,12,null,0,{"$f":"Method_input!$D$65*B3555+Method_input!$D$64*Input_series!AG3551+Method_input!$D$65*C3555+Method_input!$D$65*D3555+Method_input!$D$65*E3555+Method_input!$D$65*F3555","v":0},{"$f":"Method_input!$D$65*B3555+Method_input!$D$64*Input_series!AG3551+Method_input!$D$65*F3555","v":0}]
[3548,0,0,0,0,0,0,0,0,0,15.319999999999999,12,15.319999999999999,12,0,0,0,12,0,12,0,0,15.319999999999999,12,null,0,{"$f":"Method_input!$D$65*B3565+Method_input!$D$64*Input_series!AG3561+Method_input!$D$65*C3565+Method_input!$D$65*D3565+Method_input!$D$65*E3565+Method_input!$D$65*F3565","v":0},{"$f":"Method_input!$D$65*B3565+Method_input!$D$64*Input_series!AG3561+Method_input!$D$65*F3565","v":0}]
[3552,0,0,0,0,0,0,0,0,0,16,12,16,12,0,0,0,12,0,12,0,0,16,12,null,0,{"$f":"Method_input!$D$65*B3569+Method_input!$D$64*Input_series!AG3565+Method_input!$D$65*C3569+Method_input!$D$65*D3569+Method_input!$D$65*E3569+Method_input!$D$65*F3569","v":0},{"$f":"Method_input!$D$65*B3569+Method_input!$D$64*Input_series!AG3565+Method_input!$D$65*F3569","v":0}]
[3565,0,0,0,0,0,0,0,0,0,16,12,16,12,0,0,0,12,0,12,0,0,16,12,null,0,{"$f":"Method_input!$D$65*B3582+Method_input!$D$64*Input_series!AG3578+Method_input!$D$65*C3582+Method_input!$D$65*D3582+Method_input!$D$65*E3582+Method_input!$D$65*F3582","v":0},{"$f":"Method_input!$D$65*B3582+Method_input!$D$64*Input_series!AG3578+Method_input!$D$65*F3582","v":0}]
[3566,0,0,0,0,0,0,0,0,0,16,12,16,12,0,0,0,12,0,12,0,0,16,12,null,0,{"$f":"Method_input!$D$65*B3583+Method_input!$D$64*Input_series!AG3579+Method_input!$D$65*C3583+Method_input!$D$65*D3583+Method_input!$D$65*E3583+Method_input!$D$65*F3583","v":0},{"$f":"Method_input!$D$65*B3583+Method_input!$D$64*Input_series!AG3579+Method_input!$D$65*F3583","v":0}]
[3574,0,0,0,0,0,0,0,0,0,16,12,16,12,0,0,0,12,0,12,0,0,16,12,null,0,{"$f":"Method_input!$D$65*B3591+Method_input!$D$64*Input_series!AG3587+Method_input!$D$65*C3591+Method_input!$D$65*D3591+Method_input!$D$65*E3591+Method_input!$D$65*F3591","v":0},{"$f":"Method_input!$D$65*B3591+Method_input!$D$64*Input_series!AG3587+Method_input!$D$65*F3591","v":0}]
[3583,0,0,6.5131659999999997E-4,0,0,0,0,0,0,16,12,22.03448275862069,12,8.0641742614285708E-2,0,0.56449219829999997,12,0,12,0.54324289999999997,0,16.113578650520154,12,null,0.54324289999999997,{"$f":"Method_input!$D$65*B3600+Method_input!$D$64*Input_series!AG3596+Method_input!$D$65*C3600+Method_input!$D$65*D3600+Method_input!$D$65*E3600+Method_input!$D$65*F3600","v":6.5131659999999997E-4},{"$f":"Method_input!$D$65*B3600+Method_input!$D$64*Input_series!AG3596+Method_input!$D$65*F3600","v":0}]
[3589,0,0,1.2259796000000001E-3,0,0,0,0,0,0,16,12,22.03448275862069,18.03448275862069,0.6620643099000002,0.26318670088042861,6.4767570754630013,12,0,12,4.6365360000000004,1.8420190000000001,15.998642027755533,12.000471518825368,null,6.4785550000000001,{"$f":"Method_input!$D$65*B3606+Method_input!$D$64*Input_series!AG3602+Method_input!$D$65*C3606+Method_input!$D$65*D3606+Method_input!$D$65*E3606+Method_input!$D$65*F3606","v":1.2259796000000001E-3},{"$f":"Method_input!$D$65*B3606+Method_input!$D$64*Input_series!AG3602+Method_input!$D$65*F3606","v":0}]
[3600,0,0,0,0,0,0,0,0,0,16,12,16,12,0,0,0,12,0,12,0,0,16,12,null,0,{"$f":"Method_input!$D$65*B3617+Method_input!$D$64*Input_series!AG3613+Method_input!$D$65*C3617+Method_input!$D$65*D3617+Method_input!$D$65*E3617+Method_input!$D$65*F3617","v":0},{"$f":"Method_input!$D$65*B3617+Method_input!$D$64*Input_series!AG3613+Method_input!$D$65*F3617","v":0}]
[3606,0,0,0,0,0,0,0,0,0,16,12,16,12,0,0,0,12,0,12,0,0,16,12,null,0,{"$f":"Method_input!$D$65*B3623+Method_input!$D$64*Input_series!AG3619+Method_input!$D$65*C3623+Method_input!$D$65*D3623+Method_input!$D$65*E3623+Method_input!$D$65*F3623","v":0},{"$f":"Method_input!$D$65*B3623+Method_input!$D$64*Input_series!AG3619+Method_input!$D$65*F3623","v":0}]
[3617,0,0,1.2259796000000001E-3,0,0,0,0,0,0,11.64,12,17.674482758620691,18.03448275862069,0.99053952275714285,0.38065155802328571,9.5983375654629999,11.64,0,11.64,6.934571,2.6642730000000001,11.63965434167452,12.000326013335387,null,9.5988439999999997,{"$f":"Method_input!$D$65*B3634+Method_input!$D$64*Input_series!AG3630+Method_input!$D$65*C3634+Method_input!$D$65*D3634+Method_input!$D$65*E3634+Method_input!$D$65*F3634","v":1.2259796000000001E-3},{"$f":"Method_input!$D$65*B3634+Method_input!$D$64*Input_series!AG3630+Method_input!$D$65*F3634","v":0}]
[3620,6.1973525872442847,0,0,0,0.30986762936221424,0,0,0,0,14.119999999999997,12,14.119999999999997,12,0,0,0,12,50,4,0,0,14.119999999999997,12,null,0,{"$f":"Method_input!$D$65*B3637+Method_input!$D$64*Input_series!AG3633+Method_input!$D$65*C3637+Method_input!$D$65*D3637+Method_input!$D$65*E3637+Method_input!$D$65*F3637","v":6.5072202166064992},{"$f":"Method_input!$D$65*B3637+Method_input!$D$64*Input_series!AG3633+Method_input!$D$65*F3637","v":6.5072202166064992}]
[3626,0,0,0,0,0,0,0,0,0,16,12,16,12,0,0,0,12,0,12,0,0,16,12,null,0,{"$f":"Method_input!$D$65*B3643+Method_input!$D$64*Input_series!AG3639+Method_input!$D$65*C3643+Method_input!$D$65*D3643+Method_input!$D$65*E3643+Method_input!$D$65*F3643","v":0},{"$f":"Method_input!$D$65*B3643+Method_input!$D$64*Input_series!AG3639+Method_input!$D$65*F3643","v":0}]
[3634,0,0,1.4174674000000001E-3,0,0,0,0,0,0,15.48,12,21.514482758620691,18.03448275862069,1.1125891573142856,1.0466821294518571,15.114899007363,12,0,12,7.7899329999999996,7.3264870000000002,15.479299204244896,12.000118562723639,null,15.11642,{"$f":"Method_input!$D$65*B3651+Method_input!$D$64*Input_series!AG3647+Method_input!$D$65*C3651+Method_input!$D$65*D3651+Method_input!$D$65*E3651+Method_input!$D$65*F3651","v":1.4174674000000001E-3},{"$f":"Method_input!$D$65*B3651+Method_input!$D$64*Input_series!AG3647+Method_input!$D$65*F3651","v":0}]
[3643,6.1371841155234659,0,9.1075990000000001E-4,0,0.30685920577617332,0,0,0,0,14.280000000000001,12,20.314482758620692,12,1.1476428382785713,0,8.0334998679499989,12,50,4,8.0343979999999995,0,14.279662677384717,12,null,8.0343979999999995,{"$f":"Method_input!$D$65*B3660+Method_input!$D$64*Input_series!AG3656+Method_input!$D$65*C3660+Method_input!$D$65*D3660+Method_input!$D$65*E3660+Method_input!$D$65*F3660","v":6.4449540811996391},{"$f":"Method_input!$D$65*B3660+Method_input!$D$64*Input_series!AG3656+Method_input!$D$65*F3660","v":6.4440433212996391}]
[3655,0,0,6.5131659999999997E-4,0,0,0,0,0,0,16,12,22.03448275862069,12,0.69776565690000014,0,4.8843595983000005,12,0,12,4.8621600000000003,0,16.01371347568638,12,null,4.8621600000000003,{"$f":"Method_input!$D$65*B3672+Method_input!$D$64*Input_series!AG3668+Method_input!$D$65*C3672+Method_input!$D$65*D3672+Method_input!$D$65*E3672+Method_input!$D$65*F3672","v":6.5131659999999997E-4},{"$f":"Method_input!$D$65*B3672+Method_input!$D$64*Input_series!AG3668+Method_input!$D$65*F3672","v":0}]
[3660,0,0,2.7490659999999997E-3,0,0,0,0,0,0,9.64,10.64,15.674482758620691,16.674482758620691,1.6255422409428573,1.0577254151661428,18.782873592763,9.64,0,9.64,11.377979999999999,7.4037899999999999,9.6402162903201596,10.64011732485792,null,18.781769999999998,{"$f":"Method_input!$D$65*B3677+Method_input!$D$64*Input_series!AG3673+Method_input!$D$65*C3677+Method_input!$D$65*D3677+Method_input!$D$65*E3677+Method_input!$D$65*F3677","v":2.7490659999999997E-3},{"$f":"Method_input!$D$65*B3677+Method_input!$D$64*Input_series!AG3673+Method_input!$D$65*F3677","v":0}]
[3665,7.3405535499398322,0,1.5270201000000001E-3,0,0.36702767749699161,0,0,0,0,11.080000000000002,12,17.114482758620692,18.03448275862069,1.1683306793071428,0.75305898659471415,13.449727661312998,11.080000000000002,50,4,8.1787209999999995,5.2711249999999996,11.079850123306789,12.000164791186695,null,13.449845999999999,{"$f":"Method_input!$D$65*B3682+Method_input!$D$64*Input_series!AG3678+Method_input!$D$65*C3682+Method_input!$D$65*D3682+Method_input!$D$65*E3682+Method_input!$D$65*F3682","v":7.7091082475368236},{"$f":"Method_input!$D$65*B3682+Method_input!$D$64*Input_series!AG3678+Method_input!$D$65*F3682","v":7.7075812274368243}]
[3677,0,0,0,0,0,0,0,0,0,16,12,16,12,0,0,0,12,0,12,0,0,16,12,null,0,{"$f":"Method_input!$D$65*B3694+Method_input!$D$64*Input_series!AG3690+Method_input!$D$65*C3694+Method_input!$D$65*D3694+Method_input!$D$65*E3694+Method_input!$D$65*F3694","v":0},{"$f":"Method_input!$D$65*B3694+Method_input!$D$64*Input_series!AG3690+Method_input!$D$65*F3694","v":0}]
[3679,0,0,6.5131659999999997E-4,0,0,0,0,0,0,16,12,22.03448275862069,12,0.744414959757143,0,5.210904718300001,12,0,12,5.1887730000000003,0,16.012814806614195,12,null,5.1887730000000003,{"$f":"Method_input!$D$65*B3696+Method_input!$D$64*Input_series!AG3692+Method_input!$D$65*C3696+Method_input!$D$65*D3696+Method_input!$D$65*E3696+Method_input!$D$65*F3696","v":6.5131659999999997E-4},{"$f":"Method_input!$D$65*B3696+Method_input!$D$64*Input_series!AG3692+Method_input!$D$65*F3696","v":0}]
[3686,0,0.17279999999999998,1.2259796000000001E-3,0,0,1.5226423199999999,0,0,0,12.440000000000001,12,18.474482758620692,18.03448275862069,0.96515666944285705,0.23355341516614286,8.3909705922630007,12,0,12,5.1572149999999999,1.6345860000000001,12.440047897396189,12.000531345191263,null,8.3144433200000005,{"$f":"Method_input!$D$65*B3703+Method_input!$D$64*Input_series!AG3699+Method_input!$D$65*C3703+Method_input!$D$65*D3703+Method_input!$D$65*E3703+Method_input!$D$65*F3703","v":0.17402597959999999},{"$f":"Method_input!$D$65*B3703+Method_input!$D$64*Input_series!AG3699+Method_input!$D$65*F3703","v":0}]
[3700,0,0,0,0,0,0,0,0,0,16,12,16,12,0,0,0,12,0,12,0,0,16,12,null,0,{"$f":"Method_input!$D$65*B3717+Method_input!$D$64*Input_series!AG3713+Method_input!$D$65*C3717+Method_input!$D$65*D3717+Method_input!$D$65*E3717+Method_input!$D$65*F3717","v":0},{"$f":"Method_input!$D$65*B3717+Method_input!$D$64*Input_series!AG3713+Method_input!$D$65*F3717","v":0}]
[3703,0,0,0,0,0,0,0,0,0,15.319999999999999,12,15.319999999999999,12,0,0,0,12,0,12,0,0,15.319999999999999,12,null,0,{"$f":"Method_input!$D$65*B3720+Method_input!$D$64*Input_series!AG3716+Method_input!$D$65*C3720+Method_input!$D$65*D3720+Method_input!$D$65*E3720+Method_input!$D$65*F3720","v":0},{"$f":"Method_input!$D$65*B3720+Method_input!$D$64*Input_series!AG3716+Method_input!$D$65*F3720","v":0}]
[3712,0,0.51839999999999997,1.2259796000000001E-3,0,0,4.7471644799999995,1.35323244,5.8750739999999997,1.28253456,9,10,15.034482758620689,16.03448275862069,0.91514819967142869,1.073682413451857,13.921814291863001,9,0,9,0,0,9.0002923173141678,10.000115581183502,null,13.25800548,{"$f":"Method_input!$D$65*B3729+Method_input!$D$64*Input_series!AG3725+Method_input!$D$65*C3729+Method_input!$D$65*D3729+Method_input!$D$65*E3729+Method_input!$D$65*F3729","v":0.51962597960000001},{"$f":"Method_input!$D$65*B3729+Method_input!$D$64*Input_series!AG3725+Method_input!$D$65*F3729","v":0}]
[3723,0,0,0,0,0,0,0,0,0,13.559999999999999,12,13.559999999999999,12,0,0,0,12,0,12,0,0,13.559999999999999,12,null,0,{"$f":"Method_input!$D$65*B3740+Method_input!$D$64*Input_series!AG3736+Method_input!$D$65*C3740+Method_input!$D$65*D3740+Method_input!$D$65*E3740+Method_input!$D$65*F3740","v":0},{"$f":"Method_input!$D$65*B3740+Method_input!$D$64*Input_series!AG3736+Method_input!$D$65*F3740","v":0}]
[3729,0,0.51839999999999997,1.2259796000000001E-3,0,0,1.8401587199999998,9.270118799999999E-2,3.84752736,0.76634603999999995,11.319999999999997,12,17.354482758620684,18.03448275862069,0.29023152052857143,0.69212213945185719,6.8764756198629993,11.319999999999997,0,11.319999999999997,0,0,11.323145141138234,12.00017929997753,null,6.5467333080000003,{"$f":"Method_input!$D$65*B3746+Method_input!$D$64*Input_series!AG3742+Method_input!$D$65*C3746+Method_input!$D$65*D3746+Method_input!$D$65*E3746+Method_input!$D$65*F3746","v":0.51962597960000001},{"$f":"Method_input!$D$65*B3746+Method_input!$D$64*Input_series!AG3742+Method_input!$D$65*F3746","v":0}]
[3737,0,0.51839999999999997,1.2588279E-3,0,0,5.0155848000000001,2.14886628,5.3747870400000002,2.2202445599999998,9,10,15.03448275862069,16.03448275862069,1.0747165309214286,1.1392958694518573,15.498086802612999,9,0,9,0,0,9.0001371983473355,10.000108924720417,null,14.75948268,{"$f":"Method_input!$D$65*B3754+Method_input!$D$64*Input_series!AG3750+Method_input!$D$65*C3754+Method_input!$D$65*D3754+Method_input!$D$65*E3754+Method_input!$D$65*F3754","v":0.51965882789999995},{"$f":"Method_input!$D$65*B3754+Method_input!$D$64*Input_series!AG3750+Method_input!$D$65*F3754","v":0}]
[3746,0,0,0,0,0,0,0,0,0,13.159999999999998,12,13.159999999999998,12,0,0,0,12,0,12,0,0,13.159999999999998,12,null,0,{"$f":"Method_input!$D$65*B3763+Method_input!$D$64*Input_series!AG3759+Method_input!$D$65*C3763+Method_input!$D$65*D3763+Method_input!$D$65*E3763+Method_input!$D$65*F3763","v":0},{"$f":"Method_input!$D$65*B3763+Method_input!$D$64*Input_series!AG3759+Method_input!$D$65*F3763","v":0}]
[3751,0,0.17279999999999998,1.792585E-3,0,0,0,2.26720692,0,0.18022755600000001,11.719999999999999,12,17.754482758620689,18.03448275862069,1.3053270993000001,2.707526285185714E-2,9.3268165350629992,11.719999999999999,0,11.719999999999999,6.7568370000000009,0,11.719962167330587,12.004583426751228,null,9.2042714760000006,{"$f":"Method_input!$D$65*B3768+Method_input!$D$64*Input_series!AG3764+Method_input!$D$65*C3768+Method_input!$D$65*D3768+Method_input!$D$65*E3768+Method_input!$D$65*F3768","v":0.17459258499999999},{"$f":"Method_input!$D$65*B3768+Method_input!$D$64*Input_series!AG3764+Method_input!$D$65*F3768","v":0}]
[3755,7.4468085106382995,0.34559999999999996,2.7960247000000001E-2,0,0.37234042553191499,3.244444550491099,0,8.1816695999999993,0,9,10,15.034482758620689,16.03448275862069,2.2683231759957154,4.8745339668614278,55.108474656529992,9,55.108474656529992,9,12.466701845454352,25.521879999999999,9.000929900126641,10.000805089167985,null,49.414695995945451,{"$f":"Method_input!$D$65*B3772+Method_input!$D$64*Input_series!AG3768+Method_input!$D$65*C3772+Method_input!$D$65*D3772+Method_input!$D$65*E3772+Method_input!$D$65*F3772","v":8.1927091831702157},{"$f":"Method_input!$D$65*B3772+Method_input!$D$64*Input_series!AG3768+Method_input!$D$65*F3772","v":7.8191489361702144}]
[3768,0,0,0,0,0,0,0,0,0,14.919999999999998,12,14.919999999999998,12,0,0,0,12,0,12,0,0,14.919999999999998,12,null,0,{"$f":"Method_input!$D$65*B3785+Method_input!$D$64*Input_series!AG3781+Method_input!$D$65*C3785+Method_input!$D$65*D3785+Method_input!$D$65*E3785+Method_input!$D$65*F3785","v":0},{"$f":"Method_input!$D$65*B3785+Method_input!$D$64*Input_series!AG3781+Method_input!$D$65*F3785","v":0}]
[3772,0,0,0,0,0,0,0,0,0,16,12,16,12,0,0,0,12,0,12,0,0,16,12,null,0,{"$f":"Method_input!$D$65*B3789+Method_input!$D$64*Input_series!AG3785+Method_input!$D$65*C3789+Method_input!$D$65*D3789+Method_input!$D$65*E3789+Method_input!$D$65*F3789","v":0},{"$f":"Method_input!$D$65*B3789+Method_input!$D$64*Input_series!AG3785+Method_input!$D$65*F3789","v":0}]
[3782,0,0,1.2259796000000001E-3,0,0,0,0,0,0,13.88,12,19.914482758620693,18.03448275862069,0.20532762204285712,5.6545729451857145E-2,1.8331134604629999,12,0,12,1.439038,0.3955322,13.876337548502171,12.002194639369847,null,1.8345701999999999,{"$f":"Method_input!$D$65*B3799+Method_input!$D$64*Input_series!AG3795+Method_input!$D$65*C3799+Method_input!$D$65*D3799+Method_input!$D$65*E3799+Method_input!$D$65*F3799","v":1.2259796000000001E-3},{"$f":"Method_input!$D$65*B3799+Method_input!$D$64*Input_series!AG3795+Method_input!$D$65*F3799","v":0}]
[3789,0.74694941746854449,0,0,0,3.7347470873427227E-2,0,0,0,0,16,12,16,12,0,0,0,12,7.4337121666629997,4,0,0,16,12,null,0,{"$f":"Method_input!$D$65*B3806+Method_input!$D$64*Input_series!AG3802+Method_input!$D$65*C3806+Method_input!$D$65*D3806+Method_input!$D$65*E3806+Method_input!$D$65*F3806","v":0.78429688834197175},{"$f":"Method_input!$D$65*B3806+Method_input!$D$64*Input_series!AG3802+Method_input!$D$65*F3806","v":0.78429688834197175}]
[3796,0,0,0,0,0,0,0,0,0,16,12,16,12,0,0,0,12,0,12,0,0,16,12,null,0,{"$f":"Method_input!$D$65*B3813+Method_input!$D$64*Input_series!AG3809+Method_input!$D$65*C3813+Method_input!$D$65*D3813+Method_input!$D$65*E3813+Method_input!$D$65*F3813","v":0},{"$f":"Method_input!$D$65*B3813+Method_input!$D$64*Input_series!AG3809+Method_input!$D$65*F3813","v":0}]
[3806,6.5583634175691943,0.51839999999999997,2.2115620000000002E-3,0,0.32791817087845976,5.1982524000000003,1.4959562399999997,2.13339312,0.57589883999999991,13.159999999999998,12,19.194482758620687,18.03448275862069,1.4988056793571429,0.55930578059471425,14.406780219663,12,50,4,3.4632350000000001,1.0700959999999999,13.159852090134427,12.000221877706895,null,13.936831600000001,{"$f":"Method_input!$D$65*B3823+Method_input!$D$64*Input_series!AG3819+Method_input!$D$65*C3823+Method_input!$D$65*D3823+Method_input!$D$65*E3823+Method_input!$D$65*F3823","v":7.4068931504476545},{"$f":"Method_input!$D$65*B3823+Method_input!$D$64*Input_series!AG3819+Method_input!$D$65*F3823","v":6.8862815884476536}]
[3810,0,0,1.948125E-3,0,0,0,0,0,0,14.280000000000001,12,20.314482758620692,18.03448275862069,1.3526293279428572,0.51221355802328572,13.053900201763,12,0,12,9.4675519999999995,3.585207,14.280271914721935,12.000242276843531,null,13.052759,{"$f":"Method_input!$D$65*B3827+Method_input!$D$64*Input_series!AG3823+Method_input!$D$65*C3827+Method_input!$D$65*D3827+Method_input!$D$65*E3827+Method_input!$D$65*F3827","v":1.948125E-3},{"$f":"Method_input!$D$65*B3827+Method_input!$D$64*Input_series!AG3823+Method_input!$D$65*F3827","v":0}]
[3815,0,0,0,0,0,0,0,0,0,16,12,16,12,0,0,0,12,0,12,0,0,16,12,null,0,{"$f":"Method_input!$D$65*B3832+Method_input!$D$64*Input_series!AG3828+Method_input!$D$65*C3832+Method_input!$D$65*D3832+Method_input!$D$65*E3832+Method_input!$D$65*F3832","v":0},{"$f":"Method_input!$D$65*B3832+Method_input!$D$64*Input_series!AG3828+Method_input!$D$65*F3832","v":0}]
[3824,0,0,9.1705499999999995E-4,0,0,0,0,0,0,15.719999999999999,12,21.754482758620689,12,1.1508095882142857,0,8.0556671174999988,12,0,12,8.0575989999999997,0,15.719276415505513,12,null,8.0575989999999997,{"$f":"Method_input!$D$65*B3841+Method_input!$D$64*Input_series!AG3837+Method_input!$D$65*C3841+Method_input!$D$65*D3841+Method_input!$D$65*E3841+Method_input!$D$65*F3841","v":9.1705499999999995E-4},{"$f":"Method_input!$D$65*B3841+Method_input!$D$64*Input_series!AG3837+Method_input!$D$65*F3841","v":0}]
[3832,0,0.17279999999999998,6.2028790000000006E-3,0,0,3.5790631199999994,0,0,0,10.36,11.36,16.39448275862069,17.39448275862069,1.933916247557143,2.3285587099324285,29.837324702427001,10.36,0,10.36,9.7783510000000007,16.29843,10.360233236061381,11.360274139076386,null,29.655844119999998,{"$f":"Method_input!$D$65*B3849+Method_input!$D$64*Input_series!AG3845+Method_input!$D$65*C3849+Method_input!$D$65*D3849+Method_input!$D$65*E3849+Method_input!$D$65*F3849","v":0.17900287899999998},{"$f":"Method_input!$D$65*B3849+Method_input!$D$64*Input_series!AG3845+Method_input!$D$65*F3849","v":0}]
[3841,0,0,0,0,0,0,0,0,0,16,12,16,12,0,0,0,12,0,12,0,0,16,12,null,{"$f":"SUM(G3858:J3858,U3858:V3858)","v":0},{"$f":"Method_input!$D$65*B3858+Method_input!$D$64*Input_series!AG3854+Method_input!$D$65*C3858+Method_input!$D$65*D3858+Method_input!$D$65*E3858+Method_input!$D$65*F3858","v":0},{"$f":"Method_input!$D$65*B3858+Method_input!$D$64*Input_series!AG3854+Method_input!$D$65*F3858","v":0}]
[3847,0,8.6399999999999991E-2,6.5131659999999997E-4,0,0,0,1.2527280000000001,0,0,13.959999999999999,12,19.994482758620691,12,0.36139115588999998,0,2.52973809123,12,0,12,1.214126,0,13.960295423558287,12,null,2.4668540000000001,{"$f":"Method_input!$D$65*B3864+Method_input!$D$64*Input_series!AG3860+Method_input!$D$65*C3864+Method_input!$D$65*D3864+Method_input!$D$65*E3864+Method_input!$D$65*F3864","v":8.7051316599999984E-2},{"$f":"Method_input!$D$65*B3864+Method_input!$D$64*Input_series!AG3860+Method_input!$D$65*F3864","v":0}]
[3858,0,0,1.2259796000000001E-3,0,0,0,0,0,0,16,12,22.03448275862069,18.03448275862069,0.97985208547142877,0.38525212945185705,9.5557295044630006,12,0,12,6.8619650000000005,2.6964769999999998,15.998680130793206,12.000322120176801,null,9.5584419999999994,{"$f":"Method_input!$D$65*B3875+Method_input!$D$64*Input_series!AG3871+Method_input!$D$65*C3875+Method_input!$D$65*D3875+Method_input!$D$65*E3875+Method_input!$D$65*F3875","v":1.2259796000000001E-3},{"$f":"Method_input!$D$65*B3875+Method_input!$D$64*Input_series!AG3871+Method_input!$D$65*F3875","v":0}]
[3864,0,0,0,0,0,0,0,0,0,16,12,16,12,0,0,0,12,0,12,0,0,16,12,null,0,{"$f":"Method_input!$D$65*B3881+Method_input!$D$64*Input_series!AG3877+Method_input!$D$65*C3881+Method_input!$D$65*D3881+Method_input!$D$65*E3881+Method_input!$D$65*F3881","v":0},{"$f":"Method_input!$D$65*B3881+Method_input!$D$64*Input_series!AG3877+Method_input!$D$65*F3881","v":0}]
[3867,4.57280385078219,0.51839999999999997,1.4217793999999999E-3,0,0.2286401925391095,5.3634448799999994,2.44417536,3.7035604799999993,1.52435772,16,12,22.03448275862069,18.03448275862069,1.1706314231714285,0.78422885945185716,13.684021978362999,12,50,4,0,0,15.998681344643586,12.000158241414551,null,13.035538439999998,{"$f":"Method_input!$D$65*B3884+Method_input!$D$64*Input_series!AG3880+Method_input!$D$65*C3884+Method_input!$D$65*D3884+Method_input!$D$65*E3884+Method_input!$D$65*F3884","v":5.3212658227212994},{"$f":"Method_input!$D$65*B3884+Method_input!$D$64*Input_series!AG3880+Method_input!$D$65*F3884","v":4.8014440433212995}]
[3878,4.3622141997593271,0.51839999999999997,1.2259796000000001E-3,0,0.21811070998796636,2.16160416,0.83843855999999994,1.3368225599999999,0.41000651999999993,16,12,22.03448275862069,18.03448275862069,0.44944687004285705,0.2620654914518572,4.9805865304629995,12,50,4,0,0,15.996243691545954,12.000473536150693,null,4.7468717999999992,{"$f":"Method_input!$D$65*B3895+Method_input!$D$64*Input_series!AG3891+Method_input!$D$65*C3895+Method_input!$D$65*D3895+Method_input!$D$65*E3895+Method_input!$D$65*F3895","v":5.0999508893472933},{"$f":"Method_input!$D$65*B3895+Method_input!$D$64*Input_series!AG3891+Method_input!$D$65*F3895","v":4.5803249097472936}]
[3884,0,0,0,0,0,0,0,0,0,16,12,16,12,0,0,0,12,0,12,0,0,16,12,null,0,{"$f":"Method_input!$D$65*B3901+Method_input!$D$64*Input_series!AG3897+Method_input!$D$65*C3901+Method_input!$D$65*D3901+Method_input!$D$65*E3901+Method_input!$D$65*F3901","v":0},{"$f":"Method_input!$D$65*B3901+Method_input!$D$64*Input_series!AG3897+Method_input!$D$65*F3901","v":0}]
[3892,0,0,0,0,0,0,0,0,0,16,12,16,12,0,0,0,12,0,12,0,0,16,12,null,0,{"$f":"Method_input!$D$65*B3909+Method_input!$D$64*Input_series!AG3905+Method_input!$D$65*C3909+Method_input!$D$65*D3909+Method_input!$D$65*E3909+Method_input!$D$65*F3909","v":0},{"$f":"Method_input!$D$65*B3909+Method_input!$D$64*Input_series!AG3905+Method_input!$D$65*F3909","v":0}]
[3901,0,0,0,0,0,0,0,0,0,16,12,16,12,0,0,0,12,0,12,0,0,16,12,null,0,{"$f":"Method_input!$D$65*B3918+Method_input!$D$64*Input_series!AG3914+Method_input!$D$65*C3918+Method_input!$D$65*D3918+Method_input!$D$65*E3918+Method_input!$D$65*F3918","v":0},{"$f":"Method_input!$D$65*B3918+Method_input!$D$64*Input_series!AG3914+Method_input!$D$65*F3918","v":0}]
[3906,0,0,0,0,0,0,0,0,0,16,12,16,12,0,0,0,12,0,12,0,0,16,12,null,0,{"$f":"Method_input!$D$65*B3923+Method_input!$D$64*Input_series!AG3919+Method_input!$D$65*C3923+Method_input!$D$65*D3923+Method_input!$D$65*E3923+Method_input!$D$65*F3923","v":0},{"$f":"Method_input!$D$65*B3923+Method_input!$D$64*Input_series!AG3919+Method_input!$D$65*F3923","v":0}]
[3918,0,0,0,0,0,0,0,0,0,16,12,16,12,0,0,0,12,0,12,0,0,16,12,null,0,{"$f":"Method_input!$D$65*B3935+Method_input!$D$64*Input_series!AG3931+Method_input!$D$65*C3935+Method_input!$D$65*D3935+Method_input!$D$65*E3935+Method_input!$D$65*F3935","v":0},{"$f":"Method_input!$D$65*B3935+Method_input!$D$64*Input_series!AG3931+Method_input!$D$65*F3935","v":0}]
[3923,0,0,1.2259796000000001E-3,0,0,0,0,0,0,16,12,22.03448275862069,18.03448275862069,0.28633938632857142,0.32028927230900001,4.2464006104630005,12,0,12,2.0064380000000002,2.2417370000000001,15.996895570072484,12.000387454388207,null,4.2481749999999998,{"$f":"Method_input!$D$65*B3940+Method_input!$D$64*Input_series!AG3936+Method_input!$D$65*C3940+Method_input!$D$65*D3940+Method_input!$D$65*E3940+Method_input!$D$65*F3940","v":1.2259796000000001E-3},{"$f":"Method_input!$D$65*B3940+Method_input!$D$64*Input_series!AG3936+Method_input!$D$65*F3940","v":0}]
[3927,0,0.17279999999999998,1.4829471999999999E-3,0,0,1.79321832,0,0,0,16,12,22.03448275862069,18.03448275862069,1.1592027193000001,0.80315155802328575,13.736479941263001,12,0,12,6.2331670000000008,5.6217730000000001,15.999394946469156,12.000154513158584,null,13.64815832,{"$f":"Method_input!$D$65*B3944+Method_input!$D$64*Input_series!AG3940+Method_input!$D$65*C3944+Method_input!$D$65*D3944+Method_input!$D$65*E3944+Method_input!$D$65*F3944","v":0.17428294719999998},{"$f":"Method_input!$D$65*B3944+Method_input!$D$64*Input_series!AG3940+Method_input!$D$65*F3944","v":0}]
[3937,0,0,0,0,0,0,0,0,0,16,12,16,12,0,0,0,12,0,12,0,0,16,12,null,0,{"$f":"Method_input!$D$65*B3954+Method_input!$D$64*Input_series!AG3950+Method_input!$D$65*C3954+Method_input!$D$65*D3954+Method_input!$D$65*E3954+Method_input!$D$65*F3954","v":0},{"$f":"Method_input!$D$65*B3954+Method_input!$D$64*Input_series!AG3950+Method_input!$D$65*F3954","v":0}]
[3944,0,0,6.5131659999999997E-4,0,0,0,0,0,0,16,12,22.03448275862069,12,7.4937294042857122E-2,0,0.52456105829999988,12,0,12,0.50351539999999995,0,16.121053269343662,12,null,0.50351539999999995,{"$f":"Method_input!$D$65*B3961+Method_input!$D$64*Input_series!AG3957+Method_input!$D$65*C3961+Method_input!$D$65*D3961+Method_input!$D$65*E3961+Method_input!$D$65*F3961","v":6.5131659999999997E-4},{"$f":"Method_input!$D$65*B3961+Method_input!$D$64*Input_series!AG3957+Method_input!$D$65*F3961","v":0}]
[3951,3.5355452143477204,0,1.4658231999999998E-3,0,0.17677726071738603,0,0,0,0,15.399999999999999,12,21.434482758620689,18.03448275862069,1.1376985140142857,0.98620227230900004,14.867305504262999,12,30.926716559189003,4,7.9657979999999995,6.9031279999999997,15.399276972751805,12.000125833703223,null,14.868925999999998,{"$f":"Method_input!$D$65*B3968+Method_input!$D$64*Input_series!AG3964+Method_input!$D$65*C3968+Method_input!$D$65*D3968+Method_input!$D$65*E3968+Method_input!$D$65*F3968","v":3.7137882982651065},{"$f":"Method_input!$D$65*B3968+Method_input!$D$64*Input_series!AG3964+Method_input!$D$65*F3968","v":3.7123224750651063}]
[3961,0,0,0,0,0,0,0,0,0,16,12,16,12,0,0,0,12,0,12,0,0,16,12,null,0,{"$f":"Method_input!$D$65*B3978+Method_input!$D$64*Input_series!AG3974+Method_input!$D$65*C3978+Method_input!$D$65*D3978+Method_input!$D$65*E3978+Method_input!$D$65*F3978","v":0},{"$f":"Method_input!$D$65*B3978+Method_input!$D$64*Input_series!AG3974+Method_input!$D$65*F3978","v":0}]
[3970,0,0.17279999999999998,1.603665E-3,0,0,4.1839682400000004,0,0,0,16,12,22.03448275862069,18.03448275862069,1.2349592855714289,0.58695155802328558,12.753375905163001,12,0,12,4.2538370000000008,4.1083729999999994,15.999201197664089,12.000211427131175,null,12.54617824,{"$f":"Method_input!$D$65*B3987+Method_input!$D$64*Input_series!AG3983+Method_input!$D$65*C3987+Method_input!$D$65*D3987+Method_input!$D$65*E3987+Method_input!$D$65*F3987","v":0.17440366499999999},{"$f":"Method_input!$D$65*B3987+Method_input!$D$64*Input_series!AG3983+Method_input!$D$65*F3987","v":0}]
[3974,0.12961030367549933,0.17279999999999998,1.620589E-3,0,6.4805151837749667E-3,4.0276022400000002,0,0,0,16,12,22.03448275862069,18.03448275862069,1.2417322317142858,0.23746312945185713,10.354367528163001,12,2.7028490156719984,12,4.4646180000000006,1.6619539999999999,15.999488086508086,12.000522596852564,null,10.154174240000001,{"$f":"Method_input!$D$65*B3991+Method_input!$D$64*Input_series!AG3987+Method_input!$D$65*C3991+Method_input!$D$65*D3991+Method_input!$D$65*E3991+Method_input!$D$65*F3991","v":0.31051140785927428},{"$f":"Method_input!$D$65*B3991+Method_input!$D$64*Input_series!AG3987+Method_input!$D$65*F3991","v":0.13609081885927429}]
[3987,0,0,0,0,0,0,0,0,0,16,12,16,12,0,0,0,12,0,12,0,0,16,12,null,0,{"$f":"Method_input!$D$65*B4004+Method_input!$D$64*Input_series!AG4000+Method_input!$D$65*C4004+Method_input!$D$65*D4004+Method_input!$D$65*E4004+Method_input!$D$65*F4004","v":0},{"$f":"Method_input!$D$65*B4004+Method_input!$D$64*Input_series!AG4000+Method_input!$D$65*F4004","v":0}]
[3988,0,0,0,0,0,0,0,0,0,16,12,16,12,0,0,0,12,0,12,0,0,16,12,null,0,{"$f":"Method_input!$D$65*B4005+Method_input!$D$64*Input_series!AG4001+Method_input!$D$65*C4005+Method_input!$D$65*D4005+Method_input!$D$65*E4005+Method_input!$D$65*F4005","v":0},{"$f":"Method_input!$D$65*B4005+Method_input!$D$64*Input_series!AG4001+Method_input!$D$65*F4005","v":0}]
[3996,0,0,1.2259796000000001E-3,0,0,0,0,0,0,16,12,22.03448275862069,18.03448275862069,0.84008039089999997,0.56959327230899992,9.8677156424630006,12,0,12,5.8824319999999997,3.9868649999999999,15.999040904750549,12.00021787034729,null,9.8692969999999995,{"$f":"Method_input!$D$65*B4013+Method_input!$D$64*Input_series!AG4009+Method_input!$D$65*C4013+Method_input!$D$65*D4013+Method_input!$D$65*E4013+Method_input!$D$65*F4013","v":1.2259796000000001E-3},{"$f":"Method_input!$D$65*B4013+Method_input!$D$64*Input_series!AG4009+Method_input!$D$65*F4013","v":0}]
[4009,0,0,0,0,0,0,0,0,0,16,12,16,12,0,0,0,12,0,12,0,0,16,12,null,0,{"$f":"Method_input!$D$65*B4026+Method_input!$D$64*Input_series!AG4022+Method_input!$D$65*C4026+Method_input!$D$65*D4026+Method_input!$D$65*E4026+Method_input!$D$65*F4026","v":0},{"$f":"Method_input!$D$65*B4026+Method_input!$D$64*Input_series!AG4022+Method_input!$D$65*F4026","v":0}]
[4013,0,0,0,0,0,0,0,0,0,16,12,16,12,0,0,0,12,0,12,0,0,16,12,null,0,{"$f":"Method_input!$D$65*B4030+Method_input!$D$64*Input_series!AG4026+Method_input!$D$65*C4030+Method_input!$D$65*D4030+Method_input!$D$65*E4030+Method_input!$D$65*F4030","v":0},{"$f":"Method_input!$D$65*B4030+Method_input!$D$64*Input_series!AG4026+Method_input!$D$65*F4030","v":0}]
[4019,0,0,1.6175203E-3,0,0,0,0,0,0,16,12,22.03448275862069,18.03448275862069,1.0576413883357143,1.4307469068208003,17.4187180660956,12,0,12,7.4058739999999998,10.014790000000001,15.999028302391441,12.00013205899163,null,17.420664000000002,{"$f":"Method_input!$D$65*B4036+Method_input!$D$64*Input_series!AG4032+Method_input!$D$65*C4036+Method_input!$D$65*D4036+Method_input!$D$65*E4036+Method_input!$D$65*F4036","v":1.6175203E-3},{"$f":"Method_input!$D$65*B4036+Method_input!$D$64*Input_series!AG4032+Method_input!$D$65*F4036","v":0}]
[4030,0,0,0,0,0,0,0,0,0,16,12,16,12,0,0,0,12,0,12,0,0,16,12,null,0,{"$f":"Method_input!$D$65*B4047+Method_input!$D$64*Input_series!AG4043+Method_input!$D$65*C4047+Method_input!$D$65*D4047+Method_input!$D$65*E4047+Method_input!$D$65*F4047","v":0},{"$f":"Method_input!$D$65*B4047+Method_input!$D$64*Input_series!AG4043+Method_input!$D$65*F4047","v":0}]
[4033,0,0,0,0,0,0,0,0,0,16,12,16,12,0,0,0,12,0,12,0,0,16,12,null,{"$f":"SUM(G4050:J4050,U4050:V4050)","v":0},{"$f":"Method_input!$D$65*B4050+Method_input!$D$64*Input_series!AG4046+Method_input!$D$65*C4050+Method_input!$D$65*D4050+Method_input!$D$65*E4050+Method_input!$D$65*F4050","v":0},{"$f":"Method_input!$D$65*B4050+Method_input!$D$64*Input_series!AG4046+Method_input!$D$65*F4050","v":0}]
[4047,0,0.17279999999999998,6.5131659999999997E-4,0,0,0.80894879999999991,0,0,0,11.959999999999997,12,17.994482758620688,12,0.12155789032857141,0,0.85090523229999993,11.959999999999997,0,11.959999999999997,0,0,11.965350765086155,12,null,0.80894879999999991,{"$f":"Method_input!$D$65*B4064+Method_input!$D$64*Input_series!AG4060+Method_input!$D$65*C4064+Method_input!$D$65*D4064+Method_input!$D$65*E4064+Method_input!$D$65*F4064","v":0.17345131659999999},{"$f":"Method_input!$D$65*B4064+Method_input!$D$64*Input_series!AG4060+Method_input!$D$65*F4064","v":0}]
[4054,0,0,0,0,0,0,0,0,0,16,12,16,12,0,0,0,12,0,12,0,0,16,12,null,0,{"$f":"Method_input!$D$65*B4071+Method_input!$D$64*Input_series!AG4067+Method_input!$D$65*C4071+Method_input!$D$65*D4071+Method_input!$D$65*E4071+Method_input!$D$65*F4071","v":0},{"$f":"Method_input!$D$65*B4071+Method_input!$D$64*Input_series!AG4067+Method_input!$D$65*F4071","v":0}]
[4056,0,0,0,0,0,0,0,0,0,16,12,16,12,0,0,0,12,0,12,0,0,16,12,null,0,{"$f":"Method_input!$D$65*B4073+Method_input!$D$64*Input_series!AG4069+Method_input!$D$65*C4073+Method_input!$D$65*D4073+Method_input!$D$65*E4073+Method_input!$D$65*F4073","v":0},{"$f":"Method_input!$D$65*B4073+Method_input!$D$64*Input_series!AG4069+Method_input!$D$65*F4073","v":0}]
[4068,0,0,0,0,0,0,0,0,0,10.440000000000001,11.440000000000001,10.440000000000001,11.440000000000001,0,0,0,10.440000000000001,0,10.440000000000001,0,0,10.440000000000001,11.440000000000001,null,0,{"$f":"Method_input!$D$65*B4085+Method_input!$D$64*Input_series!AG4081+Method_input!$D$65*C4085+Method_input!$D$65*D4085+Method_input!$D$65*E4085+Method_input!$D$65*F4085","v":0},{"$f":"Method_input!$D$65*B4085+Method_input!$D$64*Input_series!AG4081+Method_input!$D$65*F4085","v":0}]
[4073,3.4545876846300749,0.43199999999999994,1.2259796000000001E-3,0,0.17272938423150375,2.9974644000000001,0.43460280000000001,3.6221774400000002,0,9,10,15.03448275862069,16.03448275862069,0.5150211260428571,0.54336774545185718,7.4087221004629997,9,20.954469824288996,4,0,0,9.0012364091903194,10.000228385812537,null,7.0542446400000003,{"$f":"Method_input!$D$65*B4090+Method_input!$D$64*Input_series!AG4086+Method_input!$D$65*C4090+Method_input!$D$65*D4090+Method_input!$D$65*E4090+Method_input!$D$65*F4090","v":4.0605430484615788},{"$f":"Method_input!$D$65*B4090+Method_input!$D$64*Input_series!AG4086+Method_input!$D$65*F4090","v":3.6273170688615788}]
[4078,0,0,0,0,0,0,0,0,0,15.319999999999999,12,15.319999999999999,12,0,0,0,12,0,12,0,0,15.319999999999999,12,null,0,{"$f":"Method_input!$D$65*B4095+Method_input!$D$64*Input_series!AG4091+Method_input!$D$65*C4095+Method_input!$D$65*D4095+Method_input!$D$65*E4095+Method_input!$D$65*F4095","v":0},{"$f":"Method_input!$D$65*B4095+Method_input!$D$64*Input_series!AG4091+Method_input!$D$65*F4095","v":0}]
[4090,0,0.17279999999999998,2.9941361999999997E-3,0,0,1.9282377599999998,0,0,0,10.440000000000001,11.440000000000001,16.474482758620692,17.474482758620692,1.6608609604571427,1.3424178905104567,21.022951956773198,10.440000000000001,0,10.440000000000001,9.6006160000000005,9.3965509999999988,10.440197517831406,11.440120161967295,null,20.925404759999999,{"$f":"Method_input!$D$65*B4107+Method_input!$D$64*Input_series!AG4103+Method_input!$D$65*C4107+Method_input!$D$65*D4107+Method_input!$D$65*E4107+Method_input!$D$65*F4107","v":0.17579413619999998},{"$f":"Method_input!$D$65*B4107+Method_input!$D$64*Input_series!AG4103+Method_input!$D$65*F4107","v":0}]
[4099,0,0.17279999999999998,6.2911400000000006E-3,0,0,0,2.3623952400000001,0,1.1385280799999999,9,10,15.03448275862069,16.03448275862069,2.4098933200714283,0.17082034145185715,18.064995630662999,9,0,9,14.385879999999998,0,9.0005112256808992,10.000726479545685,null,17.886803319999999,{"$f":"Method_input!$D$65*B4116+Method_input!$D$64*Input_series!AG4112+Method_input!$D$65*C4116+Method_input!$D$65*D4116+Method_input!$D$65*E4116+Method_input!$D$65*F4116","v":0.17909113999999998},{"$f":"Method_input!$D$65*B4116+Method_input!$D$64*Input_series!AG4112+Method_input!$D$65*F4116","v":0}]
[4105,0,0,0,0,0,0,0,0,0,14.44,12,14.44,12,0,0,0,12,0,12,0,0,14.44,12,null,0,{"$f":"Method_input!$D$65*B4122+Method_input!$D$64*Input_series!AG4118+Method_input!$D$65*C4122+Method_input!$D$65*D4122+Method_input!$D$65*E4122+Method_input!$D$65*F4122","v":0},{"$f":"Method_input!$D$65*B4122+Method_input!$D$64*Input_series!AG4118+Method_input!$D$65*F4122","v":0}]
[4108,0,0,0,0,0,0,0,0,0,15.88,12,15.88,12,0,0,0,12,0,12,0,0,15.88,12,null,0,{"$f":"Method_input!$D$65*B4125+Method_input!$D$64*Input_series!AG4121+Method_input!$D$65*C4125+Method_input!$D$65*D4125+Method_input!$D$65*E4125+Method_input!$D$65*F4125","v":0},{"$f":"Method_input!$D$65*B4125+Method_input!$D$64*Input_series!AG4121+Method_input!$D$65*F4125","v":0}]
[4122,9.5968712394705182,0.51839999999999997,8.2863859999999998E-3,0,0.47984356197352596,5.1441667199999999E-2,1.59979896,0.81660239999999995,1.56070548,9,10,15.034482758620689,16.03448275862069,2.7093469314371426,1.1361768828804284,26.918666700222996,9,50,4,17.22777,5.4567769999999998,9.0006134353810339,10.000109223736128,null,26.713095507199998,{"$f":"Method_input!$D$65*B4139+Method_input!$D$64*Input_series!AG4135+Method_input!$D$65*C4139+Method_input!$D$65*D4139+Method_input!$D$65*E4139+Method_input!$D$65*F4139","v":10.603401187444044},{"$f":"Method_input!$D$65*B4139+Method_input!$D$64*Input_series!AG4135+Method_input!$D$65*F4139","v":10.076714801444044}]
[4125,0,0.51839999999999997,1.2259796000000001E-3,0,0,3.6500558399999998,1.7856486,3.6038836799999996,1.3813930800000001,9,10,15.03448275862069,16.03448275862069,0.81540218861428582,0.74783264345185707,10.942643824463001,9,0,9,0,0,9.0001721481237809,10.000165942855181,null,10.4209812,{"$f":"Method_input!$D$65*B4142+Method_input!$D$64*Input_series!AG4138+Method_input!$D$65*C4142+Method_input!$D$65*D4142+Method_input!$D$65*E4142+Method_input!$D$65*F4142","v":0.51962597960000001},{"$f":"Method_input!$D$65*B4142+Method_input!$D$64*Input_series!AG4138+Method_input!$D$65*F4142","v":0}]
[4136,0,0.17279999999999998,1.7735909999999999E-3,0,0,0,1.67777208,0,1.08874728,11.48,12,17.514482758620691,18.03448275862069,1.2930361468571427,0.16335322145185716,10.194725578163,11.48,0,11.48,7.2900450000000001,0,11.479849106813216,12.000759688011959,null,10.056564359999999,{"$f":"Method_input!$D$65*B4153+Method_input!$D$64*Input_series!AG4149+Method_input!$D$65*C4153+Method_input!$D$65*D4153+Method_input!$D$65*E4153+Method_input!$D$65*F4153","v":0.17457359099999997},{"$f":"Method_input!$D$65*B4153+Method_input!$D$64*Input_series!AG4149+Method_input!$D$65*F4153","v":0}]
[4142,8.0926594464500603,0.51839999999999997,7.2201219999999998E-3,0,0.40463297232250306,3.5639172000000001,0.88951427999999999,5.2219562399999999,2.0931937199999999,9.0799999999999983,10.079999999999998,15.114482758620689,16.114482758620689,2.4715998610914278,1.6862314037565711,29.104818853935996,9.0799999999999983,50,4,12.622129999999999,4.1221009999999998,9.0805172507629219,10.08015627796793,null,28.512812439999998,{"$f":"Method_input!$D$65*B4159+Method_input!$D$64*Input_series!AG4155+Method_input!$D$65*C4159+Method_input!$D$65*D4159+Method_input!$D$65*E4159+Method_input!$D$65*F4159","v":9.0229125407725626},{"$f":"Method_input!$D$65*B4159+Method_input!$D$64*Input_series!AG4155+Method_input!$D$65*F4159","v":8.4972924187725631}]
[4150,0,0.34559999999999996,1.2259796000000001E-3,0,0,0,2.1879691199999999E-2,0.56798114399999999,0.46518300000000001,14.36,12,20.39448275862069,18.03448275862069,3.3372333128571432E-3,0.15501575105185714,1.1084708905530001,12,0,12,0,0,14.409979123439486,12.00080054757797,null,1.0550438352,{"$f":"Method_input!$D$65*B4167+Method_input!$D$64*Input_series!AG4163+Method_input!$D$65*C4167+Method_input!$D$65*D4167+Method_input!$D$65*E4167+Method_input!$D$65*F4167","v":0.34682597959999995},{"$f":"Method_input!$D$65*B4167+Method_input!$D$64*Input_series!AG4163+Method_input!$D$65*F4167","v":0}]
[4159,0,0.17279999999999998,1.916126E-3,0,0,0,0.126519624,0,1.8078400799999998E-2,14.759999999999998,12,20.794482758620688,18.03448275862069,1.3408369566714284,2.7528895718571425E-3,9.4051289237029998,12,0,12,9.2295859999999994,0,14.767531030687211,12.045078990933881,null,9.3741840247999999,{"$f":"Method_input!$D$65*B4176+Method_input!$D$64*Input_series!AG4172+Method_input!$D$65*C4176+Method_input!$D$65*D4176+Method_input!$D$65*E4176+Method_input!$D$65*F4176","v":0.17471612599999997},{"$f":"Method_input!$D$65*B4176+Method_input!$D$64*Input_series!AG4172+Method_input!$D$65*F4176","v":0}]
[4164,1.6950111706578854,0.25919999999999999,1.6807072000000001E-3,0,8.4750558532894274E-2,0,0,3.6999950399999997,0.70792919999999993,11.16,12,17.194482758620687,18.03448275862069,1.1429316226357142,1.3973365519449574,17.781877222064701,11.16,16.860713217764694,11.16,8.0009870000000003,5.1526450000000006,11.159824392325245,12.000120429733389,null,17.561556240000002,{"$f":"Method_input!$D$65*B4181+Method_input!$D$64*Input_series!AG4177+Method_input!$D$65*C4181+Method_input!$D$65*D4181+Method_input!$D$65*E4181+Method_input!$D$65*F4181","v":2.04064243639078},{"$f":"Method_input!$D$65*B4181+Method_input!$D$64*Input_series!AG4177+Method_input!$D$65*F4181","v":1.7797617291907797}]
[4168,6.8415530295915801,0.34559999999999996,1.0950798000000001E-2,0,0.34207765147957903,6.3636537599999992,0,4.9532702399999993,0,10.36,11.36,16.39448275862069,17.39448275862069,2.3517452574857147,3.0717483665215717,37.964455368051006,10.36,44.943324644984997,4,9.7783510000000007,16.29843,10.360371945779992,11.360403400170597,null,37.393704999999997,{"$f":"Method_input!$D$65*B4185+Method_input!$D$64*Input_series!AG4181+Method_input!$D$65*C4185+Method_input!$D$65*D4185+Method_input!$D$65*E4185+Method_input!$D$65*F4185","v":7.5401814790711592},{"$f":"Method_input!$D$65*B4185+Method_input!$D$64*Input_series!AG4181+Method_input!$D$65*F4185","v":7.1836306810711594}]
[4181,0,0,0,0,0,0,0,0,0,16,12,16,12,0,0,0,12,0,12,0,0,16,12,null,0,{"$f":"Method_input!$D$65*B4198+Method_input!$D$64*Input_series!AG4194+Method_input!$D$65*C4198+Method_input!$D$65*D4198+Method_input!$D$65*E4198+Method_input!$D$65*F4198","v":0},{"$f":"Method_input!$D$65*B4198+Method_input!$D$64*Input_series!AG4194+Method_input!$D$65*F4198","v":0}]
[4185,0,0.17279999999999998,1.2259796000000001E-3,0,0,0.40031668800000003,0,0,0,13,12,19.03448275862069,18.03448275862069,0.61906174698571437,0.17432670088042859,5.5537191350630009,12,0,12,3.9130579999999999,1.2199990000000001,13.000029039009021,12.00071186733544,null,5.5333736879999993,{"$f":"Method_input!$D$65*B4202+Method_input!$D$64*Input_series!AG4198+Method_input!$D$65*C4202+Method_input!$D$65*D4202+Method_input!$D$65*E4202+Method_input!$D$65*F4202","v":0.17402597959999999},{"$f":"Method_input!$D$65*B4202+Method_input!$D$64*Input_series!AG4198+Method_input!$D$65*F4202","v":0}]
[4195,0,0.17279999999999998,3.2898750000000003E-3,0,0,0,2.6570645999999996,0,4.4542295999999997,10.36,11.36,16.39448275862069,17.39448275862069,1.7955784952714284,0.66817556945185708,17.246278453062999,10.36,0,10.36,9.7783510000000007,0,10.36018739443767,11.360185725862669,null,16.8896452,{"$f":"Method_input!$D$65*B4212+Method_input!$D$64*Input_series!AG4208+Method_input!$D$65*C4212+Method_input!$D$65*D4212+Method_input!$D$65*E4212+Method_input!$D$65*F4212","v":0.17608987499999998},{"$f":"Method_input!$D$65*B4212+Method_input!$D$64*Input_series!AG4208+Method_input!$D$65*F4212","v":0}]
[4202,0,0,0,0,0,0,0,0,0,16,12,16,12,0,0,0,12,0,12,0,0,16,12,null,0,{"$f":"Method_input!$D$65*B4219+Method_input!$D$64*Input_series!AG4215+Method_input!$D$65*C4219+Method_input!$D$65*D4219+Method_input!$D$65*E4219+Method_input!$D$65*F4219","v":0},{"$f":"Method_input!$D$65*B4219+Method_input!$D$64*Input_series!AG4215+Method_input!$D$65*F4219","v":0}]
[4209,0.20169986305479304,0.51839999999999997,1.856784E-3,0,1.0084993152739653E-2,6.3047584799999994,2.9069089200000002,5.4012693599999997,2.4357610800000002,11.399999999999999,12,17.434482758620689,18.03448275862069,1.3816962356428573,1.1755956954518569,17.901043517662998,11.399999999999999,2.0733773874499928,11.399999999999999,0,0,11.3998823533455,12.000105561363087,null,17.048697839999999,{"$f":"Method_input!$D$65*B4226+Method_input!$D$64*Input_series!AG4222+Method_input!$D$65*C4226+Method_input!$D$65*D4226+Method_input!$D$65*E4226+Method_input!$D$65*F4226","v":0.73204164020753271},{"$f":"Method_input!$D$65*B4226+Method_input!$D$64*Input_series!AG4222+Method_input!$D$65*F4226","v":0.21178485620753268}]
[4219,0,0,0,0,0,0,0,0,0,12.84,12,12.84,12,0,0,0,12,0,12,0,0,12.84,12,null,0,{"$f":"Method_input!$D$65*B4236+Method_input!$D$64*Input_series!AG4232+Method_input!$D$65*C4236+Method_input!$D$65*D4236+Method_input!$D$65*E4236+Method_input!$D$65*F4236","v":0},{"$f":"Method_input!$D$65*B4236+Method_input!$D$64*Input_series!AG4232+Method_input!$D$65*F4236","v":0}]
[4223,0,0,0,0,0,0,0,0,0,13.64,12,13.64,12,0,0,0,12,0,12,0,0,13.64,12,null,0,{"$f":"Method_input!$D$65*B4240+Method_input!$D$64*Input_series!AG4236+Method_input!$D$65*C4240+Method_input!$D$65*D4240+Method_input!$D$65*E4240+Method_input!$D$65*F4240","v":0},{"$f":"Method_input!$D$65*B4240+Method_input!$D$64*Input_series!AG4236+Method_input!$D$65*F4240","v":0}]
[4228,5.5354993983152827,0.51839999999999997,1.2259796000000001E-3,0,0.27677496991576417,0.6125562,0.22369701599999997,0.67508078399999993,0.25190279999999998,15.88,12,21.914482758620689,18.03448275862069,0.1253367195857143,0.1390886670518571,1.850977706463,12,50,4,0,0,15.877562291765269,12.000892218515585,null,1.7632368,{"$f":"Method_input!$D$65*B4245+Method_input!$D$64*Input_series!AG4241+Method_input!$D$65*C4245+Method_input!$D$65*D4245+Method_input!$D$65*E4245+Method_input!$D$65*F4245","v":6.3319003478310467},{"$f":"Method_input!$D$65*B4245+Method_input!$D$64*Input_series!AG4241+Method_input!$D$65*F4245","v":5.8122743682310469}]
[4237,6.3778580024067395,0.51839999999999997,1.2259796000000001E-3,0,0.318892900120337,1.2336998400000001,0.45288143999999997,1.21880232,0.44705267999999998,13.64,12,19.674482758620691,18.03448275862069,0.25275250232857144,0.24991937945185716,3.5187031724630002,12,50,4,0,0,13.637198384263629,12.00049655006476,null,3.35243628,{"$f":"Method_input!$D$65*B4254+Method_input!$D$64*Input_series!AG4250+Method_input!$D$65*C4254+Method_input!$D$65*D4254+Method_input!$D$65*E4254+Method_input!$D$65*F4254","v":7.2163768821270766},{"$f":"Method_input!$D$65*B4254+Method_input!$D$64*Input_series!AG4250+Method_input!$D$65*F4254","v":6.6967509025270768}]
[4246,0,0,0,0,0,0,0,0,0,14.44,12,14.44,12,0,0,0,12,0,12,0,0,14.44,12,null,0,{"$f":"Method_input!$D$65*B4263+Method_input!$D$64*Input_series!AG4259+Method_input!$D$65*C4263+Method_input!$D$65*D4263+Method_input!$D$65*E4263+Method_input!$D$65*F4263","v":0},{"$f":"Method_input!$D$65*B4263+Method_input!$D$64*Input_series!AG4259+Method_input!$D$65*F4263","v":0}]
[4254,0,0,0,0,0,0,0,0,0,15.959999999999999,12,15.959999999999999,12,0,0,0,12,0,12,0,0,15.959999999999999,12,null,0,{"$f":"Method_input!$D$65*B4271+Method_input!$D$64*Input_series!AG4267+Method_input!$D$65*C4271+Method_input!$D$65*D4271+Method_input!$D$65*E4271+Method_input!$D$65*F4271","v":0},{"$f":"Method_input!$D$65*B4271+Method_input!$D$64*Input_series!AG4267+Method_input!$D$65*F4271","v":0}]
[4260,7.9422382671480154,0.17279999999999998,3.0144218999999996E-3,0,0.39711191335740081,0,0,1.3375475999999999,0,9.48,10.48,15.514482758620689,16.514482758620687,1.6763457857571431,1.2922158172284144,20.779931220898902,9.48,50,4,11.733450000000001,7.640752,9.4802495422474191,10.480111323282461,null,20.711749600000001,{"$f":"Method_input!$D$65*B4277+Method_input!$D$64*Input_series!AG4273+Method_input!$D$65*C4277+Method_input!$D$65*D4277+Method_input!$D$65*E4277+Method_input!$D$65*F4277","v":8.5151646024054166},{"$f":"Method_input!$D$65*B4277+Method_input!$D$64*Input_series!AG4273+Method_input!$D$65*F4277","v":8.3393501805054164}]
[4271,0,0,0,0,0,0,0,0,0,15.48,12,15.48,12,0,0,0,12,0,12,0,0,15.48,12,null,0,{"$f":"Method_input!$D$65*B4288+Method_input!$D$64*Input_series!AG4284+Method_input!$D$65*C4288+Method_input!$D$65*D4288+Method_input!$D$65*E4288+Method_input!$D$65*F4288","v":0},{"$f":"Method_input!$D$65*B4288+Method_input!$D$64*Input_series!AG4284+Method_input!$D$65*F4288","v":0}]
[4277,0.36022576332095929,0.51839999999999997,1.2259796000000001E-3,0,1.8011288166047964E-2,3.3435244800000001,1.5218334,2.1312381599999997,0.7525587600000001,15.319999999999999,12,21.354482758620687,18.03448275862069,0.72970696847142891,0.43261066745185706,8.1362234514630014,12,5.5494239214309937,12,0,0,15.31960010240692,12.000286857198374,null,7.7491548000000003,{"$f":"Method_input!$D$65*B4294+Method_input!$D$64*Input_series!AG4290+Method_input!$D$65*C4294+Method_input!$D$65*D4294+Method_input!$D$65*E4294+Method_input!$D$65*F4294","v":0.89786303108700727},{"$f":"Method_input!$D$65*B4294+Method_input!$D$64*Input_series!AG4290+Method_input!$D$65*F4294","v":0.37823705148700726}]
[4288,5.8965102286401931,0.34559999999999996,8.1672110000000006E-3,0,0.29482551143200969,4.8114316800000001,0,5.08276152,0,14.919999999999998,12,20.954482758620689,18.03448275862069,2.0233497275714285,2.8077639177175717,33.817795517023001,12,50,4,9.1121560000000006,14.315160000000001,14.919848499139835,12.000351216411861,null,33.321509200000001,{"$f":"Method_input!$D$65*B4305+Method_input!$D$64*Input_series!AG4301+Method_input!$D$65*C4305+Method_input!$D$65*D4305+Method_input!$D$65*E4305+Method_input!$D$65*F4305","v":6.5451029510722032},{"$f":"Method_input!$D$65*B4305+Method_input!$D$64*Input_series!AG4301+Method_input!$D$65*F4305","v":6.1913357400722031}]
[4291,0,0.17279999999999998,1.4846873E-3,0,0,0,0.70106327999999996,0,0.46784087999999996,15.48,12,21.514482758620687,18.03448275862069,1.1522794807357144,7.0217261451857138E-2,8.557477195313,12,0,12,7.3321339999999999,0,15.479141851341581,12.001767335858531,null,8.5010381600000002,{"$f":"Method_input!$D$65*B4308+Method_input!$D$64*Input_series!AG4304+Method_input!$D$65*C4308+Method_input!$D$65*D4308+Method_input!$D$65*E4308+Method_input!$D$65*F4308","v":0.17428468729999999},{"$f":"Method_input!$D$65*B4308+Method_input!$D$64*Input_series!AG4304+Method_input!$D$65*F4308","v":0}]
[4297,0,0,0,0,0,0,0,0,0,15.959999999999999,12,15.959999999999999,12,0,0,0,12,0,12,0,0,15.959999999999999,12,null,0,{"$f":"Method_input!$D$65*B4314+Method_input!$D$64*Input_series!AG4310+Method_input!$D$65*C4314+Method_input!$D$65*D4314+Method_input!$D$65*E4314+Method_input!$D$65*F4314","v":0},{"$f":"Method_input!$D$65*B4314+Method_input!$D$64*Input_series!AG4310+Method_input!$D$65*F4314","v":0}]
[4305,0,0,1.2259796000000001E-3,0,0,0,0,0,0,13.559999999999999,12,19.594482758620689,18.03448275862069,0.33386730175714274,9.9375215166142852E-2,3.0326976184629997,12,0,12,2.3386799999999996,0.69533860000000003,13.557922869134124,12.001248777009884,null,3.0340185999999996,{"$f":"Method_input!$D$65*B4322+Method_input!$D$64*Input_series!AG4318+Method_input!$D$65*C4322+Method_input!$D$65*D4322+Method_input!$D$65*E4322+Method_input!$D$65*F4322","v":1.2259796000000001E-3},{"$f":"Method_input!$D$65*B4322+Method_input!$D$64*Input_series!AG4318+Method_input!$D$65*F4322","v":0}]
[4314,7.551143200962696,0,1.931688E-3,0,0.37755716004813483,0,0,0,0,10.52,11.52,16.55448275862069,17.55448275862069,1.3461298092285714,0.43661570088042856,12.479218570762999,10.52,50,4,9.4228749999999994,3.056022,10.520010779497897,11.520284225885147,null,12.478897,{"$f":"Method_input!$D$65*B4331+Method_input!$D$64*Input_series!AG4327+Method_input!$D$65*C4331+Method_input!$D$65*D4331+Method_input!$D$65*E4331+Method_input!$D$65*F4331","v":7.9306320490108311},{"$f":"Method_input!$D$65*B4331+Method_input!$D$64*Input_series!AG4327+Method_input!$D$65*F4331","v":7.9287003610108311}]
[4319,0,0,0,0,0,0,0,0,0,15.159999999999998,12,15.159999999999998,12,0,0,0,12,0,12,0,0,15.159999999999998,12,null,0,{"$f":"Method_input!$D$65*B4336+Method_input!$D$64*Input_series!AG4332+Method_input!$D$65*C4336+Method_input!$D$65*D4336+Method_input!$D$65*E4336+Method_input!$D$65*F4336","v":0},{"$f":"Method_input!$D$65*B4336+Method_input!$D$64*Input_series!AG4332+Method_input!$D$65*F4336","v":0}]
[4331,0,0.17279999999999998,2.1744346E-3,0,0,0,0,2.42205264,0,12.04,12,18.07448275862069,18.03448275862069,0.86368754971428574,1.8030269077311427,18.667001202118001,12,0,12,6.0458909999999992,10.07727,12.039960997229949,12.000182423625862,null,18.54521364,{"$f":"Method_input!$D$65*B4348+Method_input!$D$64*Input_series!AG4344+Method_input!$D$65*C4348+Method_input!$D$65*D4348+Method_input!$D$65*E4348+Method_input!$D$65*F4348","v":0.17497443459999998},{"$f":"Method_input!$D$65*B4348+Method_input!$D$64*Input_series!AG4344+Method_input!$D$65*F4348","v":0}]
[4336,7.7617328519855606,0.34559999999999996,1.1659895E-2,0,0.38808664259927805,6.3192427200000001,0,3.4724195999999998,0,9.9599999999999973,10.959999999999997,15.994482758620688,16.994482758620684,2.4721126101714286,3.0612236540742863,38.733353849720004,9.9599999999999973,50,4,10.66703,17.77965,9.9604452103012893,10.960404813120512,null,38.238342320000001,{"$f":"Method_input!$D$65*B4353+Method_input!$D$64*Input_series!AG4349+Method_input!$D$65*C4353+Method_input!$D$65*D4353+Method_input!$D$65*E4353+Method_input!$D$65*F4353","v":8.5070793895848382},{"$f":"Method_input!$D$65*B4353+Method_input!$D$64*Input_series!AG4349+Method_input!$D$65*F4353","v":8.1498194945848379}]
[4348,0,0,0,0,0,0,0,0,0,16,12,16,12,0,0,0,12,0,12,0,0,16,12,null,0,{"$f":"Method_input!$D$65*B4365+Method_input!$D$64*Input_series!AG4361+Method_input!$D$65*C4365+Method_input!$D$65*D4365+Method_input!$D$65*E4365+Method_input!$D$65*F4365","v":0},{"$f":"Method_input!$D$65*B4365+Method_input!$D$64*Input_series!AG4361+Method_input!$D$65*F4365","v":0}]
[4350,0,0.25919999999999999,6.5131659999999997E-4,0,0,2.2434940800000001,0.80514180000000002,0,0,16,12,22.03448275862069,12,0.46051523747142858,0,3.2236066622999999,12,0,12,0,0,16.021096112296167,12,null,3.04863588,{"$f":"Method_input!$D$65*B4367+Method_input!$D$64*Input_series!AG4363+Method_input!$D$65*C4367+Method_input!$D$65*D4367+Method_input!$D$65*E4367+Method_input!$D$65*F4367","v":0.25985131659999999},{"$f":"Method_input!$D$65*B4367+Method_input!$D$64*Input_series!AG4363+Method_input!$D$65*F4367","v":0}]
[4357,0,8.6399999999999991E-2,1.5839319999999999E-3,0,0,0,0.54731951999999995,0,0,11.239999999999998,12,17.274482758620689,18.03448275862069,1.1996845286142854,0.36046741516614283,10.921063606462999,11.239999999999998,0,11.239999999999998,7.8232539999999995,2.5229840000000001,11.239946898504076,12.000344268244037,null,10.893557519999998,{"$f":"Method_input!$D$65*B4374+Method_input!$D$64*Input_series!AG4370+Method_input!$D$65*C4374+Method_input!$D$65*D4374+Method_input!$D$65*E4374+Method_input!$D$65*F4374","v":8.7983931999999987E-2},{"$f":"Method_input!$D$65*B4374+Method_input!$D$64*Input_series!AG4370+Method_input!$D$65*F4374","v":0}]
[4366,0,0.25919999999999999,6.5131659999999997E-4,0,0,0.126295992,5.4613835999999999E-2,0,0,13.24,12,19.274482758620689,12,2.7234241557142855E-2,0,0.19063969089999999,12,0,12,0,0,13.250831501031461,12,null,0.18090982799999999,{"$f":"Method_input!$D$65*B4383+Method_input!$D$64*Input_series!AG4379+Method_input!$D$65*C4383+Method_input!$D$65*D4383+Method_input!$D$65*E4383+Method_input!$D$65*F4383","v":0.25985131659999999},{"$f":"Method_input!$D$65*B4383+Method_input!$D$64*Input_series!AG4379+Method_input!$D$65*F4383","v":0}]
[4373,0.10146453124482881,0.51839999999999997,1.2259796000000001E-3,0,5.073226562241441E-3,3.6608428799999997,2.0706530400000003,3.4442013599999997,1.8067748399999999,16,12,22.03448275862069,18.03448275862069,0.85929091075714292,0.78768755945185709,11.528849291463001,12,1.9066411915237058,12,0,0,15.99847792469609,12.000157546583747,null,10.982472119999999,{"$f":"Method_input!$D$65*B4390+Method_input!$D$64*Input_series!AG4386+Method_input!$D$65*C4390+Method_input!$D$65*D4390+Method_input!$D$65*E4390+Method_input!$D$65*F4390","v":0.62616373740707021},{"$f":"Method_input!$D$65*B4390+Method_input!$D$64*Input_series!AG4386+Method_input!$D$65*F4390","v":0.10653775780707025}]
[4383,0,0.51839999999999997,1.2259796000000001E-3,0,0,3.0096417599999996,1.4283183599999998,2.9121919200000002,1.3427045999999998,15.24,12,21.274482758620692,18.03448275862069,0.66556489475714287,0.63827560745185707,9.1268835154629997,12,0,12,0,0,15.239414638610828,12.000194426173589,null,8.6928566399999987,{"$f":"Method_input!$D$65*B4400+Method_input!$D$64*Input_series!AG4396+Method_input!$D$65*C4400+Method_input!$D$65*D4400+Method_input!$D$65*E4400+Method_input!$D$65*F4400","v":0.51962597960000001},{"$f":"Method_input!$D$65*B4400+Method_input!$D$64*Input_series!AG4396+Method_input!$D$65*F4400","v":0}]
[4387,5.8062575210589662,0,0,0,0.29031287605294831,0,0,0,0,15.159999999999998,12,15.159999999999998,12,0,0,0,12,50,4,0,0,15.159999999999998,12,null,0,{"$f":"Method_input!$D$65*B4404+Method_input!$D$64*Input_series!AG4400+Method_input!$D$65*C4404+Method_input!$D$65*D4404+Method_input!$D$65*E4404+Method_input!$D$65*F4404","v":6.0965703971119147},{"$f":"Method_input!$D$65*B4404+Method_input!$D$64*Input_series!AG4400+Method_input!$D$65*F4404","v":6.0965703971119147}]
[4400,0,0,0,0,0,0,0,0,0,15.08,12,15.08,12,0,0,0,12,0,12,0,0,15.08,12,null,0,{"$f":"Method_input!$D$65*B4417+Method_input!$D$64*Input_series!AG4413+Method_input!$D$65*C4417+Method_input!$D$65*D4417+Method_input!$D$65*E4417+Method_input!$D$65*F4417","v":0},{"$f":"Method_input!$D$65*B4417+Method_input!$D$64*Input_series!AG4413+Method_input!$D$65*F4417","v":0}]
[4408,0,0.25919999999999999,6.5131659999999997E-4,0,0,2.2810852800000001,0.59312880000000001,0,0,14.44,12,20.474482758620688,12,0.43444893747142854,0,3.0411425623000001,12,0,12,0,0,14.463035303339884,12,null,2.8742140800000002,{"$f":"Method_input!$D$65*B4425+Method_input!$D$64*Input_series!AG4421+Method_input!$D$65*C4425+Method_input!$D$65*D4425+Method_input!$D$65*E4425+Method_input!$D$65*F4425","v":0.25985131659999999},{"$f":"Method_input!$D$65*B4425+Method_input!$D$64*Input_series!AG4421+Method_input!$D$65*F4425","v":0}]
[4409,0,0.43199999999999994,1.2259796000000001E-3,0,0,0.85881024000000006,0,3.98977848,1.4220417599999999,14.119999999999997,12,20.154482758620688,18.03448275862069,0.12879279158571427,0.81181416545185703,6.584248699263,12,0,12,0,0,14.119326601783071,12.000152864398446,null,6.2706304800000003,{"$f":"Method_input!$D$65*B4426+Method_input!$D$64*Input_series!AG4422+Method_input!$D$65*C4426+Method_input!$D$65*D4426+Method_input!$D$65*E4426+Method_input!$D$65*F4426","v":0.43322597959999992},{"$f":"Method_input!$D$65*B4426+Method_input!$D$64*Input_series!AG4422+Method_input!$D$65*F4426","v":0}]
[4422,0,0,0,0,0,0,0,0,0,16,12,16,12,0,0,0,12,0,12,0,0,16,12,null,0,{"$f":"Method_input!$D$65*B4439+Method_input!$D$64*Input_series!AG4435+Method_input!$D$65*C4439+Method_input!$D$65*D4439+Method_input!$D$65*E4439+Method_input!$D$65*F4439","v":0},{"$f":"Method_input!$D$65*B4439+Method_input!$D$64*Input_series!AG4435+Method_input!$D$65*F4439","v":0}]
[4426,0,0,1.2259796000000001E-3,0,0,0,0,0,0,14.2,12,20.23448275862069,18.03448275862069,7.6787342471428557E-2,2.2377115166142852E-2,0.69415120346299997,12,0,12,0.53939179999999998,0.15635189999999999,14.189444635286421,12.005545732018195,null,0.69574369999999996,{"$f":"Method_input!$D$65*B4443+Method_input!$D$64*Input_series!AG4439+Method_input!$D$65*C4443+Method_input!$D$65*D4443+Method_input!$D$65*E4443+Method_input!$D$65*F4443","v":1.2259796000000001E-3},{"$f":"Method_input!$D$65*B4443+Method_input!$D$64*Input_series!AG4439+Method_input!$D$65*F4443","v":0}]
[4432,0,0,1.2259796000000001E-3,0,0,0,0,0,0,12.52,12,18.55448275862069,18.03448275862069,0.71129316121428587,0.68224241516614281,9.7547490346629999,12,0,12,4.9794750000000008,4.7754089999999998,12.51974374532441,12.000181896465675,null,9.7548840000000006,{"$f":"Method_input!$D$65*B4449+Method_input!$D$64*Input_series!AG4445+Method_input!$D$65*C4449+Method_input!$D$65*D4449+Method_input!$D$65*E4449+Method_input!$D$65*F4449","v":1.2259796000000001E-3},{"$f":"Method_input!$D$65*B4449+Method_input!$D$64*Input_series!AG4445+Method_input!$D$65*F4449","v":0}]
[4443,0,0,0,0,0,0,0,0,0,16,12,16,12,0,0,0,12,0,12,0,0,16,12,null,0,{"$f":"Method_input!$D$65*B4460+Method_input!$D$64*Input_series!AG4456+Method_input!$D$65*C4460+Method_input!$D$65*D4460+Method_input!$D$65*E4460+Method_input!$D$65*F4460","v":0},{"$f":"Method_input!$D$65*B4460+Method_input!$D$64*Input_series!AG4456+Method_input!$D$65*F4460","v":0}]
[4453,0,0,1.2259796000000001E-3,0,0,0,0,0,0,12.04,12,18.07448275862069,18.03448275862069,0.86371792175714279,0.27585798659471433,7.9770313584629999,12,0,12,6.0458909999999992,1.9307180000000002,12.040067097806038,12.000449860036984,null,7.9766089999999998,{"$f":"Method_input!$D$65*B4470+Method_input!$D$64*Input_series!AG4466+Method_input!$D$65*C4470+Method_input!$D$65*D4470+Method_input!$D$65*E4470+Method_input!$D$65*F4470","v":1.2259796000000001E-3},{"$f":"Method_input!$D$65*B4470+Method_input!$D$64*Input_series!AG4466+Method_input!$D$65*F4470","v":0}]
[4460,0,0,0,0,0,0,0,0,0,12.52,12,12.52,12,0,0,0,12,0,12,0,0,12.52,12,null,0,{"$f":"Method_input!$D$65*B4477+Method_input!$D$64*Input_series!AG4473+Method_input!$D$65*C4477+Method_input!$D$65*D4477+Method_input!$D$65*E4477+Method_input!$D$65*F4477","v":0},{"$f":"Method_input!$D$65*B4477+Method_input!$D$64*Input_series!AG4473+Method_input!$D$65*F4477","v":0}]
[4467,0,0,0,0,0,0,0,0,0,16,12,16,12,0,0,0,12,0,12,0,0,16,12,null,0,{"$f":"Method_input!$D$65*B4484+Method_input!$D$64*Input_series!AG4480+Method_input!$D$65*C4484+Method_input!$D$65*D4484+Method_input!$D$65*E4484+Method_input!$D$65*F4484","v":0},{"$f":"Method_input!$D$65*B4484+Method_input!$D$64*Input_series!AG4480+Method_input!$D$65*F4484","v":0}]
[4469,0,0,0,0,0,0,0,0,0,16,12,16,12,0,0,0,12,0,12,0,0,16,12,null,0,{"$f":"Method_input!$D$65*B4486+Method_input!$D$64*Input_series!AG4482+Method_input!$D$65*C4486+Method_input!$D$65*D4486+Method_input!$D$65*E4486+Method_input!$D$65*F4486","v":0},{"$f":"Method_input!$D$65*B4486+Method_input!$D$64*Input_series!AG4482+Method_input!$D$65*F4486","v":0}]
[4481,1.2184214303904373,8.6399999999999991E-2,4.2484429999999993E-3,0,6.0921071519521863E-2,0,0,0,0.58341239999999994,9,10,15.03448275862069,16.03448275862069,2.005038127142857,0.87371356088042851,20.151261816163,9,9.0818020274036115,9,14.033430000000001,5.5031239999999997,9.0003948867207644,10.000142034517499,null,{"$f":"SUM(G4498:J4498,U4498:V4498)","v":20.119966400000003},{"$f":"Method_input!$D$65*B4498+Method_input!$D$64*Input_series!AG4494+Method_input!$D$65*C4498+Method_input!$D$65*D4498+Method_input!$D$65*E4498+Method_input!$D$65*F4498","v":1.3699909449099592},{"$f":"Method_input!$D$65*B4498+Method_input!$D$64*Input_series!AG4494+Method_input!$D$65*F4498","v":1.2793425019099591}]
[4486,0,0,0,0,0,0,0,0,0,13.64,12,13.64,12,0,0,0,12,0,12,0,0,13.64,12,null,0,{"$f":"Method_input!$D$65*B4503+Method_input!$D$64*Input_series!AG4499+Method_input!$D$65*C4503+Method_input!$D$65*D4503+Method_input!$D$65*E4503+Method_input!$D$65*F4503","v":0},{"$f":"Method_input!$D$65*B4503+Method_input!$D$64*Input_series!AG4499+Method_input!$D$65*F4503","v":0}]
[4495,0,0.17279999999999998,1.858136E-3,0,0,0,1.06163136,0,0.80859996000000001,15.08,12,21.114482758620689,18.03448275862069,1.3240363934999999,0.12133112345185715,10.117572618662999,12,0,12,8.1553839999999997,0,15.079400288160038,12.001022800090539,null,10.02561532,{"$f":"Method_input!$D$65*B4512+Method_input!$D$64*Input_series!AG4508+Method_input!$D$65*C4512+Method_input!$D$65*D4512+Method_input!$D$65*E4512+Method_input!$D$65*F4512","v":0.17465813599999999},{"$f":"Method_input!$D$65*B4512+Method_input!$D$64*Input_series!AG4508+Method_input!$D$65*F4512","v":0}]
[4504,5.6558363417569204,0.34559999999999996,3.1332410000000002E-3,0,0.28279181708784601,2.07278136,0,2.0085789599999999,0,15.559999999999999,12,21.594482758620689,18.03448275862069,1.5770192569285715,1.6184536132057143,22.36831009094,12,50,4,8.8645130000000005,9.2195840000000011,15.559508394502602,12.000155369797623,null,22.165457320000002,{"$f":"Method_input!$D$65*B4521+Method_input!$D$64*Input_series!AG4517+Method_input!$D$65*C4521+Method_input!$D$65*D4521+Method_input!$D$65*E4521+Method_input!$D$65*F4521","v":6.2873613998447659},{"$f":"Method_input!$D$65*B4521+Method_input!$D$64*Input_series!AG4517+Method_input!$D$65*F4521","v":5.9386281588447662}]
[4512,0,0,0,0,0,0,0,0,0,16,12,16,12,0,0,0,12,0,12,0,0,16,12,null,0,{"$f":"Method_input!$D$65*B4529+Method_input!$D$64*Input_series!AG4525+Method_input!$D$65*C4529+Method_input!$D$65*D4529+Method_input!$D$65*E4529+Method_input!$D$65*F4529","v":0},{"$f":"Method_input!$D$65*B4529+Method_input!$D$64*Input_series!AG4525+Method_input!$D$65*F4529","v":0}]
[4518,0,0.34559999999999996,1.2259796000000001E-3,0,0,0.14357008799999998,0.282721536,0,0.10054159199999999,16,12,22.03448275862069,18.03448275862069,6.6930871928571417E-2,1.512236825185714E-2,0.5743726812629999,12,0,12,0,0,16.134659641187618,12.008206220215309,null,0.52683321599999999,{"$f":"Method_input!$D$65*B4535+Method_input!$D$64*Input_series!AG4531+Method_input!$D$65*C4535+Method_input!$D$65*D4535+Method_input!$D$65*E4535+Method_input!$D$65*F4535","v":0.34682597959999995},{"$f":"Method_input!$D$65*B4535+Method_input!$D$64*Input_series!AG4531+Method_input!$D$65*F4535","v":0}]
[4529,2.9219812216148862,0.17279999999999998,1.4736545000000002E-3,0,0.1460990610807443,0,1.2633749999999999,0,1.40115564,15.959999999999999,12,21.994482758620688,18.03448275862069,1.1507116455357143,0.65295461830900003,12.625663846913,12,26.537337652043391,4,6.7309409999999996,3.0991810000000002,15.959062337648831,12.000190055297217,null,12.49465264,{"$f":"Method_input!$D$65*B4546+Method_input!$D$64*Input_series!AG4542+Method_input!$D$65*C4546+Method_input!$D$65*D4546+Method_input!$D$65*E4546+Method_input!$D$65*F4546","v":3.2423539371956305},{"$f":"Method_input!$D$65*B4546+Method_input!$D$64*Input_series!AG4542+Method_input!$D$65*F4546","v":3.0680802826956306}]
[4535,0,0,0,0,0,0,0,0,0,16,12,16,12,0,0,0,12,0,12,0,0,16,12,null,0,{"$f":"Method_input!$D$65*B4552+Method_input!$D$64*Input_series!AG4548+Method_input!$D$65*C4552+Method_input!$D$65*D4552+Method_input!$D$65*E4552+Method_input!$D$65*F4552","v":0},{"$f":"Method_input!$D$65*B4552+Method_input!$D$64*Input_series!AG4548+Method_input!$D$65*F4552","v":0}]
[4538,0,0,0,0,0,0,0,0,0,16,12,16,12,0,0,0,12,0,12,0,0,16,12,null,0,{"$f":"Method_input!$D$65*B4555+Method_input!$D$64*Input_series!AG4551+Method_input!$D$65*C4555+Method_input!$D$65*D4555+Method_input!$D$65*E4555+Method_input!$D$65*F4555","v":0},{"$f":"Method_input!$D$65*B4555+Method_input!$D$64*Input_series!AG4551+Method_input!$D$65*F4555","v":0}]
[4549,0,0,0,0,0,0,0,0,0,15.24,12,15.24,12,0,0,0,12,0,12,0,0,15.24,12,null,0,{"$f":"Method_input!$D$65*B4566+Method_input!$D$64*Input_series!AG4562+Method_input!$D$65*C4566+Method_input!$D$65*D4566+Method_input!$D$65*E4566+Method_input!$D$65*F4566","v":0},{"$f":"Method_input!$D$65*B4566+Method_input!$D$64*Input_series!AG4562+Method_input!$D$65*F4566","v":0}]
[4555,0,0,0,0,0,0,0,0,0,14.759999999999998,12,14.759999999999998,12,0,0,0,12,0,12,0,0,14.759999999999998,12,null,0,{"$f":"Method_input!$D$65*B4572+Method_input!$D$64*Input_series!AG4568+Method_input!$D$65*C4572+Method_input!$D$65*D4572+Method_input!$D$65*E4572+Method_input!$D$65*F4572","v":0},{"$f":"Method_input!$D$65*B4572+Method_input!$D$64*Input_series!AG4568+Method_input!$D$65*F4572","v":0}]
[4563,0,0,0,0,0,0,0,0,0,16,12,16,12,0,0,0,12,0,12,0,0,16,12,null,0,{"$f":"Method_input!$D$65*B4580+Method_input!$D$64*Input_series!AG4576+Method_input!$D$65*C4580+Method_input!$D$65*D4580+Method_input!$D$65*E4580+Method_input!$D$65*F4580","v":0},{"$f":"Method_input!$D$65*B4580+Method_input!$D$64*Input_series!AG4576+Method_input!$D$65*F4580","v":0}]
[4572,0,0.17279999999999998,5.74663E-4,0,0,0,0,1.3229647199999999,0,12.84,12,12.84,18.03448275862069,0,0.19848583745185716,1.3894008621630001,12,0,12,0,0,12.84,12.000625220850237,null,1.3229647199999999,{"$f":"Method_input!$D$65*B4589+Method_input!$D$64*Input_series!AG4585+Method_input!$D$65*C4589+Method_input!$D$65*D4589+Method_input!$D$65*E4589+Method_input!$D$65*F4589","v":0.17337466299999998},{"$f":"Method_input!$D$65*B4589+Method_input!$D$64*Input_series!AG4585+Method_input!$D$65*F4589","v":0}]
[4577,0,0.17279999999999998,5.74663E-4,0,0,0,0,0.32936435999999997,0,13.399999999999999,12,13.399999999999999,18.03448275862069,0,4.9445783451857142E-2,0.34612048416299995,12,0,12,0,0,13.399999999999999,12.002509768788931,null,0.32936435999999997,{"$f":"Method_input!$D$65*B4594+Method_input!$D$64*Input_series!AG4590+Method_input!$D$65*C4594+Method_input!$D$65*D4594+Method_input!$D$65*E4594+Method_input!$D$65*F4594","v":0.17337466299999998},{"$f":"Method_input!$D$65*B4594+Method_input!$D$64*Input_series!AG4590+Method_input!$D$65*F4594","v":0}]
[4589,0,0,0,0,0,0,0,0,0,15.399999999999999,12,15.399999999999999,12,0,0,0,12,0,12,0,0,15.399999999999999,12,null,0,{"$f":"Method_input!$D$65*B4606+Method_input!$D$64*Input_series!AG4602+Method_input!$D$65*C4606+Method_input!$D$65*D4606+Method_input!$D$65*E4606+Method_input!$D$65*F4606","v":0},{"$f":"Method_input!$D$65*B4606+Method_input!$D$64*Input_series!AG4602+Method_input!$D$65*F4606","v":0}]
[4594,0,0,1.4269084999999999E-3,0,0,0,0,0,0,11.239999999999998,12,17.274482758620689,18.03448275862069,1.1175581879928571,0.6466485580232858,12.349447222113,11.239999999999998,0,11.239999999999998,7.8232539999999995,4.5262520000000004,11.239866286353784,12.000191908699884,null,12.349506,{"$f":"Method_input!$D$65*B4611+Method_input!$D$64*Input_series!AG4607+Method_input!$D$65*C4611+Method_input!$D$65*D4611+Method_input!$D$65*E4611+Method_input!$D$65*F4611","v":1.4269084999999999E-3},{"$f":"Method_input!$D$65*B4611+Method_input!$D$64*Input_series!AG4607+Method_input!$D$65*F4611","v":0}]
[4598,7.7617328519855606,0,2.425085E-3,0,0.38808664259927805,0,0,0,0,9.9599999999999973,10.959999999999997,15.994482758620688,16.994482758620688,1.5239354198142856,0.49584227230900002,14.138443844863001,9.9599999999999973,50,4,10.66703,3.4706080000000004,9.9601464953414354,10.960250276128077,null,14.137638000000001,{"$f":"Method_input!$D$65*B4615+Method_input!$D$64*Input_series!AG4611+Method_input!$D$65*C4615+Method_input!$D$65*D4615+Method_input!$D$65*E4615+Method_input!$D$65*F4615","v":8.1522445795848384},{"$f":"Method_input!$D$65*B4615+Method_input!$D$64*Input_series!AG4611+Method_input!$D$65*F4615","v":8.1498194945848379}]
[4608,0,0,0,0,0,0,0,0,0,14.04,12,14.04,12,0,0,0,12,0,12,0,0,14.04,12,null,0,{"$f":"Method_input!$D$65*B4625+Method_input!$D$64*Input_series!AG4621+Method_input!$D$65*C4625+Method_input!$D$65*D4625+Method_input!$D$65*E4625+Method_input!$D$65*F4625","v":0},{"$f":"Method_input!$D$65*B4625+Method_input!$D$64*Input_series!AG4621+Method_input!$D$65*F4625","v":0}]
[4615,0,0,1.162457E-3,0,0,0,0,0,0,14.36,12,20.39448275862069,12,1.2653184697857143,0,8.8572292884999992,12,0,12,8.8337219999999999,0,14.368007827421795,12,null,8.8337219999999999,{"$f":"Method_input!$D$65*B4632+Method_input!$D$64*Input_series!AG4628+Method_input!$D$65*C4632+Method_input!$D$65*D4632+Method_input!$D$65*E4632+Method_input!$D$65*F4632","v":1.162457E-3},{"$f":"Method_input!$D$65*B4632+Method_input!$D$64*Input_series!AG4628+Method_input!$D$65*F4632","v":0}]
[4624,0,0.34559999999999996,1.1712738E-2,0,0,1.13706576,0,3.90999528,0,9,10,15.034482758620689,16.03448275862069,2.5818096469285714,2.8679768268967143,38.148505316776998,9,0,9,16.875319999999999,15.96791,9.0005723866283951,10.000365622435051,null,37.890291039999994,{"$f":"Method_input!$D$65*B4641+Method_input!$D$64*Input_series!AG4637+Method_input!$D$65*C4641+Method_input!$D$65*D4641+Method_input!$D$65*E4641+Method_input!$D$65*F4641","v":0.35731273799999996},{"$f":"Method_input!$D$65*B4641+Method_input!$D$64*Input_series!AG4637+Method_input!$D$65*F4641","v":0}]
[4631,0,0,0,0,0,0,0,0,0,14.759999999999998,12,14.759999999999998,12,0,0,0,12,0,12,0,0,14.759999999999998,12,null,0,{"$f":"Method_input!$D$65*B4648+Method_input!$D$64*Input_series!AG4644+Method_input!$D$65*C4648+Method_input!$D$65*D4648+Method_input!$D$65*E4648+Method_input!$D$65*F4648","v":0},{"$f":"Method_input!$D$65*B4648+Method_input!$D$64*Input_series!AG4644+Method_input!$D$65*F4648","v":0}]
[4641,0,0,1.634251E-3,0,0,0,0,0,0,10.919999999999998,11.919999999999998,16.954482758620689,17.954482758620689,1.2192767812857144,0.39431112945185715,11.295115375163,10.919999999999998,0,10.919999999999998,8.534199000000001,2.75989,10.920261060989869,11.92031471970934,null,11.294089000000001,{"$f":"Method_input!$D$65*B4658+Method_input!$D$64*Input_series!AG4654+Method_input!$D$65*C4658+Method_input!$D$65*D4658+Method_input!$D$65*E4658+Method_input!$D$65*F4658","v":1.634251E-3},{"$f":"Method_input!$D$65*B4658+Method_input!$D$64*Input_series!AG4654+Method_input!$D$65*F4658","v":0}]
[4645,3.6174491489979341,0.25919999999999999,9.7257249999999993E-3,0,0.18087245744989672,2.0458684799999998,2.0465661599999998,0,0,9,10,15.03448275862069,16.03448275862069,2.917964557571429,0.74701584373757135,25.654862809163003,9,24.482895840418017,9,16.124120000000001,5.2288230000000002,9.000675886083954,10.000166124299895,null,25.445377640000004,{"$f":"Method_input!$D$65*B4662+Method_input!$D$64*Input_series!AG4658+Method_input!$D$65*C4662+Method_input!$D$65*D4662+Method_input!$D$65*E4662+Method_input!$D$65*F4662","v":4.067247331447831},{"$f":"Method_input!$D$65*B4662+Method_input!$D$64*Input_series!AG4658+Method_input!$D$65*F4662","v":3.7983216064478307}]
[4650,0,0,1.2259796000000001E-3,0,0,0,0,0,0,14.2,12,20.23448275862069,18.03448275862069,7.713140505714286E-2,1.3716226594714286E-2,0.63593342156300003,12,0,12,0.53939179999999998,9.5725679999999994E-2,14.202950827426891,12.009047494454455,null,0.63511748000000001,{"$f":"Method_input!$D$65*B4667+Method_input!$D$64*Input_series!AG4663+Method_input!$D$65*C4667+Method_input!$D$65*D4667+Method_input!$D$65*E4667+Method_input!$D$65*F4667","v":1.2259796000000001E-3},{"$f":"Method_input!$D$65*B4667+Method_input!$D$64*Input_series!AG4663+Method_input!$D$65*F4667","v":0}]
[4659,0,8.6399999999999991E-2,6.5131659999999997E-4,0,0,0,5.9061167999999997E-2,0,0,16,12,22.03448275862069,12,8.684266814285713E-3,0,6.0789867699999993E-2,12,0,12,0,0,15.939230238976839,12,null,5.9061167999999997E-2,{"$f":"Method_input!$D$65*B4676+Method_input!$D$64*Input_series!AG4672+Method_input!$D$65*C4676+Method_input!$D$65*D4676+Method_input!$D$65*E4676+Method_input!$D$65*F4676","v":8.7051316599999984E-2},{"$f":"Method_input!$D$65*B4676+Method_input!$D$64*Input_series!AG4672+Method_input!$D$65*F4676","v":0}]
[4667,0.24663522484448633,0.25919999999999999,3.3948790000000004E-3,0,1.2331761242224317E-2,0,0,4.2283951200000001,0.40532759999999995,15.08,12,21.114482758620689,18.03448275862069,1.3343773439285715,2.0514743658965711,23.700961968775999,12,3.6995283726672952,12,9.3425570000000011,9.4938760000000002,15.079381219693087,12.000217611633541,null,23.470155720000001,{"$f":"Method_input!$D$65*B4684+Method_input!$D$64*Input_series!AG4680+Method_input!$D$65*C4684+Method_input!$D$65*D4684+Method_input!$D$65*E4684+Method_input!$D$65*F4684","v":0.52156186508671065},{"$f":"Method_input!$D$65*B4684+Method_input!$D$64*Input_series!AG4680+Method_input!$D$65*F4684","v":0.25896698608671065}]
[4673,0,0.34559999999999996,1.2259796000000001E-3,0,0,9.5517072000000005E-3,2.0855131199999999,0,2.0148001199999999,12.759999999999998,12,18.794482758620688,18.03448275862069,0.94925922483714287,0.54071643316614293,10.429829606022999,12,0,12,4.4462659999999996,1.669187,12.759423554728714,12.000229505664041,null,{"$f":"SUM(G4690:J4690,U4690:V4690)","v":10.225317947200001},{"$f":"Method_input!$D$65*B4690+Method_input!$D$64*Input_series!AG4686+Method_input!$D$65*C4690+Method_input!$D$65*D4690+Method_input!$D$65*E4690+Method_input!$D$65*F4690","v":0.34682597959999995},{"$f":"Method_input!$D$65*B4690+Method_input!$D$64*Input_series!AG4686+Method_input!$D$65*F4690","v":0}]
[4684,0,0,0,0,0,0,0,0,0,16,12,16,12,0,0,0,12,0,12,0,0,16,12,null,0,{"$f":"Method_input!$D$65*B4701+Method_input!$D$64*Input_series!AG4697+Method_input!$D$65*C4701+Method_input!$D$65*D4701+Method_input!$D$65*E4701+Method_input!$D$65*F4701","v":0},{"$f":"Method_input!$D$65*B4701+Method_input!$D$64*Input_series!AG4697+Method_input!$D$65*F4701","v":0}]
[4690,0,0,1.2259796000000001E-3,0,0,0,0,0,0,14.04,12,20.07448275862069,18.03448275862069,0.14105746804285713,6.0930286594714278E-2,1.4139142824629998,12,0,12,0.98921479999999995,0.42622409999999999,14.034461404799355,12.002036712626632,null,1.4154388999999998,{"$f":"Method_input!$D$65*B4707+Method_input!$D$64*Input_series!AG4703+Method_input!$D$65*C4707+Method_input!$D$65*D4707+Method_input!$D$65*E4707+Method_input!$D$65*F4707","v":1.2259796000000001E-3},{"$f":"Method_input!$D$65*B4707+Method_input!$D$64*Input_series!AG4703+Method_input!$D$65*F4707","v":0}]
[4701,0,0,0,0,0,0,0,0,0,14.919999999999998,12,14.919999999999998,12,0,0,0,12,0,12,0,0,14.919999999999998,12,null,0,{"$f":"Method_input!$D$65*B4718+Method_input!$D$64*Input_series!AG4714+Method_input!$D$65*C4718+Method_input!$D$65*D4718+Method_input!$D$65*E4718+Method_input!$D$65*F4718","v":0},{"$f":"Method_input!$D$65*B4718+Method_input!$D$64*Input_series!AG4714+Method_input!$D$65*F4718","v":0}]
[4704,0,0,0,0,0,0,0,0,0,16,12,16,12,0,0,0,12,0,12,0,0,16,12,null,0,{"$f":"Method_input!$D$65*B4721+Method_input!$D$64*Input_series!AG4717+Method_input!$D$65*C4721+Method_input!$D$65*D4721+Method_input!$D$65*E4721+Method_input!$D$65*F4721","v":0},{"$f":"Method_input!$D$65*B4721+Method_input!$D$64*Input_series!AG4717+Method_input!$D$65*F4721","v":0}]
[4710,0,0.25919999999999999,6.5131659999999997E-4,0,0,3.8543515199999998,2.18060856,0,0,16,12,22.03448275862069,12,0.90831841318571405,0,6.3582288922999988,12,0,12,0,0,16.010212509555547,12,null,6.0349600799999994,{"$f":"Method_input!$D$65*B4727+Method_input!$D$64*Input_series!AG4723+Method_input!$D$65*C4727+Method_input!$D$65*D4727+Method_input!$D$65*E4727+Method_input!$D$65*F4727","v":0.25985131659999999},{"$f":"Method_input!$D$65*B4727+Method_input!$D$64*Input_series!AG4723+Method_input!$D$65*F4727","v":0}]
[4718,0,0.51839999999999997,1.2259796000000001E-3,0,0,3.6166960800000001,1.8295675199999999,3.3838718399999999,1.7016152399999998,14.04,12,20.07448275862069,18.03448275862069,0.81668060804285714,0.76286419145185713,11.056813596463,12,0,12,0,0,14.039043371168821,12.000162673101507,null,10.531750679999998,{"$f":"Method_input!$D$65*B4735+Method_input!$D$64*Input_series!AG4731+Method_input!$D$65*C4735+Method_input!$D$65*D4735+Method_input!$D$65*E4735+Method_input!$D$65*F4735","v":0.51962597960000001},{"$f":"Method_input!$D$65*B4735+Method_input!$D$64*Input_series!AG4731+Method_input!$D$65*F4735","v":0}]
[4727,0,0,0,0,0,0,0,0,0,16,12,16,12,0,0,0,12,0,12,0,0,16,12,null,0,{"$f":"Method_input!$D$65*B4744+Method_input!$D$64*Input_series!AG4740+Method_input!$D$65*C4744+Method_input!$D$65*D4744+Method_input!$D$65*E4744+Method_input!$D$65*F4744","v":0},{"$f":"Method_input!$D$65*B4744+Method_input!$D$64*Input_series!AG4740+Method_input!$D$65*F4744","v":0}]
[4739,0,0,0,0,0,0,0,0,0,11.879999999999999,12,11.879999999999999,12,0,0,0,11.879999999999999,0,11.879999999999999,0,0,11.879999999999999,12,null,0,{"$f":"Method_input!$D$65*B4756+Method_input!$D$64*Input_series!AG4752+Method_input!$D$65*C4756+Method_input!$D$65*D4756+Method_input!$D$65*E4756+Method_input!$D$65*F4756","v":0},{"$f":"Method_input!$D$65*B4756+Method_input!$D$64*Input_series!AG4752+Method_input!$D$65*F4756","v":0}]
[4744,8.6642599277978327,0.51839999999999997,1.2259796000000001E-3,0,0.43321299638989164,2.0419581600000001,0.42561251999999988,3.9206037599999997,1.2757885199999999,9,10,15.034482758620689,16.03448275862069,0.37050725375714294,0.77949997145185701,8.0500505764629988,9,50,4,0,0,9.0030265616906924,10.000159201396531,null,7.6639629600000001,{"$f":"Method_input!$D$65*B4761+Method_input!$D$64*Input_series!AG4757+Method_input!$D$65*C4761+Method_input!$D$65*D4761+Method_input!$D$65*E4761+Method_input!$D$65*F4761","v":9.6170989037877241},{"$f":"Method_input!$D$65*B4761+Method_input!$D$64*Input_series!AG4757+Method_input!$D$65*F4761","v":9.0974729241877235}]
[4753,0,0,0,0,0,0,0,0,0,14.84,12,14.84,12,0,0,0,12,0,12,0,0,14.84,12,null,0,{"$f":"Method_input!$D$65*B4770+Method_input!$D$64*Input_series!AG4766+Method_input!$D$65*C4770+Method_input!$D$65*D4770+Method_input!$D$65*E4770+Method_input!$D$65*F4770","v":0},{"$f":"Method_input!$D$65*B4770+Method_input!$D$64*Input_series!AG4766+Method_input!$D$65*F4770","v":0}]
[4762,0,0,2.0633500000000003E-3,0,0,0,0,0,0,10.36,11.36,16.39448275862069,17.39448275862069,1.396931196342857,0.8142104151661429,15.477991280563,10.36,0,10.36,9.7783510000000007,5.6991850000000008,10.360051644732481,11.360152414513177,null,15.477536000000001,{"$f":"Method_input!$D$65*B4779+Method_input!$D$64*Input_series!AG4775+Method_input!$D$65*C4779+Method_input!$D$65*D4779+Method_input!$D$65*E4779+Method_input!$D$65*F4779","v":2.0633500000000003E-3},{"$f":"Method_input!$D$65*B4779+Method_input!$D$64*Input_series!AG4775+Method_input!$D$65*F4779","v":0}]
[4770,7.3273689661870121,0,2.9229359999999997E-3,0,0.36636844830935061,0,0,0,0,9.48,10.48,15.514482758620689,16.514482758620691,1.6763457857571431,0.54660798659471421,15.560676406463001,9.48,46.129118264404596,4,11.733450000000001,3.825968,9.4802495422474191,10.480227031962752,null,15.559418000000001,{"$f":"Method_input!$D$65*B4787+Method_input!$D$64*Input_series!AG4783+Method_input!$D$65*C4787+Method_input!$D$65*D4787+Method_input!$D$65*E4787+Method_input!$D$65*F4787","v":7.6966603504963631},{"$f":"Method_input!$D$65*B4787+Method_input!$D$64*Input_series!AG4783+Method_input!$D$65*F4787","v":7.6937374144963631}]
[4776,0,0,0,0,0,0,0,0,0,14.68,12,14.68,12,0,0,0,12,0,12,0,0,14.68,12,null,0,{"$f":"Method_input!$D$65*B4793+Method_input!$D$64*Input_series!AG4789+Method_input!$D$65*C4793+Method_input!$D$65*D4793+Method_input!$D$65*E4793+Method_input!$D$65*F4793","v":0},{"$f":"Method_input!$D$65*B4793+Method_input!$D$64*Input_series!AG4789+Method_input!$D$65*F4793","v":0}]
[4779,0,0,0,0,0,0,0,0,0,15.559999999999999,12,15.559999999999999,12,0,0,0,12,0,12,0,0,15.559999999999999,12,null,0,{"$f":"Method_input!$D$65*B4796+Method_input!$D$64*Input_series!AG4792+Method_input!$D$65*C4796+Method_input!$D$65*D4796+Method_input!$D$65*E4796+Method_input!$D$65*F4796","v":0},{"$f":"Method_input!$D$65*B4796+Method_input!$D$64*Input_series!AG4792+Method_input!$D$65*F4796","v":0}]
[4786,0,0,2.2023910000000002E-3,0,0,0,0,0,0,10.199999999999999,11.2,16.23448275862069,17.234482758620686,1.4477321105142857,0.84467627230900011,16.046858679762998,10.199999999999999,0,10.199999999999999,10.13382,5.9124460000000001,10.200090740496863,11.20014691721328,null,16.046265999999999,{"$f":"Method_input!$D$65*B4803+Method_input!$D$64*Input_series!AG4799+Method_input!$D$65*C4803+Method_input!$D$65*D4803+Method_input!$D$65*E4803+Method_input!$D$65*F4803","v":2.2023910000000002E-3},{"$f":"Method_input!$D$65*B4803+Method_input!$D$64*Input_series!AG4799+Method_input!$D$65*F4803","v":0}]
[4796,0,0.51839999999999997,1.2259796000000001E-3,0,0,3.0335191199999998,1.34012844,3.0191544000000001,1.2606624,9.879999999999999,10.879999999999999,15.914482758620689,16.914482758620689,0.65604032332857154,0.64201364945185713,9.0863778094630021,9.879999999999999,0,9.879999999999999,0,0,9.8799686765600754,10.880193294152168,null,8.6534643599999992,{"$f":"Method_input!$D$65*B4813+Method_input!$D$64*Input_series!AG4809+Method_input!$D$65*C4813+Method_input!$D$65*D4813+Method_input!$D$65*E4813+Method_input!$D$65*F4813","v":0.51962597960000001},{"$f":"Method_input!$D$65*B4813+Method_input!$D$64*Input_series!AG4809+Method_input!$D$65*F4813","v":0}]
[4807,0,0.17279999999999998,2.2941000000000003E-3,0,0,0,3.0689395199999998,0,1.0763834399999999,11.48,12,17.514482758620691,18.03448275862069,1.5017484420714282,0.16149864545185716,11.642729612662999,11.48,0,11.48,7.2900450000000001,0,11.479944776582608,12.000768411918902,null,11.435367960000001,{"$f":"Method_input!$D$65*B4824+Method_input!$D$64*Input_series!AG4820+Method_input!$D$65*C4824+Method_input!$D$65*D4824+Method_input!$D$65*E4824+Method_input!$D$65*F4824","v":0.17509409999999997},{"$f":"Method_input!$D$65*B4824+Method_input!$D$64*Input_series!AG4820+Method_input!$D$65*F4824","v":0}]
[4813,10.048134777376655,0.34559999999999996,1.4794162999999999E-2,0,0.5024067388688328,3.8157839999999994,2.4426856799999999,0,0.69305543999999997,9,10,15.03448275862069,16.03448275862069,3.4906004162857145,0.90412458830900011,30.763075032163005,9,50,4,17.855700000000002,5.6008760000000004,9.0008779427743999,10.000137257061313,null,30.408101120000001,{"$f":"Method_input!$D$65*B4830+Method_input!$D$64*Input_series!AG4826+Method_input!$D$65*C4830+Method_input!$D$65*D4830+Method_input!$D$65*E4830+Method_input!$D$65*F4830","v":10.910935679245487},{"$f":"Method_input!$D$65*B4830+Method_input!$D$64*Input_series!AG4826+Method_input!$D$65*F4830","v":10.550541516245488}]
[4821,0,0.51839999999999997,1.2259796000000001E-3,0,0,4.2872882399999996,1.7899509599999999,4.1216723999999996,1.8251539199999998,9,10,15.03448275862069,16.03448275862069,0.91163240261428569,0.89206507745185726,12.625882360462999,9,0,9,0,0,9.0001539764893117,10.000139112590761,null,12.024065519999999,{"$f":"Method_input!$D$65*B4838+Method_input!$D$64*Input_series!AG4834+Method_input!$D$65*C4838+Method_input!$D$65*D4838+Method_input!$D$65*E4838+Method_input!$D$65*F4838","v":0.51962597960000001},{"$f":"Method_input!$D$65*B4838+Method_input!$D$64*Input_series!AG4834+Method_input!$D$65*F4838","v":0}]
[4830,0,0.51839999999999997,1.2259796000000001E-3,0,0,3.44731896,1.4410897200000001,1.1064923999999998,0.320340348,12.2,12,18.23448275862069,18.03448275862069,0.73671388604285737,0.21406604165185716,6.6554594938630007,12,0,12,0,0,12.214140196943497,12.000579715881576,null,6.3152414280000002,{"$f":"Method_input!$D$65*B4847+Method_input!$D$64*Input_series!AG4843+Method_input!$D$65*C4847+Method_input!$D$65*D4847+Method_input!$D$65*E4847+Method_input!$D$65*F4847","v":0.51962597960000001},{"$f":"Method_input!$D$65*B4847+Method_input!$D$64*Input_series!AG4843+Method_input!$D$65*F4847","v":0}]
[4835,9.2358604091456105,0.43199999999999994,1.4763573000000002E-2,0,0.46179302045728055,3.0220775999999994,0,5.7967581599999995,3.1466167199999999E-2,9,10,15.03448275862069,16.03448275862069,2.8395116922857135,3.1659175895572855,42.038004972900993,9,50,4,16.699099999999998,16.038700000000002,9.0006527904215083,10.000420369403408,null,41.5881019272,{"$f":"Method_input!$D$65*B4852+Method_input!$D$64*Input_series!AG4848+Method_input!$D$65*C4852+Method_input!$D$65*D4852+Method_input!$D$65*E4852+Method_input!$D$65*F4852","v":10.144417002602891},{"$f":"Method_input!$D$65*B4852+Method_input!$D$64*Input_series!AG4848+Method_input!$D$65*F4852","v":9.6976534296028909}]
[4839,7.581227436823105,0.51839999999999997,3.063236E-3,0,0.37906137184115529,1.8358379999999999,0.57293423999999993,1.8219002399999999,0.77334443999999991,10.440000000000001,11.440000000000001,16.474482758620692,17.474482758620692,1.73292289,1.1882644028804283,20.448311050162999,10.440000000000001,50,4,9.6006160000000005,5.5925559999999992,10.440157541781113,11.440104435918263,null,20.197188919999999,{"$f":"Method_input!$D$65*B4856+Method_input!$D$64*Input_series!AG4852+Method_input!$D$65*C4856+Method_input!$D$65*D4856+Method_input!$D$65*E4856+Method_input!$D$65*F4856","v":8.48175204466426},{"$f":"Method_input!$D$65*B4856+Method_input!$D$64*Input_series!AG4852+Method_input!$D$65*F4856","v":7.9602888086642603}]
[4852,0,0,0,0,0,0,0,0,0,14.36,12,14.36,12,0,0,0,12,0,12,0,0,14.36,12,null,0,{"$f":"Method_input!$D$65*B4869+Method_input!$D$64*Input_series!AG4865+Method_input!$D$65*C4869+Method_input!$D$65*D4869+Method_input!$D$65*E4869+Method_input!$D$65*F4869","v":0},{"$f":"Method_input!$D$65*B4869+Method_input!$D$64*Input_series!AG4865+Method_input!$D$65*F4869","v":0}]
[4856,0,0,6.5131659999999997E-4,0,0,0,0,0,0,13.799999999999999,12,19.834482758620688,12,0.23779353631428576,0,1.6645547542000001,12,0,12,1.6639490000000001,0,13.801098015330115,12,null,1.6639490000000001,{"$f":"Method_input!$D$65*B4873+Method_input!$D$64*Input_series!AG4869+Method_input!$D$65*C4873+Method_input!$D$65*D4873+Method_input!$D$65*E4873+Method_input!$D$65*F4873","v":6.5131659999999997E-4},{"$f":"Method_input!$D$65*B4873+Method_input!$D$64*Input_series!AG4869+Method_input!$D$65*F4873","v":0}]
[4866,7.4007220216606511,0.25919999999999999,1.633933E-3,0,0.37003610108303259,0,0,1.2692304000000001,2.0329729200000002,10.919999999999998,11.919999999999998,16.954482758620689,17.954482758620685,1.2191305843285714,0.88964162745185726,14.761405482463001,10.919999999999998,50,4,8.534199000000001,2.75989,10.919899267636501,11.920139491543809,null,14.596292320000002,{"$f":"Method_input!$D$65*B4883+Method_input!$D$64*Input_series!AG4879+Method_input!$D$65*C4883+Method_input!$D$65*D4883+Method_input!$D$65*E4883+Method_input!$D$65*F4883","v":8.0315920557436833},{"$f":"Method_input!$D$65*B4883+Method_input!$D$64*Input_series!AG4879+Method_input!$D$65*F4883","v":7.7707581227436835}]
[4873,0,0,0,0,0,0,0,0,0,14.44,12,14.44,12,0,0,0,12,0,12,0,0,14.44,12,null,0,{"$f":"Method_input!$D$65*B4890+Method_input!$D$64*Input_series!AG4886+Method_input!$D$65*C4890+Method_input!$D$65*D4890+Method_input!$D$65*E4890+Method_input!$D$65*F4890","v":0},{"$f":"Method_input!$D$65*B4890+Method_input!$D$64*Input_series!AG4886+Method_input!$D$65*F4890","v":0}]
[4882,0,0.51839999999999997,1.8104171E-3,0,0,5.8032892799999996,2.7718459199999996,6.3873100799999998,2.96663868,9,10,15.034482758620689,16.03448275862069,1.2863468709999999,1.4031451439561573,18.826444104693099,9,0,9,0,0,9.0001796510254675,10.000113602452656,null,17.929083959999996,{"$f":"Method_input!$D$65*B4899+Method_input!$D$64*Input_series!AG4895+Method_input!$D$65*C4899+Method_input!$D$65*D4899+Method_input!$D$65*E4899+Method_input!$D$65*F4899","v":0.52021041709999993},{"$f":"Method_input!$D$65*B4899+Method_input!$D$64*Input_series!AG4895+Method_input!$D$65*F4899","v":0}]
[4889,0,0.51839999999999997,1.95181E-3,0,0,6.3802079999999997,3.09766356,5.6791389599999995,2.7016016399999998,9,10,15.03448275862069,16.03448275862069,1.4217791016428571,1.257152219451857,18.752519247662999,9,0,9,0,0,9.0002087517829388,10.000098713172623,null,17.85861216,{"$f":"Method_input!$D$65*B4906+Method_input!$D$64*Input_series!AG4902+Method_input!$D$65*C4906+Method_input!$D$65*D4906+Method_input!$D$65*E4906+Method_input!$D$65*F4906","v":0.52035180999999997},{"$f":"Method_input!$D$65*B4906+Method_input!$D$64*Input_series!AG4902+Method_input!$D$65*F4906","v":0}]
[4891,0,0.51839999999999997,1.2259796000000001E-3,0,0,2.3864148000000003,1.1034529200000001,4.6051919999999997,2.17294236,9,10,15.034482758620689,16.03448275862069,0.52359359498571434,1.0167612834518571,10.782484149063,9,0,9,0,0,9.000653687842096,10.000122051740238,null,10.26800208,{"$f":"Method_input!$D$65*B4908+Method_input!$D$64*Input_series!AG4904+Method_input!$D$65*C4908+Method_input!$D$65*D4908+Method_input!$D$65*E4908+Method_input!$D$65*F4908","v":0.51962597960000001},{"$f":"Method_input!$D$65*B4908+Method_input!$D$64*Input_series!AG4904+Method_input!$D$65*F4908","v":0}]
[4903,0,0,0,0,0,0,0,0,0,13.88,12,13.88,12,0,0,0,12,0,12,0,0,13.88,12,null,0,{"$f":"Method_input!$D$65*B4920+Method_input!$D$64*Input_series!AG4916+Method_input!$D$65*C4920+Method_input!$D$65*D4920+Method_input!$D$65*E4920+Method_input!$D$65*F4920","v":0},{"$f":"Method_input!$D$65*B4920+Method_input!$D$64*Input_series!AG4916+Method_input!$D$65*F4920","v":0}]
[4908,0,0.51839999999999997,1.2259796000000001E-3,0,0,2.1662927999999999,0.91411379999999998,1.3673447999999999,0.45457344,10.36,11.36,16.39448275862069,17.39448275862069,0.46234701861428573,0.27332886545185719,5.1497311884629999,10.36,0,10.36,0,0,10.361866600920832,11.360454022606966,null,4.9023248399999995,{"$f":"Method_input!$D$65*B4925+Method_input!$D$64*Input_series!AG4921+Method_input!$D$65*C4925+Method_input!$D$65*D4925+Method_input!$D$65*E4925+Method_input!$D$65*F4925","v":0.51962597960000001},{"$f":"Method_input!$D$65*B4925+Method_input!$D$64*Input_series!AG4921+Method_input!$D$65*F4925","v":0}]
[4917,0,0,0,0,0,0,0,0,0,12.36,12,12.36,12,0,0,0,12,0,12,0,0,12.36,12,null,0,{"$f":"Method_input!$D$65*B4934+Method_input!$D$64*Input_series!AG4930+Method_input!$D$65*C4934+Method_input!$D$65*D4934+Method_input!$D$65*E4934+Method_input!$D$65*F4934","v":0},{"$f":"Method_input!$D$65*B4934+Method_input!$D$64*Input_series!AG4930+Method_input!$D$65*F4934","v":0}]
[4925,0,0,0,0,0,0,0,0,0,14.84,12,14.84,12,0,0,0,12,0,12,0,0,14.84,12,null,0,{"$f":"Method_input!$D$65*B4942+Method_input!$D$64*Input_series!AG4938+Method_input!$D$65*C4942+Method_input!$D$65*D4942+Method_input!$D$65*E4942+Method_input!$D$65*F4942","v":0},{"$f":"Method_input!$D$65*B4942+Method_input!$D$64*Input_series!AG4938+Method_input!$D$65*F4942","v":0}]
[4931,0,0,1.2259796000000001E-3,0,0,0,0,0,0,12.36,12,18.39448275862069,18.03448275862069,0.76214494577142855,0.73302398659471435,10.466182526562999,12,0,12,5.3349449999999994,5.1308800000000003,12.360039374128595,12.0001692952568,null,10.465824999999999,{"$f":"Method_input!$D$65*B4948+Method_input!$D$64*Input_series!AG4944+Method_input!$D$65*C4948+Method_input!$D$65*D4948+Method_input!$D$65*E4948+Method_input!$D$65*F4948","v":1.2259796000000001E-3},{"$f":"Method_input!$D$65*B4948+Method_input!$D$64*Input_series!AG4944+Method_input!$D$65*F4948","v":0}]
[4942,0,0,0,0,0,0,0,0,0,15.08,12,15.08,12,0,0,0,12,0,12,0,0,15.08,12,null,0,{"$f":"Method_input!$D$65*B4959+Method_input!$D$64*Input_series!AG4955+Method_input!$D$65*C4959+Method_input!$D$65*D4959+Method_input!$D$65*E4959+Method_input!$D$65*F4959","v":0},{"$f":"Method_input!$D$65*B4959+Method_input!$D$64*Input_series!AG4955+Method_input!$D$65*F4959","v":0}]
[4948,0,0,0,0,0,0,0,0,0,16,12,16,12,0,0,0,12,0,12,0,0,16,12,null,0,{"$f":"Method_input!$D$65*B4965+Method_input!$D$64*Input_series!AG4961+Method_input!$D$65*C4965+Method_input!$D$65*D4965+Method_input!$D$65*E4965+Method_input!$D$65*F4965","v":0},{"$f":"Method_input!$D$65*B4965+Method_input!$D$64*Input_series!AG4961+Method_input!$D$65*F4965","v":0}]
[4951,0,8.6399999999999991E-2,2.730325E-3,0,0,0,2.6645000400000001,0,0,14.519999999999998,12,20.554482758620686,12,1.7995805878857143,0,12.5970641152,12,0,12,9.7976159999999997,0,14.52041270947826,12,null,12.46211604,{"$f":"Method_input!$D$65*B4968+Method_input!$D$64*Input_series!AG4964+Method_input!$D$65*C4968+Method_input!$D$65*D4968+Method_input!$D$65*E4968+Method_input!$D$65*F4968","v":8.9130324999999996E-2},{"$f":"Method_input!$D$65*B4968+Method_input!$D$64*Input_series!AG4964+Method_input!$D$65*F4968","v":0}]
[4962,8.4536702767749716,0.25919999999999999,4.7272970000000001E-3,0,0.42268351383874858,0,0,1.3239734399999998,1.9998864000000001,9,10,15.03448275862069,16.03448275862069,2.1057709024285716,1.1882266768804282,23.057983055163,9,50,4,14.73832,4.8272459999999988,9.0004250055042103,10.000104439234084,null,22.889425839999998,{"$f":"Method_input!$D$65*B4979+Method_input!$D$64*Input_series!AG4975+Method_input!$D$65*C4979+Method_input!$D$65*D4979+Method_input!$D$65*E4979+Method_input!$D$65*F4979","v":9.1402810876137206},{"$f":"Method_input!$D$65*B4979+Method_input!$D$64*Input_series!AG4975+Method_input!$D$65*F4979","v":8.8763537906137202}]
[4968,0,0.43199999999999994,1.2259796000000001E-3,0,0,0.22308299999999998,3.7196388000000002E-3,5.3627731200000001E-2,0,12.68,12,18.71448275862069,18.03448275862069,3.4200365891428566E-2,8.0852891318571422E-3,0.29599958516299996,12,0,12,0,0,12.695877407518841,12.015348552417596,null,0.28043036999999998,{"$f":"Method_input!$D$65*B4985+Method_input!$D$64*Input_series!AG4981+Method_input!$D$65*C4985+Method_input!$D$65*D4985+Method_input!$D$65*E4985+Method_input!$D$65*F4985","v":0.43322597959999992},{"$f":"Method_input!$D$65*B4985+Method_input!$D$64*Input_series!AG4981+Method_input!$D$65*F4985","v":0}]
[4976,0.20445235753047716,0.17279999999999998,2.3395869999999997E-3,0,1.0222617876523859E-2,0,1.1342865600000001,0,1.0979513999999999,14.44,12,20.474482758620688,18.03448275862069,1.5034683529999999,0.16473383945185716,11.677415347162999,12,2.8656846834189835,12,9.3347029999999993,0,14.439591342326505,12.000753321141937,null,11.56694096,{"$f":"Method_input!$D$65*B4993+Method_input!$D$64*Input_series!AG4989+Method_input!$D$65*C4993+Method_input!$D$65*D4993+Method_input!$D$65*E4993+Method_input!$D$65*F4993","v":0.38981456240700096},{"$f":"Method_input!$D$65*B4993+Method_input!$D$64*Input_series!AG4989+Method_input!$D$65*F4993","v":0.21467497540700103}]
[4985,0,0.34559999999999996,1.2259796000000001E-3,0,0,0,0.81783359999999994,0.75647952000000007,2.4237601199999999,12.919999999999998,12,18.954482758620689,18.03448275862069,0.70705111814285715,0.69522450402328573,9.815929355163,12,0,12,4.090795,1.5270319999999999,12.919900964947184,12.000178499870666,null,9.6159002400000002,{"$f":"Method_input!$D$65*B5002+Method_input!$D$64*Input_series!AG4998+Method_input!$D$65*C5002+Method_input!$D$65*D5002+Method_input!$D$65*E5002+Method_input!$D$65*F5002","v":0.34682597959999995},{"$f":"Method_input!$D$65*B5002+Method_input!$D$64*Input_series!AG4998+Method_input!$D$65*F5002","v":0}]
[4990,0,0.17279999999999998,5.74663E-4,0,0,0,0,0.125568648,0,14.84,12,14.84,18.03448275862069,0,1.8876426651857143E-2,0.13213498656299999,12,0,12,0,0,14.84,12.006574204235816,null,0.125568648,{"$f":"Method_input!$D$65*B5007+Method_input!$D$64*Input_series!AG5003+Method_input!$D$65*C5007+Method_input!$D$65*D5007+Method_input!$D$65*E5007+Method_input!$D$65*F5007","v":0.17337466299999998},{"$f":"Method_input!$D$65*B5007+Method_input!$D$64*Input_series!AG5003+Method_input!$D$65*F5007","v":0}]
[5002,8.4963389546293174E-3,0,1.2259796000000001E-3,0,4.248169477314659E-4,0,0,0,0,13.959999999999999,12,19.994482758620688,18.03448275862069,0.1735106656857143,8.0206572308999996E-2,1.776020665963,12,0.11350577822200103,12,1.214126,0.56115809999999999,13.961114558831662,12.001547223381815,null,1.7752840999999999,{"$f":"Method_input!$D$65*B5019+Method_input!$D$64*Input_series!AG5015+Method_input!$D$65*C5019+Method_input!$D$65*D5019+Method_input!$D$65*E5019+Method_input!$D$65*F5019","v":1.0147135502360783E-2},{"$f":"Method_input!$D$65*B5019+Method_input!$D$64*Input_series!AG5015+Method_input!$D$65*F5019","v":8.9211559023607834E-3}]
[5011,0,0.17279999999999998,1.733643E-3,0,0,0,0.17686429199999998,0,0.34366852799999997,14.36,12,20.39448275862069,18.03448275862069,1.2650660926999999,5.1591408651857129E-2,9.2166025094629997,12,0,12,8.669492,0,14.360089658086503,12.002405390496103,null,9.1900248199999997,{"$f":"Method_input!$D$65*B5028+Method_input!$D$64*Input_series!AG5024+Method_input!$D$65*C5028+Method_input!$D$65*D5028+Method_input!$D$65*E5028+Method_input!$D$65*F5028","v":0.17453364299999999},{"$f":"Method_input!$D$65*B5028+Method_input!$D$64*Input_series!AG5024+Method_input!$D$65*F5028","v":0}]
[5013,0,0,0,0,0,0,0,0,0,15.559999999999999,12,15.559999999999999,12,0,0,0,12,0,12,0,0,15.559999999999999,12,null,0,{"$f":"Method_input!$D$65*B5030+Method_input!$D$64*Input_series!AG5026+Method_input!$D$65*C5030+Method_input!$D$65*D5030+Method_input!$D$65*E5030+Method_input!$D$65*F5030","v":0},{"$f":"Method_input!$D$65*B5030+Method_input!$D$64*Input_series!AG5026+Method_input!$D$65*F5030","v":0}]
[5020,0,0,0,0,0,0,0,0,0,16,12,16,12,0,0,0,12,0,12,0,0,16,12,null,0,{"$f":"Method_input!$D$65*B5037+Method_input!$D$64*Input_series!AG5033+Method_input!$D$65*C5037+Method_input!$D$65*D5037+Method_input!$D$65*E5037+Method_input!$D$65*F5037","v":0},{"$f":"Method_input!$D$65*B5037+Method_input!$D$64*Input_series!AG5033+Method_input!$D$65*F5037","v":0}]
[5027,0,0,1.2259796000000001E-3,0,0,0,0,0,0,11.879999999999999,12,17.914482758620686,18.03448275862069,0.9144788181000002,0.88536927230899987,12.598936632863001,11.879999999999999,0,11.879999999999999,6.4013619999999998,6.1972969999999998,11.879995157737429,12.000140164661156,null,12.598659,{"$f":"Method_input!$D$65*B5044+Method_input!$D$64*Input_series!AG5040+Method_input!$D$65*C5044+Method_input!$D$65*D5044+Method_input!$D$65*E5044+Method_input!$D$65*F5044","v":1.2259796000000001E-3},{"$f":"Method_input!$D$65*B5044+Method_input!$D$64*Input_series!AG5040+Method_input!$D$65*F5044","v":0}]
[5037,0,0,0,0,0,0,0,0,0,13.959999999999999,12,13.959999999999999,12,0,0,0,12,0,12,0,0,13.959999999999999,12,null,0,{"$f":"Method_input!$D$65*B5054+Method_input!$D$64*Input_series!AG5050+Method_input!$D$65*C5054+Method_input!$D$65*D5054+Method_input!$D$65*E5054+Method_input!$D$65*F5054","v":0},{"$f":"Method_input!$D$65*B5054+Method_input!$D$64*Input_series!AG5050+Method_input!$D$65*F5054","v":0}]
[5044,0,0,0,0,0,0,0,0,0,16,12,16,12,0,0,0,12,0,12,0,0,16,12,null,0,{"$f":"Method_input!$D$65*B5061+Method_input!$D$64*Input_series!AG5057+Method_input!$D$65*C5061+Method_input!$D$65*D5061+Method_input!$D$65*E5061+Method_input!$D$65*F5061","v":0},{"$f":"Method_input!$D$65*B5061+Method_input!$D$64*Input_series!AG5057+Method_input!$D$65*F5061","v":0}]
[5054,0,0.51839999999999997,1.8468359999999999E-3,0,0,6.1869571199999998,2.99503692,4.1969383200000001,1.8354401999999999,9,10,15.03448275862069,16.03448275862069,1.3773899754999999,0.90489790745185705,15.976015180662998,9,0,9,0,0,9.0001990541679504,10.00013713976243,null,15.214372560000001,{"$f":"Method_input!$D$65*B5071+Method_input!$D$64*Input_series!AG5067+Method_input!$D$65*C5071+Method_input!$D$65*D5071+Method_input!$D$65*E5071+Method_input!$D$65*F5071","v":0.52024683599999999},{"$f":"Method_input!$D$65*B5071+Method_input!$D$64*Input_series!AG5067+Method_input!$D$65*F5071","v":0}]
[5058,7.6714801444043319,0.51839999999999997,1.2259796000000001E-3,0,0.38357400722021662,0.56490299999999993,0.21846373199999999,0.412241256,3.6735912000000003E-2,10.199999999999999,11.2,16.23448275862069,17.234482758620686,0.11758785328571429,6.7387704651857144E-2,1.294828905563,10.199999999999999,50,4,0,0,10.202125719503494,11.201841544903374,null,1.2323438999999998,{"$f":"Method_input!$D$65*B5075+Method_input!$D$64*Input_series!AG5071+Method_input!$D$65*C5075+Method_input!$D$65*D5075+Method_input!$D$65*E5075+Method_input!$D$65*F5075","v":8.5746801312245484},{"$f":"Method_input!$D$65*B5075+Method_input!$D$64*Input_series!AG5071+Method_input!$D$65*F5075","v":8.0550541516245477}]
[5071,0,0.51839999999999997,1.2259796000000001E-3,0,0,0.37841896800000002,0.24119679599999996,0.49246855199999995,0.26023247999999999,16,12,22.03448275862069,18.03448275862069,9.2861756514285715E-2,0.11294628425185713,1.4406562853630001,12,0,12,0,0,15.997380901881963,12.001098730116478,null,1.3723167959999998,{"$f":"Method_input!$D$65*B5088+Method_input!$D$64*Input_series!AG5084+Method_input!$D$65*C5088+Method_input!$D$65*D5088+Method_input!$D$65*E5088+Method_input!$D$65*F5088","v":0.51962597960000001},{"$f":"Method_input!$D$65*B5088+Method_input!$D$64*Input_series!AG5084+Method_input!$D$65*F5088","v":0}]
[5072,0,0.51839999999999997,1.2259796000000001E-3,0,0,0.89295552,0.46654235999999999,0.96859799999999996,0.47165039999999997,16,12,22.03448275862069,18.03448275862069,0.20385597387142859,0.21607838945185714,2.939540543263,12,0,12,0,0,15.998983061400244,12.000574316961389,null,2.7997462799999999,{"$f":"Method_input!$D$65*B5089+Method_input!$D$64*Input_series!AG5085+Method_input!$D$65*C5089+Method_input!$D$65*D5089+Method_input!$D$65*E5089+Method_input!$D$65*F5089","v":0.51962597960000001},{"$f":"Method_input!$D$65*B5089+Method_input!$D$64*Input_series!AG5085+Method_input!$D$65*F5089","v":0}]
[5080,0.15779848151823153,0.51839999999999997,1.2259796000000001E-3,0,7.8899240759115769E-3,2.4860937599999997,1.15759908,2.6377207199999999,1.2218378400000001,14.44,12,20.474482758620688,18.03448275862069,0.54649541054285722,0.57897491345185714,7.8782922679630003,12,2.2117656016079996,12,0,0,14.439676931854843,12.000214340001904,null,7.5032513999999999,{"$f":"Method_input!$D$65*B5097+Method_input!$D$64*Input_series!AG5093+Method_input!$D$65*C5097+Method_input!$D$65*D5097+Method_input!$D$65*E5097+Method_input!$D$65*F5097","v":0.68531438519414312},{"$f":"Method_input!$D$65*B5097+Method_input!$D$64*Input_series!AG5093+Method_input!$D$65*F5097","v":0.16568840559414311}]
[5093,0,0,0,0,0,0,0,0,0,16,12,16,12,0,0,0,12,0,12,0,0,16,12,null,0,{"$f":"Method_input!$D$65*B5110+Method_input!$D$64*Input_series!AG5106+Method_input!$D$65*C5110+Method_input!$D$65*D5110+Method_input!$D$65*E5110+Method_input!$D$65*F5110","v":0},{"$f":"Method_input!$D$65*B5110+Method_input!$D$64*Input_series!AG5106+Method_input!$D$65*F5110","v":0}]
[5097,0,0,1.2259796000000001E-3,0,0,0,0,0,0,13.959999999999999,12,19.994482758620688,18.03448275862069,0.1731924879,4.5838386594714287E-2,1.533216121463,12,0,12,1.214126,0.3205808,13.955573530090694,12.002707282984215,null,1.5347067999999999,{"$f":"Method_input!$D$65*B5114+Method_input!$D$64*Input_series!AG5110+Method_input!$D$65*C5114+Method_input!$D$65*D5114+Method_input!$D$65*E5114+Method_input!$D$65*F5114","v":1.2259796000000001E-3},{"$f":"Method_input!$D$65*B5114+Method_input!$D$64*Input_series!AG5110+Method_input!$D$65*F5114","v":0}]
[5103,0,0,1.2259796000000001E-3,0,0,0,0,0,0,11.719999999999999,12,17.754482758620689,18.03448275862069,0.96516952018571456,0.55525098659471417,10.642943547463002,11.719999999999999,0,11.719999999999999,6.7568370000000009,3.886469,11.719709556694445,12.000223497998288,null,10.643306000000001,{"$f":"Method_input!$D$65*B5120+Method_input!$D$64*Input_series!AG5116+Method_input!$D$65*C5120+Method_input!$D$65*D5120+Method_input!$D$65*E5120+Method_input!$D$65*F5120","v":1.2259796000000001E-3},{"$f":"Method_input!$D$65*B5120+Method_input!$D$64*Input_series!AG5116+Method_input!$D$65*F5120","v":0}]
[5114,0,0.25919999999999999,5.74663E-4,0,0,0,0,0.175624632,0.16100542800000001,16,12,16,18.03448275862069,0,5.0535638451857136E-2,0.35374946916299999,12,0,12,0,0,16,12.002455642945323,null,0.33663006000000001,{"$f":"Method_input!$D$65*B5131+Method_input!$D$64*Input_series!AG5127+Method_input!$D$65*C5131+Method_input!$D$65*D5131+Method_input!$D$65*E5131+Method_input!$D$65*F5131","v":0.25977466299999996},{"$f":"Method_input!$D$65*B5131+Method_input!$D$64*Input_series!AG5127+Method_input!$D$65*F5131","v":0}]
[5117,0,0,0,0,0,0,0,0,0,16,12,16,12,0,0,0,12,0,12,0,0,16,12,null,0,{"$f":"Method_input!$D$65*B5134+Method_input!$D$64*Input_series!AG5130+Method_input!$D$65*C5134+Method_input!$D$65*D5134+Method_input!$D$65*E5134+Method_input!$D$65*F5134","v":0},{"$f":"Method_input!$D$65*B5134+Method_input!$D$64*Input_series!AG5130+Method_input!$D$65*F5134","v":0}]
[5131,0,0,6.5131659999999997E-4,0,0,0,0,0,0,16,12,22.03448275862069,12,0.68242426204285722,0,4.7769698343,12,0,12,4.7796349999999999,0,15.99831662151705,12,null,4.7796349999999999,{"$f":"Method_input!$D$65*B5148+Method_input!$D$64*Input_series!AG5144+Method_input!$D$65*C5148+Method_input!$D$65*D5148+Method_input!$D$65*E5148+Method_input!$D$65*F5148","v":6.5131659999999997E-4},{"$f":"Method_input!$D$65*B5148+Method_input!$D$64*Input_series!AG5144+Method_input!$D$65*F5148","v":0}]
[5132,0,0,0,0,0,0,0,0,0,16,12,16,12,0,0,0,12,0,12,0,0,16,12,null,0,{"$f":"Method_input!$D$65*B5149+Method_input!$D$64*Input_series!AG5145+Method_input!$D$65*C5149+Method_input!$D$65*D5149+Method_input!$D$65*E5149+Method_input!$D$65*F5149","v":0},{"$f":"Method_input!$D$65*B5149+Method_input!$D$64*Input_series!AG5145+Method_input!$D$65*F5149","v":0}]
[5140,0,0,0,0,0,0,0,0,0,16,12,16,12,0,0,0,12,0,12,0,0,16,12,null,0,{"$f":"Method_input!$D$65*B5157+Method_input!$D$64*Input_series!AG5153+Method_input!$D$65*C5157+Method_input!$D$65*D5157+Method_input!$D$65*E5157+Method_input!$D$65*F5157","v":0},{"$f":"Method_input!$D$65*B5157+Method_input!$D$64*Input_series!AG5153+Method_input!$D$65*F5157","v":0}]
[5149,0,0,1.2259796000000001E-3,0,0,0,0,0,0,16,12,22.03448275862069,18.03448275862069,0.81362300890000006,0.31830427230899999,7.9234909684629997,12,0,12,5.6975069999999999,2.2278419999999999,15.998863142835891,12.000389870620182,null,7.9253489999999998,{"$f":"Method_input!$D$65*B5166+Method_input!$D$64*Input_series!AG5162+Method_input!$D$65*C5166+Method_input!$D$65*D5166+Method_input!$D$65*E5166+Method_input!$D$65*F5166","v":1.2259796000000001E-3},{"$f":"Method_input!$D$65*B5166+Method_input!$D$64*Input_series!AG5162+Method_input!$D$65*F5166","v":0}]
[5161,0,0,0,0,0,0,0,0,0,15.799999999999999,12,15.799999999999999,12,0,0,0,12,0,12,0,0,15.799999999999999,12,null,0,{"$f":"Method_input!$D$65*B5178+Method_input!$D$64*Input_series!AG5174+Method_input!$D$65*C5178+Method_input!$D$65*D5178+Method_input!$D$65*E5178+Method_input!$D$65*F5178","v":0},{"$f":"Method_input!$D$65*B5178+Method_input!$D$64*Input_series!AG5174+Method_input!$D$65*F5178","v":0}]
[5166,0,0,0,0,0,0,0,0,0,15.559999999999999,12,15.559999999999999,12,0,0,0,12,0,12,0,0,15.559999999999999,12,null,0,{"$f":"Method_input!$D$65*B5183+Method_input!$D$64*Input_series!AG5179+Method_input!$D$65*C5183+Method_input!$D$65*D5183+Method_input!$D$65*E5183+Method_input!$D$65*F5183","v":0},{"$f":"Method_input!$D$65*B5183+Method_input!$D$64*Input_series!AG5179+Method_input!$D$65*F5183","v":0}]
[5175,0,0,1.2259796000000001E-3,0,0,0,0,0,0,13,12,19.03448275862069,18.03448275862069,0.55896935987142848,0.31152441516614282,6.0934564252629997,12,0,12,3.9130579999999999,2.180383,12.99978988353884,12.000398355563835,null,6.0934410000000003,{"$f":"Method_input!$D$65*B5192+Method_input!$D$64*Input_series!AG5188+Method_input!$D$65*C5192+Method_input!$D$65*D5192+Method_input!$D$65*E5192+Method_input!$D$65*F5192","v":1.2259796000000001E-3},{"$f":"Method_input!$D$65*B5192+Method_input!$D$64*Input_series!AG5188+Method_input!$D$65*F5192","v":0}]
[5183,0,0,0,0,0,0,0,0,0,15.159999999999998,12,15.159999999999998,12,0,0,0,12,0,12,0,0,15.159999999999998,12,null,0,{"$f":"Method_input!$D$65*B5200+Method_input!$D$64*Input_series!AG5196+Method_input!$D$65*C5200+Method_input!$D$65*D5200+Method_input!$D$65*E5200+Method_input!$D$65*F5200","v":0},{"$f":"Method_input!$D$65*B5200+Method_input!$D$64*Input_series!AG5196+Method_input!$D$65*F5200","v":0}]
[5189,0,0,0,0,0,0,0,0,0,15.959999999999999,12,15.959999999999999,12,0,0,0,12,0,12,0,0,15.959999999999999,12,null,0,{"$f":"Method_input!$D$65*B5206+Method_input!$D$64*Input_series!AG5202+Method_input!$D$65*C5206+Method_input!$D$65*D5206+Method_input!$D$65*E5206+Method_input!$D$65*F5206","v":0},{"$f":"Method_input!$D$65*B5206+Method_input!$D$64*Input_series!AG5202+Method_input!$D$65*F5206","v":0}]
[5192,0,0,6.5131659999999997E-4,0,0,0,0,0,0,14.919999999999998,12,20.954482758620689,12,0.92358011432857146,0,6.4650608003000007,12,0,12,6.4666580000000007,0,14.919254587516694,12,null,6.4666580000000007,{"$f":"Method_input!$D$65*B5209+Method_input!$D$64*Input_series!AG5205+Method_input!$D$65*C5209+Method_input!$D$65*D5209+Method_input!$D$65*E5209+Method_input!$D$65*F5209","v":6.5131659999999997E-4},{"$f":"Method_input!$D$65*B5209+Method_input!$D$64*Input_series!AG5205+Method_input!$D$65*F5209","v":0}]
[5206,0,0,0,0,0,0,0,0,0,15.399999999999999,12,15.399999999999999,12,0,0,0,12,0,12,0,0,15.399999999999999,12,null,0,{"$f":"Method_input!$D$65*B5223+Method_input!$D$64*Input_series!AG5219+Method_input!$D$65*C5223+Method_input!$D$65*D5223+Method_input!$D$65*E5223+Method_input!$D$65*F5223","v":0},{"$f":"Method_input!$D$65*B5223+Method_input!$D$64*Input_series!AG5219+Method_input!$D$65*F5223","v":0}]
[5209,0,0,0,0,0,0,0,0,0,16,12,16,12,0,0,0,12,0,12,0,0,16,12,null,0,{"$f":"Method_input!$D$65*B5226+Method_input!$D$64*Input_series!AG5222+Method_input!$D$65*C5226+Method_input!$D$65*D5226+Method_input!$D$65*E5226+Method_input!$D$65*F5226","v":0},{"$f":"Method_input!$D$65*B5226+Method_input!$D$64*Input_series!AG5222+Method_input!$D$65*F5226","v":0}]
[5220,0,0,0,0,0,0,0,0,0,10.68,11.68,10.68,11.68,0,0,0,10.68,0,10.68,0,0,10.68,11.68,null,0,{"$f":"Method_input!$D$65*B5237+Method_input!$D$64*Input_series!AG5233+Method_input!$D$65*C5237+Method_input!$D$65*D5237+Method_input!$D$65*E5237+Method_input!$D$65*F5237","v":0},{"$f":"Method_input!$D$65*B5237+Method_input!$D$64*Input_series!AG5233+Method_input!$D$65*F5237","v":0}]
[5226,0,0.17279999999999998,5.74663E-4,0,0,0,0,1.4825620800000001,0,9.879999999999999,10.879999999999999,9.879999999999999,16.914482758620686,0,0.22242544145185719,1.5569780901630002,9.879999999999999,0,9.879999999999999,0,0,9.879999999999999,10.880557928460169,null,1.4825620800000001,{"$f":"Method_input!$D$65*B5243+Method_input!$D$64*Input_series!AG5239+Method_input!$D$65*C5243+Method_input!$D$65*D5243+Method_input!$D$65*E5243+Method_input!$D$65*F5243","v":0.17337466299999998},{"$f":"Method_input!$D$65*B5243+Method_input!$D$64*Input_series!AG5239+Method_input!$D$65*F5243","v":0}]
[5234,0,0,0,0,0,0,0,0,0,16,12,16,12,0,0,0,12,0,12,0,0,16,12,null,0,{"$f":"Method_input!$D$65*B5251+Method_input!$D$64*Input_series!AG5247+Method_input!$D$65*C5251+Method_input!$D$65*D5251+Method_input!$D$65*E5251+Method_input!$D$65*F5251","v":0},{"$f":"Method_input!$D$65*B5251+Method_input!$D$64*Input_series!AG5247+Method_input!$D$65*F5251","v":0}]
[5243,0,0.17279999999999998,6.5131659999999997E-4,0,0,0.31980463199999998,0,0,0,10.52,11.52,16.55448275862069,11.52,4.8265364271428558E-2,0,0.33785754989999994,10.52,0,10.52,0,0,10.538420847658246,11.52,null,0.31980463199999998,{"$f":"Method_input!$D$65*B5260+Method_input!$D$64*Input_series!AG5256+Method_input!$D$65*C5260+Method_input!$D$65*D5260+Method_input!$D$65*E5260+Method_input!$D$65*F5260","v":0.17345131659999999},{"$f":"Method_input!$D$65*B5260+Method_input!$D$64*Input_series!AG5256+Method_input!$D$65*F5260","v":0}]
[5248,0,0.51839999999999997,1.2259796000000001E-3,0,0,4.6660931999999997,1.8565070400000001,4.89203352,1.8238842,9,10,15.03448275862069,16.03448275862069,0.97845133884285729,1.007428787451857,13.901160884063001,9,0,9,0,0,9.0001890390117474,10.000123182388272,null,13.238517960000001,{"$f":"Method_input!$D$65*B5265+Method_input!$D$64*Input_series!AG5261+Method_input!$D$65*C5265+Method_input!$D$65*D5265+Method_input!$D$65*E5265+Method_input!$D$65*F5265","v":0.51962597960000001},{"$f":"Method_input!$D$65*B5265+Method_input!$D$64*Input_series!AG5261+Method_input!$D$65*F5265","v":0}]
[5252,0,0,0,0,0,0,0,0,0,12.280000000000001,12,12.280000000000001,12,0,0,0,12,0,12,0,0,12.280000000000001,12,null,0,{"$f":"Method_input!$D$65*B5269+Method_input!$D$64*Input_series!AG5265+Method_input!$D$65*C5269+Method_input!$D$65*D5269+Method_input!$D$65*E5269+Method_input!$D$65*F5269","v":0},{"$f":"Method_input!$D$65*B5269+Method_input!$D$64*Input_series!AG5265+Method_input!$D$65*F5269","v":0}]
[5261,0,0,0,0,0,0,0,0,0,16,12,16,12,0,0,0,12,0,12,0,0,16,12,null,0,{"$f":"Method_input!$D$65*B5278+Method_input!$D$64*Input_series!AG5274+Method_input!$D$65*C5278+Method_input!$D$65*D5278+Method_input!$D$65*E5278+Method_input!$D$65*F5278","v":0},{"$f":"Method_input!$D$65*B5278+Method_input!$D$64*Input_series!AG5274+Method_input!$D$65*F5278","v":0}]
[5271,3.5719448406105587,0.43199999999999994,1.0848330000000002E-2,0,0.17859724203052796,3.3890903999999997,0.69264647999999984,1.58523192,0,9,10,15.03448275862069,16.03448275862069,2.9859504928571425,1.6063441576968573,32.146062553877996,9,23.700904589463001,9,16.610979999999998,9.5793400000000002,9.0007000782976583,10.000154448984103,null,31.857288799999999,{"$f":"Method_input!$D$65*B5288+Method_input!$D$64*Input_series!AG5284+Method_input!$D$65*C5288+Method_input!$D$65*D5288+Method_input!$D$65*E5288+Method_input!$D$65*F5288","v":4.1933904126410866},{"$f":"Method_input!$D$65*B5288+Method_input!$D$64*Input_series!AG5284+Method_input!$D$65*F5288","v":3.7505420826410867}]
[5278,0,0.25919999999999999,6.5131659999999997E-4,0,0,0.37723838399999998,4.2527016000000001E-2,0,0,12.440000000000001,12,18.474482758620692,12,6.31358590142857E-2,0,0.44195101309999996,12,0,12,0,0,12.448174374624038,12,null,0.41976539999999996,{"$f":"Method_input!$D$65*B5295+Method_input!$D$64*Input_series!AG5291+Method_input!$D$65*C5295+Method_input!$D$65*D5295+Method_input!$D$65*E5295+Method_input!$D$65*F5295","v":0.25985131659999999},{"$f":"Method_input!$D$65*B5295+Method_input!$D$64*Input_series!AG5291+Method_input!$D$65*F5295","v":0}]
[5285,0,0,0,0,0,0,0,0,0,15.08,12,15.08,12,0,0,0,12,0,12,0,0,15.08,12,null,0,{"$f":"Method_input!$D$65*B5302+Method_input!$D$64*Input_series!AG5298+Method_input!$D$65*C5302+Method_input!$D$65*D5302+Method_input!$D$65*E5302+Method_input!$D$65*F5302","v":0},{"$f":"Method_input!$D$65*B5302+Method_input!$D$64*Input_series!AG5298+Method_input!$D$65*F5302","v":0}]
[5295,10.1985559566787,0.51839999999999997,2.2821019000000001E-2,0,0.50992779783393505,6.6407284799999999,2.2960054799999998,5.7441059999999995,2.1830695200000001,9,10,15.034482758620689,16.03448275862069,3.9288474418571426,2.6523353212355714,46.068279341648996,9,50,4,18.108889999999999,10.240870000000001,9.0010391126524052,10.0003157517767,null,45.21366948,{"$f":"Method_input!$D$65*B5312+Method_input!$D$64*Input_series!AG5308+Method_input!$D$65*C5312+Method_input!$D$65*D5312+Method_input!$D$65*E5312+Method_input!$D$65*F5312","v":11.249704773512635},{"$f":"Method_input!$D$65*B5312+Method_input!$D$64*Input_series!AG5308+Method_input!$D$65*F5312","v":10.708483754512635}]
[5302,0,0.51839999999999997,1.2259796000000001E-3,0,0,1.8557870399999996,0.64589543999999999,1.4975863199999999,0.60190451999999994,11.719999999999999,12,17.754482758620689,18.03448275862069,0.37531694022857148,0.31496475545185704,4.8319718697629996,11.719999999999999,0,11.719999999999999,0,0,11.720519075773439,12.000394004350975,null,4.6011733199999991,{"$f":"Method_input!$D$65*B5319+Method_input!$D$64*Input_series!AG5315+Method_input!$D$65*C5319+Method_input!$D$65*D5319+Method_input!$D$65*E5319+Method_input!$D$65*F5319","v":0.51962597960000001},{"$f":"Method_input!$D$65*B5319+Method_input!$D$64*Input_series!AG5315+Method_input!$D$65*F5319","v":0}]
[5312,0,0.17279999999999998,3.4871429999999998E-3,0,0,0,3.5441611199999996,0,1.5988424399999999,10.599999999999998,11.599999999999998,16.634482758620688,17.634482758620688,1.8524698041142853,0.23986749545185718,14.646361096962998,10.599999999999998,0,10.599999999999998,9.2451419999999995,0,10.600180898476601,11.600517358485014,null,14.388145559999998,{"$f":"Method_input!$D$65*B5329+Method_input!$D$64*Input_series!AG5325+Method_input!$D$65*C5329+Method_input!$D$65*D5329+Method_input!$D$65*E5329+Method_input!$D$65*F5329","v":0.17628714299999998},{"$f":"Method_input!$D$65*B5329+Method_input!$D$64*Input_series!AG5325+Method_input!$D$65*F5329","v":0}]
[5316,9.4464500601684733,0.51839999999999997,9.3956860000000003E-3,0,0.47232250300842371,0.55552723199999998,1.1604488399999999,3.8457460799999992,3.1545745200000002,9,10,15.03448275862069,16.03448275862069,2.6875774010857145,1.9768806261174288,32.651206190422002,9,50,4,17.007490000000001,6.4869050000000001,9.0006057455053678,10.000201194892645,null,32.210691671999996,{"$f":"Method_input!$D$65*B5333+Method_input!$D$64*Input_series!AG5329+Method_input!$D$65*C5333+Method_input!$D$65*D5333+Method_input!$D$65*E5333+Method_input!$D$65*F5333","v":10.446568249176897},{"$f":"Method_input!$D$65*B5333+Method_input!$D$64*Input_series!AG5329+Method_input!$D$65*F5333","v":9.9187725631768977}]
[5321,9.4464500601684733,0.51839999999999997,9.774886E-3,0,0.47232250300842371,0.50624042400000002,2.25492048,1.5913756799999998,2.9838114,9,10,15.03448275862069,16.03448275862069,2.8444336061714286,1.6130591007568573,31.202448948498002,9,50,4,17.007490000000001,6.4869049999999993,9.0006555898835199,10.000150247636922,null,30.830742984,{"$f":"Method_input!$D$65*B5338+Method_input!$D$64*Input_series!AG5334+Method_input!$D$65*C5338+Method_input!$D$65*D5338+Method_input!$D$65*E5338+Method_input!$D$65*F5338","v":10.446947449176898},{"$f":"Method_input!$D$65*B5338+Method_input!$D$64*Input_series!AG5334+Method_input!$D$65*F5338","v":9.9187725631768977}]
[5330,0,0.34559999999999996,1.2259796000000001E-3,0,0,0.13630975199999998,0,1.8767721599999999E-2,0,12.919999999999998,12,18.954482758620689,18.03448275862069,2.0631483342857141E-2,2.8562876918571426E-3,0.164414397243,12,0,12,0,0,12.947058240488765,12.043447123483222,null,0.15507747359999999,{"$f":"Method_input!$D$65*B5347+Method_input!$D$64*Input_series!AG5343+Method_input!$D$65*C5347+Method_input!$D$65*D5347+Method_input!$D$65*E5347+Method_input!$D$65*F5347","v":0.34682597959999995},{"$f":"Method_input!$D$65*B5347+Method_input!$D$64*Input_series!AG5343+Method_input!$D$65*F5347","v":0}]
[5338,8.9350180505415171,0.51839999999999997,1.1695392000000001E-2,0,0.44675090252707589,3.9958077599999999,0.91990655999999993,2.4331024800000001,0.60767819999999995,9,10,15.03448275862069,16.03448275862069,3.0509421972857145,1.7985945099574285,33.946756950702003,9,50,4,16.190000000000001,9.3965879999999995,9.000719865947806,10.000180662067402,null,33.543083000000003,{"$f":"Method_input!$D$65*B5355+Method_input!$D$64*Input_series!AG5351+Method_input!$D$65*C5355+Method_input!$D$65*D5355+Method_input!$D$65*E5355+Method_input!$D$65*F5355","v":9.9118643450685919},{"$f":"Method_input!$D$65*B5355+Method_input!$D$64*Input_series!AG5351+Method_input!$D$65*F5355","v":9.3817689530685922}]
[5344,8.8947990543735234,0.51839999999999997,2.7622848000000002E-2,0,0.44473995271867617,6.421265231274722,0.60623669145288173,7.1094340799999998,0.89169371999999991,9,10,15.03448275862069,16.03448275862069,3.3912945674374289,3.7515625754197144,53.318350648937994,9,53.318350648937994,9,16.351057998198019,17.855060000000002,9.0011600385190249,10.000539296884188,null,49.234747720925625,{"$f":"Method_input!$D$65*B5361+Method_input!$D$64*Input_series!AG5357+Method_input!$D$65*C5361+Method_input!$D$65*D5361+Method_input!$D$65*E5361+Method_input!$D$65*F5361","v":9.8855618550921989},{"$f":"Method_input!$D$65*B5361+Method_input!$D$64*Input_series!AG5357+Method_input!$D$65*F5361","v":9.3395390070921991}]
[5355,0,0,0,0,0,0,0,0,0,12.919999999999998,12,12.919999999999998,12,0,0,0,12,0,12,0,0,12.919999999999998,12,null,0,{"$f":"Method_input!$D$65*B5372+Method_input!$D$64*Input_series!AG5368+Method_input!$D$65*C5372+Method_input!$D$65*D5372+Method_input!$D$65*E5372+Method_input!$D$65*F5372","v":0},{"$f":"Method_input!$D$65*B5372+Method_input!$D$64*Input_series!AG5368+Method_input!$D$65*F5372","v":0}]
[5361,0,0.25919999999999999,6.4227959999999997E-3,0,0,1.3395009599999999,0.47123567999999999,0,0,9,10,15.03448275862069,16.03448275862069,2.4278525054999998,0.70642470088042864,21.939940444663002,9,0,9,15.090770000000001,4.9446850000000007,9.0005191309968477,10.000175669797358,null,21.846191640000001,{"$f":"Method_input!$D$65*B5378+Method_input!$D$64*Input_series!AG5374+Method_input!$D$65*C5378+Method_input!$D$65*D5378+Method_input!$D$65*E5378+Method_input!$D$65*F5378","v":0.26562279599999999},{"$f":"Method_input!$D$65*B5378+Method_input!$D$64*Input_series!AG5374+Method_input!$D$65*F5378","v":0}]
[5372,0,0.51839999999999997,1.2259796000000001E-3,0,0,3.5884209600000001,1.4157431999999999,3.1598726399999997,1.4101077599999998,9.48,10.48,15.514482758620691,16.514482758620691,0.75064205572857146,0.68553818945185707,10.053261716263,9.48,0,9.48,0,0,9.480070067660554,10.480181021985297,null,9.5741445600000006,{"$f":"Method_input!$D$65*B5389+Method_input!$D$64*Input_series!AG5385+Method_input!$D$65*C5389+Method_input!$D$65*D5389+Method_input!$D$65*E5389+Method_input!$D$65*F5389","v":0.51962597960000001},{"$f":"Method_input!$D$65*B5389+Method_input!$D$64*Input_series!AG5385+Method_input!$D$65*F5389","v":0}]
[5375,0,0.51839999999999997,1.2259796000000001E-3,0,0,1.8929066399999999,0.63161676,1.6044156000000001,0.62790480000000004,10.52,11.52,16.55448275862069,17.55448275862069,0.37886871104285702,0.33488918945185714,4.9963053034629992,10.52,0,10.52,0,0,10.521514726447895,11.520370562824839,null,4.7568438000000004,{"$f":"Method_input!$D$65*B5392+Method_input!$D$64*Input_series!AG5388+Method_input!$D$65*C5392+Method_input!$D$65*D5392+Method_input!$D$65*E5392+Method_input!$D$65*F5392","v":0.51962597960000001},{"$f":"Method_input!$D$65*B5392+Method_input!$D$64*Input_series!AG5388+Method_input!$D$65*F5392","v":0}]
[5381,0,0,0,0,0,0,0,0,0,12.919999999999998,12,12.919999999999998,12,0,0,0,12,0,12,0,0,12.919999999999998,12,null,0,{"$f":"Method_input!$D$65*B5398+Method_input!$D$64*Input_series!AG5394+Method_input!$D$65*C5398+Method_input!$D$65*D5398+Method_input!$D$65*E5398+Method_input!$D$65*F5398","v":0},{"$f":"Method_input!$D$65*B5398+Method_input!$D$64*Input_series!AG5394+Method_input!$D$65*F5398","v":0}]
[5389,8.0024067388688334,0.51839999999999997,3.4263319999999998E-3,0,0.40012033694344168,8.5896431999999994,4.0916304000000006,2.9441217599999998,1.3129966799999999,9.3199999999999967,10.319999999999997,15.354482758620687,16.354482758620687,1.9023753367285712,0.63860889545185706,17.786889625262997,9.3199999999999967,50,4,0,0,9.3202923017896495,10.320194324703168,null,16.93839204,{"$f":"Method_input!$D$65*B5406+Method_input!$D$64*Input_series!AG5402+Method_input!$D$65*C5406+Method_input!$D$65*D5406+Method_input!$D$65*E5406+Method_input!$D$65*F5406","v":8.9243534078122746},{"$f":"Method_input!$D$65*B5406+Method_input!$D$64*Input_series!AG5402+Method_input!$D$65*F5406","v":8.4025270758122748}]
[5398,0,0,0,0,0,0,0,0,0,12.919999999999998,12,12.919999999999998,12,0,0,0,12,0,12,0,0,12.919999999999998,12,null,0,{"$f":"Method_input!$D$65*B5415+Method_input!$D$64*Input_series!AG5411+Method_input!$D$65*C5415+Method_input!$D$65*D5415+Method_input!$D$65*E5415+Method_input!$D$65*F5415","v":0},{"$f":"Method_input!$D$65*B5415+Method_input!$D$64*Input_series!AG5411+Method_input!$D$65*F5415","v":0}]
[5407,0,0.25919999999999999,6.5131659999999997E-4,0,0,3.6389577600000003,1.4549839200000001,0,0,15.159999999999998,12,21.194482758620687,12,0.76736444175714302,0,5.3715510923000007,12,0,12,0,0,15.172870030249213,12,null,5.0939416800000004,{"$f":"Method_input!$D$65*B5424+Method_input!$D$64*Input_series!AG5420+Method_input!$D$65*C5424+Method_input!$D$65*D5424+Method_input!$D$65*E5424+Method_input!$D$65*F5424","v":0.25985131659999999},{"$f":"Method_input!$D$65*B5424+Method_input!$D$64*Input_series!AG5420+Method_input!$D$65*F5424","v":0}]
[5412,0,0.51839999999999997,1.4418799E-3,0,0,1.6802402400000001,0.64263455999999997,6.5783908799999997,3.0367396799999997,10.52,11.52,16.55448275862069,17.55448275862069,0.34856893218571428,1.442326165744757,12.536265685513298,10.52,0,10.52,0,0,10.521192048019216,11.520118364892525,null,11.93800536,{"$f":"Method_input!$D$65*B5429+Method_input!$D$64*Input_series!AG5425+Method_input!$D$65*C5429+Method_input!$D$65*D5429+Method_input!$D$65*E5429+Method_input!$D$65*F5429","v":0.51984187989999997},{"$f":"Method_input!$D$65*B5429+Method_input!$D$64*Input_series!AG5425+Method_input!$D$65*F5429","v":0}]
[5424,0,0,0,0,0,0,0,0,0,15.959999999999999,12,15.959999999999999,12,0,0,0,12,0,12,0,0,15.959999999999999,12,null,0,{"$f":"Method_input!$D$65*B5441+Method_input!$D$64*Input_series!AG5437+Method_input!$D$65*C5441+Method_input!$D$65*D5441+Method_input!$D$65*E5441+Method_input!$D$65*F5441","v":0},{"$f":"Method_input!$D$65*B5441+Method_input!$D$64*Input_series!AG5437+Method_input!$D$65*F5441","v":0}]
[5426,0,0,0,0,0,0,0,0,0,16,12,16,12,0,0,0,12,0,12,0,0,16,12,null,0,{"$f":"Method_input!$D$65*B5443+Method_input!$D$64*Input_series!AG5439+Method_input!$D$65*C5443+Method_input!$D$65*D5443+Method_input!$D$65*E5443+Method_input!$D$65*F5443","v":0},{"$f":"Method_input!$D$65*B5443+Method_input!$D$64*Input_series!AG5439+Method_input!$D$65*F5443","v":0}]
[5433,0,0,1.2259796000000001E-3,0,0,0,0,0,0,12.759999999999998,12,18.794482758620688,18.03448275862069,0.63534679961428564,0.19970955802328577,5.8453945034629999,12,0,12,4.4462659999999996,1.3976790000000001,12.760788055423719,12.00062138980868,null,5.8439449999999997,{"$f":"Method_input!$D$65*B5450+Method_input!$D$64*Input_series!AG5446+Method_input!$D$65*C5450+Method_input!$D$65*D5450+Method_input!$D$65*E5450+Method_input!$D$65*F5450","v":1.2259796000000001E-3},{"$f":"Method_input!$D$65*B5450+Method_input!$D$64*Input_series!AG5446+Method_input!$D$65*F5450","v":0}]
[5447,0,0,0,0,0,0,0,0,0,13.64,12,13.64,12,0,0,0,12,0,12,0,0,13.64,12,null,0,{"$f":"Method_input!$D$65*B5464+Method_input!$D$64*Input_series!AG5460+Method_input!$D$65*C5464+Method_input!$D$65*D5464+Method_input!$D$65*E5464+Method_input!$D$65*F5464","v":0},{"$f":"Method_input!$D$65*B5464+Method_input!$D$64*Input_series!AG5460+Method_input!$D$65*F5464","v":0}]
[5450,0,0,0,0,0,0,0,0,0,15.08,12,15.08,12,0,0,0,12,0,12,0,0,15.08,12,null,0,{"$f":"Method_input!$D$65*B5467+Method_input!$D$64*Input_series!AG5463+Method_input!$D$65*C5467+Method_input!$D$65*D5467+Method_input!$D$65*E5467+Method_input!$D$65*F5467","v":0},{"$f":"Method_input!$D$65*B5467+Method_input!$D$64*Input_series!AG5463+Method_input!$D$65*F5467","v":0}]
[5457,0,0,1.8685840000000002E-3,0,0,0,0,0,0,10.599999999999998,11.599999999999998,16.634482758620688,17.634482758620688,1.3207300247571427,0.42815498659471424,12.242195079462999,10.599999999999998,0,10.599999999999998,9.2451419999999995,2.9967969999999999,10.599989613013319,11.600289842435417,null,12.241938999999999,{"$f":"Method_input!$D$65*B5474+Method_input!$D$64*Input_series!AG5470+Method_input!$D$65*C5474+Method_input!$D$65*D5474+Method_input!$D$65*E5474+Method_input!$D$65*F5474","v":1.8685840000000002E-3},{"$f":"Method_input!$D$65*B5474+Method_input!$D$64*Input_series!AG5470+Method_input!$D$65*F5474","v":0}]
[5467,3.4066440344373468,0.17279999999999998,4.8441019999999994E-3,0,0.17033220172186736,0,2.1029047200000002,0,2.0861521199999999,9,10,15.034482758620689,16.03448275862069,2.1442920965000001,0.31296394745185713,17.200792307663001,9,20.969786611981,4,12.799860000000001,0,9.0004291102490281,10.000396523257908,null,16.988916840000002,{"$f":"Method_input!$D$65*B5484+Method_input!$D$64*Input_series!AG5480+Method_input!$D$65*C5484+Method_input!$D$65*D5484+Method_input!$D$65*E5484+Method_input!$D$65*F5484","v":3.754620338159214},{"$f":"Method_input!$D$65*B5484+Method_input!$D$64*Input_series!AG5480+Method_input!$D$65*F5484","v":3.5769762361592141}]
[5471,0,0.51839999999999997,1.2259796000000001E-3,0,0,0.36756165599999996,5.9091011999999998E-2,0.24604545599999997,4.9491107999999999E-2,13.48,12,19.514482758620691,18.03448275862069,6.4085172357142839E-2,4.437161405185714E-2,0.75919750486299997,12,0,12,0,0,13.48410892495265,12.002796776423475,null,0.72218923199999996,{"$f":"Method_input!$D$65*B5488+Method_input!$D$64*Input_series!AG5484+Method_input!$D$65*C5488+Method_input!$D$65*D5488+Method_input!$D$65*E5488+Method_input!$D$65*F5488","v":0.51962597960000001},{"$f":"Method_input!$D$65*B5488+Method_input!$D$64*Input_series!AG5484+Method_input!$D$65*F5488","v":0}]
[5484,8.9951865222623333,0.34559999999999996,7.6485329999999999E-3,0,0.4497593261131167,0,0.6610338,3.7042437599999998,3.17339532,9,10,15.03448275862069,16.03448275862069,2.4294127455714283,1.9331141875107145,30.537688531575,9,50,4,16.30885,6.3094060000000001,9.0005240604150298,10.000194495569287,null,30.156928879999999,{"$f":"Method_input!$D$65*B5501+Method_input!$D$64*Input_series!AG5497+Method_input!$D$65*C5501+Method_input!$D$65*D5501+Method_input!$D$65*E5501+Method_input!$D$65*F5501","v":9.7981943813754491},{"$f":"Method_input!$D$65*B5501+Method_input!$D$64*Input_series!AG5497+Method_input!$D$65*F5501","v":9.4449458483754505}]
[5492,0,0.51839999999999997,1.2259796000000001E-3,0,0,2.9173744799999999,1.25611848,2.4280459199999997,1.3103416800000001,10.599999999999998,11.599999999999998,16.634482758620688,17.634482758620688,0.62597349701428573,0.5607992694518571,8.3074093652630001,10.599999999999998,0,10.599999999999998,0,0,10.599756841569993,11.600221286814749,null,7.9118805600000002,{"$f":"Method_input!$D$65*B5509+Method_input!$D$64*Input_series!AG5505+Method_input!$D$65*C5509+Method_input!$D$65*D5509+Method_input!$D$65*E5509+Method_input!$D$65*F5509","v":0.51962597960000001},{"$f":"Method_input!$D$65*B5509+Method_input!$D$64*Input_series!AG5505+Method_input!$D$65*F5509","v":0}]
[5493,0,0.51839999999999997,1.2259796000000001E-3,0,0,2.12166576,0.85878144000000001,1.69278408,0.90593387999999997,11.399999999999999,12,17.434482758620689,18.03448275862069,0.44713054425714288,0.38984882345185717,5.8588555739629999,11.399999999999999,0,11.399999999999999,0,0,11.400428257441183,12.000318322068932,null,5.5791651599999996,{"$f":"Method_input!$D$65*B5510+Method_input!$D$64*Input_series!AG5506+Method_input!$D$65*C5510+Method_input!$D$65*D5510+Method_input!$D$65*E5510+Method_input!$D$65*F5510","v":0.51962597960000001},{"$f":"Method_input!$D$65*B5510+Method_input!$D$64*Input_series!AG5506+Method_input!$D$65*F5510","v":0}]
[5506,1.1824599670574281,0,2.1983569999999997E-3,0,5.9122998352871409E-2,0,0,0,0,14.280000000000001,12,20.314482758620692,18.03448275862069,1.4462959225428571,0.91536055802328575,16.531595363963,12,16.306504384420986,12,10.123989999999999,6.4072360000000002,14.280024276581399,12.000135572243051,null,16.531226,{"$f":"Method_input!$D$65*B5523+Method_input!$D$64*Input_series!AG5519+Method_input!$D$65*C5523+Method_input!$D$65*D5523+Method_input!$D$65*E5523+Method_input!$D$65*F5523","v":1.2437813224102994},{"$f":"Method_input!$D$65*B5523+Method_input!$D$64*Input_series!AG5519+Method_input!$D$65*F5523","v":1.2415829654102994}]
[5510,0,0.25919999999999999,1.2259796000000001E-3,0,0,2.1438460799999999,0.94925411999999998,0,0,13.399999999999999,12,19.434482758620689,18.03448275862069,0.86210245718571432,0.12078988659471428,6.8802464064629998,12,0,12,2.788503,0.84524129999999997,13.399229525083207,12.001027383066168,null,6.7268444999999994,{"$f":"Method_input!$D$65*B5527+Method_input!$D$64*Input_series!AG5523+Method_input!$D$65*C5527+Method_input!$D$65*D5527+Method_input!$D$65*E5527+Method_input!$D$65*F5527","v":0.26042597959999997},{"$f":"Method_input!$D$65*B5527+Method_input!$D$64*Input_series!AG5523+Method_input!$D$65*F5527","v":0}]
[5516,0,0.51839999999999997,1.2259796000000001E-3,0,0,0.63744019200000002,0.328797432,0.35227533599999999,0.140239692,14.04,12,20.07448275862069,18.03448275862069,0.14491847468571425,7.3918383651857156E-2,1.5318580083629998,12,0,12,0,0,14.039642538615361,12.001678844665168,null,1.458752652,{"$f":"Method_input!$D$65*B5533+Method_input!$D$64*Input_series!AG5529+Method_input!$D$65*C5533+Method_input!$D$65*D5533+Method_input!$D$65*E5533+Method_input!$D$65*F5533","v":0.51962597960000001},{"$f":"Method_input!$D$65*B5533+Method_input!$D$64*Input_series!AG5529+Method_input!$D$65*F5533","v":0}]
[5527,0,8.6399999999999991E-2,6.5131659999999997E-4,0,0,0,5.7724919999999985E-2,0,0,14.04,12,20.07448275862069,12,0.15331620632857143,0,1.0732134442999999,12,0,12,0.98921479999999995,0,14.105751754843611,12,null,1.0469397199999999,{"$f":"Method_input!$D$65*B5544+Method_input!$D$64*Input_series!AG5540+Method_input!$D$65*C5544+Method_input!$D$65*D5544+Method_input!$D$65*E5544+Method_input!$D$65*F5544","v":8.7051316599999984E-2},{"$f":"Method_input!$D$65*B5544+Method_input!$D$64*Input_series!AG5540+Method_input!$D$65*F5544","v":0}]
[5536,6.1734768799054356,0.34559999999999996,5.9715859999999992E-3,0,0.30867384399527181,0.56570558400000004,0,0.39021393599999998,0,9,10,15.03448275862069,16.03448275862069,2.0647382671714283,2.009126493767428,28.517053326571997,9,37.17506729856099,4,13.857209999999998,13.653139999999999,9.0004106321165782,10.00021900570308,null,28.466269519999997,{"$f":"Method_input!$D$65*B5553+Method_input!$D$64*Input_series!AG5549+Method_input!$D$65*C5553+Method_input!$D$65*D5553+Method_input!$D$65*E5553+Method_input!$D$65*F5553","v":6.8337223099007076},{"$f":"Method_input!$D$65*B5553+Method_input!$D$64*Input_series!AG5549+Method_input!$D$65*F5553","v":6.4821507239007072}]
[5543,0,0,0,0,0,0,0,0,0,14.519999999999998,12,14.519999999999998,12,0,0,0,12,0,12,0,0,14.519999999999998,12,null,0,{"$f":"Method_input!$D$65*B5560+Method_input!$D$64*Input_series!AG5556+Method_input!$D$65*C5560+Method_input!$D$65*D5560+Method_input!$D$65*E5560+Method_input!$D$65*F5560","v":0},{"$f":"Method_input!$D$65*B5560+Method_input!$D$64*Input_series!AG5556+Method_input!$D$65*F5560","v":0}]
[5553,0,0.51839999999999997,1.2259796000000001E-3,0,0,2.4027753599999997,1.17312588,1.27480248,0.44241407999999999,12.36,12,18.39448275862069,18.03448275862069,0.53654546231428557,0.25762361345185714,5.5591835303629988,12,0,12,0,0,12.360901307273199,12.000481700735383,null,5.2931177999999992,{"$f":"Method_input!$D$65*B5570+Method_input!$D$64*Input_series!AG5566+Method_input!$D$65*C5570+Method_input!$D$65*D5570+Method_input!$D$65*E5570+Method_input!$D$65*F5570","v":0.51962597960000001},{"$f":"Method_input!$D$65*B5570+Method_input!$D$64*Input_series!AG5566+Method_input!$D$65*F5570","v":0}]
[5560,8.1829121540312872,0.51839999999999997,1.2705273000000001E-3,0,0.40914560770156438,4.8350375999999997,2.3781697199999998,2.64934512,1.2349540800000001,9,10,15.03448275862069,16.03448275862069,1.0820308025928571,0.58268600945185711,11.653017684312999,9,50,4,0,0,9.000138601187647,10.000212974881906,null,11.09750652,{"$f":"Method_input!$D$65*B5577+Method_input!$D$64*Input_series!AG5573+Method_input!$D$65*C5577+Method_input!$D$65*D5577+Method_input!$D$65*E5577+Method_input!$D$65*F5577","v":9.1117282890328521},{"$f":"Method_input!$D$65*B5577+Method_input!$D$64*Input_series!AG5573+Method_input!$D$65*F5577","v":8.5920577617328515}]
[5562,0,0.51839999999999997,1.2259796000000001E-3,0,0,1.053774,0.48276467999999995,0.77743943999999998,0.30374809199999997,9.7999999999999972,10.799999999999997,15.834482758620688,16.834482758620688,0.23065761864285714,0.16221925925185715,2.750138145263,9.7999999999999972,0,9.7999999999999972,0,0,9.8023129454579365,10.800764998463336,null,2.617726212,{"$f":"Method_input!$D$65*B5579+Method_input!$D$64*Input_series!AG5575+Method_input!$D$65*C5579+Method_input!$D$65*D5579+Method_input!$D$65*E5579+Method_input!$D$65*F5579","v":0.51962597960000001},{"$f":"Method_input!$D$65*B5579+Method_input!$D$64*Input_series!AG5575+Method_input!$D$65*F5579","v":0}]
[5574,0,0,0,0,0,0,0,0,0,14.280000000000001,12,14.280000000000001,12,0,0,0,12,0,12,0,0,14.280000000000001,12,null,0,{"$f":"Method_input!$D$65*B5591+Method_input!$D$64*Input_series!AG5587+Method_input!$D$65*C5591+Method_input!$D$65*D5591+Method_input!$D$65*E5591+Method_input!$D$65*F5591","v":0},{"$f":"Method_input!$D$65*B5591+Method_input!$D$64*Input_series!AG5587+Method_input!$D$65*F5591","v":0}]
[5579,0,0.51839999999999997,1.2259796000000001E-3,0,0,2.43808128,1.0834963199999998,1.8081468000000001,0.71984843999999992,12.04,12,18.07448275862069,18.03448275862069,0.52812592790000001,0.37924041545185716,6.3515644034629997,12,0,12,0,0,12.039367489623849,12.00032722642154,null,6.0495728399999997,{"$f":"Method_input!$D$65*B5596+Method_input!$D$64*Input_series!AG5592+Method_input!$D$65*C5596+Method_input!$D$65*D5596+Method_input!$D$65*E5596+Method_input!$D$65*F5596","v":0.51962597960000001},{"$f":"Method_input!$D$65*B5596+Method_input!$D$64*Input_series!AG5592+Method_input!$D$65*F5596","v":0}]
[5588,0,0,0,0,0,0,0,0,0,16,12,16,12,0,0,0,12,0,12,0,0,16,12,null,0,{"$f":"Method_input!$D$65*B5605+Method_input!$D$64*Input_series!AG5601+Method_input!$D$65*C5605+Method_input!$D$65*D5605+Method_input!$D$65*E5605+Method_input!$D$65*F5605","v":0},{"$f":"Method_input!$D$65*B5605+Method_input!$D$64*Input_series!AG5601+Method_input!$D$65*F5605","v":0}]
[5596,0,0,0,0,0,0,0,0,0,15.399999999999999,12,15.399999999999999,12,0,0,0,12,0,12,0,0,15.399999999999999,12,null,0,{"$f":"Method_input!$D$65*B5613+Method_input!$D$64*Input_series!AG5609+Method_input!$D$65*C5613+Method_input!$D$65*D5613+Method_input!$D$65*E5613+Method_input!$D$65*F5613","v":0},{"$f":"Method_input!$D$65*B5613+Method_input!$D$64*Input_series!AG5609+Method_input!$D$65*F5613","v":0}]
[5602,0,0,1.3600639E-3,0,0,0,0,0,0,15.88,12,21.914482758620693,18.03448275862069,1.0816322923499999,0.70671898659471433,12.518458952612999,12,0,12,7.5738430000000001,4.9467449999999999,15.879036835040298,12.000175596646482,null,12.520588,{"$f":"Method_input!$D$65*B5619+Method_input!$D$64*Input_series!AG5615+Method_input!$D$65*C5619+Method_input!$D$65*D5619+Method_input!$D$65*E5619+Method_input!$D$65*F5619","v":1.3600639E-3},{"$f":"Method_input!$D$65*B5619+Method_input!$D$64*Input_series!AG5615+Method_input!$D$65*F5619","v":0}]
[5613,0,0,0,0,0,0,0,0,0,16,12,16,12,0,0,0,12,0,12,0,0,16,12,null,0,{"$f":"Method_input!$D$65*B5630+Method_input!$D$64*Input_series!AG5626+Method_input!$D$65*C5630+Method_input!$D$65*D5630+Method_input!$D$65*E5630+Method_input!$D$65*F5630","v":0},{"$f":"Method_input!$D$65*B5630+Method_input!$D$64*Input_series!AG5626+Method_input!$D$65*F5630","v":0}]
[5619,0,0,0,0,0,0,0,0,0,16,12,16,12,0,0,0,12,0,12,0,0,16,12,null,0,{"$f":"Method_input!$D$65*B5636+Method_input!$D$64*Input_series!AG5632+Method_input!$D$65*C5636+Method_input!$D$65*D5636+Method_input!$D$65*E5636+Method_input!$D$65*F5636","v":0},{"$f":"Method_input!$D$65*B5636+Method_input!$D$64*Input_series!AG5632+Method_input!$D$65*F5636","v":0}]
[5622,0,0,0,0,0,0,0,0,0,16,12,16,12,0,0,0,12,0,12,0,0,16,12,null,0,{"$f":"Method_input!$D$65*B5639+Method_input!$D$64*Input_series!AG5635+Method_input!$D$65*C5639+Method_input!$D$65*D5639+Method_input!$D$65*E5639+Method_input!$D$65*F5639","v":0},{"$f":"Method_input!$D$65*B5639+Method_input!$D$64*Input_series!AG5635+Method_input!$D$65*F5639","v":0}]
[5633,6.8592057761732859,0,1.2259796000000001E-3,0,0.3429602888086643,0,0,0,0,12.36,12,18.39448275862069,18.03448275862069,0.76201342189999999,0.28926598659471425,7.3589558594630002,12,50,4,5.3349449999999994,2.0245739999999999,12.359518603657632,12.000429008213212,null,{"$f":"SUM(G5650:J5650,U5650:V5650)","v":7.3595189999999988},{"$f":"Method_input!$D$65*B5650+Method_input!$D$64*Input_series!AG5646+Method_input!$D$65*C5650+Method_input!$D$65*D5650+Method_input!$D$65*E5650+Method_input!$D$65*F5650","v":7.2033920445819506},{"$f":"Method_input!$D$65*B5650+Method_input!$D$64*Input_series!AG5646+Method_input!$D$65*F5650","v":7.2021660649819506}]
[5639,0,0,0,0,0,0,0,0,0,16,12,16,12,0,0,0,12,0,12,0,0,16,12,null,0,{"$f":"Method_input!$D$65*B5656+Method_input!$D$64*Input_series!AG5652+Method_input!$D$65*C5656+Method_input!$D$65*D5656+Method_input!$D$65*E5656+Method_input!$D$65*F5656","v":0},{"$f":"Method_input!$D$65*B5656+Method_input!$D$64*Input_series!AG5652+Method_input!$D$65*F5656","v":0}]
[5647,0,0,6.5131659999999997E-4,0,0,0,0,0,0,16,12,22.03448275862069,12,0.65861294261428582,0,4.6102905983000007,12,0,12,4.5880910000000004,0,16.01452870381306,12,null,4.5880910000000004,{"$f":"Method_input!$D$65*B5664+Method_input!$D$64*Input_series!AG5660+Method_input!$D$65*C5664+Method_input!$D$65*D5664+Method_input!$D$65*E5664+Method_input!$D$65*F5664","v":6.5131659999999997E-4},{"$f":"Method_input!$D$65*B5664+Method_input!$D$64*Input_series!AG5660+Method_input!$D$65*F5664","v":0}]
[5656,0,0,1.2259796000000001E-3,0,0,0,0,0,0,16,12,22.03448275862069,18.03448275862069,0.73728126261428584,0.79975241516614282,10.759235744463002,12,0,12,5.1642299999999999,5.5979790000000005,15.998093437039797,12.0001551698772,null,10.762209,{"$f":"Method_input!$D$65*B5673+Method_input!$D$64*Input_series!AG5669+Method_input!$D$65*C5673+Method_input!$D$65*D5673+Method_input!$D$65*E5673+Method_input!$D$65*F5673","v":1.2259796000000001E-3},{"$f":"Method_input!$D$65*B5673+Method_input!$D$64*Input_series!AG5669+Method_input!$D$65*F5673","v":0}]
[5665,0,0,0,0,0,0,0,0,0,16,12,16,12,0,0,0,12,0,12,0,0,16,12,null,0,{"$f":"Method_input!$D$65*B5682+Method_input!$D$64*Input_series!AG5678+Method_input!$D$65*C5682+Method_input!$D$65*D5682+Method_input!$D$65*E5682+Method_input!$D$65*F5682","v":0},{"$f":"Method_input!$D$65*B5682+Method_input!$D$64*Input_series!AG5678+Method_input!$D$65*F5682","v":0}]
[5670,0,0,0,0,0,0,0,0,0,16,12,16,12,0,0,0,12,0,12,0,0,16,12,null,0,{"$f":"Method_input!$D$65*B5687+Method_input!$D$64*Input_series!AG5683+Method_input!$D$65*C5687+Method_input!$D$65*D5687+Method_input!$D$65*E5687+Method_input!$D$65*F5687","v":0},{"$f":"Method_input!$D$65*B5687+Method_input!$D$64*Input_series!AG5683+Method_input!$D$65*F5687","v":0}]
[5674,3.3714573837477118,0,1.5021574000000002E-3,0,0.16857286918738559,0,0,0,0,14.919999999999998,12,20.954482758620689,18.03448275862069,1.1560323146000002,0.7421245580232857,13.287098108363001,12,28.588582509126002,4,8.0942380000000007,5.1945839999999999,14.919249887556612,12.000167219212342,null,13.288822,{"$f":"Method_input!$D$65*B5691+Method_input!$D$64*Input_series!AG5687+Method_input!$D$65*C5691+Method_input!$D$65*D5691+Method_input!$D$65*E5691+Method_input!$D$65*F5691","v":3.5415324103350976},{"$f":"Method_input!$D$65*B5691+Method_input!$D$64*Input_series!AG5687+Method_input!$D$65*F5691","v":3.5400302529350975}]
[5684,0,0,0,0,0,0,0,0,0,15.959999999999999,12,15.959999999999999,12,0,0,0,12,0,12,0,0,15.959999999999999,12,null,0,{"$f":"Method_input!$D$65*B5701+Method_input!$D$64*Input_series!AG5697+Method_input!$D$65*C5701+Method_input!$D$65*D5701+Method_input!$D$65*E5701+Method_input!$D$65*F5701","v":0},{"$f":"Method_input!$D$65*B5701+Method_input!$D$64*Input_series!AG5697+Method_input!$D$65*F5701","v":0}]
[5691,0,0,0,0,0,0,0,0,0,16,12,16,12,0,0,0,12,0,12,0,0,16,12,null,0,{"$f":"Method_input!$D$65*B5708+Method_input!$D$64*Input_series!AG5704+Method_input!$D$65*C5708+Method_input!$D$65*D5708+Method_input!$D$65*E5708+Method_input!$D$65*F5708","v":0},{"$f":"Method_input!$D$65*B5708+Method_input!$D$64*Input_series!AG5704+Method_input!$D$65*F5708","v":0}]
[5698,0.15938251220759106,0,1.747029E-3,0,7.969125610379553E-3,0,0,0,0,14.280000000000001,12,20.314482758620692,18.03448275862069,1.2696221689999998,0.80181312945185723,14.500047089162999,12,2.1979362570562966,12,8.8890089999999997,5.6124040000000006,14.279438532051049,12.00015477108006,null,14.501412999999999,{"$f":"Method_input!$D$65*B5715+Method_input!$D$64*Input_series!AG5711+Method_input!$D$65*C5715+Method_input!$D$65*D5715+Method_input!$D$65*E5715+Method_input!$D$65*F5715","v":0.16909866681797062},{"$f":"Method_input!$D$65*B5715+Method_input!$D$64*Input_series!AG5711+Method_input!$D$65*F5715","v":0.16735163781797061}]
[5708,0,0,0,0,0,0,0,0,0,14.44,12,14.44,12,0,0,0,12,0,12,0,0,14.44,12,null,0,{"$f":"Method_input!$D$65*B5725+Method_input!$D$64*Input_series!AG5721+Method_input!$D$65*C5725+Method_input!$D$65*D5725+Method_input!$D$65*E5725+Method_input!$D$65*F5725","v":0},{"$f":"Method_input!$D$65*B5725+Method_input!$D$64*Input_series!AG5721+Method_input!$D$65*F5725","v":0}]
[5715,0,0,0,0,0,0,0,0,0,16,12,16,12,0,0,0,12,0,12,0,0,16,12,null,0,{"$f":"Method_input!$D$65*B5732+Method_input!$D$64*Input_series!AG5728+Method_input!$D$65*C5732+Method_input!$D$65*D5732+Method_input!$D$65*E5732+Method_input!$D$65*F5732","v":0},{"$f":"Method_input!$D$65*B5732+Method_input!$D$64*Input_series!AG5728+Method_input!$D$65*F5732","v":0}]
[5725,0,0,0,0,0,0,0,0,0,16,12,16,12,0,0,0,12,0,12,0,0,16,12,null,0,{"$f":"Method_input!$D$65*B5742+Method_input!$D$64*Input_series!AG5738+Method_input!$D$65*C5742+Method_input!$D$65*D5742+Method_input!$D$65*E5742+Method_input!$D$65*F5742","v":0},{"$f":"Method_input!$D$65*B5742+Method_input!$D$64*Input_series!AG5738+Method_input!$D$65*F5742","v":0}]
[5729,0,0,0,0,0,0,0,0,0,16,12,16,12,0,0,0,12,0,12,0,0,16,12,null,0,{"$f":"Method_input!$D$65*B5746+Method_input!$D$64*Input_series!AG5742+Method_input!$D$65*C5746+Method_input!$D$65*D5746+Method_input!$D$65*E5746+Method_input!$D$65*F5746","v":0},{"$f":"Method_input!$D$65*B5746+Method_input!$D$64*Input_series!AG5742+Method_input!$D$65*F5746","v":0}]
[5734,0,0,0,0,0,0,0,0,0,16,12,16,12,0,0,0,12,0,12,0,0,16,12,null,0,{"$f":"Method_input!$D$65*B5751+Method_input!$D$64*Input_series!AG5747+Method_input!$D$65*C5751+Method_input!$D$65*D5751+Method_input!$D$65*E5751+Method_input!$D$65*F5751","v":0},{"$f":"Method_input!$D$65*B5751+Method_input!$D$64*Input_series!AG5747+Method_input!$D$65*F5751","v":0}]
[5743,0,0,0,0,0,0,0,0,0,16,12,16,12,0,0,0,12,0,12,0,0,16,12,null,0,{"$f":"Method_input!$D$65*B5760+Method_input!$D$64*Input_series!AG5756+Method_input!$D$65*C5760+Method_input!$D$65*D5760+Method_input!$D$65*E5760+Method_input!$D$65*F5760","v":0},{"$f":"Method_input!$D$65*B5760+Method_input!$D$64*Input_series!AG5756+Method_input!$D$65*F5760","v":0}]
[5751,0,0.25919999999999999,6.5131659999999997E-4,0,0,1.0595275199999998,0.356133384,0,0,15.64,12,21.674482758620691,12,0.21231349019999998,0,1.4861944314,12,0,12,0,0,15.639493434092385,12,null,1.4156609039999999,{"$f":"Method_input!$D$65*B5768+Method_input!$D$64*Input_series!AG5764+Method_input!$D$65*C5768+Method_input!$D$65*D5768+Method_input!$D$65*E5768+Method_input!$D$65*F5768","v":0.25985131659999999},{"$f":"Method_input!$D$65*B5768+Method_input!$D$64*Input_series!AG5764+Method_input!$D$65*F5768","v":0}]
[5757,0,0,0,0,0,0,0,0,0,16,12,16,12,0,0,0,12,0,12,0,0,16,12,null,0,{"$f":"Method_input!$D$65*B5774+Method_input!$D$64*Input_series!AG5770+Method_input!$D$65*C5774+Method_input!$D$65*D5774+Method_input!$D$65*E5774+Method_input!$D$65*F5774","v":0},{"$f":"Method_input!$D$65*B5774+Method_input!$D$64*Input_series!AG5770+Method_input!$D$65*F5774","v":0}]
[5768,0,0,6.5131659999999997E-4,0,0,0,0,0,0,16,12,22.03448275862069,12,7.8620105471428572E-2,0,0.55034073829999997,12,0,12,0.52939689999999995,0,16.114824528083361,12,null,0.52939689999999995,{"$f":"Method_input!$D$65*B5785+Method_input!$D$64*Input_series!AG5781+Method_input!$D$65*C5785+Method_input!$D$65*D5785+Method_input!$D$65*E5785+Method_input!$D$65*F5785","v":6.5131659999999997E-4},{"$f":"Method_input!$D$65*B5785+Method_input!$D$64*Input_series!AG5781+Method_input!$D$65*F5785","v":0}]
[5774,5.3850782190132369,0,1.2259796000000001E-3,0,0.26925391095066187,0,0,0,0,16,12,22.03448275862069,18.03448275862069,0.77257004361428572,0.29053841516614287,7.4417592114630002,12,50,4,5.4099589999999997,2.0334810000000001,15.998901620236587,12.000427129348733,null,7.4434399999999998,{"$f":"Method_input!$D$65*B5791+Method_input!$D$64*Input_series!AG5787+Method_input!$D$65*C5791+Method_input!$D$65*D5791+Method_input!$D$65*E5791+Method_input!$D$65*F5791","v":5.6555581095638985},{"$f":"Method_input!$D$65*B5791+Method_input!$D$64*Input_series!AG5787+Method_input!$D$65*F5791","v":5.6543321299638984}]
[5785,0,0,0,0,0,0,0,0,0,16,12,16,12,0,0,0,12,0,12,0,0,16,12,null,0,{"$f":"Method_input!$D$65*B5802+Method_input!$D$64*Input_series!AG5798+Method_input!$D$65*C5802+Method_input!$D$65*D5802+Method_input!$D$65*E5802+Method_input!$D$65*F5802","v":0},{"$f":"Method_input!$D$65*B5802+Method_input!$D$64*Input_series!AG5798+Method_input!$D$65*F5802","v":0}]
[5794,0,0,1.2259796000000001E-3,0,0,0,0,0,0,16,12,22.03448275862069,18.03448275862069,0.25533775832857142,0.24509827230900005,3.5030522144630005,12,0,12,1.7885850000000001,1.7154,15.997939356016277,12.000506317253413,null,3.5039850000000001,{"$f":"Method_input!$D$65*B5811+Method_input!$D$64*Input_series!AG5807+Method_input!$D$65*C5811+Method_input!$D$65*D5811+Method_input!$D$65*E5811+Method_input!$D$65*F5811","v":1.2259796000000001E-3},{"$f":"Method_input!$D$65*B5811+Method_input!$D$64*Input_series!AG5807+Method_input!$D$65*F5811","v":0}]
[5801,0,0,1.2259796000000001E-3,0,0,0,0,0,0,14.6,12,20.634482758620688,18.03448275862069,0.97156727147142852,0.44764584373757144,9.934491806462999,12,0,12,6.8030209999999993,3.1332330000000002,14.599090476089778,12.000277222464561,null,9.9362539999999999,{"$f":"Method_input!$D$65*B5818+Method_input!$D$64*Input_series!AG5814+Method_input!$D$65*C5818+Method_input!$D$65*D5818+Method_input!$D$65*E5818+Method_input!$D$65*F5818","v":1.2259796000000001E-3},{"$f":"Method_input!$D$65*B5818+Method_input!$D$64*Input_series!AG5814+Method_input!$D$65*F5818","v":0}]
[5803,5.6558363417569204,0,6.5131659999999997E-4,0,0.28279181708784601,0,0,0,0,15.559999999999999,12,21.594482758620689,12,0.69805054947142864,0,4.8863538463000005,12,50,4,4.888649,0,15.558582781162938,12,null,4.888649,{"$f":"Method_input!$D$65*B5820+Method_input!$D$64*Input_series!AG5816+Method_input!$D$65*C5820+Method_input!$D$65*D5820+Method_input!$D$65*E5820+Method_input!$D$65*F5820","v":5.9392794754447662},{"$f":"Method_input!$D$65*B5820+Method_input!$D$64*Input_series!AG5816+Method_input!$D$65*F5820","v":5.9386281588447662}]
[5811,0,0,0,0,0,0,0,0,0,16,12,16,12,0,0,0,12,0,12,0,0,16,12,null,0,{"$f":"Method_input!$D$65*B5828+Method_input!$D$64*Input_series!AG5824+Method_input!$D$65*C5828+Method_input!$D$65*D5828+Method_input!$D$65*E5828+Method_input!$D$65*F5828","v":0},{"$f":"Method_input!$D$65*B5828+Method_input!$D$64*Input_series!AG5824+Method_input!$D$65*F5828","v":0}]
[5820,0,0,1.2259796000000001E-3,0,0,0,0,0,0,13.559999999999999,12,19.594482758620689,18.03448275862069,0.33386730175714274,0.11808721516614286,3.1636816184629994,12,0,12,2.3386799999999996,0.82632260000000002,13.557922869134124,12.001050896863621,null,3.1650025999999998,{"$f":"Method_input!$D$65*B5837+Method_input!$D$64*Input_series!AG5833+Method_input!$D$65*C5837+Method_input!$D$65*D5837+Method_input!$D$65*E5837+Method_input!$D$65*F5837","v":1.2259796000000001E-3},{"$f":"Method_input!$D$65*B5837+Method_input!$D$64*Input_series!AG5833+Method_input!$D$65*F5837","v":0}]
[5825,0,0,1.2259796000000001E-3,0,0,0,0,0,0,12.68,12,18.71448275862069,18.03448275862069,0.6603949207571429,0.24865012945185716,6.363315351463001,12,0,12,4.6239999999999997,1.7402629999999999,12.679193563329616,12.000499084735347,null,{"$f":"SUM(G5842:J5842,U5842:V5842)","v":6.3642629999999993},{"$f":"Method_input!$D$65*B5842+Method_input!$D$64*Input_series!AG5838+Method_input!$D$65*C5842+Method_input!$D$65*D5842+Method_input!$D$65*E5842+Method_input!$D$65*F5842","v":1.2259796000000001E-3},{"$f":"Method_input!$D$65*B5842+Method_input!$D$64*Input_series!AG5838+Method_input!$D$65*F5842","v":0}]
[5837,0,0,0,0,0,0,0,0,0,16,12,16,12,0,0,0,12,0,12,0,0,16,12,null,0,{"$f":"Method_input!$D$65*B5854+Method_input!$D$64*Input_series!AG5850+Method_input!$D$65*C5854+Method_input!$D$65*D5854+Method_input!$D$65*E5854+Method_input!$D$65*F5854","v":0},{"$f":"Method_input!$D$65*B5854+Method_input!$D$64*Input_series!AG5850+Method_input!$D$65*F5854","v":0}]
[5846,0,0,1.2259796000000001E-3,0,0,0,0,0,0,14.119999999999997,12,20.154482758620688,18.03448275862069,0.10924058300857142,2.442372945185714E-2,0.93565018722299997,12,0,12,0.76430330000000002,0.1706782,14.121502461472842,12.005081021074048,null,0.93498150000000002,{"$f":"Method_input!$D$65*B5863+Method_input!$D$64*Input_series!AG5859+Method_input!$D$65*C5863+Method_input!$D$65*D5863+Method_input!$D$65*E5863+Method_input!$D$65*F5863","v":1.2259796000000001E-3},{"$f":"Method_input!$D$65*B5863+Method_input!$D$64*Input_series!AG5859+Method_input!$D$65*F5863","v":0}]
[5854,0,0,0,0,0,0,0,0,0,16,12,16,12,0,0,0,12,0,12,0,0,16,12,null,0,{"$f":"Method_input!$D$65*B5871+Method_input!$D$64*Input_series!AG5867+Method_input!$D$65*C5871+Method_input!$D$65*D5871+Method_input!$D$65*E5871+Method_input!$D$65*F5871","v":0},{"$f":"Method_input!$D$65*B5871+Method_input!$D$64*Input_series!AG5867+Method_input!$D$65*F5871","v":0}]
[5860,0,0,0,0,0,0,0,0,0,16,12,16,12,0,0,0,12,0,12,0,0,16,12,null,0,{"$f":"Method_input!$D$65*B5877+Method_input!$D$64*Input_series!AG5873+Method_input!$D$65*C5877+Method_input!$D$65*D5877+Method_input!$D$65*E5877+Method_input!$D$65*F5877","v":0},{"$f":"Method_input!$D$65*B5877+Method_input!$D$64*Input_series!AG5873+Method_input!$D$65*F5877","v":0}]
[5863,0,0,0,0,0,0,0,0,0,16,12,16,12,0,0,0,12,0,12,0,0,16,12,null,0,{"$f":"Method_input!$D$65*B5880+Method_input!$D$64*Input_series!AG5876+Method_input!$D$65*C5880+Method_input!$D$65*D5880+Method_input!$D$65*E5880+Method_input!$D$65*F5880","v":0},{"$f":"Method_input!$D$65*B5880+Method_input!$D$64*Input_series!AG5876+Method_input!$D$65*F5880","v":0}]
[5870,0,0,1.2259796000000001E-3,0,0,0,0,0,0,13.64,12,19.674482758620691,18.03448275862069,0.3017323103285714,8.8667886594714293E-2,2.7328013784629994,12,0,12,2.1137689999999996,0.62038729999999997,13.637653166851241,12.0013995764286,null,2.7341562999999995,{"$f":"Method_input!$D$65*B5887+Method_input!$D$64*Input_series!AG5883+Method_input!$D$65*C5887+Method_input!$D$65*D5887+Method_input!$D$65*E5887+Method_input!$D$65*F5887","v":1.2259796000000001E-3},{"$f":"Method_input!$D$65*B5887+Method_input!$D$64*Input_series!AG5883+Method_input!$D$65*F5887","v":0}]
[5880,0,0,0,0,0,0,0,0,0,16,12,16,12,0,0,0,12,0,12,0,0,16,12,null,0,{"$f":"Method_input!$D$65*B5897+Method_input!$D$64*Input_series!AG5893+Method_input!$D$65*C5897+Method_input!$D$65*D5897+Method_input!$D$65*E5897+Method_input!$D$65*F5897","v":0},{"$f":"Method_input!$D$65*B5897+Method_input!$D$64*Input_series!AG5893+Method_input!$D$65*F5897","v":0}]
[5891,0,0,0,0,0,0,0,0,0,15.559999999999999,12,15.559999999999999,12,0,0,0,12,0,12,0,0,15.559999999999999,12,null,0,{"$f":"Method_input!$D$65*B5908+Method_input!$D$64*Input_series!AG5904+Method_input!$D$65*C5908+Method_input!$D$65*D5908+Method_input!$D$65*E5908+Method_input!$D$65*F5908","v":0},{"$f":"Method_input!$D$65*B5908+Method_input!$D$64*Input_series!AG5904+Method_input!$D$65*F5908","v":0}]
[5897,0,0,0,0,0,0,0,0,0,16,12,16,12,0,0,0,12,0,12,0,0,16,12,null,0,{"$f":"Method_input!$D$65*B5914+Method_input!$D$64*Input_series!AG5910+Method_input!$D$65*C5914+Method_input!$D$65*D5914+Method_input!$D$65*E5914+Method_input!$D$65*F5914","v":0},{"$f":"Method_input!$D$65*B5914+Method_input!$D$64*Input_series!AG5910+Method_input!$D$65*F5914","v":0}]
[5905,0,0,0,0,0,0,0,0,0,16,12,16,12,0,0,0,12,0,12,0,0,16,12,null,0,{"$f":"Method_input!$D$65*B5922+Method_input!$D$64*Input_series!AG5918+Method_input!$D$65*C5922+Method_input!$D$65*D5922+Method_input!$D$65*E5922+Method_input!$D$65*F5922","v":0},{"$f":"Method_input!$D$65*B5922+Method_input!$D$64*Input_series!AG5918+Method_input!$D$65*F5922","v":0}]
[5914,0,0,0,0,0,0,0,0,0,16,12,16,12,0,0,0,12,0,12,0,0,16,12,null,0,{"$f":"Method_input!$D$65*B5931+Method_input!$D$64*Input_series!AG5927+Method_input!$D$65*C5931+Method_input!$D$65*D5931+Method_input!$D$65*E5931+Method_input!$D$65*F5931","v":0},{"$f":"Method_input!$D$65*B5931+Method_input!$D$64*Input_series!AG5927+Method_input!$D$65*F5931","v":0}]
[5915,0,0,0,0,0,0,0,0,0,16,12,16,12,0,0,0,12,0,12,0,0,16,12,null,0,{"$f":"Method_input!$D$65*B5932+Method_input!$D$64*Input_series!AG5928+Method_input!$D$65*C5932+Method_input!$D$65*D5932+Method_input!$D$65*E5932+Method_input!$D$65*F5932","v":0},{"$f":"Method_input!$D$65*B5932+Method_input!$D$64*Input_series!AG5928+Method_input!$D$65*F5932","v":0}]
[5928,0,0,0,0,0,0,0,0,0,16,12,16,12,0,0,0,12,0,12,0,0,16,12,null,0,{"$f":"Method_input!$D$65*B5945+Method_input!$D$64*Input_series!AG5941+Method_input!$D$65*C5945+Method_input!$D$65*D5945+Method_input!$D$65*E5945+Method_input!$D$65*F5945","v":0},{"$f":"Method_input!$D$65*B5945+Method_input!$D$64*Input_series!AG5941+Method_input!$D$65*F5945","v":0}]
[5932,0,0,0,0,0,0,0,0,0,16,12,16,12,0,0,0,12,0,12,0,0,16,12,null,0,{"$f":"Method_input!$D$65*B5949+Method_input!$D$64*Input_series!AG5945+Method_input!$D$65*C5949+Method_input!$D$65*D5949+Method_input!$D$65*E5949+Method_input!$D$65*F5949","v":0},{"$f":"Method_input!$D$65*B5949+Method_input!$D$64*Input_series!AG5945+Method_input!$D$65*F5949","v":0}]
[5942,0,0,1.2259796000000001E-3,0,0,0,0,0,0,16,12,22.03448275862069,18.03448275862069,0.41354046547142859,0.13459488659471427,3.8369474644629999,12,0,12,2.8962300000000001,0.9418763,15.998492056733472,12.000922007419385,null,3.8381063000000002,{"$f":"Method_input!$D$65*B5959+Method_input!$D$64*Input_series!AG5955+Method_input!$D$65*C5959+Method_input!$D$65*D5959+Method_input!$D$65*E5959+Method_input!$D$65*F5959","v":1.2259796000000001E-3},{"$f":"Method_input!$D$65*B5959+Method_input!$D$64*Input_series!AG5955+Method_input!$D$65*F5959","v":0}]
[5949,0,0,0,0,0,0,0,0,0,16,12,16,12,0,0,0,12,0,12,0,0,16,12,null,0,{"$f":"Method_input!$D$65*B5966+Method_input!$D$64*Input_series!AG5962+Method_input!$D$65*C5966+Method_input!$D$65*D5966+Method_input!$D$65*E5966+Method_input!$D$65*F5966","v":0},{"$f":"Method_input!$D$65*B5966+Method_input!$D$64*Input_series!AG5962+Method_input!$D$65*F5966","v":0}]
[5956,0,0,0,0,0,0,0,0,0,16,12,16,12,0,0,0,12,0,12,0,0,16,12,null,0,{"$f":"Method_input!$D$65*B5973+Method_input!$D$64*Input_series!AG5969+Method_input!$D$65*C5973+Method_input!$D$65*D5973+Method_input!$D$65*E5973+Method_input!$D$65*F5973","v":0},{"$f":"Method_input!$D$65*B5973+Method_input!$D$64*Input_series!AG5969+Method_input!$D$65*F5973","v":0}]
[5966,0,0,1.2259796000000001E-3,0,0,0,0,0,0,15.48,12,21.514482758620691,18.03448275862069,0.84915155832857159,0.25757870088042861,7.7471118144630005,12,0,12,5.9453990000000001,1.8027629999999999,15.479320776534959,12.000481784726873,null,7.7481619999999998,{"$f":"Method_input!$D$65*B5983+Method_input!$D$64*Input_series!AG5979+Method_input!$D$65*C5983+Method_input!$D$65*D5983+Method_input!$D$65*E5983+Method_input!$D$65*F5983","v":1.2259796000000001E-3},{"$f":"Method_input!$D$65*B5983+Method_input!$D$64*Input_series!AG5979+Method_input!$D$65*F5983","v":0}]
[5973,0.15394628246431924,0,0,0,7.697314123215962E-3,0,0,0,0,16,12,16,12,0,0,0,12,1.8407102262999899,4,0,0,16,12,null,0,{"$f":"Method_input!$D$65*B5990+Method_input!$D$64*Input_series!AG5986+Method_input!$D$65*C5990+Method_input!$D$65*D5990+Method_input!$D$65*E5990+Method_input!$D$65*F5990","v":0.16164359658753519},{"$f":"Method_input!$D$65*B5990+Method_input!$D$64*Input_series!AG5986+Method_input!$D$65*F5990","v":0.16164359658753519}]
[5975,0,0,0,0,0,0,0,0,0,16,12,16,12,0,0,0,12,0,12,0,0,16,12,null,0,{"$f":"Method_input!$D$65*B5992+Method_input!$D$64*Input_series!AG5988+Method_input!$D$65*C5992+Method_input!$D$65*D5992+Method_input!$D$65*E5992+Method_input!$D$65*F5992","v":0},{"$f":"Method_input!$D$65*B5992+Method_input!$D$64*Input_series!AG5988+Method_input!$D$65*F5992","v":0}]
[5987,0,0,1.2259796000000001E-3,0,0,0,0,0,0,13.88,12,19.914482758620689,18.03448275862069,0.2053444519,0.34271884373757144,3.8364430694629998,12,0,12,1.439038,2.3987440000000002,13.876585139218378,12.00036209705512,null,3.8377820000000002,{"$f":"Method_input!$D$65*B6004+Method_input!$D$64*Input_series!AG6000+Method_input!$D$65*C6004+Method_input!$D$65*D6004+Method_input!$D$65*E6004+Method_input!$D$65*F6004","v":1.2259796000000001E-3},{"$f":"Method_input!$D$65*B6004+Method_input!$D$64*Input_series!AG6000+Method_input!$D$65*F6004","v":0}]
[5992,0,0,1.4153182999999999E-3,0,0,0,0,0,0,12.2,12,18.23448275862069,18.03448275862069,0.81277492704285736,1.3550228235502426,15.1745842541517,12,0,12,5.6904200000000005,9.4847769999999993,12.199472056253978,12.000121757985919,null,15.175197000000001,{"$f":"Method_input!$D$65*B6009+Method_input!$D$64*Input_series!AG6005+Method_input!$D$65*C6009+Method_input!$D$65*D6009+Method_input!$D$65*E6009+Method_input!$D$65*F6009","v":1.4153182999999999E-3},{"$f":"Method_input!$D$65*B6009+Method_input!$D$64*Input_series!AG6005+Method_input!$D$65*F6009","v":0}]
[6001,0,0,0,0,0,0,0,0,0,16,12,16,12,0,0,0,12,0,12,0,0,16,12,null,0,{"$f":"Method_input!$D$65*B6018+Method_input!$D$64*Input_series!AG6014+Method_input!$D$65*C6018+Method_input!$D$65*D6018+Method_input!$D$65*E6018+Method_input!$D$65*F6018","v":0},{"$f":"Method_input!$D$65*B6018+Method_input!$D$64*Input_series!AG6014+Method_input!$D$65*F6018","v":0}]
[6009,5.5054151624548746,0,1.2259796000000001E-3,0,0.27527075812274376,0,0,0,0,15.959999999999999,12,21.994482758620688,18.03448275862069,0.75262396447142865,0.19979041516614288,6.6669006574630005,12,50,4,5.2699480000000003,1.398245,15.95909497742141,12.000621138326123,null,6.6681930000000005,{"$f":"Method_input!$D$65*B6026+Method_input!$D$64*Input_series!AG6022+Method_input!$D$65*C6026+Method_input!$D$65*D6026+Method_input!$D$65*E6026+Method_input!$D$65*F6026","v":5.7819119001776187},{"$f":"Method_input!$D$65*B6026+Method_input!$D$64*Input_series!AG6022+Method_input!$D$65*F6026","v":5.7806859205776187}]
[6015,0,0,1.2259796000000001E-3,0,0,0,0,0,0,15.88,12,21.914482758620693,18.03448275862069,0.89492101947142844,0.72358555802328561,11.329546042462999,12,0,12,6.2663509999999993,5.0648109999999997,15.879083013039903,12.000171503539113,null,11.331161999999999,{"$f":"Method_input!$D$65*B6032+Method_input!$D$64*Input_series!AG6028+Method_input!$D$65*C6032+Method_input!$D$65*D6032+Method_input!$D$65*E6032+Method_input!$D$65*F6032","v":1.2259796000000001E-3},{"$f":"Method_input!$D$65*B6032+Method_input!$D$64*Input_series!AG6028+Method_input!$D$65*F6032","v":0}]
[6026,0,0,0,0,0,0,0,0,0,16,12,16,12,0,0,0,12,0,12,0,0,16,12,null,0,{"$f":"Method_input!$D$65*B6043+Method_input!$D$64*Input_series!AG6039+Method_input!$D$65*C6043+Method_input!$D$65*D6043+Method_input!$D$65*E6043+Method_input!$D$65*F6043","v":0},{"$f":"Method_input!$D$65*B6043+Method_input!$D$64*Input_series!AG6039+Method_input!$D$65*F6043","v":0}]
[6032,0,0,6.5131659999999997E-4,0,0,0,0,0,0,16,12,22.03448275862069,12,0.2984825381857143,0,2.0893777673000002,12,0,12,2.0903640000000001,0,15.998575795072274,12,null,2.0903640000000001,{"$f":"Method_input!$D$65*B6049+Method_input!$D$64*Input_series!AG6045+Method_input!$D$65*C6049+Method_input!$D$65*D6049+Method_input!$D$65*E6049+Method_input!$D$65*F6049","v":6.5131659999999997E-4},{"$f":"Method_input!$D$65*B6049+Method_input!$D$64*Input_series!AG6045+Method_input!$D$65*F6049","v":0}]
[6035,0.45427138631896813,0,1.5751081E-3,0,2.2713569315948409E-2,0,0,0,0,14.919999999999998,12,20.954482758620689,18.03448275862069,1.0498055388714285,1.4116281358799856,17.230035723259899,12,6.696586815564098,12,7.35032,9.8809729999999991,14.919309712921637,12.000129451634093,null,17.231293000000001,{"$f":"Method_input!$D$65*B6052+Method_input!$D$64*Input_series!AG6048+Method_input!$D$65*C6052+Method_input!$D$65*D6052+Method_input!$D$65*E6052+Method_input!$D$65*F6052","v":0.47856006373491655},{"$f":"Method_input!$D$65*B6052+Method_input!$D$64*Input_series!AG6048+Method_input!$D$65*F6052","v":0.47698495563491655}]
[6044,0,0,0,0,0,0,0,0,0,16,12,16,12,0,0,0,12,0,12,0,0,16,12,null,0,{"$f":"Method_input!$D$65*B6061+Method_input!$D$64*Input_series!AG6057+Method_input!$D$65*C6061+Method_input!$D$65*D6061+Method_input!$D$65*E6061+Method_input!$D$65*F6061","v":0},{"$f":"Method_input!$D$65*B6061+Method_input!$D$64*Input_series!AG6057+Method_input!$D$65*F6061","v":0}]
[6052,0,0,0,0,0,0,0,0,0,16,12,16,12,0,0,0,12,0,12,0,0,16,12,null,0,{"$f":"Method_input!$D$65*B6069+Method_input!$D$64*Input_series!AG6065+Method_input!$D$65*C6069+Method_input!$D$65*D6069+Method_input!$D$65*E6069+Method_input!$D$65*F6069","v":0},{"$f":"Method_input!$D$65*B6069+Method_input!$D$64*Input_series!AG6065+Method_input!$D$65*F6069","v":0}]
[6061,0,0,0,0,0,0,0,0,0,15.159999999999998,12,15.159999999999998,12,0,0,0,12,0,12,0,0,15.159999999999998,12,null,0,{"$f":"Method_input!$D$65*B6078+Method_input!$D$64*Input_series!AG6074+Method_input!$D$65*C6078+Method_input!$D$65*D6078+Method_input!$D$65*E6078+Method_input!$D$65*F6078","v":0},{"$f":"Method_input!$D$65*B6078+Method_input!$D$64*Input_series!AG6074+Method_input!$D$65*F6078","v":0}]
[6069,0,0,0,0,0,0,0,0,0,16,12,16,12,0,0,0,12,0,12,0,0,16,12,null,0,{"$f":"Method_input!$D$65*B6086+Method_input!$D$64*Input_series!AG6082+Method_input!$D$65*C6086+Method_input!$D$65*D6086+Method_input!$D$65*E6086+Method_input!$D$65*F6086","v":0},{"$f":"Method_input!$D$65*B6086+Method_input!$D$64*Input_series!AG6082+Method_input!$D$65*F6086","v":0}]
[6078,0,0,0,0,0,0,0,0,0,16,12,16,12,0,0,0,12,0,12,0,0,16,12,null,0,{"$f":"Method_input!$D$65*B6095+Method_input!$D$64*Input_series!AG6091+Method_input!$D$65*C6095+Method_input!$D$65*D6095+Method_input!$D$65*E6095+Method_input!$D$65*F6095","v":0},{"$f":"Method_input!$D$65*B6095+Method_input!$D$64*Input_series!AG6091+Method_input!$D$65*F6095","v":0}]
[6083,0,0,0,0,0,0,0,0,0,15.64,12,15.64,12,0,0,0,12,0,12,0,0,15.64,12,null,0,{"$f":"Method_input!$D$65*B6100+Method_input!$D$64*Input_series!AG6096+Method_input!$D$65*C6100+Method_input!$D$65*D6100+Method_input!$D$65*E6100+Method_input!$D$65*F6100","v":0},{"$f":"Method_input!$D$65*B6100+Method_input!$D$64*Input_series!AG6096+Method_input!$D$65*F6100","v":0}]
[6095,0,0,0,0,0,0,0,0,0,16,12,16,12,0,0,0,12,0,12,0,0,16,12,null,0,{"$f":"Method_input!$D$65*B6112+Method_input!$D$64*Input_series!AG6108+Method_input!$D$65*C6112+Method_input!$D$65*D6112+Method_input!$D$65*E6112+Method_input!$D$65*F6112","v":0},{"$f":"Method_input!$D$65*B6112+Method_input!$D$64*Input_series!AG6108+Method_input!$D$65*F6112","v":0}]
[6097,0,0,0,0,0,0,0,0,0,16,12,16,12,0,0,0,12,0,12,0,0,16,12,null,0,{"$f":"Method_input!$D$65*B6114+Method_input!$D$64*Input_series!AG6110+Method_input!$D$65*C6114+Method_input!$D$65*D6114+Method_input!$D$65*E6114+Method_input!$D$65*F6114","v":0},{"$f":"Method_input!$D$65*B6114+Method_input!$D$64*Input_series!AG6110+Method_input!$D$65*F6114","v":0}]
[6104,0,0,6.5131659999999997E-4,0,0,0,0,0,0,16,12,22.03448275862069,12,0.32503259918571431,0,2.2752281942999999,12,0,12,2.276462,0,15.998363817035409,12,null,2.276462,{"$f":"Method_input!$D$65*B6121+Method_input!$D$64*Input_series!AG6117+Method_input!$D$65*C6121+Method_input!$D$65*D6121+Method_input!$D$65*E6121+Method_input!$D$65*F6121","v":6.5131659999999997E-4},{"$f":"Method_input!$D$65*B6121+Method_input!$D$64*Input_series!AG6117+Method_input!$D$65*F6121","v":0}]
[6111,6.4079422382671485,0,1.2259796000000001E-3,0,0.32039711191335746,0,0,0,0,13.559999999999999,12,19.594482758620686,18.03448275862069,0.33418547951428568,0.3049861294518571,4.4742012627629997,12,50,4,2.3386799999999996,2.1346149999999997,13.560797560138246,12.000406895501362,null,4.4732949999999994,{"$f":"Method_input!$D$65*B6128+Method_input!$D$64*Input_series!AG6124+Method_input!$D$65*C6128+Method_input!$D$65*D6128+Method_input!$D$65*E6128+Method_input!$D$65*F6128","v":6.729565329780506},{"$f":"Method_input!$D$65*B6128+Method_input!$D$64*Input_series!AG6124+Method_input!$D$65*F6128","v":6.728339350180506}]
[6121,0,0,0,0,0,0,0,0,0,16,12,16,12,0,0,0,12,0,12,0,0,16,12,null,0,{"$f":"Method_input!$D$65*B6138+Method_input!$D$64*Input_series!AG6134+Method_input!$D$65*C6138+Method_input!$D$65*D6138+Method_input!$D$65*E6138+Method_input!$D$65*F6138","v":0},{"$f":"Method_input!$D$65*B6138+Method_input!$D$64*Input_series!AG6134+Method_input!$D$65*F6138","v":0}]
[6128,0,0,6.5131659999999997E-4,0,0,0,0,0,0,16,12,22.03448275862069,12,0.64174690532857159,0,4.4922283373000012,12,0,12,4.4937500000000004,0,15.998977962979826,12,null,4.4937500000000004,{"$f":"Method_input!$D$65*B6145+Method_input!$D$64*Input_series!AG6141+Method_input!$D$65*C6145+Method_input!$D$65*D6145+Method_input!$D$65*E6145+Method_input!$D$65*F6145","v":6.5131659999999997E-4},{"$f":"Method_input!$D$65*B6145+Method_input!$D$64*Input_series!AG6141+Method_input!$D$65*F6145","v":0}]
[6138,3.8206979542719615,0,1.2259796000000001E-3,0,0.19103489771359808,0,0,0,0,16,12,22.03448275862069,18.03448275862069,0.24917806389999997,6.1232515166142865E-2,2.172874053463,12,50,4,1.746723,0.42833969999999999,15.995715996844339,12.00202665991614,null,2.1750626999999998,{"$f":"Method_input!$D$65*B6155+Method_input!$D$64*Input_series!AG6151+Method_input!$D$65*C6155+Method_input!$D$65*D6155+Method_input!$D$65*E6155+Method_input!$D$65*F6155","v":4.0129588315855598},{"$f":"Method_input!$D$65*B6155+Method_input!$D$64*Input_series!AG6151+Method_input!$D$65*F6155","v":4.0117328519855597}]
[6142,0,0,0,0,0,0,0,0,0,16,12,16,12,0,0,0,12,0,12,0,0,16,12,null,0,{"$f":"Method_input!$D$65*B6159+Method_input!$D$64*Input_series!AG6155+Method_input!$D$65*C6159+Method_input!$D$65*D6159+Method_input!$D$65*E6159+Method_input!$D$65*F6159","v":0},{"$f":"Method_input!$D$65*B6159+Method_input!$D$64*Input_series!AG6155+Method_input!$D$65*F6159","v":0}]
[6155,0,0,1.245213E-3,0,0,0,0,0,0,15.959999999999999,12,21.994482758620688,18.03448275862069,0.96197999118571431,1.2251273631566286,15.3097514803964,12,0,12,6.7356419999999995,8.5755939999999988,15.959201511413811,12.000104683731241,null,15.311235999999997,{"$f":"Method_input!$D$65*B6172+Method_input!$D$64*Input_series!AG6168+Method_input!$D$65*C6172+Method_input!$D$65*D6172+Method_input!$D$65*E6172+Method_input!$D$65*F6172","v":1.245213E-3},{"$f":"Method_input!$D$65*B6172+Method_input!$D$64*Input_series!AG6168+Method_input!$D$65*F6172","v":0}]
[6156,0,0.17279999999999998,1.3083634E-3,0,0,5.88079512E-2,0,0,0,15.559999999999999,12,21.594482758620689,18.03448275862069,1.0529868961371429,0.61154398659471432,11.651716179123,12,0,12,7.3114600000000003,4.2805200000000001,15.559058476428913,12.000202924870118,null,11.650787951200002,{"$f":"Method_input!$D$65*B6173+Method_input!$D$64*Input_series!AG6169+Method_input!$D$65*C6173+Method_input!$D$65*D6173+Method_input!$D$65*E6173+Method_input!$D$65*F6173","v":0.17410836339999999},{"$f":"Method_input!$D$65*B6173+Method_input!$D$64*Input_series!AG6169+Method_input!$D$65*F6173","v":0}]
[6164,4.1817087845968715,0,0,0,0.20908543922984357,0,0,0,0,16,12,16,12,0,0,0,12,50,4,0,0,16,12,null,0,{"$f":"Method_input!$D$65*B6181+Method_input!$D$64*Input_series!AG6177+Method_input!$D$65*C6181+Method_input!$D$65*D6181+Method_input!$D$65*E6181+Method_input!$D$65*F6181","v":4.390794223826715},{"$f":"Method_input!$D$65*B6181+Method_input!$D$64*Input_series!AG6177+Method_input!$D$65*F6181","v":4.390794223826715}]
[6173,0,0,0,0,0,0,0,0,0,16,12,16,12,0,0,0,12,0,12,0,0,16,12,null,0,{"$f":"Method_input!$D$65*B6190+Method_input!$D$64*Input_series!AG6186+Method_input!$D$65*C6190+Method_input!$D$65*D6190+Method_input!$D$65*E6190+Method_input!$D$65*F6190","v":0},{"$f":"Method_input!$D$65*B6190+Method_input!$D$64*Input_series!AG6186+Method_input!$D$65*F6190","v":0}]
[6179,0,0,1.6494866000000001E-3,0,0,0,0,0,0,15.319999999999999,12,21.354482758620691,18.03448275862069,1.0935014285071427,1.4090691463019285,17.517994023663498,12,0,12,7.6563790000000003,9.8630619999999993,15.319263280667732,12.000129097245477,null,17.519441,{"$f":"Method_input!$D$65*B6196+Method_input!$D$64*Input_series!AG6192+Method_input!$D$65*C6196+Method_input!$D$65*D6196+Method_input!$D$65*E6196+Method_input!$D$65*F6196","v":1.6494866000000001E-3},{"$f":"Method_input!$D$65*B6196+Method_input!$D$64*Input_series!AG6192+Method_input!$D$65*F6196","v":0}]
[6190,0,0,0,0,0,0,0,0,0,16,12,16,12,0,0,0,12,0,12,0,0,16,12,null,0,{"$f":"Method_input!$D$65*B6207+Method_input!$D$64*Input_series!AG6203+Method_input!$D$65*C6207+Method_input!$D$65*D6207+Method_input!$D$65*E6207+Method_input!$D$65*F6207","v":0},{"$f":"Method_input!$D$65*B6207+Method_input!$D$64*Input_series!AG6203+Method_input!$D$65*F6207","v":0}]
[6200,0,0,6.5131659999999997E-4,0,0,0,0,0,0,16,12,22.03448275862069,12,0.70438256947142863,0,4.9306779863000001,12,0,12,4.9318070000000001,0,15.999309119990615,12,null,4.9318070000000001,{"$f":"Method_input!$D$65*B6217+Method_input!$D$64*Input_series!AG6213+Method_input!$D$65*C6217+Method_input!$D$65*D6217+Method_input!$D$65*E6217+Method_input!$D$65*F6217","v":6.5131659999999997E-4},{"$f":"Method_input!$D$65*B6217+Method_input!$D$64*Input_series!AG6213+Method_input!$D$65*F6217","v":0}]
[6207,0,0.17279999999999998,1.2259796000000001E-3,0,0,0,0,1.7294428799999999,0,14.119999999999997,12,20.154482758620688,18.03448275862069,0.10892240518571428,0.33949157573757144,3.1388978664630001,12,0,12,0.76430330000000002,0.56023810000000007,14.112693059572956,12.000365539214874,null,3.0539842799999999,{"$f":"Method_input!$D$65*B6224+Method_input!$D$64*Input_series!AG6220+Method_input!$D$65*C6224+Method_input!$D$65*D6224+Method_input!$D$65*E6224+Method_input!$D$65*F6224","v":0.17402597959999999},{"$f":"Method_input!$D$65*B6224+Method_input!$D$64*Input_series!AG6220+Method_input!$D$65*F6224","v":0}]
[6214,0,0,0,0,0,0,0,0,0,16,12,16,12,0,0,0,12,0,12,0,0,16,12,null,0,{"$f":"Method_input!$D$65*B6231+Method_input!$D$64*Input_series!AG6227+Method_input!$D$65*C6231+Method_input!$D$65*D6231+Method_input!$D$65*E6231+Method_input!$D$65*F6231","v":0},{"$f":"Method_input!$D$65*B6231+Method_input!$D$64*Input_series!AG6227+Method_input!$D$65*F6231","v":0}]
[6216,0,0,0,0,0,0,0,0,0,16,12,16,12,0,0,0,12,0,12,0,0,16,12,null,0,{"$f":"Method_input!$D$65*B6233+Method_input!$D$64*Input_series!AG6229+Method_input!$D$65*C6233+Method_input!$D$65*D6233+Method_input!$D$65*E6233+Method_input!$D$65*F6233","v":0},{"$f":"Method_input!$D$65*B6233+Method_input!$D$64*Input_series!AG6229+Method_input!$D$65*F6233","v":0}]
[6224,0,0,0,0,0,0,0,0,0,16,12,16,12,0,0,0,12,0,12,0,0,16,12,null,0,{"$f":"Method_input!$D$65*B6241+Method_input!$D$64*Input_series!AG6237+Method_input!$D$65*C6241+Method_input!$D$65*D6241+Method_input!$D$65*E6241+Method_input!$D$65*F6241","v":0},{"$f":"Method_input!$D$65*B6241+Method_input!$D$64*Input_series!AG6237+Method_input!$D$65*F6241","v":0}]
[6233,0,0,0,0,0,0,0,0,0,16,12,16,12,0,0,0,12,0,12,0,0,16,12,null,0,{"$f":"Method_input!$D$65*B6250+Method_input!$D$64*Input_series!AG6246+Method_input!$D$65*C6250+Method_input!$D$65*D6250+Method_input!$D$65*E6250+Method_input!$D$65*F6250","v":0},{"$f":"Method_input!$D$65*B6250+Method_input!$D$64*Input_series!AG6246+Method_input!$D$65*F6250","v":0}]
[6245,0,0,0,0,0,0,0,0,0,16,12,16,12,0,0,0,12,0,12,0,0,16,12,null,0,{"$f":"Method_input!$D$65*B6262+Method_input!$D$64*Input_series!AG6258+Method_input!$D$65*C6262+Method_input!$D$65*D6262+Method_input!$D$65*E6262+Method_input!$D$65*F6262","v":0},{"$f":"Method_input!$D$65*B6262+Method_input!$D$64*Input_series!AG6258+Method_input!$D$65*F6262","v":0}]
[6250,0,0,0,0,0,0,0,0,0,16,12,16,12,0,0,0,12,0,12,0,0,16,12,null,0,{"$f":"Method_input!$D$65*B6267+Method_input!$D$64*Input_series!AG6263+Method_input!$D$65*C6267+Method_input!$D$65*D6267+Method_input!$D$65*E6267+Method_input!$D$65*F6267","v":0},{"$f":"Method_input!$D$65*B6267+Method_input!$D$64*Input_series!AG6263+Method_input!$D$65*F6267","v":0}]
[6259,0,0,0,0,0,0,0,0,0,16,12,16,12,0,0,0,12,0,12,0,0,16,12,null,0,{"$f":"Method_input!$D$65*B6276+Method_input!$D$64*Input_series!AG6272+Method_input!$D$65*C6276+Method_input!$D$65*D6276+Method_input!$D$65*E6276+Method_input!$D$65*F6276","v":0},{"$f":"Method_input!$D$65*B6276+Method_input!$D$64*Input_series!AG6272+Method_input!$D$65*F6276","v":0}]
[6267,0,0,0,0,0,0,0,0,0,16,12,16,12,0,0,0,12,0,12,0,0,16,12,null,0,{"$f":"Method_input!$D$65*B6284+Method_input!$D$64*Input_series!AG6280+Method_input!$D$65*C6284+Method_input!$D$65*D6284+Method_input!$D$65*E6284+Method_input!$D$65*F6284","v":0},{"$f":"Method_input!$D$65*B6284+Method_input!$D$64*Input_series!AG6280+Method_input!$D$65*F6284","v":0}]
[6273,0,0,1.2259796000000001E-3,0,0,0,0,0,0,16,12,22.03448275862069,18.03448275862069,0.63295596704285728,0.1784704151661429,5.6799846754630012,12,0,12,4.4320600000000008,1.2490050000000001,15.999068253333919,12.000695339246766,null,{"$f":"SUM(G6290:J6290,U6290:V6290)","v":5.6810650000000011},{"$f":"Method_input!$D$65*B6290+Method_input!$D$64*Input_series!AG6286+Method_input!$D$65*C6290+Method_input!$D$65*D6290+Method_input!$D$65*E6290+Method_input!$D$65*F6290","v":1.2259796000000001E-3},{"$f":"Method_input!$D$65*B6290+Method_input!$D$64*Input_series!AG6286+Method_input!$D$65*F6290","v":0}]
[6276,0,0,1.2259796000000001E-3,0,0,0,0,0,0,13.559999999999999,12,19.594482758620689,18.03448275862069,0.33386730175714274,0.19690627230900001,3.7154150184629993,12,0,12,2.3386799999999996,1.3780559999999999,13.557922869134124,12.000630236318003,null,3.7167359999999996,{"$f":"Method_input!$D$65*B6293+Method_input!$D$64*Input_series!AG6289+Method_input!$D$65*C6293+Method_input!$D$65*D6293+Method_input!$D$65*E6293+Method_input!$D$65*F6293","v":1.2259796000000001E-3},{"$f":"Method_input!$D$65*B6293+Method_input!$D$64*Input_series!AG6289+Method_input!$D$65*F6293","v":0}]
[6290,0,0,0,0,0,0,0,0,0,16,12,16,12,0,0,0,12,0,12,0,0,16,12,null,0,{"$f":"Method_input!$D$65*B6307+Method_input!$D$64*Input_series!AG6303+Method_input!$D$65*C6307+Method_input!$D$65*D6307+Method_input!$D$65*E6307+Method_input!$D$65*F6307","v":0},{"$f":"Method_input!$D$65*B6307+Method_input!$D$64*Input_series!AG6303+Method_input!$D$65*F6307","v":0}]
[6293,0,0,0,0,0,0,0,0,0,16,12,16,12,0,0,0,12,0,12,0,0,16,12,null,0,{"$f":"Method_input!$D$65*B6310+Method_input!$D$64*Input_series!AG6306+Method_input!$D$65*C6310+Method_input!$D$65*D6310+Method_input!$D$65*E6310+Method_input!$D$65*F6310","v":0},{"$f":"Method_input!$D$65*B6310+Method_input!$D$64*Input_series!AG6306+Method_input!$D$65*F6310","v":0}]
[6302,0,0,1.9966059999999997E-3,0,0,0,0,0,0,10.440000000000001,11.440000000000001,16.474482758620692,17.474482758620692,1.3715308661428571,0.44507684373757139,12.716253969163001,10.440000000000001,0,10.440000000000001,9.6006160000000005,3.1152500000000001,10.440031447052716,11.440278822602879,null,12.715866,{"$f":"Method_input!$D$65*B6319+Method_input!$D$64*Input_series!AG6315+Method_input!$D$65*C6319+Method_input!$D$65*D6319+Method_input!$D$65*E6319+Method_input!$D$65*F6319","v":1.9966059999999997E-3},{"$f":"Method_input!$D$65*B6319+Method_input!$D$64*Input_series!AG6315+Method_input!$D$65*F6319","v":0}]
[6310,0,0,0,0,0,0,0,0,0,15.719999999999999,12,15.719999999999999,12,0,0,0,12,0,12,0,0,15.719999999999999,12,null,0,{"$f":"Method_input!$D$65*B6327+Method_input!$D$64*Input_series!AG6323+Method_input!$D$65*C6327+Method_input!$D$65*D6327+Method_input!$D$65*E6327+Method_input!$D$65*F6327","v":0},{"$f":"Method_input!$D$65*B6327+Method_input!$D$64*Input_series!AG6323+Method_input!$D$65*F6327","v":0}]
[6319,0,0,6.5131659999999997E-4,0,0,0,0,0,0,16,12,22.03448275862069,12,0.54662072547142848,0,3.8263450782999997,12,0,12,3.8044169999999999,0,16.017291254150269,12,null,3.8044169999999999,{"$f":"Method_input!$D$65*B6336+Method_input!$D$64*Input_series!AG6332+Method_input!$D$65*C6336+Method_input!$D$65*D6336+Method_input!$D$65*E6336+Method_input!$D$65*F6336","v":6.5131659999999997E-4},{"$f":"Method_input!$D$65*B6336+Method_input!$D$64*Input_series!AG6332+Method_input!$D$65*F6336","v":0}]
[6327,1.2109615804056972,0,2.0690808999999999E-3,0,6.0548079020284862E-2,0,0,0,0,10.52,11.52,16.55448275862069,17.554482758620686,1.3461298092285714,1.3170239628579858,18.642076404605902,10.52,11.0871418926789,10.52,9.4228749999999994,9.2188110000000005,10.520010779497897,11.52011675356581,null,18.641686,{"$f":"Method_input!$D$65*B6344+Method_input!$D$64*Input_series!AG6340+Method_input!$D$65*C6344+Method_input!$D$65*D6344+Method_input!$D$65*E6344+Method_input!$D$65*F6344","v":1.273578740325982},{"$f":"Method_input!$D$65*B6344+Method_input!$D$64*Input_series!AG6340+Method_input!$D$65*F6344","v":1.271509659425982}]
[6336,0,0,0,0,0,0,0,0,0,15.799999999999999,12,15.799999999999999,12,0,0,0,12,0,12,0,0,15.799999999999999,12,null,0,{"$f":"Method_input!$D$65*B6353+Method_input!$D$64*Input_series!AG6349+Method_input!$D$65*C6353+Method_input!$D$65*D6353+Method_input!$D$65*E6353+Method_input!$D$65*F6353","v":0},{"$f":"Method_input!$D$65*B6353+Method_input!$D$64*Input_series!AG6349+Method_input!$D$65*F6353","v":0}]
[6341,0,0,0,0,0,0,0,0,0,16,12,16,12,0,0,0,12,0,12,0,0,16,12,null,0,{"$f":"Method_input!$D$65*B6358+Method_input!$D$64*Input_series!AG6354+Method_input!$D$65*C6358+Method_input!$D$65*D6358+Method_input!$D$65*E6358+Method_input!$D$65*F6358","v":0},{"$f":"Method_input!$D$65*B6358+Method_input!$D$64*Input_series!AG6354+Method_input!$D$65*F6358","v":0}]
[6345,0,0,1.765562E-3,0,0,0,0,0,0,14.68,12,20.71448275862069,18.03448275862069,1.2776135637857144,0.37983598659471424,11.602146852662999,12,0,12,8.9450690000000002,2.6585639999999997,14.679401479246593,12.000326713340577,null,11.603633,{"$f":"Method_input!$D$65*B6362+Method_input!$D$64*Input_series!AG6358+Method_input!$D$65*C6362+Method_input!$D$65*D6362+Method_input!$D$65*E6362+Method_input!$D$65*F6362","v":1.765562E-3},{"$f":"Method_input!$D$65*B6362+Method_input!$D$64*Input_series!AG6358+Method_input!$D$65*F6362","v":0}]
[6355,0,0,6.5131659999999997E-4,0,0,0,0,0,0,13.959999999999999,12,19.994482758620688,12,0.17340819700000001,0,1.213857379,12,0,12,1.214126,0,13.959332298496863,12,null,1.214126,{"$f":"Method_input!$D$65*B6372+Method_input!$D$64*Input_series!AG6368+Method_input!$D$65*C6372+Method_input!$D$65*D6372+Method_input!$D$65*E6372+Method_input!$D$65*F6372","v":6.5131659999999997E-4},{"$f":"Method_input!$D$65*B6372+Method_input!$D$64*Input_series!AG6368+Method_input!$D$65*F6372","v":0}]
[6362,0,0.34559999999999996,1.2259796000000001E-3,0,0,1.7198539199999998,0,0.98885951999999999,0,15.799999999999999,12,21.834482758620688,18.03448275862069,0.25787823747142857,0.14837005745185716,2.8437380644629999,12,0,12,0,0,15.798831723260147,12.000836405176241,null,2.7087134399999999,{"$f":"Method_input!$D$65*B6379+Method_input!$D$64*Input_series!AG6375+Method_input!$D$65*C6379+Method_input!$D$65*D6379+Method_input!$D$65*E6379+Method_input!$D$65*F6379","v":0.34682597959999995},{"$f":"Method_input!$D$65*B6379+Method_input!$D$64*Input_series!AG6375+Method_input!$D$65*F6379","v":0}]
[6369,0,0,1.2259796000000001E-3,0,0,0,0,0,0,16,12,22.03448275862069,18.03448275862069,0.96877259975714303,0.29127127230899996,8.8203071044629997,12,0,12,6.7840179999999997,2.038611,15.998838824997586,12.000426054663984,null,8.8226289999999992,{"$f":"Method_input!$D$65*B6386+Method_input!$D$64*Input_series!AG6382+Method_input!$D$65*C6386+Method_input!$D$65*D6386+Method_input!$D$65*E6386+Method_input!$D$65*F6386","v":1.2259796000000001E-3},{"$f":"Method_input!$D$65*B6386+Method_input!$D$64*Input_series!AG6382+Method_input!$D$65*F6386","v":0}]
[6379,0,0,6.6435049999999992E-4,0,0,0,0,0,0,15.159999999999998,12,21.194482758620687,12,1.0115791203214284,0,7.0810538422499993,12,0,12,7.0833349999999999,0,15.15902799728552,12,null,7.0833349999999999,{"$f":"Method_input!$D$65*B6396+Method_input!$D$64*Input_series!AG6392+Method_input!$D$65*C6396+Method_input!$D$65*D6396+Method_input!$D$65*E6396+Method_input!$D$65*F6396","v":6.6435049999999992E-4},{"$f":"Method_input!$D$65*B6396+Method_input!$D$64*Input_series!AG6392+Method_input!$D$65*F6396","v":0}]
[6386,0,0,0,0,0,0,0,0,0,16,12,16,12,0,0,0,12,0,12,0,0,16,12,null,0,{"$f":"Method_input!$D$65*B6403+Method_input!$D$64*Input_series!AG6399+Method_input!$D$65*C6403+Method_input!$D$65*D6403+Method_input!$D$65*E6403+Method_input!$D$65*F6403","v":0},{"$f":"Method_input!$D$65*B6403+Method_input!$D$64*Input_series!AG6399+Method_input!$D$65*F6403","v":0}]
[6396,0,0,0,0,0,0,0,0,0,14.84,12,14.84,12,0,0,0,12,0,12,0,0,14.84,12,null,0,{"$f":"Method_input!$D$65*B6413+Method_input!$D$64*Input_series!AG6409+Method_input!$D$65*C6413+Method_input!$D$65*D6413+Method_input!$D$65*E6413+Method_input!$D$65*F6413","v":0},{"$f":"Method_input!$D$65*B6413+Method_input!$D$64*Input_series!AG6409+Method_input!$D$65*F6413","v":0}]
[6400,0,0.34559999999999996,1.2259796000000001E-3,0,0,0.130529808,0,0.32592196800000001,0,14.519999999999998,12,20.554482758620686,18.03448275862069,2.2891448100000003E-2,4.8929424651857151E-2,0.50274610926300001,12,0,12,0,0,14.956540043528305,12.002536254716558,null,0.45645177599999998,{"$f":"Method_input!$D$65*B6417+Method_input!$D$64*Input_series!AG6413+Method_input!$D$65*C6417+Method_input!$D$65*D6417+Method_input!$D$65*E6417+Method_input!$D$65*F6417","v":0.34682597959999995},{"$f":"Method_input!$D$65*B6417+Method_input!$D$64*Input_series!AG6413+Method_input!$D$65*F6417","v":0}]
[6405,0,0,0,0,0,0,0,0,0,16,12,16,12,0,0,0,12,0,12,0,0,16,12,null,0,{"$f":"Method_input!$D$65*B6422+Method_input!$D$64*Input_series!AG6418+Method_input!$D$65*C6422+Method_input!$D$65*D6422+Method_input!$D$65*E6422+Method_input!$D$65*F6422","v":0},{"$f":"Method_input!$D$65*B6422+Method_input!$D$64*Input_series!AG6418+Method_input!$D$65*F6422","v":0}]
[6414,0,0,0,0,0,0,0,0,0,16,12,16,12,0,0,0,12,0,12,0,0,16,12,null,0,{"$f":"Method_input!$D$65*B6431+Method_input!$D$64*Input_series!AG6427+Method_input!$D$65*C6431+Method_input!$D$65*D6431+Method_input!$D$65*E6431+Method_input!$D$65*F6431","v":0},{"$f":"Method_input!$D$65*B6431+Method_input!$D$64*Input_series!AG6427+Method_input!$D$65*F6431","v":0}]
[6422,0,0,0,0,0,0,0,0,0,16,12,16,12,0,0,0,12,0,12,0,0,16,12,null,0,{"$f":"Method_input!$D$65*B6439+Method_input!$D$64*Input_series!AG6435+Method_input!$D$65*C6439+Method_input!$D$65*D6439+Method_input!$D$65*E6439+Method_input!$D$65*F6439","v":0},{"$f":"Method_input!$D$65*B6439+Method_input!$D$64*Input_series!AG6435+Method_input!$D$65*F6439","v":0}]
[6428,0,0,0,0,0,0,0,0,0,16,12,16,12,0,0,0,12,0,12,0,0,16,12,null,0,{"$f":"Method_input!$D$65*B6445+Method_input!$D$64*Input_series!AG6441+Method_input!$D$65*C6445+Method_input!$D$65*D6445+Method_input!$D$65*E6445+Method_input!$D$65*F6445","v":0},{"$f":"Method_input!$D$65*B6445+Method_input!$D$64*Input_series!AG6441+Method_input!$D$65*F6445","v":0}]
[6439,0,0,0,0,0,0,0,0,0,16,12,16,12,0,0,0,12,0,12,0,0,16,12,null,0,{"$f":"Method_input!$D$65*B6456+Method_input!$D$64*Input_series!AG6452+Method_input!$D$65*C6456+Method_input!$D$65*D6456+Method_input!$D$65*E6456+Method_input!$D$65*F6456","v":0},{"$f":"Method_input!$D$65*B6456+Method_input!$D$64*Input_series!AG6452+Method_input!$D$65*F6456","v":0}]
[6448,0,0,1.2259796000000001E-3,0,0,0,0,0,0,16,12,22.03448275862069,18.03448275862069,0.29129354775714283,0.24398970088042859,3.7469827404630003,12,0,12,2.041401,1.70764,15.996528318849656,12.000508617714617,null,3.7490410000000001,{"$f":"Method_input!$D$65*B6465+Method_input!$D$64*Input_series!AG6461+Method_input!$D$65*C6465+Method_input!$D$65*D6465+Method_input!$D$65*E6465+Method_input!$D$65*F6465","v":1.2259796000000001E-3},{"$f":"Method_input!$D$65*B6465+Method_input!$D$64*Input_series!AG6461+Method_input!$D$65*F6465","v":0}]
[6451,0,0,0,0,0,0,0,0,0,16,12,16,12,0,0,0,12,0,12,0,0,16,12,null,0,{"$f":"Method_input!$D$65*B6468+Method_input!$D$64*Input_series!AG6464+Method_input!$D$65*C6468+Method_input!$D$65*D6468+Method_input!$D$65*E6468+Method_input!$D$65*F6468","v":0},{"$f":"Method_input!$D$65*B6468+Method_input!$D$64*Input_series!AG6464+Method_input!$D$65*F6468","v":0}]
[6457,0,0,0,0,0,0,0,0,0,16,12,16,12,0,0,0,12,0,12,0,0,16,12,null,0,{"$f":"Method_input!$D$65*B6474+Method_input!$D$64*Input_series!AG6470+Method_input!$D$65*C6474+Method_input!$D$65*D6474+Method_input!$D$65*E6474+Method_input!$D$65*F6474","v":0},{"$f":"Method_input!$D$65*B6474+Method_input!$D$64*Input_series!AG6470+Method_input!$D$65*F6474","v":0}]
[6465,0,0,1.2259796000000001E-3,0,0,0,0,0,0,16,12,22.03448275862069,18.03448275862069,3.9592352614285717E-2,1.7707529451857145E-2,0.40109917446300003,12,0,12,0.25644020000000001,0.12366480000000001,16.22542524142229,12.007008176063698,null,{"$f":"SUM(G6482:J6482,U6482:V6482)","v":0.38010500000000003},{"$f":"Method_input!$D$65*B6482+Method_input!$D$64*Input_series!AG6478+Method_input!$D$65*C6482+Method_input!$D$65*D6482+Method_input!$D$65*E6482+Method_input!$D$65*F6482","v":1.2259796000000001E-3},{"$f":"Method_input!$D$65*B6482+Method_input!$D$64*Input_series!AG6478+Method_input!$D$65*F6482","v":0}]
[6474,0,0,1.2259796000000001E-3,0,0,0,0,0,0,16,12,22.03448275862069,18.03448275862069,0.29237218818571425,6.752710088042857E-2,2.519295023463,12,0,12,2.0485700000000002,0.47240179999999998,15.997103534379811,12.001837743401296,null,2.5209718000000003,{"$f":"Method_input!$D$65*B6491+Method_input!$D$64*Input_series!AG6487+Method_input!$D$65*C6491+Method_input!$D$65*D6491+Method_input!$D$65*E6491+Method_input!$D$65*F6491","v":1.2259796000000001E-3},{"$f":"Method_input!$D$65*B6491+Method_input!$D$64*Input_series!AG6487+Method_input!$D$65*F6491","v":0}]
[6482,0,0,0,0,0,0,0,0,0,16,12,16,12,0,0,0,12,0,12,0,0,16,12,null,0,{"$f":"Method_input!$D$65*B6499+Method_input!$D$64*Input_series!AG6495+Method_input!$D$65*C6499+Method_input!$D$65*D6499+Method_input!$D$65*E6499+Method_input!$D$65*F6499","v":0},{"$f":"Method_input!$D$65*B6499+Method_input!$D$64*Input_series!AG6495+Method_input!$D$65*F6499","v":0}]
[6491,0,0,6.5131659999999997E-4,0,0,0,0,0,0,16,12,22.03448275862069,12,0.11636196447142856,0,0.81453375129999994,12,0,12,0.8163975,0,15.993096198052811,12,null,0.8163975,{"$f":"Method_input!$D$65*B6508+Method_input!$D$64*Input_series!AG6504+Method_input!$D$65*C6508+Method_input!$D$65*D6508+Method_input!$D$65*E6508+Method_input!$D$65*F6508","v":6.5131659999999997E-4},{"$f":"Method_input!$D$65*B6508+Method_input!$D$64*Input_series!AG6504+Method_input!$D$65*F6508","v":0}]
[6496,2.9727380529133582E-2,0,1.2259796000000001E-3,0,1.4863690264566793E-3,0,0,0,0,16,12,22.03448275862069,18.03448275862069,0.14187716347142856,5.4921472309000005E-2,1.3775904504629999,12,1.0815706532940093,12,0.99526139999999996,0.38416240000000001,15.993555450848632,12.002259544015017,null,1.3794238000000001,{"$f":"Method_input!$D$65*B6513+Method_input!$D$64*Input_series!AG6509+Method_input!$D$65*C6513+Method_input!$D$65*D6513+Method_input!$D$65*E6513+Method_input!$D$65*F6513","v":3.2439729155590263E-2},{"$f":"Method_input!$D$65*B6513+Method_input!$D$64*Input_series!AG6509+Method_input!$D$65*F6513","v":3.121374955559026E-2}]
[6508,0,0,0,0,0,0,0,0,0,16,12,16,12,0,0,0,12,0,12,0,0,16,12,null,0,{"$f":"Method_input!$D$65*B6525+Method_input!$D$64*Input_series!AG6521+Method_input!$D$65*C6525+Method_input!$D$65*D6525+Method_input!$D$65*E6525+Method_input!$D$65*F6525","v":0},{"$f":"Method_input!$D$65*B6525+Method_input!$D$64*Input_series!AG6521+Method_input!$D$65*F6525","v":0}]
[6510,0,0,0,0,0,0,0,0,0,16,12,16,12,0,0,0,12,0,12,0,0,16,12,null,0,{"$f":"Method_input!$D$65*B6527+Method_input!$D$64*Input_series!AG6523+Method_input!$D$65*C6527+Method_input!$D$65*D6527+Method_input!$D$65*E6527+Method_input!$D$65*F6527","v":0},{"$f":"Method_input!$D$65*B6527+Method_input!$D$64*Input_series!AG6523+Method_input!$D$65*F6527","v":0}]
[6517,0,0,1.2259796000000001E-3,0,0,0,0,0,0,16,12,22.03448275862069,18.03448275862069,0.35102995018571426,0.12477638659471428,3.330644357463,12,0,12,2.458666,0.8731468,15.998211729488357,12.000994559046294,null,3.3318127999999998,{"$f":"Method_input!$D$65*B6534+Method_input!$D$64*Input_series!AG6530+Method_input!$D$65*C6534+Method_input!$D$65*D6534+Method_input!$D$65*E6534+Method_input!$D$65*F6534","v":1.2259796000000001E-3},{"$f":"Method_input!$D$65*B6534+Method_input!$D$64*Input_series!AG6530+Method_input!$D$65*F6534","v":0}]
[6531,0,0,0,0,0,0,0,0,0,16,12,16,12,0,0,0,12,0,12,0,0,16,12,null,0,{"$f":"Method_input!$D$65*B6548+Method_input!$D$64*Input_series!AG6544+Method_input!$D$65*C6548+Method_input!$D$65*D6548+Method_input!$D$65*E6548+Method_input!$D$65*F6548","v":0},{"$f":"Method_input!$D$65*B6548+Method_input!$D$64*Input_series!AG6544+Method_input!$D$65*F6548","v":0}]
[6534,0,0,0,0,0,0,0,0,0,16,12,16,12,0,0,0,12,0,12,0,0,16,12,null,0,{"$f":"Method_input!$D$65*B6551+Method_input!$D$64*Input_series!AG6547+Method_input!$D$65*C6551+Method_input!$D$65*D6551+Method_input!$D$65*E6551+Method_input!$D$65*F6551","v":0},{"$f":"Method_input!$D$65*B6551+Method_input!$D$64*Input_series!AG6547+Method_input!$D$65*F6551","v":0}]
[6541,0,0,1.2259796000000001E-3,0,0,0,0,0,0,15.559999999999999,12,21.594482758620689,18.03448275862069,0.71415058132857157,0.23077270088042859,6.6144629754630007,12,0,12,5.0004150000000003,1.615121,15.559178593316757,12.000537747678033,null,6.6155360000000005,{"$f":"Method_input!$D$65*B6558+Method_input!$D$64*Input_series!AG6554+Method_input!$D$65*C6558+Method_input!$D$65*D6558+Method_input!$D$65*E6558+Method_input!$D$65*F6558","v":1.2259796000000001E-3},{"$f":"Method_input!$D$65*B6558+Method_input!$D$64*Input_series!AG6554+Method_input!$D$65*F6558","v":0}]
[6551,0,0,0,0,0,0,0,0,0,16,12,16,12,0,0,0,12,0,12,0,0,16,12,null,0,{"$f":"Method_input!$D$65*B6568+Method_input!$D$64*Input_series!AG6564+Method_input!$D$65*C6568+Method_input!$D$65*D6568+Method_input!$D$65*E6568+Method_input!$D$65*F6568","v":0},{"$f":"Method_input!$D$65*B6568+Method_input!$D$64*Input_series!AG6564+Method_input!$D$65*F6568","v":0}]
[6555,0,0,0,0,0,0,0,0,0,16,12,16,12,0,0,0,12,0,12,0,0,16,12,null,0,{"$f":"Method_input!$D$65*B6572+Method_input!$D$64*Input_series!AG6568+Method_input!$D$65*C6572+Method_input!$D$65*D6572+Method_input!$D$65*E6572+Method_input!$D$65*F6572","v":0},{"$f":"Method_input!$D$65*B6572+Method_input!$D$64*Input_series!AG6568+Method_input!$D$65*F6572","v":0}]
[6568,0,0,0,0,0,0,0,0,0,15.799999999999999,12,15.799999999999999,12,0,0,0,12,0,12,0,0,15.799999999999999,12,null,0,{"$f":"Method_input!$D$65*B6585+Method_input!$D$64*Input_series!AG6581+Method_input!$D$65*C6585+Method_input!$D$65*D6585+Method_input!$D$65*E6585+Method_input!$D$65*F6585","v":0},{"$f":"Method_input!$D$65*B6585+Method_input!$D$64*Input_series!AG6581+Method_input!$D$65*F6585","v":0}]
[6577,0,0,0,0,0,0,0,0,0,16,12,16,12,0,0,0,12,0,12,0,0,16,12,null,0,{"$f":"Method_input!$D$65*B6594+Method_input!$D$64*Input_series!AG6590+Method_input!$D$65*C6594+Method_input!$D$65*D6594+Method_input!$D$65*E6594+Method_input!$D$65*F6594","v":0},{"$f":"Method_input!$D$65*B6594+Method_input!$D$64*Input_series!AG6590+Method_input!$D$65*F6594","v":0}]
[6578,0,0,0,0,0,0,0,0,0,16,12,16,12,0,0,0,12,0,12,0,0,16,12,null,0,{"$f":"Method_input!$D$65*B6595+Method_input!$D$64*Input_series!AG6591+Method_input!$D$65*C6595+Method_input!$D$65*D6595+Method_input!$D$65*E6595+Method_input!$D$65*F6595","v":0},{"$f":"Method_input!$D$65*B6595+Method_input!$D$64*Input_series!AG6591+Method_input!$D$65*F6595","v":0}]
[6586,0,0,0,0,0,0,0,0,0,16,12,16,12,0,0,0,12,0,12,0,0,16,12,null,0,{"$f":"Method_input!$D$65*B6603+Method_input!$D$64*Input_series!AG6599+Method_input!$D$65*C6603+Method_input!$D$65*D6603+Method_input!$D$65*E6603+Method_input!$D$65*F6603","v":0},{"$f":"Method_input!$D$65*B6603+Method_input!$D$64*Input_series!AG6599+Method_input!$D$65*F6603","v":0}]
[6599,0,0,0,0,0,0,0,0,0,16,12,16,12,0,0,0,12,0,12,0,0,16,12,null,0,{"$f":"Method_input!$D$65*B6616+Method_input!$D$64*Input_series!AG6612+Method_input!$D$65*C6616+Method_input!$D$65*D6616+Method_input!$D$65*E6616+Method_input!$D$65*F6616","v":0},{"$f":"Method_input!$D$65*B6616+Method_input!$D$64*Input_series!AG6612+Method_input!$D$65*F6616","v":0}]
[6603,0,0,0,0,0,0,0,0,0,16,12,16,12,0,0,0,12,0,12,0,0,16,12,null,0,{"$f":"Method_input!$D$65*B6620+Method_input!$D$64*Input_series!AG6616+Method_input!$D$65*C6620+Method_input!$D$65*D6620+Method_input!$D$65*E6620+Method_input!$D$65*F6620","v":0},{"$f":"Method_input!$D$65*B6620+Method_input!$D$64*Input_series!AG6616+Method_input!$D$65*F6620","v":0}]
[6613,0,0,1.2259796000000001E-3,0,0,0,0,0,0,13.88,12,19.914482758620689,18.03448275862069,0.20534585189999999,5.6545729451857145E-2,1.8332410694629999,12,0,12,1.439038,0.3955322,13.876605733346269,12.002194639369847,null,1.8345701999999999,{"$f":"Method_input!$D$65*B6630+Method_input!$D$64*Input_series!AG6626+Method_input!$D$65*C6630+Method_input!$D$65*D6630+Method_input!$D$65*E6630+Method_input!$D$65*F6630","v":1.2259796000000001E-3},{"$f":"Method_input!$D$65*B6630+Method_input!$D$64*Input_series!AG6626+Method_input!$D$65*F6630","v":0}]
[6620,0,0,0,0,0,0,0,0,0,16,12,16,12,0,0,0,12,0,12,0,0,16,12,null,0,{"$f":"Method_input!$D$65*B6637+Method_input!$D$64*Input_series!AG6633+Method_input!$D$65*C6637+Method_input!$D$65*D6637+Method_input!$D$65*E6637+Method_input!$D$65*F6637","v":0},{"$f":"Method_input!$D$65*B6637+Method_input!$D$64*Input_series!AG6633+Method_input!$D$65*F6637","v":0}]
[6627,0,0,0,0,0,0,0,0,0,16,12,16,12,0,0,0,12,0,12,0,0,16,12,null,0,{"$f":"Method_input!$D$65*B6644+Method_input!$D$64*Input_series!AG6640+Method_input!$D$65*C6644+Method_input!$D$65*D6644+Method_input!$D$65*E6644+Method_input!$D$65*F6644","v":0},{"$f":"Method_input!$D$65*B6644+Method_input!$D$64*Input_series!AG6640+Method_input!$D$65*F6644","v":0}]
[6637,0,0,1.2259796000000001E-3,0,0,0,0,0,0,16,12,22.03448275862069,18.03448275862069,0.26852889918571432,0.10891025802328572,2.6420741004630002,12,0,12,1.8808130000000001,0.76208389999999993,15.99821712873978,12.001139447158643,null,2.6428969000000002,{"$f":"Method_input!$D$65*B6654+Method_input!$D$64*Input_series!AG6650+Method_input!$D$65*C6654+Method_input!$D$65*D6654+Method_input!$D$65*E6654+Method_input!$D$65*F6654","v":1.2259796000000001E-3},{"$f":"Method_input!$D$65*B6654+Method_input!$D$64*Input_series!AG6650+Method_input!$D$65*F6654","v":0}]
[6644,0,0,0,0,0,0,0,0,0,16,12,16,12,0,0,0,12,0,12,0,0,16,12,null,0,{"$f":"Method_input!$D$65*B6661+Method_input!$D$64*Input_series!AG6657+Method_input!$D$65*C6661+Method_input!$D$65*D6661+Method_input!$D$65*E6661+Method_input!$D$65*F6661","v":0},{"$f":"Method_input!$D$65*B6661+Method_input!$D$64*Input_series!AG6657+Method_input!$D$65*F6661","v":0}]
[6646,0,0,0,0,0,0,0,0,0,16,12,16,12,0,0,0,12,0,12,0,0,16,12,null,0,{"$f":"Method_input!$D$65*B6663+Method_input!$D$64*Input_series!AG6659+Method_input!$D$65*C6663+Method_input!$D$65*D6663+Method_input!$D$65*E6663+Method_input!$D$65*F6663","v":0},{"$f":"Method_input!$D$65*B6663+Method_input!$D$64*Input_series!AG6659+Method_input!$D$65*F6663","v":0}]
[6658,0,0,0,0,0,0,0,0,0,16,12,16,12,0,0,0,12,0,12,0,0,16,12,null,0,{"$f":"Method_input!$D$65*B6675+Method_input!$D$64*Input_series!AG6671+Method_input!$D$65*C6675+Method_input!$D$65*D6675+Method_input!$D$65*E6675+Method_input!$D$65*F6675","v":0},{"$f":"Method_input!$D$65*B6675+Method_input!$D$64*Input_series!AG6671+Method_input!$D$65*F6675","v":0}]
[6663,4.6630565583634178,0,1.2259796000000001E-3,0,0.23315282791817091,0,0,0,0,16,12,22.03448275862069,18.03448275862069,0.35308490318571428,0.27874484373757147,4.4228082284630004,12,50,4,2.4731559999999999,1.9509259999999999,15.998093555024353,12.000445201003139,null,4.4240820000000003,{"$f":"Method_input!$D$65*B6680+Method_input!$D$64*Input_series!AG6676+Method_input!$D$65*C6680+Method_input!$D$65*D6680+Method_input!$D$65*E6680+Method_input!$D$65*F6680","v":4.8974353658815888},{"$f":"Method_input!$D$65*B6680+Method_input!$D$64*Input_series!AG6676+Method_input!$D$65*F6680","v":4.8962093862815887}]
[6672,0,0,0,0,0,0,0,0,0,16,12,16,12,0,0,0,12,0,12,0,0,16,12,null,0,{"$f":"Method_input!$D$65*B6689+Method_input!$D$64*Input_series!AG6685+Method_input!$D$65*C6689+Method_input!$D$65*D6689+Method_input!$D$65*E6689+Method_input!$D$65*F6689","v":0},{"$f":"Method_input!$D$65*B6689+Method_input!$D$64*Input_series!AG6685+Method_input!$D$65*F6689","v":0}]
[6680,0,0,0,0,0,0,0,0,0,16,12,16,12,0,0,0,12,0,12,0,0,16,12,null,0,{"$f":"Method_input!$D$65*B6697+Method_input!$D$64*Input_series!AG6693+Method_input!$D$65*C6697+Method_input!$D$65*D6697+Method_input!$D$65*E6697+Method_input!$D$65*F6697","v":0},{"$f":"Method_input!$D$65*B6697+Method_input!$D$64*Input_series!AG6693+Method_input!$D$65*F6697","v":0}]
[6686,0,0,0,0,0,0,0,0,0,16,12,16,12,0,0,0,12,0,12,0,0,16,12,null,0,{"$f":"Method_input!$D$65*B6703+Method_input!$D$64*Input_series!AG6699+Method_input!$D$65*C6703+Method_input!$D$65*D6703+Method_input!$D$65*E6703+Method_input!$D$65*F6703","v":0},{"$f":"Method_input!$D$65*B6703+Method_input!$D$64*Input_series!AG6699+Method_input!$D$65*F6703","v":0}]
[6697,0,0,0,0,0,0,0,0,0,16,12,16,12,0,0,0,12,0,12,0,0,16,12,null,0,{"$f":"Method_input!$D$65*B6714+Method_input!$D$64*Input_series!AG6710+Method_input!$D$65*C6714+Method_input!$D$65*D6714+Method_input!$D$65*E6714+Method_input!$D$65*F6714","v":0},{"$f":"Method_input!$D$65*B6714+Method_input!$D$64*Input_series!AG6710+Method_input!$D$65*F6714","v":0}]
[6698,0,0,0,0,0,0,0,0,0,16,12,16,12,0,0,0,12,0,12,0,0,16,12,null,0,{"$f":"Method_input!$D$65*B6715+Method_input!$D$64*Input_series!AG6711+Method_input!$D$65*C6715+Method_input!$D$65*D6715+Method_input!$D$65*E6715+Method_input!$D$65*F6715","v":0},{"$f":"Method_input!$D$65*B6715+Method_input!$D$64*Input_series!AG6711+Method_input!$D$65*F6715","v":0}]
[6709,0,0,1.2259796000000001E-3,0,0,0,0,0,0,16,12,22.03448275862069,18.03448275862069,2.3372782614285711E-2,4.7216529451857149E-2,0.49412518446300002,12,0,12,0.14246199999999998,0.33022780000000002,16.389996027478485,12.002628263565585,null,0.47268979999999999,{"$f":"Method_input!$D$65*B6726+Method_input!$D$64*Input_series!AG6722+Method_input!$D$65*C6726+Method_input!$D$65*D6726+Method_input!$D$65*E6726+Method_input!$D$65*F6726","v":1.2259796000000001E-3},{"$f":"Method_input!$D$65*B6726+Method_input!$D$64*Input_series!AG6722+Method_input!$D$65*F6726","v":0}]
[6715,0,0,0,0,0,0,0,0,0,16,12,16,12,0,0,0,12,0,12,0,0,16,12,null,0,{"$f":"Method_input!$D$65*B6732+Method_input!$D$64*Input_series!AG6728+Method_input!$D$65*C6732+Method_input!$D$65*D6732+Method_input!$D$65*E6732+Method_input!$D$65*F6732","v":0},{"$f":"Method_input!$D$65*B6732+Method_input!$D$64*Input_series!AG6728+Method_input!$D$65*F6732","v":0}]
[6723,0,0,0,0,0,0,0,0,0,16,12,16,12,0,0,0,12,0,12,0,0,16,12,null,0,{"$f":"Method_input!$D$65*B6740+Method_input!$D$64*Input_series!AG6736+Method_input!$D$65*C6740+Method_input!$D$65*D6740+Method_input!$D$65*E6740+Method_input!$D$65*F6740","v":0},{"$f":"Method_input!$D$65*B6740+Method_input!$D$64*Input_series!AG6736+Method_input!$D$65*F6740","v":0}]
[6732,0,0,0,0,0,0,0,0,0,16,12,16,12,0,0,0,12,0,12,0,0,16,12,null,0,{"$f":"Method_input!$D$65*B6749+Method_input!$D$64*Input_series!AG6745+Method_input!$D$65*C6749+Method_input!$D$65*D6749+Method_input!$D$65*E6749+Method_input!$D$65*F6749","v":0},{"$f":"Method_input!$D$65*B6749+Method_input!$D$64*Input_series!AG6745+Method_input!$D$65*F6749","v":0}]
[6740,0,0,0,0,0,0,0,0,0,16,12,16,12,0,0,0,12,0,12,0,0,16,12,null,0,{"$f":"Method_input!$D$65*B6757+Method_input!$D$64*Input_series!AG6753+Method_input!$D$65*C6757+Method_input!$D$65*D6757+Method_input!$D$65*E6757+Method_input!$D$65*F6757","v":0},{"$f":"Method_input!$D$65*B6757+Method_input!$D$64*Input_series!AG6753+Method_input!$D$65*F6757","v":0}]
[6749,0,0,0,0,0,0,0,0,0,16,12,16,12,0,0,0,12,0,12,0,0,16,12,null,0,{"$f":"Method_input!$D$65*B6766+Method_input!$D$64*Input_series!AG6762+Method_input!$D$65*C6766+Method_input!$D$65*D6766+Method_input!$D$65*E6766+Method_input!$D$65*F6766","v":0},{"$f":"Method_input!$D$65*B6766+Method_input!$D$64*Input_series!AG6762+Method_input!$D$65*F6766","v":0}]
[6754,0,0,0,0,0,0,0,0,0,16,12,16,12,0,0,0,12,0,12,0,0,16,12,null,0,{"$f":"Method_input!$D$65*B6771+Method_input!$D$64*Input_series!AG6767+Method_input!$D$65*C6771+Method_input!$D$65*D6771+Method_input!$D$65*E6771+Method_input!$D$65*F6771","v":0},{"$f":"Method_input!$D$65*B6771+Method_input!$D$64*Input_series!AG6767+Method_input!$D$65*F6771","v":0}]
[6758,0,0,0,0,0,0,0,0,0,16,12,16,12,0,0,0,12,0,12,0,0,16,12,null,0,{"$f":"Method_input!$D$65*B6775+Method_input!$D$64*Input_series!AG6771+Method_input!$D$65*C6775+Method_input!$D$65*D6775+Method_input!$D$65*E6775+Method_input!$D$65*F6775","v":0},{"$f":"Method_input!$D$65*B6775+Method_input!$D$64*Input_series!AG6771+Method_input!$D$65*F6775","v":0}]
[6768,0,0,0,0,0,0,0,0,0,16,12,16,12,0,0,0,12,0,12,0,0,16,12,null,0,{"$f":"Method_input!$D$65*B6785+Method_input!$D$64*Input_series!AG6781+Method_input!$D$65*C6785+Method_input!$D$65*D6785+Method_input!$D$65*E6785+Method_input!$D$65*F6785","v":0},{"$f":"Method_input!$D$65*B6785+Method_input!$D$64*Input_series!AG6781+Method_input!$D$65*F6785","v":0}]
[6775,0,0,0,0,0,0,0,0,0,16,12,16,12,0,0,0,12,0,12,0,0,16,12,null,0,{"$f":"Method_input!$D$65*B6792+Method_input!$D$64*Input_series!AG6788+Method_input!$D$65*C6792+Method_input!$D$65*D6792+Method_input!$D$65*E6792+Method_input!$D$65*F6792","v":0},{"$f":"Method_input!$D$65*B6792+Method_input!$D$64*Input_series!AG6788+Method_input!$D$65*F6792","v":0}]
[6782,0,0,0,0,0,0,0,0,0,16,12,16,12,0,0,0,12,0,12,0,0,16,12,null,0,{"$f":"Method_input!$D$65*B6799+Method_input!$D$64*Input_series!AG6795+Method_input!$D$65*C6799+Method_input!$D$65*D6799+Method_input!$D$65*E6799+Method_input!$D$65*F6799","v":0},{"$f":"Method_input!$D$65*B6799+Method_input!$D$64*Input_series!AG6795+Method_input!$D$65*F6799","v":0}]
[6792,0,0,0,0,0,0,0,0,0,16,12,16,12,0,0,0,12,0,12,0,0,16,12,null,0,{"$f":"Method_input!$D$65*B6809+Method_input!$D$64*Input_series!AG6805+Method_input!$D$65*C6809+Method_input!$D$65*D6809+Method_input!$D$65*E6809+Method_input!$D$65*F6809","v":0},{"$f":"Method_input!$D$65*B6809+Method_input!$D$64*Input_series!AG6805+Method_input!$D$65*F6809","v":0}]
[6799,0,0,0,0,0,0,0,0,0,16,12,16,12,0,0,0,12,0,12,0,0,16,12,null,0,{"$f":"Method_input!$D$65*B6816+Method_input!$D$64*Input_series!AG6812+Method_input!$D$65*C6816+Method_input!$D$65*D6816+Method_input!$D$65*E6816+Method_input!$D$65*F6816","v":0},{"$f":"Method_input!$D$65*B6816+Method_input!$D$64*Input_series!AG6812+Method_input!$D$65*F6816","v":0}]
[6809,0,0,5.74663E-4,0,0,0,0,0,0,16,12,16,18.03448275862069,0,9.8997058023285719E-2,0.69297940616300002,12,0,12,0,0.69269150000000002,16,12.001253547191499,null,0.69269150000000002,{"$f":"Method_input!$D$65*B6826+Method_input!$D$64*Input_series!AG6822+Method_input!$D$65*C6826+Method_input!$D$65*D6826+Method_input!$D$65*E6826+Method_input!$D$65*F6826","v":5.74663E-4},{"$f":"Method_input!$D$65*B6826+Method_input!$D$64*Input_series!AG6822+Method_input!$D$65*F6826","v":0}]
[6813,0,0,0,0,0,0,0,0,0,16,12,16,12,0,0,0,12,0,12,0,0,16,12,null,0,{"$f":"Method_input!$D$65*B6830+Method_input!$D$64*Input_series!AG6826+Method_input!$D$65*C6830+Method_input!$D$65*D6830+Method_input!$D$65*E6830+Method_input!$D$65*F6830","v":0},{"$f":"Method_input!$D$65*B6830+Method_input!$D$64*Input_series!AG6826+Method_input!$D$65*F6830","v":0}]
[6818,0,0,0,0,0,0,0,0,0,16,12,16,12,0,0,0,12,0,12,0,0,16,12,null,0,{"$f":"Method_input!$D$65*B6835+Method_input!$D$64*Input_series!AG6831+Method_input!$D$65*C6835+Method_input!$D$65*D6835+Method_input!$D$65*E6835+Method_input!$D$65*F6835","v":0},{"$f":"Method_input!$D$65*B6835+Method_input!$D$64*Input_series!AG6831+Method_input!$D$65*F6835","v":0}]
[6827,0,0,0,0,0,0,0,0,0,16,12,16,12,0,0,0,12,0,12,0,0,16,12,null,0,{"$f":"Method_input!$D$65*B6844+Method_input!$D$64*Input_series!AG6840+Method_input!$D$65*C6844+Method_input!$D$65*D6844+Method_input!$D$65*E6844+Method_input!$D$65*F6844","v":0},{"$f":"Method_input!$D$65*B6844+Method_input!$D$64*Input_series!AG6840+Method_input!$D$65*F6844","v":0}]
[6836,0,0,0,0,0,0,0,0,0,16,12,16,12,0,0,0,12,0,12,0,0,16,12,null,0,{"$f":"Method_input!$D$65*B6853+Method_input!$D$64*Input_series!AG6849+Method_input!$D$65*C6853+Method_input!$D$65*D6853+Method_input!$D$65*E6853+Method_input!$D$65*F6853","v":0},{"$f":"Method_input!$D$65*B6853+Method_input!$D$64*Input_series!AG6849+Method_input!$D$65*F6853","v":0}]
[6844,0,0,0,0,0,0,0,0,0,16,12,16,12,0,0,0,12,0,12,0,0,16,12,null,0,{"$f":"Method_input!$D$65*B6861+Method_input!$D$64*Input_series!AG6857+Method_input!$D$65*C6861+Method_input!$D$65*D6861+Method_input!$D$65*E6861+Method_input!$D$65*F6861","v":0},{"$f":"Method_input!$D$65*B6861+Method_input!$D$64*Input_series!AG6857+Method_input!$D$65*F6861","v":0}]
[6850,0,0,1.2259796000000001E-3,0,0,0,0,0,0,16,12,22.03448275862069,18.03448275862069,2.6286922614285713E-2,7.5248786594714304E-2,0.71074996446300009,12,0,12,0.16296279999999999,0.52645360000000008,16.345091914057878,12.001649162593413,null,0.68941640000000004,{"$f":"Method_input!$D$65*B6867+Method_input!$D$64*Input_series!AG6863+Method_input!$D$65*C6867+Method_input!$D$65*D6867+Method_input!$D$65*E6867+Method_input!$D$65*F6867","v":1.2259796000000001E-3},{"$f":"Method_input!$D$65*B6867+Method_input!$D$64*Input_series!AG6863+Method_input!$D$65*F6867","v":0}]
[6861,0,0,0,0,0,0,0,0,0,16,12,16,12,0,0,0,12,0,12,0,0,16,12,null,0,{"$f":"Method_input!$D$65*B6878+Method_input!$D$64*Input_series!AG6874+Method_input!$D$65*C6878+Method_input!$D$65*D6878+Method_input!$D$65*E6878+Method_input!$D$65*F6878","v":0},{"$f":"Method_input!$D$65*B6878+Method_input!$D$64*Input_series!AG6874+Method_input!$D$65*F6878","v":0}]
[6864,0,0,0,0,0,0,0,0,0,16,12,16,12,0,0,0,12,0,12,0,0,16,12,null,0,{"$f":"Method_input!$D$65*B6881+Method_input!$D$64*Input_series!AG6877+Method_input!$D$65*C6881+Method_input!$D$65*D6881+Method_input!$D$65*E6881+Method_input!$D$65*F6881","v":0},{"$f":"Method_input!$D$65*B6881+Method_input!$D$64*Input_series!AG6877+Method_input!$D$65*F6881","v":0}]
[6878,0,0,1.2259796000000001E-3,0,0,0,0,0,0,16,12,22.03448275862069,18.03448275862069,2.3404948328571432E-2,1.4469815166142859E-2,0.26512334446300001,12,0,12,0.14272110000000002,0.1010008,16.388834999017504,12.008576300569622,null,0.24372190000000002,{"$f":"Method_input!$D$65*B6895+Method_input!$D$64*Input_series!AG6891+Method_input!$D$65*C6895+Method_input!$D$65*D6895+Method_input!$D$65*E6895+Method_input!$D$65*F6895","v":1.2259796000000001E-3},{"$f":"Method_input!$D$65*B6895+Method_input!$D$64*Input_series!AG6891+Method_input!$D$65*F6895","v":0}]
[6885,0,0,0,0,0,0,0,0,0,16,12,16,12,0,0,0,12,0,12,0,0,16,12,null,0,{"$f":"Method_input!$D$65*B6902+Method_input!$D$64*Input_series!AG6898+Method_input!$D$65*C6902+Method_input!$D$65*D6902+Method_input!$D$65*E6902+Method_input!$D$65*F6902","v":0},{"$f":"Method_input!$D$65*B6902+Method_input!$D$64*Input_series!AG6898+Method_input!$D$65*F6902","v":0}]
[6887,0,0,0,0,0,0,0,0,0,16,12,16,12,0,0,0,12,0,12,0,0,16,12,null,0,{"$f":"Method_input!$D$65*B6904+Method_input!$D$64*Input_series!AG6900+Method_input!$D$65*C6904+Method_input!$D$65*D6904+Method_input!$D$65*E6904+Method_input!$D$65*F6904","v":0},{"$f":"Method_input!$D$65*B6904+Method_input!$D$64*Input_series!AG6900+Method_input!$D$65*F6904","v":0}]
[6895,0,0,0,0,0,0,0,0,0,16,12,16,12,0,0,0,12,0,12,0,0,16,12,null,0,{"$f":"Method_input!$D$65*B6912+Method_input!$D$64*Input_series!AG6908+Method_input!$D$65*C6912+Method_input!$D$65*D6912+Method_input!$D$65*E6912+Method_input!$D$65*F6912","v":0},{"$f":"Method_input!$D$65*B6912+Method_input!$D$64*Input_series!AG6908+Method_input!$D$65*F6912","v":0}]
[6904,0,0,0,0,0,0,0,0,0,16,12,16,12,0,0,0,12,0,12,0,0,16,12,null,0,{"$f":"Method_input!$D$65*B6921+Method_input!$D$64*Input_series!AG6917+Method_input!$D$65*C6921+Method_input!$D$65*D6921+Method_input!$D$65*E6921+Method_input!$D$65*F6921","v":0},{"$f":"Method_input!$D$65*B6921+Method_input!$D$64*Input_series!AG6917+Method_input!$D$65*F6921","v":0}]
[6909,0,0,0,0,0,0,0,0,0,16,12,16,12,0,0,0,12,0,12,0,0,16,12,null,0,{"$f":"Method_input!$D$65*B6926+Method_input!$D$64*Input_series!AG6922+Method_input!$D$65*C6926+Method_input!$D$65*D6926+Method_input!$D$65*E6926+Method_input!$D$65*F6926","v":0},{"$f":"Method_input!$D$65*B6926+Method_input!$D$64*Input_series!AG6922+Method_input!$D$65*F6926","v":0}]
[6921,0,0,0,0,0,0,0,0,0,16,12,16,12,0,0,0,12,0,12,0,0,16,12,null,0,{"$f":"Method_input!$D$65*B6938+Method_input!$D$64*Input_series!AG6934+Method_input!$D$65*C6938+Method_input!$D$65*D6938+Method_input!$D$65*E6938+Method_input!$D$65*F6938","v":0},{"$f":"Method_input!$D$65*B6938+Method_input!$D$64*Input_series!AG6934+Method_input!$D$65*F6938","v":0}]
[6930,0,0,0,0,0,0,0,0,0,15.959999999999999,12,15.959999999999999,12,0,0,0,12,0,12,0,0,15.959999999999999,12,null,0,{"$f":"Method_input!$D$65*B6947+Method_input!$D$64*Input_series!AG6943+Method_input!$D$65*C6947+Method_input!$D$65*D6947+Method_input!$D$65*E6947+Method_input!$D$65*F6947","v":0},{"$f":"Method_input!$D$65*B6947+Method_input!$D$64*Input_series!AG6943+Method_input!$D$65*F6947","v":0}]
[6938,0,0,0,0,0,0,0,0,0,16,12,16,12,0,0,0,12,0,12,0,0,16,12,null,0,{"$f":"Method_input!$D$65*B6955+Method_input!$D$64*Input_series!AG6951+Method_input!$D$65*C6955+Method_input!$D$65*D6955+Method_input!$D$65*E6955+Method_input!$D$65*F6955","v":0},{"$f":"Method_input!$D$65*B6955+Method_input!$D$64*Input_series!AG6951+Method_input!$D$65*F6955","v":0}]
[6944,0,0,0,0,0,0,0,0,0,16,12,16,12,0,0,0,12,0,12,0,0,16,12,null,0,{"$f":"Method_input!$D$65*B6961+Method_input!$D$64*Input_series!AG6957+Method_input!$D$65*C6961+Method_input!$D$65*D6961+Method_input!$D$65*E6961+Method_input!$D$65*F6961","v":0},{"$f":"Method_input!$D$65*B6961+Method_input!$D$64*Input_series!AG6957+Method_input!$D$65*F6961","v":0}]
[6947,0,0,1.2259796000000001E-3,0,0,0,0,0,0,16,12,22.03448275862069,18.03448275862069,2.706065875714286E-2,8.8282258023285723E-2,0.80740041746300006,12,0,12,0.1909247,0.61768790000000007,15.976105904786007,12.001405689963423,null,0.80861260000000001,{"$f":"Method_input!$D$65*B6964+Method_input!$D$64*Input_series!AG6960+Method_input!$D$65*C6964+Method_input!$D$65*D6964+Method_input!$D$65*E6964+Method_input!$D$65*F6964","v":1.2259796000000001E-3},{"$f":"Method_input!$D$65*B6964+Method_input!$D$64*Input_series!AG6960+Method_input!$D$65*F6964","v":0}]
[6956,0,0,0,0,0,0,0,0,0,16,12,16,12,0,0,0,12,0,12,0,0,16,12,null,0,{"$f":"Method_input!$D$65*B6973+Method_input!$D$64*Input_series!AG6969+Method_input!$D$65*C6973+Method_input!$D$65*D6973+Method_input!$D$65*E6973+Method_input!$D$65*F6973","v":0},{"$f":"Method_input!$D$65*B6973+Method_input!$D$64*Input_series!AG6969+Method_input!$D$65*F6973","v":0}]
[6967,0,0,0,0,0,0,0,0,0,16,12,16,12,0,0,0,12,0,12,0,0,16,12,null,0,{"$f":"Method_input!$D$65*B6984+Method_input!$D$64*Input_series!AG6980+Method_input!$D$65*C6984+Method_input!$D$65*D6984+Method_input!$D$65*E6984+Method_input!$D$65*F6984","v":0},{"$f":"Method_input!$D$65*B6984+Method_input!$D$64*Input_series!AG6980+Method_input!$D$65*F6984","v":0}]
[6973,0,0,0,0,0,0,0,0,0,16,12,16,12,0,0,0,12,0,12,0,0,16,12,null,0,{"$f":"Method_input!$D$65*B6990+Method_input!$D$64*Input_series!AG6986+Method_input!$D$65*C6990+Method_input!$D$65*D6990+Method_input!$D$65*E6990+Method_input!$D$65*F6990","v":0},{"$f":"Method_input!$D$65*B6990+Method_input!$D$64*Input_series!AG6986+Method_input!$D$65*F6990","v":0}]
[6981,0,0,0,0,0,0,0,0,0,16,12,16,12,0,0,0,12,0,12,0,0,16,12,null,0,{"$f":"Method_input!$D$65*B6998+Method_input!$D$64*Input_series!AG6994+Method_input!$D$65*C6998+Method_input!$D$65*D6998+Method_input!$D$65*E6998+Method_input!$D$65*F6998","v":0},{"$f":"Method_input!$D$65*B6998+Method_input!$D$64*Input_series!AG6994+Method_input!$D$65*F6998","v":0}]
[6990,0,0,0,0,0,0,0,0,0,16,12,16,12,0,0,0,12,0,12,0,0,16,12,null,0,{"$f":"Method_input!$D$65*B7007+Method_input!$D$64*Input_series!AG7003+Method_input!$D$65*C7007+Method_input!$D$65*D7007+Method_input!$D$65*E7007+Method_input!$D$65*F7007","v":0},{"$f":"Method_input!$D$65*B7007+Method_input!$D$64*Input_series!AG7003+Method_input!$D$65*F7007","v":0}]
[6998,0,0,5.74663E-4,0,0,0,0,0,0,16,12,16,18.03448275862069,0,1.6905737375714287E-3,1.1834016163E-2,12,0,12,0,1.154611E-2,16,12.073405543510923,null,1.154611E-2,{"$f":"Method_input!$D$65*B7015+Method_input!$D$64*Input_series!AG7011+Method_input!$D$65*C7015+Method_input!$D$65*D7015+Method_input!$D$65*E7015+Method_input!$D$65*F7015","v":5.74663E-4},{"$f":"Method_input!$D$65*B7015+Method_input!$D$64*Input_series!AG7011+Method_input!$D$65*F7015","v":0}]
[6999,0,0,5.74663E-4,0,0,0,0,0,0,16,12,16,18.03448275862069,0,2.0303372308999996E-2,0.14212360616299999,12,0,12,0,0.14183570000000001,16,12.006112161180077,null,0.14183570000000001,{"$f":"Method_input!$D$65*B7016+Method_input!$D$64*Input_series!AG7012+Method_input!$D$65*C7016+Method_input!$D$65*D7016+Method_input!$D$65*E7016+Method_input!$D$65*F7016","v":5.74663E-4},{"$f":"Method_input!$D$65*B7016+Method_input!$D$64*Input_series!AG7012+Method_input!$D$65*F7016","v":0}]
[7012,0,0,0,0,0,0,0,0,0,16,12,16,12,0,0,0,12,0,12,0,0,16,12,null,0,{"$f":"Method_input!$D$65*B7029+Method_input!$D$64*Input_series!AG7025+Method_input!$D$65*C7029+Method_input!$D$65*D7029+Method_input!$D$65*E7029+Method_input!$D$65*F7029","v":0},{"$f":"Method_input!$D$65*B7029+Method_input!$D$64*Input_series!AG7025+Method_input!$D$65*F7029","v":0}]
[7016,0,0,0,0,0,0,0,0,0,16,12,16,12,0,0,0,12,0,12,0,0,16,12,null,0,{"$f":"Method_input!$D$65*B7033+Method_input!$D$64*Input_series!AG7029+Method_input!$D$65*C7033+Method_input!$D$65*D7033+Method_input!$D$65*E7033+Method_input!$D$65*F7033","v":0},{"$f":"Method_input!$D$65*B7033+Method_input!$D$64*Input_series!AG7029+Method_input!$D$65*F7033","v":0}]
[7026,0,0,0,0,0,0,0,0,0,16,12,16,12,0,0,0,12,0,12,0,0,16,12,null,0,{"$f":"Method_input!$D$65*B7043+Method_input!$D$64*Input_series!AG7039+Method_input!$D$65*C7043+Method_input!$D$65*D7043+Method_input!$D$65*E7043+Method_input!$D$65*F7043","v":0},{"$f":"Method_input!$D$65*B7043+Method_input!$D$64*Input_series!AG7039+Method_input!$D$65*F7043","v":0}]
[7033,0,0,0,0,0,0,0,0,0,16,12,16,12,0,0,0,12,0,12,0,0,16,12,null,0,{"$f":"Method_input!$D$65*B7050+Method_input!$D$64*Input_series!AG7046+Method_input!$D$65*C7050+Method_input!$D$65*D7050+Method_input!$D$65*E7050+Method_input!$D$65*F7050","v":0},{"$f":"Method_input!$D$65*B7050+Method_input!$D$64*Input_series!AG7046+Method_input!$D$65*F7050","v":0}]
[7040,0,0,0,0,0,0,0,0,0,16,12,16,12,0,0,0,12,0,12,0,0,16,12,null,0,{"$f":"Method_input!$D$65*B7057+Method_input!$D$64*Input_series!AG7053+Method_input!$D$65*C7057+Method_input!$D$65*D7057+Method_input!$D$65*E7057+Method_input!$D$65*F7057","v":0},{"$f":"Method_input!$D$65*B7057+Method_input!$D$64*Input_series!AG7053+Method_input!$D$65*F7057","v":0}]
[7050,0,0,0,0,0,0,0,0,0,16,12,16,12,0,0,0,12,0,12,0,0,16,12,null,0,{"$f":"Method_input!$D$65*B7067+Method_input!$D$64*Input_series!AG7063+Method_input!$D$65*C7067+Method_input!$D$65*D7067+Method_input!$D$65*E7067+Method_input!$D$65*F7067","v":0},{"$f":"Method_input!$D$65*B7067+Method_input!$D$64*Input_series!AG7063+Method_input!$D$65*F7067","v":0}]
[7057,0,0,0,0,0,0,0,0,0,16,12,16,12,0,0,0,12,0,12,0,0,16,12,null,0,{"$f":"Method_input!$D$65*B7074+Method_input!$D$64*Input_series!AG7070+Method_input!$D$65*C7074+Method_input!$D$65*D7074+Method_input!$D$65*E7074+Method_input!$D$65*F7074","v":0},{"$f":"Method_input!$D$65*B7074+Method_input!$D$64*Input_series!AG7070+Method_input!$D$65*F7074","v":0}]
[7059,0,0,0,0,0,0,0,0,0,16,12,16,12,0,0,0,12,0,12,0,0,16,12,null,0,{"$f":"Method_input!$D$65*B7076+Method_input!$D$64*Input_series!AG7072+Method_input!$D$65*C7076+Method_input!$D$65*D7076+Method_input!$D$65*E7076+Method_input!$D$65*F7076","v":0},{"$f":"Method_input!$D$65*B7076+Method_input!$D$64*Input_series!AG7072+Method_input!$D$65*F7076","v":0}]
[7071,0,0,0,0,0,0,0,0,0,15.88,12,15.88,12,0,0,0,12,0,12,0,0,15.88,12,null,0,{"$f":"Method_input!$D$65*B7088+Method_input!$D$64*Input_series!AG7084+Method_input!$D$65*C7088+Method_input!$D$65*D7088+Method_input!$D$65*E7088+Method_input!$D$65*F7088","v":0},{"$f":"Method_input!$D$65*B7088+Method_input!$D$64*Input_series!AG7084+Method_input!$D$65*F7088","v":0}]
[7076,0,0,0,0,0,0,0,0,0,16,12,16,12,0,0,0,12,0,12,0,0,16,12,null,0,{"$f":"Method_input!$D$65*B7093+Method_input!$D$64*Input_series!AG7089+Method_input!$D$65*C7093+Method_input!$D$65*D7093+Method_input!$D$65*E7093+Method_input!$D$65*F7093","v":0},{"$f":"Method_input!$D$65*B7093+Method_input!$D$64*Input_series!AG7089+Method_input!$D$65*F7093","v":0}]
[7085,0,0,0,0,0,0,0,0,0,16,12,16,12,0,0,0,12,0,12,0,0,16,12,null,0,{"$f":"Method_input!$D$65*B7102+Method_input!$D$64*Input_series!AG7098+Method_input!$D$65*C7102+Method_input!$D$65*D7102+Method_input!$D$65*E7102+Method_input!$D$65*F7102","v":0},{"$f":"Method_input!$D$65*B7102+Method_input!$D$64*Input_series!AG7098+Method_input!$D$65*F7102","v":0}]
[7094,0,0,0,0,0,0,0,0,0,16,12,16,12,0,0,0,12,0,12,0,0,16,12,null,0,{"$f":"Method_input!$D$65*B7111+Method_input!$D$64*Input_series!AG7107+Method_input!$D$65*C7111+Method_input!$D$65*D7111+Method_input!$D$65*E7111+Method_input!$D$65*F7111","v":0},{"$f":"Method_input!$D$65*B7111+Method_input!$D$64*Input_series!AG7107+Method_input!$D$65*F7111","v":0}]
[7102,0,0,0,0,0,0,0,0,0,16,12,16,12,0,0,0,12,0,12,0,0,16,12,null,0,{"$f":"Method_input!$D$65*B7119+Method_input!$D$64*Input_series!AG7115+Method_input!$D$65*C7119+Method_input!$D$65*D7119+Method_input!$D$65*E7119+Method_input!$D$65*F7119","v":0},{"$f":"Method_input!$D$65*B7119+Method_input!$D$64*Input_series!AG7115+Method_input!$D$65*F7119","v":0}]
[7108,0,0,0,0,0,0,0,0,0,16,12,16,12,0,0,0,12,0,12,0,0,16,12,null,0,{"$f":"Method_input!$D$65*B7125+Method_input!$D$64*Input_series!AG7121+Method_input!$D$65*C7125+Method_input!$D$65*D7125+Method_input!$D$65*E7125+Method_input!$D$65*F7125","v":0},{"$f":"Method_input!$D$65*B7125+Method_input!$D$64*Input_series!AG7121+Method_input!$D$65*F7125","v":0}]
[7119,0,0,1.2259796000000001E-3,0,0,0,0,0,0,16,12,22.03448275862069,18.03448275862069,6.986752614285714E-3,5.1550672308999998E-2,0.409761974463,12,0,12,2.7929489999999994E-2,0.36056680000000002,17.294184339728471,12.002407291282408,null,0.38849629000000002,{"$f":"Method_input!$D$65*B7136+Method_input!$D$64*Input_series!AG7132+Method_input!$D$65*C7136+Method_input!$D$65*D7136+Method_input!$D$65*E7136+Method_input!$D$65*F7136","v":1.2259796000000001E-3},{"$f":"Method_input!$D$65*B7136+Method_input!$D$64*Input_series!AG7132+Method_input!$D$65*F7136","v":0}]
[7122,0,0,0,0,0,0,0,0,0,16,12,16,12,0,0,0,12,0,12,0,0,16,12,null,0,{"$f":"Method_input!$D$65*B7139+Method_input!$D$64*Input_series!AG7135+Method_input!$D$65*C7139+Method_input!$D$65*D7139+Method_input!$D$65*E7139+Method_input!$D$65*F7139","v":0},{"$f":"Method_input!$D$65*B7139+Method_input!$D$64*Input_series!AG7135+Method_input!$D$65*F7139","v":0}]
[7128,0,0,0,0,0,0,0,0,0,16,12,16,12,0,0,0,12,0,12,0,0,16,12,null,0,{"$f":"Method_input!$D$65*B7145+Method_input!$D$64*Input_series!AG7141+Method_input!$D$65*C7145+Method_input!$D$65*D7145+Method_input!$D$65*E7145+Method_input!$D$65*F7145","v":0},{"$f":"Method_input!$D$65*B7145+Method_input!$D$64*Input_series!AG7141+Method_input!$D$65*F7145","v":0}]
[7136,0,0,0,0,0,0,0,0,0,16,12,16,12,0,0,0,12,0,12,0,0,16,12,null,0,{"$f":"Method_input!$D$65*B7153+Method_input!$D$64*Input_series!AG7149+Method_input!$D$65*C7153+Method_input!$D$65*D7153+Method_input!$D$65*E7153+Method_input!$D$65*F7153","v":0},{"$f":"Method_input!$D$65*B7153+Method_input!$D$64*Input_series!AG7149+Method_input!$D$65*F7153","v":0}]
[7145,0,0,1.2259796000000001E-3,0,0,0,0,0,0,16,12,22.03448275862069,18.03448275862069,2.6793297757142856E-2,0.13775858659471429,1.1518631904630001,12,0,12,0.18928339999999999,0.96402220000000005,15.972163720213956,12.00090083302333,null,1.1533055999999999,{"$f":"Method_input!$D$65*B7162+Method_input!$D$64*Input_series!AG7158+Method_input!$D$65*C7162+Method_input!$D$65*D7162+Method_input!$D$65*E7162+Method_input!$D$65*F7162","v":1.2259796000000001E-3},{"$f":"Method_input!$D$65*B7162+Method_input!$D$64*Input_series!AG7158+Method_input!$D$65*F7162","v":0}]
[7153,0,0,0,0,0,0,0,0,0,15.559999999999999,12,15.559999999999999,12,0,0,0,12,0,12,0,0,15.559999999999999,12,null,0,{"$f":"Method_input!$D$65*B7170+Method_input!$D$64*Input_series!AG7166+Method_input!$D$65*C7170+Method_input!$D$65*D7170+Method_input!$D$65*E7170+Method_input!$D$65*F7170","v":0},{"$f":"Method_input!$D$65*B7170+Method_input!$D$64*Input_series!AG7166+Method_input!$D$65*F7170","v":0}]
[7162,0,0,1.2259796000000001E-3,0,0,0,0,0,0,16,12,22.03448275862069,18.03448275862069,0.57197359704285711,0.44915012945185717,7.1478660854629998,12,0,12,4.0050489999999996,3.1437629999999999,15.999070203117782,12.00027629399596,null,7.1488119999999995,{"$f":"Method_input!$D$65*B7179+Method_input!$D$64*Input_series!AG7175+Method_input!$D$65*C7179+Method_input!$D$65*D7179+Method_input!$D$65*E7179+Method_input!$D$65*F7179","v":1.2259796000000001E-3},{"$f":"Method_input!$D$65*B7179+Method_input!$D$64*Input_series!AG7175+Method_input!$D$65*F7179","v":0}]
[7167,5.6558363417569204,0,1.2259796000000001E-3,0,0.28279181708784601,0,0,0,0,15.559999999999999,12,21.594482758620689,18.03448275862069,0.77201929061428587,0.57379912945185718,9.4207289404630004,12,50,4,5.4059930000000005,4.0163060000000002,15.558962658972101,12.000216273391997,null,9.4222990000000006,{"$f":"Method_input!$D$65*B7184+Method_input!$D$64*Input_series!AG7180+Method_input!$D$65*C7184+Method_input!$D$65*D7184+Method_input!$D$65*E7184+Method_input!$D$65*F7184","v":5.9398541384447663},{"$f":"Method_input!$D$65*B7184+Method_input!$D$64*Input_series!AG7180+Method_input!$D$65*F7184","v":5.9386281588447662}]
[7179,0,0,0,0,0,0,0,0,0,16,12,16,12,0,0,0,12,0,12,0,0,16,12,null,0,{"$f":"Method_input!$D$65*B7196+Method_input!$D$64*Input_series!AG7192+Method_input!$D$65*C7196+Method_input!$D$65*D7196+Method_input!$D$65*E7196+Method_input!$D$65*F7196","v":0},{"$f":"Method_input!$D$65*B7196+Method_input!$D$64*Input_series!AG7192+Method_input!$D$65*F7196","v":0}]
[7181,0,0,0,0,0,0,0,0,0,16,12,16,12,0,0,0,12,0,12,0,0,16,12,null,0,{"$f":"Method_input!$D$65*B7198+Method_input!$D$64*Input_series!AG7194+Method_input!$D$65*C7198+Method_input!$D$65*D7198+Method_input!$D$65*E7198+Method_input!$D$65*F7198","v":0},{"$f":"Method_input!$D$65*B7198+Method_input!$D$64*Input_series!AG7194+Method_input!$D$65*F7198","v":0}]
[7188,0,0,1.2259796000000001E-3,0,0,0,0,0,0,16,12,22.03448275862069,18.03448275862069,0.58985795104285721,0.33554870088042854,6.4778465634630003,12,0,12,4.129867,2.3485529999999999,15.999370579976897,12.000369834494148,null,6.4784199999999998,{"$f":"Method_input!$D$65*B7205+Method_input!$D$64*Input_series!AG7201+Method_input!$D$65*C7205+Method_input!$D$65*D7205+Method_input!$D$65*E7205+Method_input!$D$65*F7205","v":1.2259796000000001E-3},{"$f":"Method_input!$D$65*B7205+Method_input!$D$64*Input_series!AG7201+Method_input!$D$65*F7205","v":0}]
[7195,0,0,6.5131659999999997E-4,0,0,0,0,0,0,15.959999999999999,12,21.994482758620688,12,0.46792487204285721,0,3.2754741043000002,12,0,12,3.2775470000000002,0,15.958090527819216,12,null,3.2775470000000002,{"$f":"Method_input!$D$65*B7212+Method_input!$D$64*Input_series!AG7208+Method_input!$D$65*C7212+Method_input!$D$65*D7212+Method_input!$D$65*E7212+Method_input!$D$65*F7212","v":6.5131659999999997E-4},{"$f":"Method_input!$D$65*B7212+Method_input!$D$64*Input_series!AG7208+Method_input!$D$65*F7212","v":0}]
[7205,0,0,0,0,0,0,0,0,0,16,12,16,12,0,0,0,12,0,12,0,0,16,12,null,0,{"$f":"Method_input!$D$65*B7222+Method_input!$D$64*Input_series!AG7218+Method_input!$D$65*C7222+Method_input!$D$65*D7222+Method_input!$D$65*E7222+Method_input!$D$65*F7222","v":0},{"$f":"Method_input!$D$65*B7222+Method_input!$D$64*Input_series!AG7218+Method_input!$D$65*F7222","v":0}]
[7214,0,0,1.2259796000000001E-3,0,0,0,0,0,0,16,12,22.03448275862069,18.03448275862069,0.23778294647142856,9.3555043737571425E-2,2.319365931463,12,0,12,1.6657310000000001,0.6545974,15.99773341772374,12.001326464924754,null,2.3203284000000002,{"$f":"Method_input!$D$65*B7231+Method_input!$D$64*Input_series!AG7227+Method_input!$D$65*C7231+Method_input!$D$65*D7231+Method_input!$D$65*E7231+Method_input!$D$65*F7231","v":1.2259796000000001E-3},{"$f":"Method_input!$D$65*B7231+Method_input!$D$64*Input_series!AG7227+Method_input!$D$65*F7231","v":0}]
[7218,0,0,0,0,0,0,0,0,0,16,12,16,12,0,0,0,12,0,12,0,0,16,12,null,0,{"$f":"Method_input!$D$65*B7235+Method_input!$D$64*Input_series!AG7231+Method_input!$D$65*C7235+Method_input!$D$65*D7235+Method_input!$D$65*E7235+Method_input!$D$65*F7235","v":0},{"$f":"Method_input!$D$65*B7235+Method_input!$D$64*Input_series!AG7231+Method_input!$D$65*F7235","v":0}]
[7231,0,0,0,0,0,0,0,0,0,16,12,16,12,0,0,0,12,0,12,0,0,16,12,null,0,{"$f":"Method_input!$D$65*B7248+Method_input!$D$64*Input_series!AG7244+Method_input!$D$65*C7248+Method_input!$D$65*D7248+Method_input!$D$65*E7248+Method_input!$D$65*F7248","v":0},{"$f":"Method_input!$D$65*B7248+Method_input!$D$64*Input_series!AG7244+Method_input!$D$65*F7248","v":0}]
[7239,0,0,0,0,0,0,0,0,0,16,12,16,12,0,0,0,12,0,12,0,0,16,12,null,0,{"$f":"Method_input!$D$65*B7256+Method_input!$D$64*Input_series!AG7252+Method_input!$D$65*C7256+Method_input!$D$65*D7256+Method_input!$D$65*E7256+Method_input!$D$65*F7256","v":0},{"$f":"Method_input!$D$65*B7256+Method_input!$D$64*Input_series!AG7252+Method_input!$D$65*F7256","v":0}]
[7240,0,0,0,0,0,0,0,0,0,16,12,16,12,0,0,0,12,0,12,0,0,16,12,null,0,{"$f":"Method_input!$D$65*B7257+Method_input!$D$64*Input_series!AG7253+Method_input!$D$65*C7257+Method_input!$D$65*D7257+Method_input!$D$65*E7257+Method_input!$D$65*F7257","v":0},{"$f":"Method_input!$D$65*B7257+Method_input!$D$64*Input_series!AG7253+Method_input!$D$65*F7257","v":0}]
[7249,0,0,0,0,0,0,0,0,0,16,12,16,12,0,0,0,12,0,12,0,0,16,12,null,0,{"$f":"Method_input!$D$65*B7266+Method_input!$D$64*Input_series!AG7262+Method_input!$D$65*C7266+Method_input!$D$65*D7266+Method_input!$D$65*E7266+Method_input!$D$65*F7266","v":0},{"$f":"Method_input!$D$65*B7266+Method_input!$D$64*Input_series!AG7262+Method_input!$D$65*F7266","v":0}]
[7257,0,0,0,0,0,0,0,0,0,16,12,16,12,0,0,0,12,0,12,0,0,16,12,null,0,{"$f":"Method_input!$D$65*B7274+Method_input!$D$64*Input_series!AG7270+Method_input!$D$65*C7274+Method_input!$D$65*D7274+Method_input!$D$65*E7274+Method_input!$D$65*F7274","v":0},{"$f":"Method_input!$D$65*B7274+Method_input!$D$64*Input_series!AG7270+Method_input!$D$65*F7274","v":0}]
[7263,0,0,0,0,0,0,0,0,0,16,12,16,12,0,0,0,12,0,12,0,0,16,12,null,0,{"$f":"Method_input!$D$65*B7280+Method_input!$D$64*Input_series!AG7276+Method_input!$D$65*C7280+Method_input!$D$65*D7280+Method_input!$D$65*E7280+Method_input!$D$65*F7280","v":0},{"$f":"Method_input!$D$65*B7280+Method_input!$D$64*Input_series!AG7276+Method_input!$D$65*F7280","v":0}]
[7274,0,0,0,0,0,0,0,0,0,16,12,16,12,0,0,0,12,0,12,0,0,16,12,null,0,{"$f":"Method_input!$D$65*B7291+Method_input!$D$64*Input_series!AG7287+Method_input!$D$65*C7291+Method_input!$D$65*D7291+Method_input!$D$65*E7291+Method_input!$D$65*F7291","v":0},{"$f":"Method_input!$D$65*B7291+Method_input!$D$64*Input_series!AG7287+Method_input!$D$65*F7291","v":0}]
[7284,0,0,1.2259796000000001E-3,0,0,0,0,0,0,16,12,22.03448275862069,18.03448275862069,0.26854480689999999,0.19047712945185713,3.2131535544630001,12,0,12,1.8812599999999999,1.3330519999999999,15.997678497439242,12.00065150857958,null,3.2143119999999996,{"$f":"Method_input!$D$65*B7301+Method_input!$D$64*Input_series!AG7297+Method_input!$D$65*C7301+Method_input!$D$65*D7301+Method_input!$D$65*E7301+Method_input!$D$65*F7301","v":1.2259796000000001E-3},{"$f":"Method_input!$D$65*B7301+Method_input!$D$64*Input_series!AG7297+Method_input!$D$65*F7301","v":0}]
[7291,0.20224527018184849,0,0,0,1.0112263509092424E-2,0,0,0,0,16,12,16,12,0,0,0,12,2.5464518109260013,4,0,0,16,12,null,0,{"$f":"Method_input!$D$65*B7308+Method_input!$D$64*Input_series!AG7304+Method_input!$D$65*C7308+Method_input!$D$65*D7308+Method_input!$D$65*E7308+Method_input!$D$65*F7308","v":0.2123575336909409},{"$f":"Method_input!$D$65*B7308+Method_input!$D$64*Input_series!AG7304+Method_input!$D$65*F7308","v":0.2123575336909409}]
[7298,0,0,0,0,0,0,0,0,0,16,12,16,12,0,0,0,12,0,12,0,0,16,12,null,0,{"$f":"Method_input!$D$65*B7315+Method_input!$D$64*Input_series!AG7311+Method_input!$D$65*C7315+Method_input!$D$65*D7315+Method_input!$D$65*E7315+Method_input!$D$65*F7315","v":0},{"$f":"Method_input!$D$65*B7315+Method_input!$D$64*Input_series!AG7311+Method_input!$D$65*F7315","v":0}]
[7300,0,0,0,0,0,0,0,0,0,16,12,16,12,0,0,0,12,0,12,0,0,16,12,null,0,{"$f":"Method_input!$D$65*B7317+Method_input!$D$64*Input_series!AG7313+Method_input!$D$65*C7317+Method_input!$D$65*D7317+Method_input!$D$65*E7317+Method_input!$D$65*F7317","v":0},{"$f":"Method_input!$D$65*B7317+Method_input!$D$64*Input_series!AG7313+Method_input!$D$65*F7317","v":0}]
[7308,0,0,0,0,0,0,0,0,0,16,12,16,12,0,0,0,12,0,12,0,0,16,12,null,0,{"$f":"Method_input!$D$65*B7325+Method_input!$D$64*Input_series!AG7321+Method_input!$D$65*C7325+Method_input!$D$65*D7325+Method_input!$D$65*E7325+Method_input!$D$65*F7325","v":0},{"$f":"Method_input!$D$65*B7325+Method_input!$D$64*Input_series!AG7321+Method_input!$D$65*F7325","v":0}]
[7317,0,0,0,0,0,0,0,0,0,16,12,16,12,0,0,0,12,0,12,0,0,16,12,null,0,{"$f":"Method_input!$D$65*B7334+Method_input!$D$64*Input_series!AG7330+Method_input!$D$65*C7334+Method_input!$D$65*D7334+Method_input!$D$65*E7334+Method_input!$D$65*F7334","v":0},{"$f":"Method_input!$D$65*B7334+Method_input!$D$64*Input_series!AG7330+Method_input!$D$65*F7334","v":0}]
[7329,0,0,0,0,0,0,0,0,0,16,12,16,12,0,0,0,12,0,12,0,0,16,12,null,0,{"$f":"Method_input!$D$65*B7346+Method_input!$D$64*Input_series!AG7342+Method_input!$D$65*C7346+Method_input!$D$65*D7346+Method_input!$D$65*E7346+Method_input!$D$65*F7346","v":0},{"$f":"Method_input!$D$65*B7346+Method_input!$D$64*Input_series!AG7342+Method_input!$D$65*F7346","v":0}]
[7334,0,0,1.2259796000000001E-3,0,0,0,0,0,0,16,12,22.03448275862069,18.03448275862069,0.35491349632857144,0.11942820088042858,3.3203918804630002,12,0,12,2.4856850000000001,0.83570949999999999,15.998432685475924,12.001039096989965,null,3.3213945000000002,{"$f":"Method_input!$D$65*B7351+Method_input!$D$64*Input_series!AG7347+Method_input!$D$65*C7351+Method_input!$D$65*D7351+Method_input!$D$65*E7351+Method_input!$D$65*F7351","v":1.2259796000000001E-3},{"$f":"Method_input!$D$65*B7351+Method_input!$D$64*Input_series!AG7347+Method_input!$D$65*F7351","v":0}]
[7343,0,0,0,0,0,0,0,0,0,16,12,16,12,0,0,0,12,0,12,0,0,16,12,null,0,{"$f":"Method_input!$D$65*B7360+Method_input!$D$64*Input_series!AG7356+Method_input!$D$65*C7360+Method_input!$D$65*D7360+Method_input!$D$65*E7360+Method_input!$D$65*F7360","v":0},{"$f":"Method_input!$D$65*B7360+Method_input!$D$64*Input_series!AG7356+Method_input!$D$65*F7360","v":0}]
[7352,0,0,0,0,0,0,0,0,0,16,12,16,12,0,0,0,12,0,12,0,0,16,12,null,0,{"$f":"Method_input!$D$65*B7369+Method_input!$D$64*Input_series!AG7365+Method_input!$D$65*C7369+Method_input!$D$65*D7369+Method_input!$D$65*E7369+Method_input!$D$65*F7369","v":0},{"$f":"Method_input!$D$65*B7369+Method_input!$D$64*Input_series!AG7365+Method_input!$D$65*F7369","v":0}]
[7360,0,0,1.2259796000000001E-3,0,0,0,0,0,0,16,12,22.03448275862069,18.03448275862069,0.12925486975714284,0.11595808659471428,1.7164906944629998,12,0,12,0.90721879999999999,0.81141869999999994,15.991880811142762,12.001070192581613,null,1.7186374999999998,{"$f":"Method_input!$D$65*B7377+Method_input!$D$64*Input_series!AG7373+Method_input!$D$65*C7377+Method_input!$D$65*D7377+Method_input!$D$65*E7377+Method_input!$D$65*F7377","v":1.2259796000000001E-3},{"$f":"Method_input!$D$65*B7377+Method_input!$D$64*Input_series!AG7373+Method_input!$D$65*F7377","v":0}]
[7366,0,0,0,0,0,0,0,0,0,16,12,16,12,0,0,0,12,0,12,0,0,16,12,null,0,{"$f":"Method_input!$D$65*B7383+Method_input!$D$64*Input_series!AG7379+Method_input!$D$65*C7383+Method_input!$D$65*D7383+Method_input!$D$65*E7383+Method_input!$D$65*F7383","v":0},{"$f":"Method_input!$D$65*B7383+Method_input!$D$64*Input_series!AG7379+Method_input!$D$65*F7383","v":0}]
[7369,0,0,0,0,0,0,0,0,0,16,12,16,12,0,0,0,12,0,12,0,0,16,12,null,0,{"$f":"Method_input!$D$65*B7386+Method_input!$D$64*Input_series!AG7382+Method_input!$D$65*C7386+Method_input!$D$65*D7386+Method_input!$D$65*E7386+Method_input!$D$65*F7386","v":0},{"$f":"Method_input!$D$65*B7386+Method_input!$D$64*Input_series!AG7382+Method_input!$D$65*F7386","v":0}]
[7380,0,0,1.2259796000000001E-3,0,0,0,0,0,0,16,12,22.03448275862069,18.03448275862069,0.14905648232857141,0.14431941516614288,2.0536312824629999,12,0,12,1.0446169999999999,1.0099480000000001,15.996467366387364,12.0008598807299,null,2.0545650000000002,{"$f":"Method_input!$D$65*B7397+Method_input!$D$64*Input_series!AG7393+Method_input!$D$65*C7397+Method_input!$D$65*D7397+Method_input!$D$65*E7397+Method_input!$D$65*F7397","v":1.2259796000000001E-3},{"$f":"Method_input!$D$65*B7397+Method_input!$D$64*Input_series!AG7393+Method_input!$D$65*F7397","v":0}]
[7386,0,0,0,0,0,0,0,0,0,16,12,16,12,0,0,0,12,0,12,0,0,16,12,null,0,{"$f":"Method_input!$D$65*B7403+Method_input!$D$64*Input_series!AG7399+Method_input!$D$65*C7403+Method_input!$D$65*D7403+Method_input!$D$65*E7403+Method_input!$D$65*F7403","v":0},{"$f":"Method_input!$D$65*B7403+Method_input!$D$64*Input_series!AG7399+Method_input!$D$65*F7403","v":0}]
[7394,0,0,0,0,0,0,0,0,0,16,12,16,12,0,0,0,12,0,12,0,0,16,12,null,0,{"$f":"Method_input!$D$65*B7411+Method_input!$D$64*Input_series!AG7407+Method_input!$D$65*C7411+Method_input!$D$65*D7411+Method_input!$D$65*E7411+Method_input!$D$65*F7411","v":0},{"$f":"Method_input!$D$65*B7411+Method_input!$D$64*Input_series!AG7407+Method_input!$D$65*F7411","v":0}]
[7403,0,0,0,0,0,0,0,0,0,16,12,16,12,0,0,0,12,0,12,0,0,16,12,null,0,{"$f":"Method_input!$D$65*B7420+Method_input!$D$64*Input_series!AG7416+Method_input!$D$65*C7420+Method_input!$D$65*D7420+Method_input!$D$65*E7420+Method_input!$D$65*F7420","v":0},{"$f":"Method_input!$D$65*B7420+Method_input!$D$64*Input_series!AG7416+Method_input!$D$65*F7420","v":0}]
[7411,0,0,0,0,0,0,0,0,0,16,12,16,12,0,0,0,12,0,12,0,0,16,12,null,0,{"$f":"Method_input!$D$65*B7428+Method_input!$D$64*Input_series!AG7424+Method_input!$D$65*C7428+Method_input!$D$65*D7428+Method_input!$D$65*E7428+Method_input!$D$65*F7428","v":0},{"$f":"Method_input!$D$65*B7428+Method_input!$D$64*Input_series!AG7424+Method_input!$D$65*F7428","v":0}]
[7420,0,0,0,0,0,0,0,0,0,16,12,16,12,0,0,0,12,0,12,0,0,16,12,null,0,{"$f":"Method_input!$D$65*B7437+Method_input!$D$64*Input_series!AG7433+Method_input!$D$65*C7437+Method_input!$D$65*D7437+Method_input!$D$65*E7437+Method_input!$D$65*F7437","v":0},{"$f":"Method_input!$D$65*B7437+Method_input!$D$64*Input_series!AG7433+Method_input!$D$65*F7437","v":0}]
[7425,0,0,0,0,0,0,0,0,0,16,12,16,12,0,0,0,12,0,12,0,0,16,12,null,{"$f":"SUM(G7442:J7442,U7442:V7442)","v":0},{"$f":"Method_input!$D$65*B7442+Method_input!$D$64*Input_series!AG7438+Method_input!$D$65*C7442+Method_input!$D$65*D7442+Method_input!$D$65*E7442+Method_input!$D$65*F7442","v":0},{"$f":"Method_input!$D$65*B7442+Method_input!$D$64*Input_series!AG7438+Method_input!$D$65*F7442","v":0}]
[7429,0,0,0,0,0,0,0,0,0,16,12,16,12,0,0,0,12,0,12,0,0,16,12,null,0,{"$f":"Method_input!$D$65*B7446+Method_input!$D$64*Input_series!AG7442+Method_input!$D$65*C7446+Method_input!$D$65*D7446+Method_input!$D$65*E7446+Method_input!$D$65*F7446","v":0},{"$f":"Method_input!$D$65*B7446+Method_input!$D$64*Input_series!AG7442+Method_input!$D$65*F7446","v":0}]
[7439,0,0,0,0,0,0,0,0,0,16,12,16,12,0,0,0,12,0,12,0,0,16,12,null,0,{"$f":"Method_input!$D$65*B7456+Method_input!$D$64*Input_series!AG7452+Method_input!$D$65*C7456+Method_input!$D$65*D7456+Method_input!$D$65*E7456+Method_input!$D$65*F7456","v":0},{"$f":"Method_input!$D$65*B7456+Method_input!$D$64*Input_series!AG7452+Method_input!$D$65*F7456","v":0}]
[7446,0,0,0,0,0,0,0,0,0,16,12,16,12,0,0,0,12,0,12,0,0,16,12,null,0,{"$f":"Method_input!$D$65*B7463+Method_input!$D$64*Input_series!AG7459+Method_input!$D$65*C7463+Method_input!$D$65*D7463+Method_input!$D$65*E7463+Method_input!$D$65*F7463","v":0},{"$f":"Method_input!$D$65*B7463+Method_input!$D$64*Input_series!AG7459+Method_input!$D$65*F7463","v":0}]
[7453,0,0,1.2259796000000001E-3,0,0,0,0,0,0,16,12,22.03448275862069,18.03448275862069,0.16647424875714287,8.325972945185714E-2,1.748137847463,12,0,12,1.1666320000000001,0.5825302,15.996602304835596,12.001490486275523,null,1.7491622000000002,{"$f":"Method_input!$D$65*B7470+Method_input!$D$64*Input_series!AG7466+Method_input!$D$65*C7470+Method_input!$D$65*D7470+Method_input!$D$65*E7470+Method_input!$D$65*F7470","v":1.2259796000000001E-3},{"$f":"Method_input!$D$65*B7470+Method_input!$D$64*Input_series!AG7466+Method_input!$D$65*F7470","v":0}]
[7463,0,0,0,0,0,0,0,0,0,16,12,16,12,0,0,0,12,0,12,0,0,16,12,null,0,{"$f":"Method_input!$D$65*B7480+Method_input!$D$64*Input_series!AG7476+Method_input!$D$65*C7480+Method_input!$D$65*D7480+Method_input!$D$65*E7480+Method_input!$D$65*F7480","v":0},{"$f":"Method_input!$D$65*B7480+Method_input!$D$64*Input_series!AG7476+Method_input!$D$65*F7480","v":0}]
[7470,0,0,0,0,0,0,0,0,0,16,12,16,12,0,0,0,12,0,12,0,0,16,12,null,0,{"$f":"Method_input!$D$65*B7487+Method_input!$D$64*Input_series!AG7483+Method_input!$D$65*C7487+Method_input!$D$65*D7487+Method_input!$D$65*E7487+Method_input!$D$65*F7487","v":0},{"$f":"Method_input!$D$65*B7487+Method_input!$D$64*Input_series!AG7483+Method_input!$D$65*F7487","v":0}]
[7480,0,0,6.5131659999999997E-4,0,0,0,0,0,0,16,12,22.03448275862069,12,1.2891062328571429E-2,0,9.0237436300000001E-2,12,0,12,9.2469629999999997E-2,0,15.925362826400733,12,null,9.2469629999999997E-2,{"$f":"Method_input!$D$65*B7497+Method_input!$D$64*Input_series!AG7493+Method_input!$D$65*C7497+Method_input!$D$65*D7497+Method_input!$D$65*E7497+Method_input!$D$65*F7497","v":6.5131659999999997E-4},{"$f":"Method_input!$D$65*B7497+Method_input!$D$64*Input_series!AG7493+Method_input!$D$65*F7497","v":0}]
[7481,0,0,5.74663E-4,0,0,0,0,0,0,16,12,16,18.03448275862069,0,4.9207372308999998E-2,0.34445160616300002,12,0,12,0,0.34416370000000002,16,12.002521928691344,null,0.34416370000000002,{"$f":"Method_input!$D$65*B7498+Method_input!$D$64*Input_series!AG7494+Method_input!$D$65*C7498+Method_input!$D$65*D7498+Method_input!$D$65*E7498+Method_input!$D$65*F7498","v":5.74663E-4},{"$f":"Method_input!$D$65*B7498+Method_input!$D$64*Input_series!AG7494+Method_input!$D$65*F7498","v":0}]
[7490,0,0,0,0,0,0,0,0,0,16,12,16,12,0,0,0,12,0,12,0,0,16,12,null,0,{"$f":"Method_input!$D$65*B7507+Method_input!$D$64*Input_series!AG7503+Method_input!$D$65*C7507+Method_input!$D$65*D7507+Method_input!$D$65*E7507+Method_input!$D$65*F7507","v":0},{"$f":"Method_input!$D$65*B7507+Method_input!$D$64*Input_series!AG7503+Method_input!$D$65*F7507","v":0}]
[7498,0,0,0,0,0,0,0,0,0,16,12,16,12,0,0,0,12,0,12,0,0,16,12,null,0,{"$f":"Method_input!$D$65*B7515+Method_input!$D$64*Input_series!AG7511+Method_input!$D$65*C7515+Method_input!$D$65*D7515+Method_input!$D$65*E7515+Method_input!$D$65*F7515","v":0},{"$f":"Method_input!$D$65*B7515+Method_input!$D$64*Input_series!AG7511+Method_input!$D$65*F7515","v":0}]
[7507,0,0,0,0,0,0,0,0,0,16,12,16,12,0,0,0,12,0,12,0,0,16,12,null,0,{"$f":"Method_input!$D$65*B7524+Method_input!$D$64*Input_series!AG7520+Method_input!$D$65*C7524+Method_input!$D$65*D7524+Method_input!$D$65*E7524+Method_input!$D$65*F7524","v":0},{"$f":"Method_input!$D$65*B7524+Method_input!$D$64*Input_series!AG7520+Method_input!$D$65*F7524","v":0}]
[7515,0,0,0,0,0,0,0,0,0,16,12,16,12,0,0,0,12,0,12,0,0,16,12,null,0,{"$f":"Method_input!$D$65*B7532+Method_input!$D$64*Input_series!AG7528+Method_input!$D$65*C7532+Method_input!$D$65*D7532+Method_input!$D$65*E7532+Method_input!$D$65*F7532","v":0},{"$f":"Method_input!$D$65*B7532+Method_input!$D$64*Input_series!AG7528+Method_input!$D$65*F7532","v":0}]
[7521,0,0,0,0,0,0,0,0,0,16,12,16,12,0,0,0,12,0,12,0,0,16,12,null,0,{"$f":"Method_input!$D$65*B7538+Method_input!$D$64*Input_series!AG7534+Method_input!$D$65*C7538+Method_input!$D$65*D7538+Method_input!$D$65*E7538+Method_input!$D$65*F7538","v":0},{"$f":"Method_input!$D$65*B7538+Method_input!$D$64*Input_series!AG7534+Method_input!$D$65*F7538","v":0}]
[7532,0,0,0,0,0,0,0,0,0,16,12,16,12,0,0,0,12,0,12,0,0,16,12,null,0,{"$f":"Method_input!$D$65*B7549+Method_input!$D$64*Input_series!AG7545+Method_input!$D$65*C7549+Method_input!$D$65*D7549+Method_input!$D$65*E7549+Method_input!$D$65*F7549","v":0},{"$f":"Method_input!$D$65*B7549+Method_input!$D$64*Input_series!AG7545+Method_input!$D$65*F7549","v":0}]
[7535,0,0,0,0,0,0,0,0,0,16,12,16,12,0,0,0,12,0,12,0,0,16,12,null,0,{"$f":"Method_input!$D$65*B7552+Method_input!$D$64*Input_series!AG7548+Method_input!$D$65*C7552+Method_input!$D$65*D7552+Method_input!$D$65*E7552+Method_input!$D$65*F7552","v":0},{"$f":"Method_input!$D$65*B7552+Method_input!$D$64*Input_series!AG7548+Method_input!$D$65*F7552","v":0}]
[7541,0,0,0,0,0,0,0,0,0,16,12,16,12,0,0,0,12,0,12,0,0,16,12,null,0,{"$f":"Method_input!$D$65*B7558+Method_input!$D$64*Input_series!AG7554+Method_input!$D$65*C7558+Method_input!$D$65*D7558+Method_input!$D$65*E7558+Method_input!$D$65*F7558","v":0},{"$f":"Method_input!$D$65*B7558+Method_input!$D$64*Input_series!AG7554+Method_input!$D$65*F7558","v":0}]
[7549,0,0,5.74663E-4,0,0,0,0,0,0,16,12,16,18.03448275862069,0,1.5119386594714287E-2,0.105835706163,12,0,12,0,0.1055478,16,12.008207838543868,null,0.1055478,{"$f":"Method_input!$D$65*B7566+Method_input!$D$64*Input_series!AG7562+Method_input!$D$65*C7566+Method_input!$D$65*D7566+Method_input!$D$65*E7566+Method_input!$D$65*F7566","v":5.74663E-4},{"$f":"Method_input!$D$65*B7566+Method_input!$D$64*Input_series!AG7562+Method_input!$D$65*F7566","v":0}]
[7558,0,0,0,0,0,0,0,0,0,16,12,16,12,0,0,0,12,0,12,0,0,16,12,null,0,{"$f":"Method_input!$D$65*B7575+Method_input!$D$64*Input_series!AG7571+Method_input!$D$65*C7575+Method_input!$D$65*D7575+Method_input!$D$65*E7575+Method_input!$D$65*F7575","v":0},{"$f":"Method_input!$D$65*B7575+Method_input!$D$64*Input_series!AG7571+Method_input!$D$65*F7575","v":0}]
[7566,0,0,0,0,0,0,0,0,0,16,12,16,12,0,0,0,12,0,12,0,0,16,12,null,0,{"$f":"Method_input!$D$65*B7583+Method_input!$D$64*Input_series!AG7579+Method_input!$D$65*C7583+Method_input!$D$65*D7583+Method_input!$D$65*E7583+Method_input!$D$65*F7583","v":0},{"$f":"Method_input!$D$65*B7583+Method_input!$D$64*Input_series!AG7579+Method_input!$D$65*F7583","v":0}]
[7575,0,0,0,0,0,0,0,0,0,16,12,16,12,0,0,0,12,0,12,0,0,16,12,null,0,{"$f":"Method_input!$D$65*B7592+Method_input!$D$64*Input_series!AG7588+Method_input!$D$65*C7592+Method_input!$D$65*D7592+Method_input!$D$65*E7592+Method_input!$D$65*F7592","v":0},{"$f":"Method_input!$D$65*B7592+Method_input!$D$64*Input_series!AG7588+Method_input!$D$65*F7592","v":0}]
[7580,0,0,0,0,0,0,0,0,0,16,12,16,12,0,0,0,12,0,12,0,0,16,12,null,0,{"$f":"Method_input!$D$65*B7597+Method_input!$D$64*Input_series!AG7593+Method_input!$D$65*C7597+Method_input!$D$65*D7597+Method_input!$D$65*E7597+Method_input!$D$65*F7597","v":0},{"$f":"Method_input!$D$65*B7597+Method_input!$D$64*Input_series!AG7593+Method_input!$D$65*F7597","v":0}]
[7592,0,0,0,0,0,0,0,0,0,16,12,16,12,0,0,0,12,0,12,0,0,16,12,null,0,{"$f":"Method_input!$D$65*B7609+Method_input!$D$64*Input_series!AG7605+Method_input!$D$65*C7609+Method_input!$D$65*D7609+Method_input!$D$65*E7609+Method_input!$D$65*F7609","v":0},{"$f":"Method_input!$D$65*B7609+Method_input!$D$64*Input_series!AG7605+Method_input!$D$65*F7609","v":0}]
[7594,0,0,0,0,0,0,0,0,0,16,12,16,12,0,0,0,12,0,12,0,0,16,12,null,0,{"$f":"Method_input!$D$65*B7611+Method_input!$D$64*Input_series!AG7607+Method_input!$D$65*C7611+Method_input!$D$65*D7611+Method_input!$D$65*E7611+Method_input!$D$65*F7611","v":0},{"$f":"Method_input!$D$65*B7611+Method_input!$D$64*Input_series!AG7607+Method_input!$D$65*F7611","v":0}]
[7601,0,0,0,0,0,0,0,0,0,16,12,16,12,0,0,0,12,0,12,0,0,16,12,null,0,{"$f":"Method_input!$D$65*B7618+Method_input!$D$64*Input_series!AG7614+Method_input!$D$65*C7618+Method_input!$D$65*D7618+Method_input!$D$65*E7618+Method_input!$D$65*F7618","v":0},{"$f":"Method_input!$D$65*B7618+Method_input!$D$64*Input_series!AG7614+Method_input!$D$65*F7618","v":0}]
[7610,0,0,0,0,0,0,0,0,0,16,12,16,12,0,0,0,12,0,12,0,0,16,12,null,0,{"$f":"Method_input!$D$65*B7627+Method_input!$D$64*Input_series!AG7623+Method_input!$D$65*C7627+Method_input!$D$65*D7627+Method_input!$D$65*E7627+Method_input!$D$65*F7627","v":0},{"$f":"Method_input!$D$65*B7627+Method_input!$D$64*Input_series!AG7623+Method_input!$D$65*F7627","v":0}]
[7617,0,0,0,0,0,0,0,0,0,16,12,16,12,0,0,0,12,0,12,0,0,16,12,null,{"$f":"SUM(G7634:J7634,U7634:V7634)","v":0},{"$f":"Method_input!$D$65*B7634+Method_input!$D$64*Input_series!AG7630+Method_input!$D$65*C7634+Method_input!$D$65*D7634+Method_input!$D$65*E7634+Method_input!$D$65*F7634","v":0},{"$f":"Method_input!$D$65*B7634+Method_input!$D$64*Input_series!AG7630+Method_input!$D$65*F7634","v":0}]
[7627,0,0,0,0,0,0,0,0,0,16,12,16,12,0,0,0,12,0,12,0,0,16,12,null,0,{"$f":"Method_input!$D$65*B7644+Method_input!$D$64*Input_series!AG7640+Method_input!$D$65*C7644+Method_input!$D$65*D7644+Method_input!$D$65*E7644+Method_input!$D$65*F7644","v":0},{"$f":"Method_input!$D$65*B7644+Method_input!$D$64*Input_series!AG7640+Method_input!$D$65*F7644","v":0}]
[7638,0,0,0,0,0,0,0,0,0,16,12,16,12,0,0,0,12,0,12,0,0,16,12,null,0,{"$f":"Method_input!$D$65*B7655+Method_input!$D$64*Input_series!AG7651+Method_input!$D$65*C7655+Method_input!$D$65*D7655+Method_input!$D$65*E7655+Method_input!$D$65*F7655","v":0},{"$f":"Method_input!$D$65*B7655+Method_input!$D$64*Input_series!AG7651+Method_input!$D$65*F7655","v":0}]
[7644,0,0,0,0,0,0,0,0,0,16,12,16,12,0,0,0,12,0,12,0,0,16,12,null,0,{"$f":"Method_input!$D$65*B7661+Method_input!$D$64*Input_series!AG7657+Method_input!$D$65*C7661+Method_input!$D$65*D7661+Method_input!$D$65*E7661+Method_input!$D$65*F7661","v":0},{"$f":"Method_input!$D$65*B7661+Method_input!$D$64*Input_series!AG7657+Method_input!$D$65*F7661","v":0}]
[7652,0,0,0,0,0,0,0,0,0,16,12,16,12,0,0,0,12,0,12,0,0,16,12,null,0,{"$f":"Method_input!$D$65*B7669+Method_input!$D$64*Input_series!AG7665+Method_input!$D$65*C7669+Method_input!$D$65*D7669+Method_input!$D$65*E7669+Method_input!$D$65*F7669","v":0},{"$f":"Method_input!$D$65*B7669+Method_input!$D$64*Input_series!AG7665+Method_input!$D$65*F7669","v":0}]
[7661,0,0,0,0,0,0,0,0,0,16,12,16,12,0,0,0,12,0,12,0,0,16,12,null,0,{"$f":"Method_input!$D$65*B7678+Method_input!$D$64*Input_series!AG7674+Method_input!$D$65*C7678+Method_input!$D$65*D7678+Method_input!$D$65*E7678+Method_input!$D$65*F7678","v":0},{"$f":"Method_input!$D$65*B7678+Method_input!$D$64*Input_series!AG7674+Method_input!$D$65*F7678","v":0}]
[7662,0,0,0,0,0,0,0,0,0,16,12,16,12,0,0,0,12,0,12,0,0,16,12,null,0,{"$f":"Method_input!$D$65*B7679+Method_input!$D$64*Input_series!AG7675+Method_input!$D$65*C7679+Method_input!$D$65*D7679+Method_input!$D$65*E7679+Method_input!$D$65*F7679","v":0},{"$f":"Method_input!$D$65*B7679+Method_input!$D$64*Input_series!AG7675+Method_input!$D$65*F7679","v":0}]
[7670,0,0,0,0,0,0,0,0,0,16,12,16,12,0,0,0,12,0,12,0,0,16,12,null,0,{"$f":"Method_input!$D$65*B7687+Method_input!$D$64*Input_series!AG7683+Method_input!$D$65*C7687+Method_input!$D$65*D7687+Method_input!$D$65*E7687+Method_input!$D$65*F7687","v":0},{"$f":"Method_input!$D$65*B7687+Method_input!$D$64*Input_series!AG7683+Method_input!$D$65*F7687","v":0}]
[7683,0,0,0,0,0,0,0,0,0,16,12,16,12,0,0,0,12,0,12,0,0,16,12,null,0,{"$f":"Method_input!$D$65*B7700+Method_input!$D$64*Input_series!AG7696+Method_input!$D$65*C7700+Method_input!$D$65*D7700+Method_input!$D$65*E7700+Method_input!$D$65*F7700","v":0},{"$f":"Method_input!$D$65*B7700+Method_input!$D$64*Input_series!AG7696+Method_input!$D$65*F7700","v":0}]
[7687,0,0,0,0,0,0,0,0,0,16,12,16,12,0,0,0,12,0,12,0,0,16,12,null,0,{"$f":"Method_input!$D$65*B7704+Method_input!$D$64*Input_series!AG7700+Method_input!$D$65*C7704+Method_input!$D$65*D7704+Method_input!$D$65*E7704+Method_input!$D$65*F7704","v":0},{"$f":"Method_input!$D$65*B7704+Method_input!$D$64*Input_series!AG7700+Method_input!$D$65*F7704","v":0}]
[7697,0,0,0,0,0,0,0,0,0,16,12,16,12,0,0,0,12,0,12,0,0,16,12,null,0,{"$f":"Method_input!$D$65*B7714+Method_input!$D$64*Input_series!AG7710+Method_input!$D$65*C7714+Method_input!$D$65*D7714+Method_input!$D$65*E7714+Method_input!$D$65*F7714","v":0},{"$f":"Method_input!$D$65*B7714+Method_input!$D$64*Input_series!AG7710+Method_input!$D$65*F7714","v":0}]
[7704,0,0,0,0,0,0,0,0,0,16,12,16,12,0,0,0,12,0,12,0,0,16,12,null,0,{"$f":"Method_input!$D$65*B7721+Method_input!$D$64*Input_series!AG7717+Method_input!$D$65*C7721+Method_input!$D$65*D7721+Method_input!$D$65*E7721+Method_input!$D$65*F7721","v":0},{"$f":"Method_input!$D$65*B7721+Method_input!$D$64*Input_series!AG7717+Method_input!$D$65*F7721","v":0}]
[7711,0,0,0,0,0,0,0,0,0,16,12,16,12,0,0,0,12,0,12,0,0,16,12,null,0,{"$f":"Method_input!$D$65*B7728+Method_input!$D$64*Input_series!AG7724+Method_input!$D$65*C7728+Method_input!$D$65*D7728+Method_input!$D$65*E7728+Method_input!$D$65*F7728","v":0},{"$f":"Method_input!$D$65*B7728+Method_input!$D$64*Input_series!AG7724+Method_input!$D$65*F7728","v":0}]
[7721,0,0,0,0,0,0,0,0,0,16,12,16,12,0,0,0,12,0,12,0,0,16,12,null,0,{"$f":"Method_input!$D$65*B7738+Method_input!$D$64*Input_series!AG7734+Method_input!$D$65*C7738+Method_input!$D$65*D7738+Method_input!$D$65*E7738+Method_input!$D$65*F7738","v":0},{"$f":"Method_input!$D$65*B7738+Method_input!$D$64*Input_series!AG7734+Method_input!$D$65*F7738","v":0}]
[7728,0,0,0,0,0,0,0,0,0,16,12,16,12,0,0,0,12,0,12,0,0,16,12,null,0,{"$f":"Method_input!$D$65*B7745+Method_input!$D$64*Input_series!AG7741+Method_input!$D$65*C7745+Method_input!$D$65*D7745+Method_input!$D$65*E7745+Method_input!$D$65*F7745","v":0},{"$f":"Method_input!$D$65*B7745+Method_input!$D$64*Input_series!AG7741+Method_input!$D$65*F7745","v":0}]
[7730,0,0,0,0,0,0,0,0,0,16,12,16,12,0,0,0,12,0,12,0,0,16,12,null,0,{"$f":"Method_input!$D$65*B7747+Method_input!$D$64*Input_series!AG7743+Method_input!$D$65*C7747+Method_input!$D$65*D7747+Method_input!$D$65*E7747+Method_input!$D$65*F7747","v":0},{"$f":"Method_input!$D$65*B7747+Method_input!$D$64*Input_series!AG7743+Method_input!$D$65*F7747","v":0}]
[7739,0,0,0,0,0,0,0,0,0,16,12,16,12,0,0,0,12,0,12,0,0,16,12,null,0,{"$f":"Method_input!$D$65*B7756+Method_input!$D$64*Input_series!AG7752+Method_input!$D$65*C7756+Method_input!$D$65*D7756+Method_input!$D$65*E7756+Method_input!$D$65*F7756","v":0},{"$f":"Method_input!$D$65*B7756+Method_input!$D$64*Input_series!AG7752+Method_input!$D$65*F7756","v":0}]
[7748,0,0,0,0,0,0,0,0,0,16,12,16,12,0,0,0,12,0,12,0,0,16,12,null,0,{"$f":"Method_input!$D$65*B7765+Method_input!$D$64*Input_series!AG7761+Method_input!$D$65*C7765+Method_input!$D$65*D7765+Method_input!$D$65*E7765+Method_input!$D$65*F7765","v":0},{"$f":"Method_input!$D$65*B7765+Method_input!$D$64*Input_series!AG7761+Method_input!$D$65*F7765","v":0}]
[7756,0,0,0,0,0,0,0,0,0,16,12,16,12,0,0,0,12,0,12,0,0,16,12,null,0,{"$f":"Method_input!$D$65*B7773+Method_input!$D$64*Input_series!AG7769+Method_input!$D$65*C7773+Method_input!$D$65*D7773+Method_input!$D$65*E7773+Method_input!$D$65*F7773","v":0},{"$f":"Method_input!$D$65*B7773+Method_input!$D$64*Input_series!AG7769+Method_input!$D$65*F7773","v":0}]
[7765,0,0,0,0,0,0,0,0,0,16,12,16,12,0,0,0,12,0,12,0,0,16,12,null,0,{"$f":"Method_input!$D$65*B7782+Method_input!$D$64*Input_series!AG7778+Method_input!$D$65*C7782+Method_input!$D$65*D7782+Method_input!$D$65*E7782+Method_input!$D$65*F7782","v":0},{"$f":"Method_input!$D$65*B7782+Method_input!$D$64*Input_series!AG7778+Method_input!$D$65*F7782","v":0}]
[7773,0,0,0,0,0,0,0,0,0,16,12,16,12,0,0,0,12,0,12,0,0,16,12,null,0,{"$f":"Method_input!$D$65*B7790+Method_input!$D$64*Input_series!AG7786+Method_input!$D$65*C7790+Method_input!$D$65*D7790+Method_input!$D$65*E7790+Method_input!$D$65*F7790","v":0},{"$f":"Method_input!$D$65*B7790+Method_input!$D$64*Input_series!AG7786+Method_input!$D$65*F7790","v":0}]
[7779,0,0,0,0,0,0,0,0,0,16,12,16,12,0,0,0,12,0,12,0,0,16,12,null,0,{"$f":"Method_input!$D$65*B7796+Method_input!$D$64*Input_series!AG7792+Method_input!$D$65*C7796+Method_input!$D$65*D7796+Method_input!$D$65*E7796+Method_input!$D$65*F7796","v":0},{"$f":"Method_input!$D$65*B7796+Method_input!$D$64*Input_series!AG7792+Method_input!$D$65*F7796","v":0}]
[7782,0,0,0,0,0,0,0,0,0,16,12,16,12,0,0,0,12,0,12,0,0,16,12,null,0,{"$f":"Method_input!$D$65*B7799+Method_input!$D$64*Input_series!AG7795+Method_input!$D$65*C7799+Method_input!$D$65*D7799+Method_input!$D$65*E7799+Method_input!$D$65*F7799","v":0},{"$f":"Method_input!$D$65*B7799+Method_input!$D$64*Input_series!AG7795+Method_input!$D$65*F7799","v":0}]
[7793,0,0,0,0,0,0,0,0,0,16,12,16,12,0,0,0,12,0,12,0,0,16,12,null,0,{"$f":"Method_input!$D$65*B7810+Method_input!$D$64*Input_series!AG7806+Method_input!$D$65*C7810+Method_input!$D$65*D7810+Method_input!$D$65*E7810+Method_input!$D$65*F7810","v":0},{"$f":"Method_input!$D$65*B7810+Method_input!$D$64*Input_series!AG7806+Method_input!$D$65*F7810","v":0}]
[7799,0,0,0,0,0,0,0,0,0,16,12,16,12,0,0,0,12,0,12,0,0,16,12,null,0,{"$f":"Method_input!$D$65*B7816+Method_input!$D$64*Input_series!AG7812+Method_input!$D$65*C7816+Method_input!$D$65*D7816+Method_input!$D$65*E7816+Method_input!$D$65*F7816","v":0},{"$f":"Method_input!$D$65*B7816+Method_input!$D$64*Input_series!AG7812+Method_input!$D$65*F7816","v":0}]
[7807,0,0,0,0,0,0,0,0,0,16,12,16,12,0,0,0,12,0,12,0,0,16,12,null,0,{"$f":"Method_input!$D$65*B7824+Method_input!$D$64*Input_series!AG7820+Method_input!$D$65*C7824+Method_input!$D$65*D7824+Method_input!$D$65*E7824+Method_input!$D$65*F7824","v":0},{"$f":"Method_input!$D$65*B7824+Method_input!$D$64*Input_series!AG7820+Method_input!$D$65*F7824","v":0}]
[7816,0,0,0,0,0,0,0,0,0,16,12,16,12,0,0,0,12,0,12,0,0,16,12,null,0,{"$f":"Method_input!$D$65*B7833+Method_input!$D$64*Input_series!AG7829+Method_input!$D$65*C7833+Method_input!$D$65*D7833+Method_input!$D$65*E7833+Method_input!$D$65*F7833","v":0},{"$f":"Method_input!$D$65*B7833+Method_input!$D$64*Input_series!AG7829+Method_input!$D$65*F7833","v":0}]
[7824,0,0,0,0,0,0,0,0,0,16,12,16,12,0,0,0,12,0,12,0,0,16,12,null,0,{"$f":"Method_input!$D$65*B7841+Method_input!$D$64*Input_series!AG7837+Method_input!$D$65*C7841+Method_input!$D$65*D7841+Method_input!$D$65*E7841+Method_input!$D$65*F7841","v":0},{"$f":"Method_input!$D$65*B7841+Method_input!$D$64*Input_series!AG7837+Method_input!$D$65*F7841","v":0}]
[7833,0,0,0,0,0,0,0,0,0,16,12,16,12,0,0,0,12,0,12,0,0,16,12,null,0,{"$f":"Method_input!$D$65*B7850+Method_input!$D$64*Input_series!AG7846+Method_input!$D$65*C7850+Method_input!$D$65*D7850+Method_input!$D$65*E7850+Method_input!$D$65*F7850","v":0},{"$f":"Method_input!$D$65*B7850+Method_input!$D$64*Input_series!AG7846+Method_input!$D$65*F7850","v":0}]
[7838,0,0,0,0,0,0,0,0,0,16,12,16,12,0,0,0,12,0,12,0,0,16,12,null,0,{"$f":"Method_input!$D$65*B7855+Method_input!$D$64*Input_series!AG7851+Method_input!$D$65*C7855+Method_input!$D$65*D7855+Method_input!$D$65*E7855+Method_input!$D$65*F7855","v":0},{"$f":"Method_input!$D$65*B7855+Method_input!$D$64*Input_series!AG7851+Method_input!$D$65*F7855","v":0}]
[7842,0,0,0,0,0,0,0,0,0,16,12,16,12,0,0,0,12,0,12,0,0,16,12,null,0,{"$f":"Method_input!$D$65*B7859+Method_input!$D$64*Input_series!AG7855+Method_input!$D$65*C7859+Method_input!$D$65*D7859+Method_input!$D$65*E7859+Method_input!$D$65*F7859","v":0},{"$f":"Method_input!$D$65*B7859+Method_input!$D$64*Input_series!AG7855+Method_input!$D$65*F7859","v":0}]
[7852,0,0,0,0,0,0,0,0,0,16,12,16,12,0,0,0,12,0,12,0,0,16,12,null,0,{"$f":"Method_input!$D$65*B7869+Method_input!$D$64*Input_series!AG7865+Method_input!$D$65*C7869+Method_input!$D$65*D7869+Method_input!$D$65*E7869+Method_input!$D$65*F7869","v":0},{"$f":"Method_input!$D$65*B7869+Method_input!$D$64*Input_series!AG7865+Method_input!$D$65*F7869","v":0}]
[7859,0,0,0,0,0,0,0,0,0,16,12,16,12,0,0,0,12,0,12,0,0,16,12,null,0,{"$f":"Method_input!$D$65*B7876+Method_input!$D$64*Input_series!AG7872+Method_input!$D$65*C7876+Method_input!$D$65*D7876+Method_input!$D$65*E7876+Method_input!$D$65*F7876","v":0},{"$f":"Method_input!$D$65*B7876+Method_input!$D$64*Input_series!AG7872+Method_input!$D$65*F7876","v":0}]
[7868,0,0,0,0,0,0,0,0,0,16,12,16,12,0,0,0,12,0,12,0,0,16,12,null,0,{"$f":"Method_input!$D$65*B7885+Method_input!$D$64*Input_series!AG7881+Method_input!$D$65*C7885+Method_input!$D$65*D7885+Method_input!$D$65*E7885+Method_input!$D$65*F7885","v":0},{"$f":"Method_input!$D$65*B7885+Method_input!$D$64*Input_series!AG7881+Method_input!$D$65*F7885","v":0}]
[7875,0,0,0,0,0,0,0,0,0,16,12,16,12,0,0,0,12,0,12,0,0,16,12,null,0,{"$f":"Method_input!$D$65*B7892+Method_input!$D$64*Input_series!AG7888+Method_input!$D$65*C7892+Method_input!$D$65*D7892+Method_input!$D$65*E7892+Method_input!$D$65*F7892","v":0},{"$f":"Method_input!$D$65*B7892+Method_input!$D$64*Input_series!AG7888+Method_input!$D$65*F7892","v":0}]
[7885,0,0,0,0,0,0,0,0,0,16,12,16,12,0,0,0,12,0,12,0,0,16,12,null,0,{"$f":"Method_input!$D$65*B7902+Method_input!$D$64*Input_series!AG7898+Method_input!$D$65*C7902+Method_input!$D$65*D7902+Method_input!$D$65*E7902+Method_input!$D$65*F7902","v":0},{"$f":"Method_input!$D$65*B7902+Method_input!$D$64*Input_series!AG7898+Method_input!$D$65*F7902","v":0}]
[7889,0,0,0,0,0,0,0,0,0,16,12,16,12,0,0,0,12,0,12,0,0,16,12,null,0,{"$f":"Method_input!$D$65*B7906+Method_input!$D$64*Input_series!AG7902+Method_input!$D$65*C7906+Method_input!$D$65*D7906+Method_input!$D$65*E7906+Method_input!$D$65*F7906","v":0},{"$f":"Method_input!$D$65*B7906+Method_input!$D$64*Input_series!AG7902+Method_input!$D$65*F7906","v":0}]
[7902,0,0,0,0,0,0,0,0,0,16,12,16,12,0,0,0,12,0,12,0,0,16,12,null,0,{"$f":"Method_input!$D$65*B7919+Method_input!$D$64*Input_series!AG7915+Method_input!$D$65*C7919+Method_input!$D$65*D7919+Method_input!$D$65*E7919+Method_input!$D$65*F7919","v":0},{"$f":"Method_input!$D$65*B7919+Method_input!$D$64*Input_series!AG7915+Method_input!$D$65*F7919","v":0}]
[7903,0,0,0,0,0,0,0,0,0,16,12,16,12,0,0,0,12,0,12,0,0,16,12,null,0,{"$f":"Method_input!$D$65*B7920+Method_input!$D$64*Input_series!AG7916+Method_input!$D$65*C7920+Method_input!$D$65*D7920+Method_input!$D$65*E7920+Method_input!$D$65*F7920","v":0},{"$f":"Method_input!$D$65*B7920+Method_input!$D$64*Input_series!AG7916+Method_input!$D$65*F7920","v":0}]
[7911,0,0,0,0,0,0,0,0,0,16,12,16,12,0,0,0,12,0,12,0,0,16,12,null,0,{"$f":"Method_input!$D$65*B7928+Method_input!$D$64*Input_series!AG7924+Method_input!$D$65*C7928+Method_input!$D$65*D7928+Method_input!$D$65*E7928+Method_input!$D$65*F7928","v":0},{"$f":"Method_input!$D$65*B7928+Method_input!$D$64*Input_series!AG7924+Method_input!$D$65*F7928","v":0}]
[7920,0,0,0,0,0,0,0,0,0,16,12,16,12,0,0,0,12,0,12,0,0,16,12,null,0,{"$f":"Method_input!$D$65*B7937+Method_input!$D$64*Input_series!AG7933+Method_input!$D$65*C7937+Method_input!$D$65*D7937+Method_input!$D$65*E7937+Method_input!$D$65*F7937","v":0},{"$f":"Method_input!$D$65*B7937+Method_input!$D$64*Input_series!AG7933+Method_input!$D$65*F7937","v":0}]
[7928,0,0,0,0,0,0,0,0,0,16,12,16,12,0,0,0,12,0,12,0,0,16,12,null,0,{"$f":"Method_input!$D$65*B7945+Method_input!$D$64*Input_series!AG7941+Method_input!$D$65*C7945+Method_input!$D$65*D7945+Method_input!$D$65*E7945+Method_input!$D$65*F7945","v":0},{"$f":"Method_input!$D$65*B7945+Method_input!$D$64*Input_series!AG7941+Method_input!$D$65*F7945","v":0}]
[7934,0,0,0,0,0,0,0,0,0,16,12,16,12,0,0,0,12,0,12,0,0,16,12,null,0,{"$f":"Method_input!$D$65*B7951+Method_input!$D$64*Input_series!AG7947+Method_input!$D$65*C7951+Method_input!$D$65*D7951+Method_input!$D$65*E7951+Method_input!$D$65*F7951","v":0},{"$f":"Method_input!$D$65*B7951+Method_input!$D$64*Input_series!AG7947+Method_input!$D$65*F7951","v":0}]
[7945,0,0,0,0,0,0,0,0,0,16,12,16,12,0,0,0,12,0,12,0,0,16,12,null,0,{"$f":"Method_input!$D$65*B7962+Method_input!$D$64*Input_series!AG7958+Method_input!$D$65*C7962+Method_input!$D$65*D7962+Method_input!$D$65*E7962+Method_input!$D$65*F7962","v":0},{"$f":"Method_input!$D$65*B7962+Method_input!$D$64*Input_series!AG7958+Method_input!$D$65*F7962","v":0}]
[7948,0,0,0,0,0,0,0,0,0,16,12,16,12,0,0,0,12,0,12,0,0,16,12,null,0,{"$f":"Method_input!$D$65*B7965+Method_input!$D$64*Input_series!AG7961+Method_input!$D$65*C7965+Method_input!$D$65*D7965+Method_input!$D$65*E7965+Method_input!$D$65*F7965","v":0},{"$f":"Method_input!$D$65*B7965+Method_input!$D$64*Input_series!AG7961+Method_input!$D$65*F7965","v":0}]
[7962,0,0,0,0,0,0,0,0,0,16,12,16,12,0,0,0,12,0,12,0,0,16,12,null,0,{"$f":"Method_input!$D$65*B7979+Method_input!$D$64*Input_series!AG7975+Method_input!$D$65*C7979+Method_input!$D$65*D7979+Method_input!$D$65*E7979+Method_input!$D$65*F7979","v":0},{"$f":"Method_input!$D$65*B7979+Method_input!$D$64*Input_series!AG7975+Method_input!$D$65*F7979","v":0}]
[7969,0,0,0,0,0,0,0,0,0,16,12,16,12,0,0,0,12,0,12,0,0,16,12,null,0,{"$f":"Method_input!$D$65*B7986+Method_input!$D$64*Input_series!AG7982+Method_input!$D$65*C7986+Method_input!$D$65*D7986+Method_input!$D$65*E7986+Method_input!$D$65*F7986","v":0},{"$f":"Method_input!$D$65*B7986+Method_input!$D$64*Input_series!AG7982+Method_input!$D$65*F7986","v":0}]
[7971,0,0,0,0,0,0,0,0,0,16,12,16,12,0,0,0,12,0,12,0,0,16,12,null,0,{"$f":"Method_input!$D$65*B7988+Method_input!$D$64*Input_series!AG7984+Method_input!$D$65*C7988+Method_input!$D$65*D7988+Method_input!$D$65*E7988+Method_input!$D$65*F7988","v":0},{"$f":"Method_input!$D$65*B7988+Method_input!$D$64*Input_series!AG7984+Method_input!$D$65*F7988","v":0}]
[7979,0,0,0,0,0,0,0,0,0,16,12,16,12,0,0,0,12,0,12,0,0,16,12,null,0,{"$f":"Method_input!$D$65*B7996+Method_input!$D$64*Input_series!AG7992+Method_input!$D$65*C7996+Method_input!$D$65*D7996+Method_input!$D$65*E7996+Method_input!$D$65*F7996","v":0},{"$f":"Method_input!$D$65*B7996+Method_input!$D$64*Input_series!AG7992+Method_input!$D$65*F7996","v":0}]
[7988,0,0,0,0,0,0,0,0,0,16,12,16,12,0,0,0,12,0,12,0,0,16,12,null,0,{"$f":"Method_input!$D$65*B8005+Method_input!$D$64*Input_series!AG8001+Method_input!$D$65*C8005+Method_input!$D$65*D8005+Method_input!$D$65*E8005+Method_input!$D$65*F8005","v":0},{"$f":"Method_input!$D$65*B8005+Method_input!$D$64*Input_series!AG8001+Method_input!$D$65*F8005","v":0}]
[7997,0,0,0,0,0,0,0,0,0,16,12,16,12,0,0,0,12,0,12,0,0,16,12,null,0,{"$f":"Method_input!$D$65*B8014+Method_input!$D$64*Input_series!AG8010+Method_input!$D$65*C8014+Method_input!$D$65*D8014+Method_input!$D$65*E8014+Method_input!$D$65*F8014","v":0},{"$f":"Method_input!$D$65*B8014+Method_input!$D$64*Input_series!AG8010+Method_input!$D$65*F8014","v":0}]
[8002,0,0,0,0,0,0,0,0,0,16,12,16,12,0,0,0,12,0,12,0,0,16,12,null,0,{"$f":"Method_input!$D$65*B8019+Method_input!$D$64*Input_series!AG8015+Method_input!$D$65*C8019+Method_input!$D$65*D8019+Method_input!$D$65*E8019+Method_input!$D$65*F8019","v":0},{"$f":"Method_input!$D$65*B8019+Method_input!$D$64*Input_series!AG8015+Method_input!$D$65*F8019","v":0}]
[8014,0,0,0,0,0,0,0,0,0,16,12,16,12,0,0,0,12,0,12,0,0,16,12,null,0,{"$f":"Method_input!$D$65*B8031+Method_input!$D$64*Input_series!AG8027+Method_input!$D$65*C8031+Method_input!$D$65*D8031+Method_input!$D$65*E8031+Method_input!$D$65*F8031","v":0},{"$f":"Method_input!$D$65*B8031+Method_input!$D$64*Input_series!AG8027+Method_input!$D$65*F8031","v":0}]
[8016,0,0,0,0,0,0,0,0,0,16,12,16,12,0,0,0,12,0,12,0,0,16,12,null,0,{"$f":"Method_input!$D$65*B8033+Method_input!$D$64*Input_series!AG8029+Method_input!$D$65*C8033+Method_input!$D$65*D8033+Method_input!$D$65*E8033+Method_input!$D$65*F8033","v":0},{"$f":"Method_input!$D$65*B8033+Method_input!$D$64*Input_series!AG8029+Method_input!$D$65*F8033","v":0}]
[8023,0,0,0,0,0,0,0,0,0,16,12,16,12,0,0,0,12,0,12,0,0,16,12,null,0,{"$f":"Method_input!$D$65*B8040+Method_input!$D$64*Input_series!AG8036+Method_input!$D$65*C8040+Method_input!$D$65*D8040+Method_input!$D$65*E8040+Method_input!$D$65*F8040","v":0},{"$f":"Method_input!$D$65*B8040+Method_input!$D$64*Input_series!AG8036+Method_input!$D$65*F8040","v":0}]
[8037,0,0,0,0,0,0,0,0,0,16,12,16,12,0,0,0,12,0,12,0,0,16,12,null,0,{"$f":"Method_input!$D$65*B8054+Method_input!$D$64*Input_series!AG8050+Method_input!$D$65*C8054+Method_input!$D$65*D8054+Method_input!$D$65*E8054+Method_input!$D$65*F8054","v":0},{"$f":"Method_input!$D$65*B8054+Method_input!$D$64*Input_series!AG8050+Method_input!$D$65*F8054","v":0}]
[8040,0,0,0,0,0,0,0,0,0,16,12,16,12,0,0,0,12,0,12,0,0,16,12,null,0,{"$f":"Method_input!$D$65*B8057+Method_input!$D$64*Input_series!AG8053+Method_input!$D$65*C8057+Method_input!$D$65*D8057+Method_input!$D$65*E8057+Method_input!$D$65*F8057","v":0},{"$f":"Method_input!$D$65*B8057+Method_input!$D$64*Input_series!AG8053+Method_input!$D$65*F8057","v":0}]
[8051,0,0,0,0,0,0,0,0,0,16,12,16,12,0,0,0,12,0,12,0,0,16,12,null,0,{"$f":"Method_input!$D$65*B8068+Method_input!$D$64*Input_series!AG8064+Method_input!$D$65*C8068+Method_input!$D$65*D8068+Method_input!$D$65*E8068+Method_input!$D$65*F8068","v":0},{"$f":"Method_input!$D$65*B8068+Method_input!$D$64*Input_series!AG8064+Method_input!$D$65*F8068","v":0}]
[8057,0,0,5.74663E-4,0,0,0,0,0,0,16,12,16,18.03448275862069,0,3.0666072308999998E-2,0.21466250616299998,12,0,12,0,0.2143746,16,12.004046735519347,null,0.2143746,{"$f":"Method_input!$D$65*B8074+Method_input!$D$64*Input_series!AG8070+Method_input!$D$65*C8074+Method_input!$D$65*D8074+Method_input!$D$65*E8074+Method_input!$D$65*F8074","v":5.74663E-4},{"$f":"Method_input!$D$65*B8074+Method_input!$D$64*Input_series!AG8070+Method_input!$D$65*F8074","v":0}]
[8065,0,0,0,0,0,0,0,0,0,16,12,16,12,0,0,0,12,0,12,0,0,16,12,null,{"$f":"SUM(G8082:J8082,U8082:V8082)","v":0},{"$f":"Method_input!$D$65*B8082+Method_input!$D$64*Input_series!AG8078+Method_input!$D$65*C8082+Method_input!$D$65*D8082+Method_input!$D$65*E8082+Method_input!$D$65*F8082","v":0},{"$f":"Method_input!$D$65*B8082+Method_input!$D$64*Input_series!AG8078+Method_input!$D$65*F8082","v":0}]
[8074,0,0,0,0,0,0,0,0,0,16,12,16,12,0,0,0,12,0,12,0,0,16,12,null,0,{"$f":"Method_input!$D$65*B8091+Method_input!$D$64*Input_series!AG8087+Method_input!$D$65*C8091+Method_input!$D$65*D8091+Method_input!$D$65*E8091+Method_input!$D$65*F8091","v":0},{"$f":"Method_input!$D$65*B8091+Method_input!$D$64*Input_series!AG8087+Method_input!$D$65*F8091","v":0}]
[8082,0,0,0,0,0,0,0,0,0,16,12,16,12,0,0,0,12,0,12,0,0,16,12,null,0,{"$f":"Method_input!$D$65*B8099+Method_input!$D$64*Input_series!AG8095+Method_input!$D$65*C8099+Method_input!$D$65*D8099+Method_input!$D$65*E8099+Method_input!$D$65*F8099","v":0},{"$f":"Method_input!$D$65*B8099+Method_input!$D$64*Input_series!AG8095+Method_input!$D$65*F8099","v":0}]
[8083,0,0,0,0,0,0,0,0,0,16,12,16,12,0,0,0,12,0,12,0,0,16,12,null,0,{"$f":"Method_input!$D$65*B8100+Method_input!$D$64*Input_series!AG8096+Method_input!$D$65*C8100+Method_input!$D$65*D8100+Method_input!$D$65*E8100+Method_input!$D$65*F8100","v":0},{"$f":"Method_input!$D$65*B8100+Method_input!$D$64*Input_series!AG8096+Method_input!$D$65*F8100","v":0}]
[8096,0,0,0,0,0,0,0,0,0,16,12,16,12,0,0,0,12,0,12,0,0,16,12,null,0,{"$f":"Method_input!$D$65*B8113+Method_input!$D$64*Input_series!AG8109+Method_input!$D$65*C8113+Method_input!$D$65*D8113+Method_input!$D$65*E8113+Method_input!$D$65*F8113","v":0},{"$f":"Method_input!$D$65*B8113+Method_input!$D$64*Input_series!AG8109+Method_input!$D$65*F8113","v":0}]
[8100,0,0,0,0,0,0,0,0,0,16,12,16,12,0,0,0,12,0,12,0,0,16,12,null,0,{"$f":"Method_input!$D$65*B8117+Method_input!$D$64*Input_series!AG8113+Method_input!$D$65*C8117+Method_input!$D$65*D8117+Method_input!$D$65*E8117+Method_input!$D$65*F8117","v":0},{"$f":"Method_input!$D$65*B8117+Method_input!$D$64*Input_series!AG8113+Method_input!$D$65*F8117","v":0}]
[8110,0,0,0,0,0,0,0,0,0,16,12,16,12,0,0,0,12,0,12,0,0,16,12,null,0,{"$f":"Method_input!$D$65*B8127+Method_input!$D$64*Input_series!AG8123+Method_input!$D$65*C8127+Method_input!$D$65*D8127+Method_input!$D$65*E8127+Method_input!$D$65*F8127","v":0},{"$f":"Method_input!$D$65*B8127+Method_input!$D$64*Input_series!AG8123+Method_input!$D$65*F8127","v":0}]
[8117,0,0,0,0,0,0,0,0,0,16,12,16,12,0,0,0,12,0,12,0,0,16,12,null,0,{"$f":"Method_input!$D$65*B8134+Method_input!$D$64*Input_series!AG8130+Method_input!$D$65*C8134+Method_input!$D$65*D8134+Method_input!$D$65*E8134+Method_input!$D$65*F8134","v":0},{"$f":"Method_input!$D$65*B8134+Method_input!$D$64*Input_series!AG8130+Method_input!$D$65*F8134","v":0}]
[8126,0,0,0,0,0,0,0,0,0,16,12,16,12,0,0,0,12,0,12,0,0,16,12,null,0,{"$f":"Method_input!$D$65*B8143+Method_input!$D$64*Input_series!AG8139+Method_input!$D$65*C8143+Method_input!$D$65*D8143+Method_input!$D$65*E8143+Method_input!$D$65*F8143","v":0},{"$f":"Method_input!$D$65*B8143+Method_input!$D$64*Input_series!AG8139+Method_input!$D$65*F8143","v":0}]
[8133,0,0,0,0,0,0,0,0,0,16,12,16,12,0,0,0,12,0,12,0,0,16,12,null,0,{"$f":"Method_input!$D$65*B8150+Method_input!$D$64*Input_series!AG8146+Method_input!$D$65*C8150+Method_input!$D$65*D8150+Method_input!$D$65*E8150+Method_input!$D$65*F8150","v":0},{"$f":"Method_input!$D$65*B8150+Method_input!$D$64*Input_series!AG8146+Method_input!$D$65*F8150","v":0}]
[8143,0,0,0,0,0,0,0,0,0,16,12,16,12,0,0,0,12,0,12,0,0,16,12,null,0,{"$f":"Method_input!$D$65*B8160+Method_input!$D$64*Input_series!AG8156+Method_input!$D$65*C8160+Method_input!$D$65*D8160+Method_input!$D$65*E8160+Method_input!$D$65*F8160","v":0},{"$f":"Method_input!$D$65*B8160+Method_input!$D$64*Input_series!AG8156+Method_input!$D$65*F8160","v":0}]
[8147,0,0,0,0,0,0,0,0,0,16,12,16,12,0,0,0,12,0,12,0,0,16,12,null,0,{"$f":"Method_input!$D$65*B8164+Method_input!$D$64*Input_series!AG8160+Method_input!$D$65*C8164+Method_input!$D$65*D8164+Method_input!$D$65*E8164+Method_input!$D$65*F8164","v":0},{"$f":"Method_input!$D$65*B8164+Method_input!$D$64*Input_series!AG8160+Method_input!$D$65*F8164","v":0}]
[8152,0,0,0,0,0,0,0,0,0,16,12,16,12,0,0,0,12,0,12,0,0,16,12,null,0,{"$f":"Method_input!$D$65*B8169+Method_input!$D$64*Input_series!AG8165+Method_input!$D$65*C8169+Method_input!$D$65*D8169+Method_input!$D$65*E8169+Method_input!$D$65*F8169","v":0},{"$f":"Method_input!$D$65*B8169+Method_input!$D$64*Input_series!AG8165+Method_input!$D$65*F8169","v":0}]
[8161,0,0,0,0,0,0,0,0,0,16,12,16,12,0,0,0,12,0,12,0,0,16,12,null,0,{"$f":"Method_input!$D$65*B8178+Method_input!$D$64*Input_series!AG8174+Method_input!$D$65*C8178+Method_input!$D$65*D8178+Method_input!$D$65*E8178+Method_input!$D$65*F8178","v":0},{"$f":"Method_input!$D$65*B8178+Method_input!$D$64*Input_series!AG8174+Method_input!$D$65*F8178","v":0}]
[8169,0,0,0,0,0,0,0,0,0,16,12,16,12,0,0,0,12,0,12,0,0,16,12,null,0,{"$f":"Method_input!$D$65*B8186+Method_input!$D$64*Input_series!AG8182+Method_input!$D$65*C8186+Method_input!$D$65*D8186+Method_input!$D$65*E8186+Method_input!$D$65*F8186","v":0},{"$f":"Method_input!$D$65*B8186+Method_input!$D$64*Input_series!AG8182+Method_input!$D$65*F8186","v":0}]
[8178,0,0,0,0,0,0,0,0,0,16,12,16,12,0,0,0,12,0,12,0,0,16,12,null,0,{"$f":"Method_input!$D$65*B8195+Method_input!$D$64*Input_series!AG8191+Method_input!$D$65*C8195+Method_input!$D$65*D8195+Method_input!$D$65*E8195+Method_input!$D$65*F8195","v":0},{"$f":"Method_input!$D$65*B8195+Method_input!$D$64*Input_series!AG8191+Method_input!$D$65*F8195","v":0}]
[8186,0,0,0,0,0,0,0,0,0,16,12,16,12,0,0,0,12,0,12,0,0,16,12,null,0,{"$f":"Method_input!$D$65*B8203+Method_input!$D$64*Input_series!AG8199+Method_input!$D$65*C8203+Method_input!$D$65*D8203+Method_input!$D$65*E8203+Method_input!$D$65*F8203","v":0},{"$f":"Method_input!$D$65*B8203+Method_input!$D$64*Input_series!AG8199+Method_input!$D$65*F8203","v":0}]
[8192,0,0,0,0,0,0,0,0,0,16,12,16,12,0,0,0,12,0,12,0,0,16,12,null,0,{"$f":"Method_input!$D$65*B8209+Method_input!$D$64*Input_series!AG8205+Method_input!$D$65*C8209+Method_input!$D$65*D8209+Method_input!$D$65*E8209+Method_input!$D$65*F8209","v":0},{"$f":"Method_input!$D$65*B8209+Method_input!$D$64*Input_series!AG8205+Method_input!$D$65*F8209","v":0}]
[8203,0,0,0,0,0,0,0,0,0,16,12,16,12,0,0,0,12,0,12,0,0,16,12,null,0,{"$f":"Method_input!$D$65*B8220+Method_input!$D$64*Input_series!AG8216+Method_input!$D$65*C8220+Method_input!$D$65*D8220+Method_input!$D$65*E8220+Method_input!$D$65*F8220","v":0},{"$f":"Method_input!$D$65*B8220+Method_input!$D$64*Input_series!AG8216+Method_input!$D$65*F8220","v":0}]
[8206,0,0,0,0,0,0,0,0,0,16,12,16,12,0,0,0,12,0,12,0,0,16,12,null,0,{"$f":"Method_input!$D$65*B8223+Method_input!$D$64*Input_series!AG8219+Method_input!$D$65*C8223+Method_input!$D$65*D8223+Method_input!$D$65*E8223+Method_input!$D$65*F8223","v":0},{"$f":"Method_input!$D$65*B8223+Method_input!$D$64*Input_series!AG8219+Method_input!$D$65*F8223","v":0}]
[8212,0,0,0,0,0,0,0,0,0,16,12,16,12,0,0,0,12,0,12,0,0,16,12,null,0,{"$f":"Method_input!$D$65*B8229+Method_input!$D$64*Input_series!AG8225+Method_input!$D$65*C8229+Method_input!$D$65*D8229+Method_input!$D$65*E8229+Method_input!$D$65*F8229","v":0},{"$f":"Method_input!$D$65*B8229+Method_input!$D$64*Input_series!AG8225+Method_input!$D$65*F8229","v":0}]
[8220,0,0,0,0,0,0,0,0,0,16,12,16,12,0,0,0,12,0,12,0,0,16,12,null,0,{"$f":"Method_input!$D$65*B8237+Method_input!$D$64*Input_series!AG8233+Method_input!$D$65*C8237+Method_input!$D$65*D8237+Method_input!$D$65*E8237+Method_input!$D$65*F8237","v":0},{"$f":"Method_input!$D$65*B8237+Method_input!$D$64*Input_series!AG8233+Method_input!$D$65*F8237","v":0}]
[8229,0,0,0,0,0,0,0,0,0,16,12,16,12,0,0,0,12,0,12,0,0,16,12,null,0,{"$f":"Method_input!$D$65*B8246+Method_input!$D$64*Input_series!AG8242+Method_input!$D$65*C8246+Method_input!$D$65*D8246+Method_input!$D$65*E8246+Method_input!$D$65*F8246","v":0},{"$f":"Method_input!$D$65*B8246+Method_input!$D$64*Input_series!AG8242+Method_input!$D$65*F8246","v":0}]
[8237,0,0,0,0,0,0,0,0,0,16,12,16,12,0,0,0,12,0,12,0,0,16,12,null,0,{"$f":"Method_input!$D$65*B8254+Method_input!$D$64*Input_series!AG8250+Method_input!$D$65*C8254+Method_input!$D$65*D8254+Method_input!$D$65*E8254+Method_input!$D$65*F8254","v":0},{"$f":"Method_input!$D$65*B8254+Method_input!$D$64*Input_series!AG8250+Method_input!$D$65*F8254","v":0}]
[8246,0,0,0,0,0,0,0,0,0,16,12,16,12,0,0,0,12,0,12,0,0,16,12,null,0,{"$f":"Method_input!$D$65*B8263+Method_input!$D$64*Input_series!AG8259+Method_input!$D$65*C8263+Method_input!$D$65*D8263+Method_input!$D$65*E8263+Method_input!$D$65*F8263","v":0},{"$f":"Method_input!$D$65*B8263+Method_input!$D$64*Input_series!AG8259+Method_input!$D$65*F8263","v":0}]
[8255,0,0,0,0,0,0,0,0,0,16,12,16,12,0,0,0,12,0,12,0,0,16,12,null,0,{"$f":"Method_input!$D$65*B8272+Method_input!$D$64*Input_series!AG8268+Method_input!$D$65*C8272+Method_input!$D$65*D8272+Method_input!$D$65*E8272+Method_input!$D$65*F8272","v":0},{"$f":"Method_input!$D$65*B8272+Method_input!$D$64*Input_series!AG8268+Method_input!$D$65*F8272","v":0}]
[8260,0,0,0,0,0,0,0,0,0,16,12,16,12,0,0,0,12,0,12,0,0,16,12,null,0,{"$f":"Method_input!$D$65*B8277+Method_input!$D$64*Input_series!AG8273+Method_input!$D$65*C8277+Method_input!$D$65*D8277+Method_input!$D$65*E8277+Method_input!$D$65*F8277","v":0},{"$f":"Method_input!$D$65*B8277+Method_input!$D$64*Input_series!AG8273+Method_input!$D$65*F8277","v":0}]
[8264,0,0,0,0,0,0,0,0,0,16,12,16,12,0,0,0,12,0,12,0,0,16,12,null,0,{"$f":"Method_input!$D$65*B8281+Method_input!$D$64*Input_series!AG8277+Method_input!$D$65*C8281+Method_input!$D$65*D8281+Method_input!$D$65*E8281+Method_input!$D$65*F8281","v":0},{"$f":"Method_input!$D$65*B8281+Method_input!$D$64*Input_series!AG8277+Method_input!$D$65*F8281","v":0}]
[8274,0,0,0,0,0,0,0,0,0,16,12,16,12,0,0,0,12,0,12,0,0,16,12,null,0,{"$f":"Method_input!$D$65*B8291+Method_input!$D$64*Input_series!AG8287+Method_input!$D$65*C8291+Method_input!$D$65*D8291+Method_input!$D$65*E8291+Method_input!$D$65*F8291","v":0},{"$f":"Method_input!$D$65*B8291+Method_input!$D$64*Input_series!AG8287+Method_input!$D$65*F8291","v":0}]
[8281,0,0,0,0,0,0,0,0,0,16,12,16,12,0,0,0,12,0,12,0,0,16,12,null,0,{"$f":"Method_input!$D$65*B8298+Method_input!$D$64*Input_series!AG8294+Method_input!$D$65*C8298+Method_input!$D$65*D8298+Method_input!$D$65*E8298+Method_input!$D$65*F8298","v":0},{"$f":"Method_input!$D$65*B8298+Method_input!$D$64*Input_series!AG8294+Method_input!$D$65*F8298","v":0}]
[8288,0,0,0,0,0,0,0,0,0,16,12,16,12,0,0,0,12,0,12,0,0,16,12,null,0,{"$f":"Method_input!$D$65*B8305+Method_input!$D$64*Input_series!AG8301+Method_input!$D$65*C8305+Method_input!$D$65*D8305+Method_input!$D$65*E8305+Method_input!$D$65*F8305","v":0},{"$f":"Method_input!$D$65*B8305+Method_input!$D$64*Input_series!AG8301+Method_input!$D$65*F8305","v":0}]
[8298,0,0,0,0,0,0,0,0,0,16,12,16,12,0,0,0,12,0,12,0,0,16,12,null,0,{"$f":"Method_input!$D$65*B8315+Method_input!$D$64*Input_series!AG8311+Method_input!$D$65*C8315+Method_input!$D$65*D8315+Method_input!$D$65*E8315+Method_input!$D$65*F8315","v":0},{"$f":"Method_input!$D$65*B8315+Method_input!$D$64*Input_series!AG8311+Method_input!$D$65*F8315","v":0}]
[8302,0,0,0,0,0,0,0,0,0,16,12,16,12,0,0,0,12,0,12,0,0,16,12,null,0,{"$f":"Method_input!$D$65*B8319+Method_input!$D$64*Input_series!AG8315+Method_input!$D$65*C8319+Method_input!$D$65*D8319+Method_input!$D$65*E8319+Method_input!$D$65*F8319","v":0},{"$f":"Method_input!$D$65*B8319+Method_input!$D$64*Input_series!AG8315+Method_input!$D$65*F8319","v":0}]
[8315,0,0,0,0,0,0,0,0,0,16,12,16,12,0,0,0,12,0,12,0,0,16,12,null,0,{"$f":"Method_input!$D$65*B8332+Method_input!$D$64*Input_series!AG8328+Method_input!$D$65*C8332+Method_input!$D$65*D8332+Method_input!$D$65*E8332+Method_input!$D$65*F8332","v":0},{"$f":"Method_input!$D$65*B8332+Method_input!$D$64*Input_series!AG8328+Method_input!$D$65*F8332","v":0}]
[8323,0,0,0,0,0,0,0,0,0,16,12,16,12,0,0,0,12,0,12,0,0,16,12,null,0,{"$f":"Method_input!$D$65*B8340+Method_input!$D$64*Input_series!AG8336+Method_input!$D$65*C8340+Method_input!$D$65*D8340+Method_input!$D$65*E8340+Method_input!$D$65*F8340","v":0},{"$f":"Method_input!$D$65*B8340+Method_input!$D$64*Input_series!AG8336+Method_input!$D$65*F8340","v":0}]
[8324,0,0,0,0,0,0,0,0,0,16,12,16,12,0,0,0,12,0,12,0,0,16,12,null,0,{"$f":"Method_input!$D$65*B8341+Method_input!$D$64*Input_series!AG8337+Method_input!$D$65*C8341+Method_input!$D$65*D8341+Method_input!$D$65*E8341+Method_input!$D$65*F8341","v":0},{"$f":"Method_input!$D$65*B8341+Method_input!$D$64*Input_series!AG8337+Method_input!$D$65*F8341","v":0}]
[8333,0,0,0,0,0,0,0,0,0,16,12,16,12,0,0,0,12,0,12,0,0,16,12,null,0,{"$f":"Method_input!$D$65*B8350+Method_input!$D$64*Input_series!AG8346+Method_input!$D$65*C8350+Method_input!$D$65*D8350+Method_input!$D$65*E8350+Method_input!$D$65*F8350","v":0},{"$f":"Method_input!$D$65*B8350+Method_input!$D$64*Input_series!AG8346+Method_input!$D$65*F8350","v":0}]
[8341,0,0,0,0,0,0,0,0,0,16,12,16,12,0,0,0,12,0,12,0,0,16,12,null,0,{"$f":"Method_input!$D$65*B8358+Method_input!$D$64*Input_series!AG8354+Method_input!$D$65*C8358+Method_input!$D$65*D8358+Method_input!$D$65*E8358+Method_input!$D$65*F8358","v":0},{"$f":"Method_input!$D$65*B8358+Method_input!$D$64*Input_series!AG8354+Method_input!$D$65*F8358","v":0}]
[8347,0,0,0,0,0,0,0,0,0,16,12,16,12,0,0,0,12,0,12,0,0,16,12,null,0,{"$f":"Method_input!$D$65*B8364+Method_input!$D$64*Input_series!AG8360+Method_input!$D$65*C8364+Method_input!$D$65*D8364+Method_input!$D$65*E8364+Method_input!$D$65*F8364","v":0},{"$f":"Method_input!$D$65*B8364+Method_input!$D$64*Input_series!AG8360+Method_input!$D$65*F8364","v":0}]
[8358,0,0,0,0,0,0,0,0,0,16,12,16,12,0,0,0,12,0,12,0,0,16,12,null,0,{"$f":"Method_input!$D$65*B8375+Method_input!$D$64*Input_series!AG8371+Method_input!$D$65*C8375+Method_input!$D$65*D8375+Method_input!$D$65*E8375+Method_input!$D$65*F8375","v":0},{"$f":"Method_input!$D$65*B8375+Method_input!$D$64*Input_series!AG8371+Method_input!$D$65*F8375","v":0}]
[8368,0,0,0,0,0,0,0,0,0,16,12,16,12,0,0,0,12,0,12,0,0,16,12,null,0,{"$f":"Method_input!$D$65*B8385+Method_input!$D$64*Input_series!AG8381+Method_input!$D$65*C8385+Method_input!$D$65*D8385+Method_input!$D$65*E8385+Method_input!$D$65*F8385","v":0},{"$f":"Method_input!$D$65*B8385+Method_input!$D$64*Input_series!AG8381+Method_input!$D$65*F8385","v":0}]
[8375,0,0,0,0,0,0,0,0,0,16,12,16,12,0,0,0,12,0,12,0,0,16,12,null,0,{"$f":"Method_input!$D$65*B8392+Method_input!$D$64*Input_series!AG8388+Method_input!$D$65*C8392+Method_input!$D$65*D8392+Method_input!$D$65*E8392+Method_input!$D$65*F8392","v":0},{"$f":"Method_input!$D$65*B8392+Method_input!$D$64*Input_series!AG8388+Method_input!$D$65*F8392","v":0}]
[8384,0,0,0,0,0,0,0,0,0,16,12,16,12,0,0,0,12,0,12,0,0,16,12,null,0,{"$f":"Method_input!$D$65*B8401+Method_input!$D$64*Input_series!AG8397+Method_input!$D$65*C8401+Method_input!$D$65*D8401+Method_input!$D$65*E8401+Method_input!$D$65*F8401","v":0},{"$f":"Method_input!$D$65*B8401+Method_input!$D$64*Input_series!AG8397+Method_input!$D$65*F8401","v":0}]
[8391,0,0,0,0,0,0,0,0,0,16,12,16,12,0,0,0,12,0,12,0,0,16,12,null,0,{"$f":"Method_input!$D$65*B8408+Method_input!$D$64*Input_series!AG8404+Method_input!$D$65*C8408+Method_input!$D$65*D8408+Method_input!$D$65*E8408+Method_input!$D$65*F8408","v":0},{"$f":"Method_input!$D$65*B8408+Method_input!$D$64*Input_series!AG8404+Method_input!$D$65*F8408","v":0}]
[8393,0,0,0,0,0,0,0,0,0,16,12,16,12,0,0,0,12,0,12,0,0,16,12,null,0,{"$f":"Method_input!$D$65*B8410+Method_input!$D$64*Input_series!AG8406+Method_input!$D$65*C8410+Method_input!$D$65*D8410+Method_input!$D$65*E8410+Method_input!$D$65*F8410","v":0},{"$f":"Method_input!$D$65*B8410+Method_input!$D$64*Input_series!AG8406+Method_input!$D$65*F8410","v":0}]
[8405,0,0,0,0,0,0,0,0,0,16,12,16,12,0,0,0,12,0,12,0,0,16,12,null,0,{"$f":"Method_input!$D$65*B8422+Method_input!$D$64*Input_series!AG8418+Method_input!$D$65*C8422+Method_input!$D$65*D8422+Method_input!$D$65*E8422+Method_input!$D$65*F8422","v":0},{"$f":"Method_input!$D$65*B8422+Method_input!$D$64*Input_series!AG8418+Method_input!$D$65*F8422","v":0}]
[8410,0,0,0,0,0,0,0,0,0,16,12,16,12,0,0,0,12,0,12,0,0,16,12,null,0,{"$f":"Method_input!$D$65*B8427+Method_input!$D$64*Input_series!AG8423+Method_input!$D$65*C8427+Method_input!$D$65*D8427+Method_input!$D$65*E8427+Method_input!$D$65*F8427","v":0},{"$f":"Method_input!$D$65*B8427+Method_input!$D$64*Input_series!AG8423+Method_input!$D$65*F8427","v":0}]
[8419,0,0,0,0,0,0,0,0,0,16,12,16,12,0,0,0,12,0,12,0,0,16,12,null,0,{"$f":"Method_input!$D$65*B8436+Method_input!$D$64*Input_series!AG8432+Method_input!$D$65*C8436+Method_input!$D$65*D8436+Method_input!$D$65*E8436+Method_input!$D$65*F8436","v":0},{"$f":"Method_input!$D$65*B8436+Method_input!$D$64*Input_series!AG8432+Method_input!$D$65*F8436","v":0}]
[8427,0,0,0,0,0,0,0,0,0,16,12,16,12,0,0,0,12,0,12,0,0,16,12,null,0,{"$f":"Method_input!$D$65*B8444+Method_input!$D$64*Input_series!AG8440+Method_input!$D$65*C8444+Method_input!$D$65*D8444+Method_input!$D$65*E8444+Method_input!$D$65*F8444","v":0},{"$f":"Method_input!$D$65*B8444+Method_input!$D$64*Input_series!AG8440+Method_input!$D$65*F8444","v":0}]
[8436,0,0,0,0,0,0,0,0,0,16,12,16,12,0,0,0,12,0,12,0,0,16,12,null,0,{"$f":"Method_input!$D$65*B8453+Method_input!$D$64*Input_series!AG8449+Method_input!$D$65*C8453+Method_input!$D$65*D8453+Method_input!$D$65*E8453+Method_input!$D$65*F8453","v":0},{"$f":"Method_input!$D$65*B8453+Method_input!$D$64*Input_series!AG8449+Method_input!$D$65*F8453","v":0}]
[8444,0,0,0,0,0,0,0,0,0,16,12,16,12,0,0,0,12,0,12,0,0,16,12,null,0,{"$f":"Method_input!$D$65*B8461+Method_input!$D$64*Input_series!AG8457+Method_input!$D$65*C8461+Method_input!$D$65*D8461+Method_input!$D$65*E8461+Method_input!$D$65*F8461","v":0},{"$f":"Method_input!$D$65*B8461+Method_input!$D$64*Input_series!AG8457+Method_input!$D$65*F8461","v":0}]
[8450,0,0,0,0,0,0,0,0,0,16,12,16,12,0,0,0,12,0,12,0,0,16,12,null,0,{"$f":"Method_input!$D$65*B8467+Method_input!$D$64*Input_series!AG8463+Method_input!$D$65*C8467+Method_input!$D$65*D8467+Method_input!$D$65*E8467+Method_input!$D$65*F8467","v":0},{"$f":"Method_input!$D$65*B8467+Method_input!$D$64*Input_series!AG8463+Method_input!$D$65*F8467","v":0}]
[8453,0,0,0,0,0,0,0,0,0,16,12,16,12,0,0,0,12,0,12,0,0,16,12,null,0,{"$f":"Method_input!$D$65*B8470+Method_input!$D$64*Input_series!AG8466+Method_input!$D$65*C8470+Method_input!$D$65*D8470+Method_input!$D$65*E8470+Method_input!$D$65*F8470","v":0},{"$f":"Method_input!$D$65*B8470+Method_input!$D$64*Input_series!AG8466+Method_input!$D$65*F8470","v":0}]
[8464,0,0,0,0,0,0,0,0,0,16,12,16,12,0,0,0,12,0,12,0,0,16,12,null,0,{"$f":"Method_input!$D$65*B8481+Method_input!$D$64*Input_series!AG8477+Method_input!$D$65*C8481+Method_input!$D$65*D8481+Method_input!$D$65*E8481+Method_input!$D$65*F8481","v":0},{"$f":"Method_input!$D$65*B8481+Method_input!$D$64*Input_series!AG8477+Method_input!$D$65*F8481","v":0}]
[8470,0,0,0,0,0,0,0,0,0,16,12,16,12,0,0,0,12,0,12,0,0,16,12,null,0,{"$f":"Method_input!$D$65*B8487+Method_input!$D$64*Input_series!AG8483+Method_input!$D$65*C8487+Method_input!$D$65*D8487+Method_input!$D$65*E8487+Method_input!$D$65*F8487","v":0},{"$f":"Method_input!$D$65*B8487+Method_input!$D$64*Input_series!AG8483+Method_input!$D$65*F8487","v":0}]
[8478,0,0,0,0,0,0,0,0,0,16,12,16,12,0,0,0,12,0,12,0,0,16,12,null,0,{"$f":"Method_input!$D$65*B8495+Method_input!$D$64*Input_series!AG8491+Method_input!$D$65*C8495+Method_input!$D$65*D8495+Method_input!$D$65*E8495+Method_input!$D$65*F8495","v":0},{"$f":"Method_input!$D$65*B8495+Method_input!$D$64*Input_series!AG8491+Method_input!$D$65*F8495","v":0}]
[8487,0,0,0,0,0,0,0,0,0,16,12,16,12,0,0,0,12,0,12,0,0,16,12,null,0,{"$f":"Method_input!$D$65*B8504+Method_input!$D$64*Input_series!AG8500+Method_input!$D$65*C8504+Method_input!$D$65*D8504+Method_input!$D$65*E8504+Method_input!$D$65*F8504","v":0},{"$f":"Method_input!$D$65*B8504+Method_input!$D$64*Input_series!AG8500+Method_input!$D$65*F8504","v":0}]
[8495,0,0,0,0,0,0,0,0,0,16,12,16,12,0,0,0,12,0,12,0,0,16,12,null,0,{"$f":"Method_input!$D$65*B8512+Method_input!$D$64*Input_series!AG8508+Method_input!$D$65*C8512+Method_input!$D$65*D8512+Method_input!$D$65*E8512+Method_input!$D$65*F8512","v":0},{"$f":"Method_input!$D$65*B8512+Method_input!$D$64*Input_series!AG8508+Method_input!$D$65*F8512","v":0}]
[8504,0,0,0,0,0,0,0,0,0,16,12,16,12,0,0,0,12,0,12,0,0,16,12,null,0,{"$f":"Method_input!$D$65*B8521+Method_input!$D$64*Input_series!AG8517+Method_input!$D$65*C8521+Method_input!$D$65*D8521+Method_input!$D$65*E8521+Method_input!$D$65*F8521","v":0},{"$f":"Method_input!$D$65*B8521+Method_input!$D$64*Input_series!AG8517+Method_input!$D$65*F8521","v":0}]
[8505,0,0,0,0,0,0,0,0,0,16,12,16,12,0,0,0,12,0,12,0,0,16,12,null,0,{"$f":"Method_input!$D$65*B8522+Method_input!$D$64*Input_series!AG8518+Method_input!$D$65*C8522+Method_input!$D$65*D8522+Method_input!$D$65*E8522+Method_input!$D$65*F8522","v":0},{"$f":"Method_input!$D$65*B8522+Method_input!$D$64*Input_series!AG8518+Method_input!$D$65*F8522","v":0}]
[8513,0,0,0,0,0,0,0,0,0,16,12,16,12,0,0,0,12,0,12,0,0,16,12,null,{"$f":"SUM(G8530:J8530,U8530:V8530)","v":0},{"$f":"Method_input!$D$65*B8530+Method_input!$D$64*Input_series!AG8526+Method_input!$D$65*C8530+Method_input!$D$65*D8530+Method_input!$D$65*E8530+Method_input!$D$65*F8530","v":0},{"$f":"Method_input!$D$65*B8530+Method_input!$D$64*Input_series!AG8526+Method_input!$D$65*F8530","v":0}]
[8514,0,0,0,0,0,0,0,0,0,16,12,16,12,0,0,0,12,0,12,0,0,16,12,null,0,{"$f":"Method_input!$D$65*B8531+Method_input!$D$64*Input_series!AG8527+Method_input!$D$65*C8531+Method_input!$D$65*D8531+Method_input!$D$65*E8531+Method_input!$D$65*F8531","v":0},{"$f":"Method_input!$D$65*B8531+Method_input!$D$64*Input_series!AG8527+Method_input!$D$65*F8531","v":0}]
[8515,0,0,0,0,0,0,0,0,0,16,12,16,12,0,0,0,12,0,12,0,0,16,12,null,0,{"$f":"Method_input!$D$65*B8532+Method_input!$D$64*Input_series!AG8528+Method_input!$D$65*C8532+Method_input!$D$65*D8532+Method_input!$D$65*E8532+Method_input!$D$65*F8532","v":0},{"$f":"Method_input!$D$65*B8532+Method_input!$D$64*Input_series!AG8528+Method_input!$D$65*F8532","v":0}]
[8516,0,0,0,0,0,0,0,0,0,16,12,16,12,0,0,0,12,0,12,0,0,16,12,null,0,{"$f":"Method_input!$D$65*B8533+Method_input!$D$64*Input_series!AG8529+Method_input!$D$65*C8533+Method_input!$D$65*D8533+Method_input!$D$65*E8533+Method_input!$D$65*F8533","v":0},{"$f":"Method_input!$D$65*B8533+Method_input!$D$64*Input_series!AG8529+Method_input!$D$65*F8533","v":0}]
[8517,0,0,0,0,0,0,0,0,0,16,12,16,12,0,0,0,12,0,12,0,0,16,12,null,0,{"$f":"Method_input!$D$65*B8534+Method_input!$D$64*Input_series!AG8530+Method_input!$D$65*C8534+Method_input!$D$65*D8534+Method_input!$D$65*E8534+Method_input!$D$65*F8534","v":0},{"$f":"Method_input!$D$65*B8534+Method_input!$D$64*Input_series!AG8530+Method_input!$D$65*F8534","v":0}]
[8518,0,0,0,0,0,0,0,0,0,16,12,16,12,0,0,0,12,0,12,0,0,16,12,null,0,{"$f":"Method_input!$D$65*B8535+Method_input!$D$64*Input_series!AG8531+Method_input!$D$65*C8535+Method_input!$D$65*D8535+Method_input!$D$65*E8535+Method_input!$D$65*F8535","v":0},{"$f":"Method_input!$D$65*B8535+Method_input!$D$64*Input_series!AG8531+Method_input!$D$65*F8535","v":0}]
[8519,0,0,0,0,0,0,0,0,0,16,12,16,12,0,0,0,12,0,12,0,0,16,12,null,0,{"$f":"Method_input!$D$65*B8536+Method_input!$D$64*Input_series!AG8532+Method_input!$D$65*C8536+Method_input!$D$65*D8536+Method_input!$D$65*E8536+Method_input!$D$65*F8536","v":0},{"$f":"Method_input!$D$65*B8536+Method_input!$D$64*Input_series!AG8532+Method_input!$D$65*F8536","v":0}]
[8520,0,0,0,0,0,0,0,0,0,16,12,16,12,0,0,0,12,0,12,0,0,16,12,null,0,{"$f":"Method_input!$D$65*B8537+Method_input!$D$64*Input_series!AG8533+Method_input!$D$65*C8537+Method_input!$D$65*D8537+Method_input!$D$65*E8537+Method_input!$D$65*F8537","v":0},{"$f":"Method_input!$D$65*B8537+Method_input!$D$64*Input_series!AG8533+Method_input!$D$65*F8537","v":0}]
[8521,0,0,0,0,0,0,0,0,0,16,12,16,12,0,0,0,12,0,12,0,0,16,12,null,0,{"$f":"Method_input!$D$65*B8538+Method_input!$D$64*Input_series!AG8534+Method_input!$D$65*C8538+Method_input!$D$65*D8538+Method_input!$D$65*E8538+Method_input!$D$65*F8538","v":0},{"$f":"Method_input!$D$65*B8538+Method_input!$D$64*Input_series!AG8534+Method_input!$D$65*F8538","v":0}]
[8522,0,0,0,0,0,0,0,0,0,16,12,16,12,0,0,0,12,0,12,0,0,16,12,null,0,{"$f":"Method_input!$D$65*B8539+Method_input!$D$64*Input_series!AG8535+Method_input!$D$65*C8539+Method_input!$D$65*D8539+Method_input!$D$65*E8539+Method_input!$D$65*F8539","v":0},{"$f":"Method_input!$D$65*B8539+Method_input!$D$64*Input_series!AG8535+Method_input!$D$65*F8539","v":0}]
[8523,0,0,0,0,0,0,0,0,0,16,12,16,12,0,0,0,12,0,12,0,0,16,12,null,0,{"$f":"Method_input!$D$65*B8540+Method_input!$D$64*Input_series!AG8536+Method_input!$D$65*C8540+Method_input!$D$65*D8540+Method_input!$D$65*E8540+Method_input!$D$65*F8540","v":0},{"$f":"Method_input!$D$65*B8540+Method_input!$D$64*Input_series!AG8536+Method_input!$D$65*F8540","v":0}]
[8524,0,0,0,0,0,0,0,0,0,16,12,16,12,0,0,0,12,0,12,0,0,16,12,null,0,{"$f":"Method_input!$D$65*B8541+Method_input!$D$64*Input_series!AG8537+Method_input!$D$65*C8541+Method_input!$D$65*D8541+Method_input!$D$65*E8541+Method_input!$D$65*F8541","v":0},{"$f":"Method_input!$D$65*B8541+Method_input!$D$64*Input_series!AG8537+Method_input!$D$65*F8541","v":0}]
[8525,0,0,0,0,0,0,0,0,0,16,12,16,12,0,0,0,12,0,12,0,0,16,12,null,0,{"$f":"Method_input!$D$65*B8542+Method_input!$D$64*Input_series!AG8538+Method_input!$D$65*C8542+Method_input!$D$65*D8542+Method_input!$D$65*E8542+Method_input!$D$65*F8542","v":0},{"$f":"Method_input!$D$65*B8542+Method_input!$D$64*Input_series!AG8538+Method_input!$D$65*F8542","v":0}]
[8526,0,0,0,0,0,0,0,0,0,16,12,16,12,0,0,0,12,0,12,0,0,16,12,null,0,{"$f":"Method_input!$D$65*B8543+Method_input!$D$64*Input_series!AG8539+Method_input!$D$65*C8543+Method_input!$D$65*D8543+Method_input!$D$65*E8543+Method_input!$D$65*F8543","v":0},{"$f":"Method_input!$D$65*B8543+Method_input!$D$64*Input_series!AG8539+Method_input!$D$65*F8543","v":0}]
[8527,0,0,0,0,0,0,0,0,0,16,12,16,12,0,0,0,12,0,12,0,0,16,12,null,0,{"$f":"Method_input!$D$65*B8544+Method_input!$D$64*Input_series!AG8540+Method_input!$D$65*C8544+Method_input!$D$65*D8544+Method_input!$D$65*E8544+Method_input!$D$65*F8544","v":0},{"$f":"Method_input!$D$65*B8544+Method_input!$D$64*Input_series!AG8540+Method_input!$D$65*F8544","v":0}]
[8528,0,0,0,0,0,0,0,0,0,16,12,16,12,0,0,0,12,0,12,0,0,16,12,null,0,{"$f":"Method_input!$D$65*B8545+Method_input!$D$64*Input_series!AG8541+Method_input!$D$65*C8545+Method_input!$D$65*D8545+Method_input!$D$65*E8545+Method_input!$D$65*F8545","v":0},{"$f":"Method_input!$D$65*B8545+Method_input!$D$64*Input_series!AG8541+Method_input!$D$65*F8545","v":0}]
[8529,0,0,0,0,0,0,0,0,0,16,12,16,12,0,0,0,12,0,12,0,0,16,12,null,0,{"$f":"Method_input!$D$65*B8546+Method_input!$D$64*Input_series!AG8542+Method_input!$D$65*C8546+Method_input!$D$65*D8546+Method_input!$D$65*E8546+Method_input!$D$65*F8546","v":0},{"$f":"Method_input!$D$65*B8546+Method_input!$D$64*Input_series!AG8542+Method_input!$D$65*F8546","v":0}]
[8530,0,0,0,0,0,0,0,0,0,16,12,16,12,0,0,0,12,0,12,0,0,16,12,null,0,{"$f":"Method_input!$D$65*B8547+Method_input!$D$64*Input_series!AG8543+Method_input!$D$65*C8547+Method_input!$D$65*D8547+Method_input!$D$65*E8547+Method_input!$D$65*F8547","v":0},{"$f":"Method_input!$D$65*B8547+Method_input!$D$64*Input_series!AG8543+Method_input!$D$65*F8547","v":0}]
[8531,0,0,0,0,0,0,0,0,0,16,12,16,12,0,0,0,12,0,12,0,0,16,12,null,0,{"$f":"Method_input!$D$65*B8548+Method_input!$D$64*Input_series!AG8544+Method_input!$D$65*C8548+Method_input!$D$65*D8548+Method_input!$D$65*E8548+Method_input!$D$65*F8548","v":0},{"$f":"Method_input!$D$65*B8548+Method_input!$D$64*Input_series!AG8544+Method_input!$D$65*F8548","v":0}]
[8532,0,0,0,0,0,0,0,0,0,16,12,16,12,0,0,0,12,0,12,0,0,16,12,null,0,{"$f":"Method_input!$D$65*B8549+Method_input!$D$64*Input_series!AG8545+Method_input!$D$65*C8549+Method_input!$D$65*D8549+Method_input!$D$65*E8549+Method_input!$D$65*F8549","v":0},{"$f":"Method_input!$D$65*B8549+Method_input!$D$64*Input_series!AG8545+Method_input!$D$65*F8549","v":0}]
[8533,0,0,0,0,0,0,0,0,0,16,12,16,12,0,0,0,12,0,12,0,0,16,12,null,0,{"$f":"Method_input!$D$65*B8550+Method_input!$D$64*Input_series!AG8546+Method_input!$D$65*C8550+Method_input!$D$65*D8550+Method_input!$D$65*E8550+Method_input!$D$65*F8550","v":0},{"$f":"Method_input!$D$65*B8550+Method_input!$D$64*Input_series!AG8546+Method_input!$D$65*F8550","v":0}]
[8534,0,0,0,0,0,0,0,0,0,16,12,16,12,0,0,0,12,0,12,0,0,16,12,null,0,{"$f":"Method_input!$D$65*B8551+Method_input!$D$64*Input_series!AG8547+Method_input!$D$65*C8551+Method_input!$D$65*D8551+Method_input!$D$65*E8551+Method_input!$D$65*F8551","v":0},{"$f":"Method_input!$D$65*B8551+Method_input!$D$64*Input_series!AG8547+Method_input!$D$65*F8551","v":0}]
[8535,0,0,0,0,0,0,0,0,0,16,12,16,12,0,0,0,12,0,12,0,0,16,12,null,0,{"$f":"Method_input!$D$65*B8552+Method_input!$D$64*Input_series!AG8548+Method_input!$D$65*C8552+Method_input!$D$65*D8552+Method_input!$D$65*E8552+Method_input!$D$65*F8552","v":0},{"$f":"Method_input!$D$65*B8552+Method_input!$D$64*Input_series!AG8548+Method_input!$D$65*F8552","v":0}]
[8536,0,0,0,0,0,0,0,0,0,16,12,16,12,0,0,0,12,0,12,0,0,16,12,null,0,{"$f":"Method_input!$D$65*B8553+Method_input!$D$64*Input_series!AG8549+Method_input!$D$65*C8553+Method_input!$D$65*D8553+Method_input!$D$65*E8553+Method_input!$D$65*F8553","v":0},{"$f":"Method_input!$D$65*B8553+Method_input!$D$64*Input_series!AG8549+Method_input!$D$65*F8553","v":0}]
[8537,0,0,0,0,0,0,0,0,0,16,12,16,12,0,0,0,12,0,12,0,0,16,12,null,0,{"$f":"Method_input!$D$65*B8554+Method_input!$D$64*Input_series!AG8550+Method_input!$D$65*C8554+Method_input!$D$65*D8554+Method_input!$D$65*E8554+Method_input!$D$65*F8554","v":0},{"$f":"Method_input!$D$65*B8554+Method_input!$D$64*Input_series!AG8550+Method_input!$D$65*F8554","v":0}]
[8538,0,0,0,0,0,0,0,0,0,16,12,16,12,0,0,0,12,0,12,0,0,16,12,null,0,{"$f":"Method_input!$D$65*B8555+Method_input!$D$64*Input_series!AG8551+Method_input!$D$65*C8555+Method_input!$D$65*D8555+Method_input!$D$65*E8555+Method_input!$D$65*F8555","v":0},{"$f":"Method_input!$D$65*B8555+Method_input!$D$64*Input_series!AG8551+Method_input!$D$65*F8555","v":0}]
[8539,0,0,0,0,0,0,0,0,0,16,12,16,12,0,0,0,12,0,12,0,0,16,12,null,0,{"$f":"Method_input!$D$65*B8556+Method_input!$D$64*Input_series!AG8552+Method_input!$D$65*C8556+Method_input!$D$65*D8556+Method_input!$D$65*E8556+Method_input!$D$65*F8556","v":0},{"$f":"Method_input!$D$65*B8556+Method_input!$D$64*Input_series!AG8552+Method_input!$D$65*F8556","v":0}]
[8540,0,0,0,0,0,0,0,0,0,16,12,16,12,0,0,0,12,0,12,0,0,16,12,null,0,{"$f":"Method_input!$D$65*B8557+Method_input!$D$64*Input_series!AG8553+Method_input!$D$65*C8557+Method_input!$D$65*D8557+Method_input!$D$65*E8557+Method_input!$D$65*F8557","v":0},{"$f":"Method_input!$D$65*B8557+Method_input!$D$64*Input_series!AG8553+Method_input!$D$65*F8557","v":0}]
[8541,0,0,0,0,0,0,0,0,0,16,12,16,12,0,0,0,12,0,12,0,0,16,12,null,0,{"$f":"Method_input!$D$65*B8558+Method_input!$D$64*Input_series!AG8554+Method_input!$D$65*C8558+Method_input!$D$65*D8558+Method_input!$D$65*E8558+Method_input!$D$65*F8558","v":0},{"$f":"Method_input!$D$65*B8558+Method_input!$D$64*Input_series!AG8554+Method_input!$D$65*F8558","v":0}]
[8542,0,0,0,0,0,0,0,0,0,16,12,16,12,0,0,0,12,0,12,0,0,16,12,null,0,{"$f":"Method_input!$D$65*B8559+Method_input!$D$64*Input_series!AG8555+Method_input!$D$65*C8559+Method_input!$D$65*D8559+Method_input!$D$65*E8559+Method_input!$D$65*F8559","v":0},{"$f":"Method_input!$D$65*B8559+Method_input!$D$64*Input_series!AG8555+Method_input!$D$65*F8559","v":0}]
[8543,0,0,0,0,0,0,0,0,0,16,12,16,12,0,0,0,12,0,12,0,0,16,12,null,0,{"$f":"Method_input!$D$65*B8560+Method_input!$D$64*Input_series!AG8556+Method_input!$D$65*C8560+Method_input!$D$65*D8560+Method_input!$D$65*E8560+Method_input!$D$65*F8560","v":0},{"$f":"Method_input!$D$65*B8560+Method_input!$D$64*Input_series!AG8556+Method_input!$D$65*F8560","v":0}]
[8544,0,0,0,0,0,0,0,0,0,16,12,16,12,0,0,0,12,0,12,0,0,16,12,null,0,{"$f":"Method_input!$D$65*B8561+Method_input!$D$64*Input_series!AG8557+Method_input!$D$65*C8561+Method_input!$D$65*D8561+Method_input!$D$65*E8561+Method_input!$D$65*F8561","v":0},{"$f":"Method_input!$D$65*B8561+Method_input!$D$64*Input_series!AG8557+Method_input!$D$65*F8561","v":0}]
[8545,0,0,0,0,0,0,0,0,0,16,12,16,12,0,0,0,12,0,12,0,0,16,12,null,0,{"$f":"Method_input!$D$65*B8562+Method_input!$D$64*Input_series!AG8558+Method_input!$D$65*C8562+Method_input!$D$65*D8562+Method_input!$D$65*E8562+Method_input!$D$65*F8562","v":0},{"$f":"Method_input!$D$65*B8562+Method_input!$D$64*Input_series!AG8558+Method_input!$D$65*F8562","v":0}]
[8546,0,0,0,0,0,0,0,0,0,16,12,16,12,0,0,0,12,0,12,0,0,16,12,null,0,{"$f":"Method_input!$D$65*B8563+Method_input!$D$64*Input_series!AG8559+Method_input!$D$65*C8563+Method_input!$D$65*D8563+Method_input!$D$65*E8563+Method_input!$D$65*F8563","v":0},{"$f":"Method_input!$D$65*B8563+Method_input!$D$64*Input_series!AG8559+Method_input!$D$65*F8563","v":0}]
[8547,0,0,0,0,0,0,0,0,0,16,12,16,12,0,0,0,12,0,12,0,0,16,12,null,0,{"$f":"Method_input!$D$65*B8564+Method_input!$D$64*Input_series!AG8560+Method_input!$D$65*C8564+Method_input!$D$65*D8564+Method_input!$D$65*E8564+Method_input!$D$65*F8564","v":0},{"$f":"Method_input!$D$65*B8564+Method_input!$D$64*Input_series!AG8560+Method_input!$D$65*F8564","v":0}]
[8548,0,0,0,0,0,0,0,0,0,16,12,16,12,0,0,0,12,0,12,0,0,16,12,null,0,{"$f":"Method_input!$D$65*B8565+Method_input!$D$64*Input_series!AG8561+Method_input!$D$65*C8565+Method_input!$D$65*D8565+Method_input!$D$65*E8565+Method_input!$D$65*F8565","v":0},{"$f":"Method_input!$D$65*B8565+Method_input!$D$64*Input_series!AG8561+Method_input!$D$65*F8565","v":0}]
[8549,0,0,0,0,0,0,0,0,0,16,12,16,12,0,0,0,12,0,12,0,0,16,12,null,0,{"$f":"Method_input!$D$65*B8566+Method_input!$D$64*Input_series!AG8562+Method_input!$D$65*C8566+Method_input!$D$65*D8566+Method_input!$D$65*E8566+Method_input!$D$65*F8566","v":0},{"$f":"Method_input!$D$65*B8566+Method_input!$D$64*Input_series!AG8562+Method_input!$D$65*F8566","v":0}]
[8550,0,0,0,0,0,0,0,0,0,16,12,16,12,0,0,0,12,0,12,0,0,16,12,null,0,{"$f":"Method_input!$D$65*B8567+Method_input!$D$64*Input_series!AG8563+Method_input!$D$65*C8567+Method_input!$D$65*D8567+Method_input!$D$65*E8567+Method_input!$D$65*F8567","v":0},{"$f":"Method_input!$D$65*B8567+Method_input!$D$64*Input_series!AG8563+Method_input!$D$65*F8567","v":0}]
[8551,0,0,0,0,0,0,0,0,0,16,12,16,12,0,0,0,12,0,12,0,0,16,12,null,0,{"$f":"Method_input!$D$65*B8568+Method_input!$D$64*Input_series!AG8564+Method_input!$D$65*C8568+Method_input!$D$65*D8568+Method_input!$D$65*E8568+Method_input!$D$65*F8568","v":0},{"$f":"Method_input!$D$65*B8568+Method_input!$D$64*Input_series!AG8564+Method_input!$D$65*F8568","v":0}]
[8552,0,0,0,0,0,0,0,0,0,16,12,16,12,0,0,0,12,0,12,0,0,16,12,null,0,{"$f":"Method_input!$D$65*B8569+Method_input!$D$64*Input_series!AG8565+Method_input!$D$65*C8569+Method_input!$D$65*D8569+Method_input!$D$65*E8569+Method_input!$D$65*F8569","v":0},{"$f":"Method_input!$D$65*B8569+Method_input!$D$64*Input_series!AG8565+Method_input!$D$65*F8569","v":0}]
[8553,0,0,0,0,0,0,0,0,0,16,12,16,12,0,0,0,12,0,12,0,0,16,12,null,0,{"$f":"Method_input!$D$65*B8570+Method_input!$D$64*Input_series!AG8566+Method_input!$D$65*C8570+Method_input!$D$65*D8570+Method_input!$D$65*E8570+Method_input!$D$65*F8570","v":0},{"$f":"Method_input!$D$65*B8570+Method_input!$D$64*Input_series!AG8566+Method_input!$D$65*F8570","v":0}]
[8554,0,0,0,0,0,0,0,0,0,16,12,16,12,0,0,0,12,0,12,0,0,16,12,null,0,{"$f":"Method_input!$D$65*B8571+Method_input!$D$64*Input_series!AG8567+Method_input!$D$65*C8571+Method_input!$D$65*D8571+Method_input!$D$65*E8571+Method_input!$D$65*F8571","v":0},{"$f":"Method_input!$D$65*B8571+Method_input!$D$64*Input_series!AG8567+Method_input!$D$65*F8571","v":0}]
[8555,0,0,0,0,0,0,0,0,0,16,12,16,12,0,0,0,12,0,12,0,0,16,12,null,0,{"$f":"Method_input!$D$65*B8572+Method_input!$D$64*Input_series!AG8568+Method_input!$D$65*C8572+Method_input!$D$65*D8572+Method_input!$D$65*E8572+Method_input!$D$65*F8572","v":0},{"$f":"Method_input!$D$65*B8572+Method_input!$D$64*Input_series!AG8568+Method_input!$D$65*F8572","v":0}]
[8556,0,0,0,0,0,0,0,0,0,16,12,16,12,0,0,0,12,0,12,0,0,16,12,null,0,{"$f":"Method_input!$D$65*B8573+Method_input!$D$64*Input_series!AG8569+Method_input!$D$65*C8573+Method_input!$D$65*D8573+Method_input!$D$65*E8573+Method_input!$D$65*F8573","v":0},{"$f":"Method_input!$D$65*B8573+Method_input!$D$64*Input_series!AG8569+Method_input!$D$65*F8573","v":0}]
[8557,0,0,0,0,0,0,0,0,0,16,12,16,12,0,0,0,12,0,12,0,0,16,12,null,0,{"$f":"Method_input!$D$65*B8574+Method_input!$D$64*Input_series!AG8570+Method_input!$D$65*C8574+Method_input!$D$65*D8574+Method_input!$D$65*E8574+Method_input!$D$65*F8574","v":0},{"$f":"Method_input!$D$65*B8574+Method_input!$D$64*Input_series!AG8570+Method_input!$D$65*F8574","v":0}]
[8558,0,0,0,0,0,0,0,0,0,16,12,16,12,0,0,0,12,0,12,0,0,16,12,null,0,{"$f":"Method_input!$D$65*B8575+Method_input!$D$64*Input_series!AG8571+Method_input!$D$65*C8575+Method_input!$D$65*D8575+Method_input!$D$65*E8575+Method_input!$D$65*F8575","v":0},{"$f":"Method_input!$D$65*B8575+Method_input!$D$64*Input_series!AG8571+Method_input!$D$65*F8575","v":0}]
[8559,0,0,0,0,0,0,0,0,0,16,12,16,12,0,0,0,12,0,12,0,0,16,12,null,0,{"$f":"Method_input!$D$65*B8576+Method_input!$D$64*Input_series!AG8572+Method_input!$D$65*C8576+Method_input!$D$65*D8576+Method_input!$D$65*E8576+Method_input!$D$65*F8576","v":0},{"$f":"Method_input!$D$65*B8576+Method_input!$D$64*Input_series!AG8572+Method_input!$D$65*F8576","v":0}]
[8560,0,0,0,0,0,0,0,0,0,16,12,16,12,0,0,0,12,0,12,0,0,16,12,null,0,{"$f":"Method_input!$D$65*B8577+Method_input!$D$64*Input_series!AG8573+Method_input!$D$65*C8577+Method_input!$D$65*D8577+Method_input!$D$65*E8577+Method_input!$D$65*F8577","v":0},{"$f":"Method_input!$D$65*B8577+Method_input!$D$64*Input_series!AG8573+Method_input!$D$65*F8577","v":0}]
[8561,0,0,0,0,0,0,0,0,0,16,12,16,12,0,0,0,12,0,12,0,0,16,12,null,0,{"$f":"Method_input!$D$65*B8578+Method_input!$D$64*Input_series!AG8574+Method_input!$D$65*C8578+Method_input!$D$65*D8578+Method_input!$D$65*E8578+Method_input!$D$65*F8578","v":0},{"$f":"Method_input!$D$65*B8578+Method_input!$D$64*Input_series!AG8574+Method_input!$D$65*F8578","v":0}]
[8562,0,0,0,0,0,0,0,0,0,16,12,16,12,0,0,0,12,0,12,0,0,16,12,null,0,{"$f":"Method_input!$D$65*B8579+Method_input!$D$64*Input_series!AG8575+Method_input!$D$65*C8579+Method_input!$D$65*D8579+Method_input!$D$65*E8579+Method_input!$D$65*F8579","v":0},{"$f":"Method_input!$D$65*B8579+Method_input!$D$64*Input_series!AG8575+Method_input!$D$65*F8579","v":0}]
[8563,0,0,0,0,0,0,0,0,0,16,12,16,12,0,0,0,12,0,12,0,0,16,12,null,0,{"$f":"Method_input!$D$65*B8580+Method_input!$D$64*Input_series!AG8576+Method_input!$D$65*C8580+Method_input!$D$65*D8580+Method_input!$D$65*E8580+Method_input!$D$65*F8580","v":0},{"$f":"Method_input!$D$65*B8580+Method_input!$D$64*Input_series!AG8576+Method_input!$D$65*F8580","v":0}]
[8564,0,0,0,0,0,0,0,0,0,16,12,16,12,0,0,0,12,0,12,0,0,16,12,null,0,{"$f":"Method_input!$D$65*B8581+Method_input!$D$64*Input_series!AG8577+Method_input!$D$65*C8581+Method_input!$D$65*D8581+Method_input!$D$65*E8581+Method_input!$D$65*F8581","v":0},{"$f":"Method_input!$D$65*B8581+Method_input!$D$64*Input_series!AG8577+Method_input!$D$65*F8581","v":0}]
[8565,0,0,0,0,0,0,0,0,0,16,12,16,12,0,0,0,12,0,12,0,0,16,12,null,0,{"$f":"Method_input!$D$65*B8582+Method_input!$D$64*Input_series!AG8578+Method_input!$D$65*C8582+Method_input!$D$65*D8582+Method_input!$D$65*E8582+Method_input!$D$65*F8582","v":0},{"$f":"Method_input!$D$65*B8582+Method_input!$D$64*Input_series!AG8578+Method_input!$D$65*F8582","v":0}]
[8566,0,0,0,0,0,0,0,0,0,16,12,16,12,0,0,0,12,0,12,0,0,16,12,null,0,{"$f":"Method_input!$D$65*B8583+Method_input!$D$64*Input_series!AG8579+Method_input!$D$65*C8583+Method_input!$D$65*D8583+Method_input!$D$65*E8583+Method_input!$D$65*F8583","v":0},{"$f":"Method_input!$D$65*B8583+Method_input!$D$64*Input_series!AG8579+Method_input!$D$65*F8583","v":0}]
[8567,0,0,0,0,0,0,0,0,0,16,12,16,12,0,0,0,12,0,12,0,0,16,12,null,0,{"$f":"Method_input!$D$65*B8584+Method_input!$D$64*Input_series!AG8580+Method_input!$D$65*C8584+Method_input!$D$65*D8584+Method_input!$D$65*E8584+Method_input!$D$65*F8584","v":0},{"$f":"Method_input!$D$65*B8584+Method_input!$D$64*Input_series!AG8580+Method_input!$D$65*F8584","v":0}]
[8568,0,0,0,0,0,0,0,0,0,16,12,16,12,0,0,0,12,0,12,0,0,16,12,null,0,{"$f":"Method_input!$D$65*B8585+Method_input!$D$64*Input_series!AG8581+Method_input!$D$65*C8585+Method_input!$D$65*D8585+Method_input!$D$65*E8585+Method_input!$D$65*F8585","v":0},{"$f":"Method_input!$D$65*B8585+Method_input!$D$64*Input_series!AG8581+Method_input!$D$65*F8585","v":0}]
[8569,0,0,0,0,0,0,0,0,0,16,12,16,12,0,0,0,12,0,12,0,0,16,12,null,0,{"$f":"Method_input!$D$65*B8586+Method_input!$D$64*Input_series!AG8582+Method_input!$D$65*C8586+Method_input!$D$65*D8586+Method_input!$D$65*E8586+Method_input!$D$65*F8586","v":0},{"$f":"Method_input!$D$65*B8586+Method_input!$D$64*Input_series!AG8582+Method_input!$D$65*F8586","v":0}]
[8570,0,0,0,0,0,0,0,0,0,16,12,16,12,0,0,0,12,0,12,0,0,16,12,null,0,{"$f":"Method_input!$D$65*B8587+Method_input!$D$64*Input_series!AG8583+Method_input!$D$65*C8587+Method_input!$D$65*D8587+Method_input!$D$65*E8587+Method_input!$D$65*F8587","v":0},{"$f":"Method_input!$D$65*B8587+Method_input!$D$64*Input_series!AG8583+Method_input!$D$65*F8587","v":0}]
[8571,0,0,0,0,0,0,0,0,0,16,12,16,12,0,0,0,12,0,12,0,0,16,12,null,0,{"$f":"Method_input!$D$65*B8588+Method_input!$D$64*Input_series!AG8584+Method_input!$D$65*C8588+Method_input!$D$65*D8588+Method_input!$D$65*E8588+Method_input!$D$65*F8588","v":0},{"$f":"Method_input!$D$65*B8588+Method_input!$D$64*Input_series!AG8584+Method_input!$D$65*F8588","v":0}]
[8572,0,0,0,0,0,0,0,0,0,16,12,16,12,0,0,0,12,0,12,0,0,16,12,null,0,{"$f":"Method_input!$D$65*B8589+Method_input!$D$64*Input_series!AG8585+Method_input!$D$65*C8589+Method_input!$D$65*D8589+Method_input!$D$65*E8589+Method_input!$D$65*F8589","v":0},{"$f":"Method_input!$D$65*B8589+Method_input!$D$64*Input_series!AG8585+Method_input!$D$65*F8589","v":0}]
[8573,0,0,0,0,0,0,0,0,0,16,12,16,12,0,0,0,12,0,12,0,0,16,12,null,0,{"$f":"Method_input!$D$65*B8590+Method_input!$D$64*Input_series!AG8586+Method_input!$D$65*C8590+Method_input!$D$65*D8590+Method_input!$D$65*E8590+Method_input!$D$65*F8590","v":0},{"$f":"Method_input!$D$65*B8590+Method_input!$D$64*Input_series!AG8586+Method_input!$D$65*F8590","v":0}]
[8574,0,0,0,0,0,0,0,0,0,16,12,16,12,0,0,0,12,0,12,0,0,16,12,null,0,{"$f":"Method_input!$D$65*B8591+Method_input!$D$64*Input_series!AG8587+Method_input!$D$65*C8591+Method_input!$D$65*D8591+Method_input!$D$65*E8591+Method_input!$D$65*F8591","v":0},{"$f":"Method_input!$D$65*B8591+Method_input!$D$64*Input_series!AG8587+Method_input!$D$65*F8591","v":0}]
[8575,0,0,0,0,0,0,0,0,0,16,12,16,12,0,0,0,12,0,12,0,0,16,12,null,0,{"$f":"Method_input!$D$65*B8592+Method_input!$D$64*Input_series!AG8588+Method_input!$D$65*C8592+Method_input!$D$65*D8592+Method_input!$D$65*E8592+Method_input!$D$65*F8592","v":0},{"$f":"Method_input!$D$65*B8592+Method_input!$D$64*Input_series!AG8588+Method_input!$D$65*F8592","v":0}]
[8576,0,0,0,0,0,0,0,0,0,16,12,16,12,0,0,0,12,0,12,0,0,16,12,null,0,{"$f":"Method_input!$D$65*B8593+Method_input!$D$64*Input_series!AG8589+Method_input!$D$65*C8593+Method_input!$D$65*D8593+Method_input!$D$65*E8593+Method_input!$D$65*F8593","v":0},{"$f":"Method_input!$D$65*B8593+Method_input!$D$64*Input_series!AG8589+Method_input!$D$65*F8593","v":0}]
[8577,0,0,0,0,0,0,0,0,0,16,12,16,12,0,0,0,12,0,12,0,0,16,12,null,{"$f":"SUM(G8594:J8594,U8594:V8594)","v":0},{"$f":"Method_input!$D$65*B8594+Method_input!$D$64*Input_series!AG8590+Method_input!$D$65*C8594+Method_input!$D$65*D8594+Method_input!$D$65*E8594+Method_input!$D$65*F8594","v":0},{"$f":"Method_input!$D$65*B8594+Method_input!$D$64*Input_series!AG8590+Method_input!$D$65*F8594","v":0}]
[8578,0,0,0,0,0,0,0,0,0,16,12,16,12,0,0,0,12,0,12,0,0,16,12,null,0,{"$f":"Method_input!$D$65*B8595+Method_input!$D$64*Input_series!AG8591+Method_input!$D$65*C8595+Method_input!$D$65*D8595+Method_input!$D$65*E8595+Method_input!$D$65*F8595","v":0},{"$f":"Method_input!$D$65*B8595+Method_input!$D$64*Input_series!AG8591+Method_input!$D$65*F8595","v":0}]
[8579,0,0,0,0,0,0,0,0,0,16,12,16,12,0,0,0,12,0,12,0,0,16,12,null,0,{"$f":"Method_input!$D$65*B8596+Method_input!$D$64*Input_series!AG8592+Method_input!$D$65*C8596+Method_input!$D$65*D8596+Method_input!$D$65*E8596+Method_input!$D$65*F8596","v":0},{"$f":"Method_input!$D$65*B8596+Method_input!$D$64*Input_series!AG8592+Method_input!$D$65*F8596","v":0}]
[8580,0,0,0,0,0,0,0,0,0,16,12,16,12,0,0,0,12,0,12,0,0,16,12,null,0,{"$f":"Method_input!$D$65*B8597+Method_input!$D$64*Input_series!AG8593+Method_input!$D$65*C8597+Method_input!$D$65*D8597+Method_input!$D$65*E8597+Method_input!$D$65*F8597","v":0},{"$f":"Method_input!$D$65*B8597+Method_input!$D$64*Input_series!AG8593+Method_input!$D$65*F8597","v":0}]
[8581,0,0,0,0,0,0,0,0,0,16,12,16,12,0,0,0,12,0,12,0,0,16,12,null,0,{"$f":"Method_input!$D$65*B8598+Method_input!$D$64*Input_series!AG8594+Method_input!$D$65*C8598+Method_input!$D$65*D8598+Method_input!$D$65*E8598+Method_input!$D$65*F8598","v":0},{"$f":"Method_input!$D$65*B8598+Method_input!$D$64*Input_series!AG8594+Method_input!$D$65*F8598","v":0}]
[8582,0,0,0,0,0,0,0,0,0,16,12,16,12,0,0,0,12,0,12,0,0,16,12,null,0,{"$f":"Method_input!$D$65*B8599+Method_input!$D$64*Input_series!AG8595+Method_input!$D$65*C8599+Method_input!$D$65*D8599+Method_input!$D$65*E8599+Method_input!$D$65*F8599","v":0},{"$f":"Method_input!$D$65*B8599+Method_input!$D$64*Input_series!AG8595+Method_input!$D$65*F8599","v":0}]
[8583,0,0,0,0,0,0,0,0,0,16,12,16,12,0,0,0,12,0,12,0,0,16,12,null,0,{"$f":"Method_input!$D$65*B8600+Method_input!$D$64*Input_series!AG8596+Method_input!$D$65*C8600+Method_input!$D$65*D8600+Method_input!$D$65*E8600+Method_input!$D$65*F8600","v":0},{"$f":"Method_input!$D$65*B8600+Method_input!$D$64*Input_series!AG8596+Method_input!$D$65*F8600","v":0}]
[8584,0,0,0,0,0,0,0,0,0,16,12,16,12,0,0,0,12,0,12,0,0,16,12,null,0,{"$f":"Method_input!$D$65*B8601+Method_input!$D$64*Input_series!AG8597+Method_input!$D$65*C8601+Method_input!$D$65*D8601+Method_input!$D$65*E8601+Method_input!$D$65*F8601","v":0},{"$f":"Method_input!$D$65*B8601+Method_input!$D$64*Input_series!AG8597+Method_input!$D$65*F8601","v":0}]
[8585,0,0,0,0,0,0,0,0,0,16,12,16,12,0,0,0,12,0,12,0,0,16,12,null,0,{"$f":"Method_input!$D$65*B8602+Method_input!$D$64*Input_series!AG8598+Method_input!$D$65*C8602+Method_input!$D$65*D8602+Method_input!$D$65*E8602+Method_input!$D$65*F8602","v":0},{"$f":"Method_input!$D$65*B8602+Method_input!$D$64*Input_series!AG8598+Method_input!$D$65*F8602","v":0}]
[8586,0,0,0,0,0,0,0,0,0,16,12,16,12,0,0,0,12,0,12,0,0,16,12,null,0,{"$f":"Method_input!$D$65*B8603+Method_input!$D$64*Input_series!AG8599+Method_input!$D$65*C8603+Method_input!$D$65*D8603+Method_input!$D$65*E8603+Method_input!$D$65*F8603","v":0},{"$f":"Method_input!$D$65*B8603+Method_input!$D$64*Input_series!AG8599+Method_input!$D$65*F8603","v":0}]
[8587,0,0,0,0,0,0,0,0,0,16,12,16,12,0,0,0,12,0,12,0,0,16,12,null,0,{"$f":"Method_input!$D$65*B8604+Method_input!$D$64*Input_series!AG8600+Method_input!$D$65*C8604+Method_input!$D$65*D8604+Method_input!$D$65*E8604+Method_input!$D$65*F8604","v":0},{"$f":"Method_input!$D$65*B8604+Method_input!$D$64*Input_series!AG8600+Method_input!$D$65*F8604","v":0}]
[8588,0,0,0,0,0,0,0,0,0,16,12,16,12,0,0,0,12,0,12,0,0,16,12,null,0,{"$f":"Method_input!$D$65*B8605+Method_input!$D$64*Input_series!AG8601+Method_input!$D$65*C8605+Method_input!$D$65*D8605+Method_input!$D$65*E8605+Method_input!$D$65*F8605","v":0},{"$f":"Method_input!$D$65*B8605+Method_input!$D$64*Input_series!AG8601+Method_input!$D$65*F8605","v":0}]
[8589,0,0,0,0,0,0,0,0,0,16,12,16,12,0,0,0,12,0,12,0,0,16,12,null,0,{"$f":"Method_input!$D$65*B8606+Method_input!$D$64*Input_series!AG8602+Method_input!$D$65*C8606+Method_input!$D$65*D8606+Method_input!$D$65*E8606+Method_input!$D$65*F8606","v":0},{"$f":"Method_input!$D$65*B8606+Method_input!$D$64*Input_series!AG8602+Method_input!$D$65*F8606","v":0}]
[8590,0,0,0,0,0,0,0,0,0,16,12,16,12,0,0,0,12,0,12,0,0,16,12,null,0,{"$f":"Method_input!$D$65*B8607+Method_input!$D$64*Input_series!AG8603+Method_input!$D$65*C8607+Method_input!$D$65*D8607+Method_input!$D$65*E8607+Method_input!$D$65*F8607","v":0},{"$f":"Method_input!$D$65*B8607+Method_input!$D$64*Input_series!AG8603+Method_input!$D$65*F8607","v":0}]
[8591,0,0,0,0,0,0,0,0,0,16,12,16,12,0,0,0,12,0,12,0,0,16,12,null,0,{"$f":"Method_input!$D$65*B8608+Method_input!$D$64*Input_series!AG8604+Method_input!$D$65*C8608+Method_input!$D$65*D8608+Method_input!$D$65*E8608+Method_input!$D$65*F8608","v":0},{"$f":"Method_input!$D$65*B8608+Method_input!$D$64*Input_series!AG8604+Method_input!$D$65*F8608","v":0}]
[8592,0,0,0,0,0,0,0,0,0,16,12,16,12,0,0,0,12,0,12,0,0,16,12,null,0,{"$f":"Method_input!$D$65*B8609+Method_input!$D$64*Input_series!AG8605+Method_input!$D$65*C8609+Method_input!$D$65*D8609+Method_input!$D$65*E8609+Method_input!$D$65*F8609","v":0},{"$f":"Method_input!$D$65*B8609+Method_input!$D$64*Input_series!AG8605+Method_input!$D$65*F8609","v":0}]
[8593,0,0,0,0,0,0,0,0,0,16,12,16,12,0,0,0,12,0,12,0,0,16,12,null,0,{"$f":"Method_input!$D$65*B8610+Method_input!$D$64*Input_series!AG8606+Method_input!$D$65*C8610+Method_input!$D$65*D8610+Method_input!$D$65*E8610+Method_input!$D$65*F8610","v":0},{"$f":"Method_input!$D$65*B8610+Method_input!$D$64*Input_series!AG8606+Method_input!$D$65*F8610","v":0}]
[8594,0,0,0,0,0,0,0,0,0,16,12,16,12,0,0,0,12,0,12,0,0,16,12,null,0,{"$f":"Method_input!$D$65*B8611+Method_input!$D$64*Input_series!AG8607+Method_input!$D$65*C8611+Method_input!$D$65*D8611+Method_input!$D$65*E8611+Method_input!$D$65*F8611","v":0},{"$f":"Method_input!$D$65*B8611+Method_input!$D$64*Input_series!AG8607+Method_input!$D$65*F8611","v":0}]
[8595,0,0,0,0,0,0,0,0,0,16,12,16,12,0,0,0,12,0,12,0,0,16,12,null,0,{"$f":"Method_input!$D$65*B8612+Method_input!$D$64*Input_series!AG8608+Method_input!$D$65*C8612+Method_input!$D$65*D8612+Method_input!$D$65*E8612+Method_input!$D$65*F8612","v":0},{"$f":"Method_input!$D$65*B8612+Method_input!$D$64*Input_series!AG8608+Method_input!$D$65*F8612","v":0}]
[8596,0,0,0,0,0,0,0,0,0,16,12,16,12,0,0,0,12,0,12,0,0,16,12,null,0,{"$f":"Method_input!$D$65*B8613+Method_input!$D$64*Input_series!AG8609+Method_input!$D$65*C8613+Method_input!$D$65*D8613+Method_input!$D$65*E8613+Method_input!$D$65*F8613","v":0},{"$f":"Method_input!$D$65*B8613+Method_input!$D$64*Input_series!AG8609+Method_input!$D$65*F8613","v":0}]
[8597,0,0,0,0,0,0,0,0,0,16,12,16,12,0,0,0,12,0,12,0,0,16,12,null,0,{"$f":"Method_input!$D$65*B8614+Method_input!$D$64*Input_series!AG8610+Method_input!$D$65*C8614+Method_input!$D$65*D8614+Method_input!$D$65*E8614+Method_input!$D$65*F8614","v":0},{"$f":"Method_input!$D$65*B8614+Method_input!$D$64*Input_series!AG8610+Method_input!$D$65*F8614","v":0}]
[8598,0,0,0,0,0,0,0,0,0,16,12,16,12,0,0,0,12,0,12,0,0,16,12,null,0,{"$f":"Method_input!$D$65*B8615+Method_input!$D$64*Input_series!AG8611+Method_input!$D$65*C8615+Method_input!$D$65*D8615+Method_input!$D$65*E8615+Method_input!$D$65*F8615","v":0},{"$f":"Method_input!$D$65*B8615+Method_input!$D$64*Input_series!AG8611+Method_input!$D$65*F8615","v":0}]
[8599,0,0,0,0,0,0,0,0,0,16,12,16,12,0,0,0,12,0,12,0,0,16,12,null,0,{"$f":"Method_input!$D$65*B8616+Method_input!$D$64*Input_series!AG8612+Method_input!$D$65*C8616+Method_input!$D$65*D8616+Method_input!$D$65*E8616+Method_input!$D$65*F8616","v":0},{"$f":"Method_input!$D$65*B8616+Method_input!$D$64*Input_series!AG8612+Method_input!$D$65*F8616","v":0}]
[8600,0,0,0,0,0,0,0,0,0,16,12,16,12,0,0,0,12,0,12,0,0,16,12,null,0,{"$f":"Method_input!$D$65*B8617+Method_input!$D$64*Input_series!AG8613+Method_input!$D$65*C8617+Method_input!$D$65*D8617+Method_input!$D$65*E8617+Method_input!$D$65*F8617","v":0},{"$f":"Method_input!$D$65*B8617+Method_input!$D$64*Input_series!AG8613+Method_input!$D$65*F8617","v":0}]
[8601,0,0,0,0,0,0,0,0,0,16,12,16,12,0,0,0,12,0,12,0,0,16,12,null,0,{"$f":"Method_input!$D$65*B8618+Method_input!$D$64*Input_series!AG8614+Method_input!$D$65*C8618+Method_input!$D$65*D8618+Method_input!$D$65*E8618+Method_input!$D$65*F8618","v":0},{"$f":"Method_input!$D$65*B8618+Method_input!$D$64*Input_series!AG8614+Method_input!$D$65*F8618","v":0}]
[8602,0,0,0,0,0,0,0,0,0,16,12,16,12,0,0,0,12,0,12,0,0,16,12,null,0,{"$f":"Method_input!$D$65*B8619+Method_input!$D$64*Input_series!AG8615+Method_input!$D$65*C8619+Method_input!$D$65*D8619+Method_input!$D$65*E8619+Method_input!$D$65*F8619","v":0},{"$f":"Method_input!$D$65*B8619+Method_input!$D$64*Input_series!AG8615+Method_input!$D$65*F8619","v":0}]
[8603,0,0,0,0,0,0,0,0,0,16,12,16,12,0,0,0,12,0,12,0,0,16,12,null,0,{"$f":"Method_input!$D$65*B8620+Method_input!$D$64*Input_series!AG8616+Method_input!$D$65*C8620+Method_input!$D$65*D8620+Method_input!$D$65*E8620+Method_input!$D$65*F8620","v":0},{"$f":"Method_input!$D$65*B8620+Method_input!$D$64*Input_series!AG8616+Method_input!$D$65*F8620","v":0}]
[8604,0,0,0,0,0,0,0,0,0,16,12,16,12,0,0,0,12,0,12,0,0,16,12,null,0,{"$f":"Method_input!$D$65*B8621+Method_input!$D$64*Input_series!AG8617+Method_input!$D$65*C8621+Method_input!$D$65*D8621+Method_input!$D$65*E8621+Method_input!$D$65*F8621","v":0},{"$f":"Method_input!$D$65*B8621+Method_input!$D$64*Input_series!AG8617+Method_input!$D$65*F8621","v":0}]
[8605,0,0,0,0,0,0,0,0,0,16,12,16,12,0,0,0,12,0,12,0,0,16,12,null,0,{"$f":"Method_input!$D$65*B8622+Method_input!$D$64*Input_series!AG8618+Method_input!$D$65*C8622+Method_input!$D$65*D8622+Method_input!$D$65*E8622+Method_input!$D$65*F8622","v":0},{"$f":"Method_input!$D$65*B8622+Method_input!$D$64*Input_series!AG8618+Method_input!$D$65*F8622","v":0}]
[8606,0,0,0,0,0,0,0,0,0,16,12,16,12,0,0,0,12,0,12,0,0,16,12,null,0,{"$f":"Method_input!$D$65*B8623+Method_input!$D$64*Input_series!AG8619+Method_input!$D$65*C8623+Method_input!$D$65*D8623+Method_input!$D$65*E8623+Method_input!$D$65*F8623","v":0},{"$f":"Method_input!$D$65*B8623+Method_input!$D$64*Input_series!AG8619+Method_input!$D$65*F8623","v":0}]
[8607,0,0,0,0,0,0,0,0,0,16,12,16,12,0,0,0,12,0,12,0,0,16,12,null,0,{"$f":"Method_input!$D$65*B8624+Method_input!$D$64*Input_series!AG8620+Method_input!$D$65*C8624+Method_input!$D$65*D8624+Method_input!$D$65*E8624+Method_input!$D$65*F8624","v":0},{"$f":"Method_input!$D$65*B8624+Method_input!$D$64*Input_series!AG8620+Method_input!$D$65*F8624","v":0}]
[8608,0,0,0,0,0,0,0,0,0,16,12,16,12,0,0,0,12,0,12,0,0,16,12,null,0,{"$f":"Method_input!$D$65*B8625+Method_input!$D$64*Input_series!AG8621+Method_input!$D$65*C8625+Method_input!$D$65*D8625+Method_input!$D$65*E8625+Method_input!$D$65*F8625","v":0},{"$f":"Method_input!$D$65*B8625+Method_input!$D$64*Input_series!AG8621+Method_input!$D$65*F8625","v":0}]
[8609,0,0,0,0,0,0,0,0,0,16,12,16,12,0,0,0,12,0,12,0,0,16,12,null,0,{"$f":"Method_input!$D$65*B8626+Method_input!$D$64*Input_series!AG8622+Method_input!$D$65*C8626+Method_input!$D$65*D8626+Method_input!$D$65*E8626+Method_input!$D$65*F8626","v":0},{"$f":"Method_input!$D$65*B8626+Method_input!$D$64*Input_series!AG8622+Method_input!$D$65*F8626","v":0}]
[8610,0,0,0,0,0,0,0,0,0,16,12,16,12,0,0,0,12,0,12,0,0,16,12,null,0,{"$f":"Method_input!$D$65*B8627+Method_input!$D$64*Input_series!AG8623+Method_input!$D$65*C8627+Method_input!$D$65*D8627+Method_input!$D$65*E8627+Method_input!$D$65*F8627","v":0},{"$f":"Method_input!$D$65*B8627+Method_input!$D$64*Input_series!AG8623+Method_input!$D$65*F8627","v":0}]
[8611,0,0,0,0,0,0,0,0,0,16,12,16,12,0,0,0,12,0,12,0,0,16,12,null,0,{"$f":"Method_input!$D$65*B8628+Method_input!$D$64*Input_series!AG8624+Method_input!$D$65*C8628+Method_input!$D$65*D8628+Method_input!$D$65*E8628+Method_input!$D$65*F8628","v":0},{"$f":"Method_input!$D$65*B8628+Method_input!$D$64*Input_series!AG8624+Method_input!$D$65*F8628","v":0}]
[8612,0,0,0,0,0,0,0,0,0,16,12,16,12,0,0,0,12,0,12,0,0,16,12,null,0,{"$f":"Method_input!$D$65*B8629+Method_input!$D$64*Input_series!AG8625+Method_input!$D$65*C8629+Method_input!$D$65*D8629+Method_input!$D$65*E8629+Method_input!$D$65*F8629","v":0},{"$f":"Method_input!$D$65*B8629+Method_input!$D$64*Input_series!AG8625+Method_input!$D$65*F8629","v":0}]
[8613,0,0,0,0,0,0,0,0,0,16,12,16,12,0,0,0,12,0,12,0,0,16,12,null,0,{"$f":"Method_input!$D$65*B8630+Method_input!$D$64*Input_series!AG8626+Method_input!$D$65*C8630+Method_input!$D$65*D8630+Method_input!$D$65*E8630+Method_input!$D$65*F8630","v":0},{"$f":"Method_input!$D$65*B8630+Method_input!$D$64*Input_series!AG8626+Method_input!$D$65*F8630","v":0}]
[8614,0,0,0,0,0,0,0,0,0,16,12,16,12,0,0,0,12,0,12,0,0,16,12,null,0,{"$f":"Method_input!$D$65*B8631+Method_input!$D$64*Input_series!AG8627+Method_input!$D$65*C8631+Method_input!$D$65*D8631+Method_input!$D$65*E8631+Method_input!$D$65*F8631","v":0},{"$f":"Method_input!$D$65*B8631+Method_input!$D$64*Input_series!AG8627+Method_input!$D$65*F8631","v":0}]
[8615,0,0,0,0,0,0,0,0,0,16,12,16,12,0,0,0,12,0,12,0,0,16,12,null,0,{"$f":"Method_input!$D$65*B8632+Method_input!$D$64*Input_series!AG8628+Method_input!$D$65*C8632+Method_input!$D$65*D8632+Method_input!$D$65*E8632+Method_input!$D$65*F8632","v":0},{"$f":"Method_input!$D$65*B8632+Method_input!$D$64*Input_series!AG8628+Method_input!$D$65*F8632","v":0}]
[8616,0,0,0,0,0,0,0,0,0,16,12,16,12,0,0,0,12,0,12,0,0,16,12,null,0,{"$f":"Method_input!$D$65*B8633+Method_input!$D$64*Input_series!AG8629+Method_input!$D$65*C8633+Method_input!$D$65*D8633+Method_input!$D$65*E8633+Method_input!$D$65*F8633","v":0},{"$f":"Method_input!$D$65*B8633+Method_input!$D$64*Input_series!AG8629+Method_input!$D$65*F8633","v":0}]
[8617,0,0,0,0,0,0,0,0,0,16,12,16,12,0,0,0,12,0,12,0,0,16,12,null,0,{"$f":"Method_input!$D$65*B8634+Method_input!$D$64*Input_series!AG8630+Method_input!$D$65*C8634+Method_input!$D$65*D8634+Method_input!$D$65*E8634+Method_input!$D$65*F8634","v":0},{"$f":"Method_input!$D$65*B8634+Method_input!$D$64*Input_series!AG8630+Method_input!$D$65*F8634","v":0}]
[8618,0,0,0,0,0,0,0,0,0,16,12,16,12,0,0,0,12,0,12,0,0,16,12,null,0,{"$f":"Method_input!$D$65*B8635+Method_input!$D$64*Input_series!AG8631+Method_input!$D$65*C8635+Method_input!$D$65*D8635+Method_input!$D$65*E8635+Method_input!$D$65*F8635","v":0},{"$f":"Method_input!$D$65*B8635+Method_input!$D$64*Input_series!AG8631+Method_input!$D$65*F8635","v":0}]
[8619,0,0,0,0,0,0,0,0,0,16,12,16,12,0,0,0,12,0,12,0,0,16,12,null,0,{"$f":"Method_input!$D$65*B8636+Method_input!$D$64*Input_series!AG8632+Method_input!$D$65*C8636+Method_input!$D$65*D8636+Method_input!$D$65*E8636+Method_input!$D$65*F8636","v":0},{"$f":"Method_input!$D$65*B8636+Method_input!$D$64*Input_series!AG8632+Method_input!$D$65*F8636","v":0}]
[8620,0,0,0,0,0,0,0,0,0,16,12,16,12,0,0,0,12,0,12,0,0,16,12,null,0,{"$f":"Method_input!$D$65*B8637+Method_input!$D$64*Input_series!AG8633+Method_input!$D$65*C8637+Method_input!$D$65*D8637+Method_input!$D$65*E8637+Method_input!$D$65*F8637","v":0},{"$f":"Method_input!$D$65*B8637+Method_input!$D$64*Input_series!AG8633+Method_input!$D$65*F8637","v":0}]
[8621,0,0,0,0,0,0,0,0,0,16,12,16,12,0,0,0,12,0,12,0,0,16,12,null,0,{"$f":"Method_input!$D$65*B8638+Method_input!$D$64*Input_series!AG8634+Method_input!$D$65*C8638+Method_input!$D$65*D8638+Method_input!$D$65*E8638+Method_input!$D$65*F8638","v":0},{"$f":"Method_input!$D$65*B8638+Method_input!$D$64*Input_series!AG8634+Method_input!$D$65*F8638","v":0}]
[8622,0,0,0,0,0,0,0,0,0,16,12,16,12,0,0,0,12,0,12,0,0,16,12,null,0,{"$f":"Method_input!$D$65*B8639+Method_input!$D$64*Input_series!AG8635+Method_input!$D$65*C8639+Method_input!$D$65*D8639+Method_input!$D$65*E8639+Method_input!$D$65*F8639","v":0},{"$f":"Method_input!$D$65*B8639+Method_input!$D$64*Input_series!AG8635+Method_input!$D$65*F8639","v":0}]
[8623,0,0,0,0,0,0,0,0,0,16,12,16,12,0,0,0,12,0,12,0,0,16,12,null,0,{"$f":"Method_input!$D$65*B8640+Method_input!$D$64*Input_series!AG8636+Method_input!$D$65*C8640+Method_input!$D$65*D8640+Method_input!$D$65*E8640+Method_input!$D$65*F8640","v":0},{"$f":"Method_input!$D$65*B8640+Method_input!$D$64*Input_series!AG8636+Method_input!$D$65*F8640","v":0}]
[8624,0,0,0,0,0,0,0,0,0,16,12,16,12,0,0,0,12,0,12,0,0,16,12,null,0,{"$f":"Method_input!$D$65*B8641+Method_input!$D$64*Input_series!AG8637+Method_input!$D$65*C8641+Method_input!$D$65*D8641+Method_input!$D$65*E8641+Method_input!$D$65*F8641","v":0},{"$f":"Method_input!$D$65*B8641+Method_input!$D$64*Input_series!AG8637+Method_input!$D$65*F8641","v":0}]
[8625,0,0,0,0,0,0,0,0,0,16,12,16,12,0,0,0,12,0,12,0,0,16,12,null,0,{"$f":"Method_input!$D$65*B8642+Method_input!$D$64*Input_series!AG8638+Method_input!$D$65*C8642+Method_input!$D$65*D8642+Method_input!$D$65*E8642+Method_input!$D$65*F8642","v":0},{"$f":"Method_input!$D$65*B8642+Method_input!$D$64*Input_series!AG8638+Method_input!$D$65*F8642","v":0}]
[8626,0,0,0,0,0,0,0,0,0,16,12,16,12,0,0,0,12,0,12,0,0,16,12,null,0,{"$f":"Method_input!$D$65*B8643+Method_input!$D$64*Input_series!AG8639+Method_input!$D$65*C8643+Method_input!$D$65*D8643+Method_input!$D$65*E8643+Method_input!$D$65*F8643","v":0},{"$f":"Method_input!$D$65*B8643+Method_input!$D$64*Input_series!AG8639+Method_input!$D$65*F8643","v":0}]
[8627,0,0,1.2259796000000001E-3,0,0,0,0,0,0,16,12,22.03448275862069,18.03448275862069,0.13589208404285713,0.24540570088042857,2.6690844944630001,12,0,12,0.92965589999999998,1.717552,16.068476903274902,12.00050568297153,null,2.6472078999999997,{"$f":"Method_input!$D$65*B8644+Method_input!$D$64*Input_series!AG8640+Method_input!$D$65*C8644+Method_input!$D$65*D8644+Method_input!$D$65*E8644+Method_input!$D$65*F8644","v":1.2259796000000001E-3},{"$f":"Method_input!$D$65*B8644+Method_input!$D$64*Input_series!AG8640+Method_input!$D$65*F8644","v":0}]
[8628,0,0,0,0,0,0,0,0,0,16,12,16,12,0,0,0,12,0,12,0,0,16,12,null,0,{"$f":"Method_input!$D$65*B8645+Method_input!$D$64*Input_series!AG8641+Method_input!$D$65*C8645+Method_input!$D$65*D8645+Method_input!$D$65*E8645+Method_input!$D$65*F8645","v":0},{"$f":"Method_input!$D$65*B8645+Method_input!$D$64*Input_series!AG8641+Method_input!$D$65*F8645","v":0}]
[8629,0,0,0,0,0,0,0,0,0,16,12,16,12,0,0,0,12,0,12,0,0,16,12,null,0,{"$f":"Method_input!$D$65*B8646+Method_input!$D$64*Input_series!AG8642+Method_input!$D$65*C8646+Method_input!$D$65*D8646+Method_input!$D$65*E8646+Method_input!$D$65*F8646","v":0},{"$f":"Method_input!$D$65*B8646+Method_input!$D$64*Input_series!AG8642+Method_input!$D$65*F8646","v":0}]
[8630,0,0,0,0,0,0,0,0,0,16,12,16,12,0,0,0,12,0,12,0,0,16,12,null,0,{"$f":"Method_input!$D$65*B8647+Method_input!$D$64*Input_series!AG8643+Method_input!$D$65*C8647+Method_input!$D$65*D8647+Method_input!$D$65*E8647+Method_input!$D$65*F8647","v":0},{"$f":"Method_input!$D$65*B8647+Method_input!$D$64*Input_series!AG8643+Method_input!$D$65*F8647","v":0}]
[8631,0,0,0,0,0,0,0,0,0,16,12,16,12,0,0,0,12,0,12,0,0,16,12,null,0,{"$f":"Method_input!$D$65*B8648+Method_input!$D$64*Input_series!AG8644+Method_input!$D$65*C8648+Method_input!$D$65*D8648+Method_input!$D$65*E8648+Method_input!$D$65*F8648","v":0},{"$f":"Method_input!$D$65*B8648+Method_input!$D$64*Input_series!AG8644+Method_input!$D$65*F8648","v":0}]
[8632,0,0,0,0,0,0,0,0,0,16,12,16,12,0,0,0,12,0,12,0,0,16,12,null,0,{"$f":"Method_input!$D$65*B8649+Method_input!$D$64*Input_series!AG8645+Method_input!$D$65*C8649+Method_input!$D$65*D8649+Method_input!$D$65*E8649+Method_input!$D$65*F8649","v":0},{"$f":"Method_input!$D$65*B8649+Method_input!$D$64*Input_series!AG8645+Method_input!$D$65*F8649","v":0}]
[8633,0,0,0,0,0,0,0,0,0,16,12,16,12,0,0,0,12,0,12,0,0,16,12,null,0,{"$f":"Method_input!$D$65*B8650+Method_input!$D$64*Input_series!AG8646+Method_input!$D$65*C8650+Method_input!$D$65*D8650+Method_input!$D$65*E8650+Method_input!$D$65*F8650","v":0},{"$f":"Method_input!$D$65*B8650+Method_input!$D$64*Input_series!AG8646+Method_input!$D$65*F8650","v":0}]
[8634,0,0,0,0,0,0,0,0,0,16,12,16,12,0,0,0,12,0,12,0,0,16,12,null,0,{"$f":"Method_input!$D$65*B8651+Method_input!$D$64*Input_series!AG8647+Method_input!$D$65*C8651+Method_input!$D$65*D8651+Method_input!$D$65*E8651+Method_input!$D$65*F8651","v":0},{"$f":"Method_input!$D$65*B8651+Method_input!$D$64*Input_series!AG8647+Method_input!$D$65*F8651","v":0}]
[8635,0,0,0,0,0,0,0,0,0,16,12,16,12,0,0,0,12,0,12,0,0,16,12,null,0,{"$f":"Method_input!$D$65*B8652+Method_input!$D$64*Input_series!AG8648+Method_input!$D$65*C8652+Method_input!$D$65*D8652+Method_input!$D$65*E8652+Method_input!$D$65*F8652","v":0},{"$f":"Method_input!$D$65*B8652+Method_input!$D$64*Input_series!AG8648+Method_input!$D$65*F8652","v":0}]
[8636,0,0,0,0,0,0,0,0,0,16,12,16,12,0,0,0,12,0,12,0,0,16,12,null,0,{"$f":"Method_input!$D$65*B8653+Method_input!$D$64*Input_series!AG8649+Method_input!$D$65*C8653+Method_input!$D$65*D8653+Method_input!$D$65*E8653+Method_input!$D$65*F8653","v":0},{"$f":"Method_input!$D$65*B8653+Method_input!$D$64*Input_series!AG8649+Method_input!$D$65*F8653","v":0}]
[8637,0,0,0,0,0,0,0,0,0,16,12,16,12,0,0,0,12,0,12,0,0,16,12,null,0,{"$f":"Method_input!$D$65*B8654+Method_input!$D$64*Input_series!AG8650+Method_input!$D$65*C8654+Method_input!$D$65*D8654+Method_input!$D$65*E8654+Method_input!$D$65*F8654","v":0},{"$f":"Method_input!$D$65*B8654+Method_input!$D$64*Input_series!AG8650+Method_input!$D$65*F8654","v":0}]
[8638,0,0,0,0,0,0,0,0,0,16,12,16,12,0,0,0,12,0,12,0,0,16,12,null,0,{"$f":"Method_input!$D$65*B8655+Method_input!$D$64*Input_series!AG8651+Method_input!$D$65*C8655+Method_input!$D$65*D8655+Method_input!$D$65*E8655+Method_input!$D$65*F8655","v":0},{"$f":"Method_input!$D$65*B8655+Method_input!$D$64*Input_series!AG8651+Method_input!$D$65*F8655","v":0}]
[8639,0,0,0,0,0,0,0,0,0,16,12,16,12,0,0,0,12,0,12,0,0,16,12,null,0,{"$f":"Method_input!$D$65*B8656+Method_input!$D$64*Input_series!AG8652+Method_input!$D$65*C8656+Method_input!$D$65*D8656+Method_input!$D$65*E8656+Method_input!$D$65*F8656","v":0},{"$f":"Method_input!$D$65*B8656+Method_input!$D$64*Input_series!AG8652+Method_input!$D$65*F8656","v":0}]
[8640,0,0,0,0,0,0,0,0,0,16,12,16,12,0,0,0,12,0,12,0,0,16,12,null,0,{"$f":"Method_input!$D$65*B8657+Method_input!$D$64*Input_series!AG8653+Method_input!$D$65*C8657+Method_input!$D$65*D8657+Method_input!$D$65*E8657+Method_input!$D$65*F8657","v":0},{"$f":"Method_input!$D$65*B8657+Method_input!$D$64*Input_series!AG8653+Method_input!$D$65*F8657","v":0}]
[8641,0,0,0,0,0,0,0,0,0,16,12,16,12,0,0,0,12,0,12,0,0,16,12,null,{"$f":"SUM(G8658:J8658,U8658:V8658)","v":0},{"$f":"Method_input!$D$65*B8658+Method_input!$D$64*Input_series!AG8654+Method_input!$D$65*C8658+Method_input!$D$65*D8658+Method_input!$D$65*E8658+Method_input!$D$65*F8658","v":0},{"$f":"Method_input!$D$65*B8658+Method_input!$D$64*Input_series!AG8654+Method_input!$D$65*F8658","v":0}]
[8642,0,0,0,0,0,0,0,0,0,16,12,16,12,0,0,0,12,0,12,0,0,16,12,null,0,{"$f":"Method_input!$D$65*B8659+Method_input!$D$64*Input_series!AG8655+Method_input!$D$65*C8659+Method_input!$D$65*D8659+Method_input!$D$65*E8659+Method_input!$D$65*F8659","v":0},{"$f":"Method_input!$D$65*B8659+Method_input!$D$64*Input_series!AG8655+Method_input!$D$65*F8659","v":0}]
[8643,0,0,0,0,0,0,0,0,0,16,12,16,12,0,0,0,12,0,12,0,0,16,12,null,0,{"$f":"Method_input!$D$65*B8660+Method_input!$D$64*Input_series!AG8656+Method_input!$D$65*C8660+Method_input!$D$65*D8660+Method_input!$D$65*E8660+Method_input!$D$65*F8660","v":0},{"$f":"Method_input!$D$65*B8660+Method_input!$D$64*Input_series!AG8656+Method_input!$D$65*F8660","v":0}]
[8644,0,0,0,0,0,0,0,0,0,16,12,16,12,0,0,0,12,0,12,0,0,16,12,null,0,{"$f":"Method_input!$D$65*B8661+Method_input!$D$64*Input_series!AG8657+Method_input!$D$65*C8661+Method_input!$D$65*D8661+Method_input!$D$65*E8661+Method_input!$D$65*F8661","v":0},{"$f":"Method_input!$D$65*B8661+Method_input!$D$64*Input_series!AG8657+Method_input!$D$65*F8661","v":0}]
[8645,0,0,0,0,0,0,0,0,0,16,12,16,12,0,0,0,12,0,12,0,0,16,12,null,0,{"$f":"Method_input!$D$65*B8662+Method_input!$D$64*Input_series!AG8658+Method_input!$D$65*C8662+Method_input!$D$65*D8662+Method_input!$D$65*E8662+Method_input!$D$65*F8662","v":0},{"$f":"Method_input!$D$65*B8662+Method_input!$D$64*Input_series!AG8658+Method_input!$D$65*F8662","v":0}]
[8646,0,0,0,0,0,0,0,0,0,16,12,16,12,0,0,0,12,0,12,0,0,16,12,null,0,{"$f":"Method_input!$D$65*B8663+Method_input!$D$64*Input_series!AG8659+Method_input!$D$65*C8663+Method_input!$D$65*D8663+Method_input!$D$65*E8663+Method_input!$D$65*F8663","v":0},{"$f":"Method_input!$D$65*B8663+Method_input!$D$64*Input_series!AG8659+Method_input!$D$65*F8663","v":0}]
[8647,0,0,0,0,0,0,0,0,0,16,12,16,12,0,0,0,12,0,12,0,0,16,12,null,0,{"$f":"Method_input!$D$65*B8664+Method_input!$D$64*Input_series!AG8660+Method_input!$D$65*C8664+Method_input!$D$65*D8664+Method_input!$D$65*E8664+Method_input!$D$65*F8664","v":0},{"$f":"Method_input!$D$65*B8664+Method_input!$D$64*Input_series!AG8660+Method_input!$D$65*F8664","v":0}]
[8648,0,0,0,0,0,0,0,0,0,16,12,16,12,0,0,0,12,0,12,0,0,16,12,null,0,{"$f":"Method_input!$D$65*B8665+Method_input!$D$64*Input_series!AG8661+Method_input!$D$65*C8665+Method_input!$D$65*D8665+Method_input!$D$65*E8665+Method_input!$D$65*F8665","v":0},{"$f":"Method_input!$D$65*B8665+Method_input!$D$64*Input_series!AG8661+Method_input!$D$65*F8665","v":0}]
[8649,0,0,0,0,0,0,0,0,0,16,12,16,12,0,0,0,12,0,12,0,0,16,12,null,0,{"$f":"Method_input!$D$65*B8666+Method_input!$D$64*Input_series!AG8662+Method_input!$D$65*C8666+Method_input!$D$65*D8666+Method_input!$D$65*E8666+Method_input!$D$65*F8666","v":0},{"$f":"Method_input!$D$65*B8666+Method_input!$D$64*Input_series!AG8662+Method_input!$D$65*F8666","v":0}]
[8650,0,0,0,0,0,0,0,0,0,16,12,16,12,0,0,0,12,0,12,0,0,16,12,null,0,{"$f":"Method_input!$D$65*B8667+Method_input!$D$64*Input_series!AG8663+Method_input!$D$65*C8667+Method_input!$D$65*D8667+Method_input!$D$65*E8667+Method_input!$D$65*F8667","v":0},{"$f":"Method_input!$D$65*B8667+Method_input!$D$64*Input_series!AG8663+Method_input!$D$65*F8667","v":0}]
[8651,0,0,0,0,0,0,0,0,0,16,12,16,12,0,0,0,12,0,12,0,0,16,12,null,0,{"$f":"Method_input!$D$65*B8668+Method_input!$D$64*Input_series!AG8664+Method_input!$D$65*C8668+Method_input!$D$65*D8668+Method_input!$D$65*E8668+Method_input!$D$65*F8668","v":0},{"$f":"Method_input!$D$65*B8668+Method_input!$D$64*Input_series!AG8664+Method_input!$D$65*F8668","v":0}]
[8652,0,0,0,0,0,0,0,0,0,16,12,16,12,0,0,0,12,0,12,0,0,16,12,null,0,{"$f":"Method_input!$D$65*B8669+Method_input!$D$64*Input_series!AG8665+Method_input!$D$65*C8669+Method_input!$D$65*D8669+Method_input!$D$65*E8669+Method_input!$D$65*F8669","v":0},{"$f":"Method_input!$D$65*B8669+Method_input!$D$64*Input_series!AG8665+Method_input!$D$65*F8669","v":0}]
[8653,0,0,0,0,0,0,0,0,0,16,12,16,12,0,0,0,12,0,12,0,0,16,12,null,0,{"$f":"Method_input!$D$65*B8670+Method_input!$D$64*Input_series!AG8666+Method_input!$D$65*C8670+Method_input!$D$65*D8670+Method_input!$D$65*E8670+Method_input!$D$65*F8670","v":0},{"$f":"Method_input!$D$65*B8670+Method_input!$D$64*Input_series!AG8666+Method_input!$D$65*F8670","v":0}]
[8654,0,0,0,0,0,0,0,0,0,16,12,16,12,0,0,0,12,0,12,0,0,16,12,null,0,{"$f":"Method_input!$D$65*B8671+Method_input!$D$64*Input_series!AG8667+Method_input!$D$65*C8671+Method_input!$D$65*D8671+Method_input!$D$65*E8671+Method_input!$D$65*F8671","v":0},{"$f":"Method_input!$D$65*B8671+Method_input!$D$64*Input_series!AG8667+Method_input!$D$65*F8671","v":0}]
[8655,0,0,0,0,0,0,0,0,0,16,12,16,12,0,0,0,12,0,12,0,0,16,12,null,0,{"$f":"Method_input!$D$65*B8672+Method_input!$D$64*Input_series!AG8668+Method_input!$D$65*C8672+Method_input!$D$65*D8672+Method_input!$D$65*E8672+Method_input!$D$65*F8672","v":0},{"$f":"Method_input!$D$65*B8672+Method_input!$D$64*Input_series!AG8668+Method_input!$D$65*F8672","v":0}]
[8656,0,0,0,0,0,0,0,0,0,16,12,16,12,0,0,0,12,0,12,0,0,16,12,null,0,{"$f":"Method_input!$D$65*B8673+Method_input!$D$64*Input_series!AG8669+Method_input!$D$65*C8673+Method_input!$D$65*D8673+Method_input!$D$65*E8673+Method_input!$D$65*F8673","v":0},{"$f":"Method_input!$D$65*B8673+Method_input!$D$64*Input_series!AG8669+Method_input!$D$65*F8673","v":0}]
[8657,0,0,0,0,0,0,0,0,0,16,12,16,12,0,0,0,12,0,12,0,0,16,12,null,0,{"$f":"Method_input!$D$65*B8674+Method_input!$D$64*Input_series!AG8670+Method_input!$D$65*C8674+Method_input!$D$65*D8674+Method_input!$D$65*E8674+Method_input!$D$65*F8674","v":0},{"$f":"Method_input!$D$65*B8674+Method_input!$D$64*Input_series!AG8670+Method_input!$D$65*F8674","v":0}]
[8658,0,0,0,0,0,0,0,0,0,16,12,16,12,0,0,0,12,0,12,0,0,16,12,null,0,{"$f":"Method_input!$D$65*B8675+Method_input!$D$64*Input_series!AG8671+Method_input!$D$65*C8675+Method_input!$D$65*D8675+Method_input!$D$65*E8675+Method_input!$D$65*F8675","v":0},{"$f":"Method_input!$D$65*B8675+Method_input!$D$64*Input_series!AG8671+Method_input!$D$65*F8675","v":0}]
[8659,0,0,0,0,0,0,0,0,0,16,12,16,12,0,0,0,12,0,12,0,0,16,12,null,0,{"$f":"Method_input!$D$65*B8676+Method_input!$D$64*Input_series!AG8672+Method_input!$D$65*C8676+Method_input!$D$65*D8676+Method_input!$D$65*E8676+Method_input!$D$65*F8676","v":0},{"$f":"Method_input!$D$65*B8676+Method_input!$D$64*Input_series!AG8672+Method_input!$D$65*F8676","v":0}]
[8660,0,0,0,0,0,0,0,0,0,16,12,16,12,0,0,0,12,0,12,0,0,16,12,null,0,{"$f":"Method_input!$D$65*B8677+Method_input!$D$64*Input_series!AG8673+Method_input!$D$65*C8677+Method_input!$D$65*D8677+Method_input!$D$65*E8677+Method_input!$D$65*F8677","v":0},{"$f":"Method_input!$D$65*B8677+Method_input!$D$64*Input_series!AG8673+Method_input!$D$65*F8677","v":0}]
[8661,0,0,0,0,0,0,0,0,0,16,12,16,12,0,0,0,12,0,12,0,0,16,12,null,0,{"$f":"Method_input!$D$65*B8678+Method_input!$D$64*Input_series!AG8674+Method_input!$D$65*C8678+Method_input!$D$65*D8678+Method_input!$D$65*E8678+Method_input!$D$65*F8678","v":0},{"$f":"Method_input!$D$65*B8678+Method_input!$D$64*Input_series!AG8674+Method_input!$D$65*F8678","v":0}]
[8662,0,0,0,0,0,0,0,0,0,16,12,16,12,0,0,0,12,0,12,0,0,16,12,null,0,{"$f":"Method_input!$D$65*B8679+Method_input!$D$64*Input_series!AG8675+Method_input!$D$65*C8679+Method_input!$D$65*D8679+Method_input!$D$65*E8679+Method_input!$D$65*F8679","v":0},{"$f":"Method_input!$D$65*B8679+Method_input!$D$64*Input_series!AG8675+Method_input!$D$65*F8679","v":0}]
[8663,0,0,0,0,0,0,0,0,0,16,12,16,12,0,0,0,12,0,12,0,0,16,12,null,0,{"$f":"Method_input!$D$65*B8680+Method_input!$D$64*Input_series!AG8676+Method_input!$D$65*C8680+Method_input!$D$65*D8680+Method_input!$D$65*E8680+Method_input!$D$65*F8680","v":0},{"$f":"Method_input!$D$65*B8680+Method_input!$D$64*Input_series!AG8676+Method_input!$D$65*F8680","v":0}]
[8664,0,0,0,0,0,0,0,0,0,16,12,16,12,0,0,0,12,0,12,0,0,16,12,null,0,{"$f":"Method_input!$D$65*B8681+Method_input!$D$64*Input_series!AG8677+Method_input!$D$65*C8681+Method_input!$D$65*D8681+Method_input!$D$65*E8681+Method_input!$D$65*F8681","v":0},{"$f":"Method_input!$D$65*B8681+Method_input!$D$64*Input_series!AG8677+Method_input!$D$65*F8681","v":0}]
[8665,0,0,0,0,0,0,0,0,0,16,12,16,12,0,0,0,12,0,12,0,0,16,12,null,0,{"$f":"Method_input!$D$65*B8682+Method_input!$D$64*Input_series!AG8678+Method_input!$D$65*C8682+Method_input!$D$65*D8682+Method_input!$D$65*E8682+Method_input!$D$65*F8682","v":0},{"$f":"Method_input!$D$65*B8682+Method_input!$D$64*Input_series!AG8678+Method_input!$D$65*F8682","v":0}]
[8666,0,0,0,0,0,0,0,0,0,16,12,16,12,0,0,0,12,0,12,0,0,16,12,null,0,{"$f":"Method_input!$D$65*B8683+Method_input!$D$64*Input_series!AG8679+Method_input!$D$65*C8683+Method_input!$D$65*D8683+Method_input!$D$65*E8683+Method_input!$D$65*F8683","v":0},{"$f":"Method_input!$D$65*B8683+Method_input!$D$64*Input_series!AG8679+Method_input!$D$65*F8683","v":0}]
[8667,0,0,0,0,0,0,0,0,0,16,12,16,12,0,0,0,12,0,12,0,0,16,12,null,0,{"$f":"Method_input!$D$65*B8684+Method_input!$D$64*Input_series!AG8680+Method_input!$D$65*C8684+Method_input!$D$65*D8684+Method_input!$D$65*E8684+Method_input!$D$65*F8684","v":0},{"$f":"Method_input!$D$65*B8684+Method_input!$D$64*Input_series!AG8680+Method_input!$D$65*F8684","v":0}]
[8668,0,0,0,0,0,0,0,0,0,16,12,16,12,0,0,0,12,0,12,0,0,16,12,null,0,{"$f":"Method_input!$D$65*B8685+Method_input!$D$64*Input_series!AG8681+Method_input!$D$65*C8685+Method_input!$D$65*D8685+Method_input!$D$65*E8685+Method_input!$D$65*F8685","v":0},{"$f":"Method_input!$D$65*B8685+Method_input!$D$64*Input_series!AG8681+Method_input!$D$65*F8685","v":0}]
[8669,0,0,0,0,0,0,0,0,0,16,12,16,12,0,0,0,12,0,12,0,0,16,12,null,0,{"$f":"Method_input!$D$65*B8686+Method_input!$D$64*Input_series!AG8682+Method_input!$D$65*C8686+Method_input!$D$65*D8686+Method_input!$D$65*E8686+Method_input!$D$65*F8686","v":0},{"$f":"Method_input!$D$65*B8686+Method_input!$D$64*Input_series!AG8682+Method_input!$D$65*F8686","v":0}]
[8670,0,0,0,0,0,0,0,0,0,16,12,16,12,0,0,0,12,0,12,0,0,16,12,null,0,{"$f":"Method_input!$D$65*B8687+Method_input!$D$64*Input_series!AG8683+Method_input!$D$65*C8687+Method_input!$D$65*D8687+Method_input!$D$65*E8687+Method_input!$D$65*F8687","v":0},{"$f":"Method_input!$D$65*B8687+Method_input!$D$64*Input_series!AG8683+Method_input!$D$65*F8687","v":0}]
[8671,0,0,0,0,0,0,0,0,0,16,12,16,12,0,0,0,12,0,12,0,0,16,12,null,0,{"$f":"Method_input!$D$65*B8688+Method_input!$D$64*Input_series!AG8684+Method_input!$D$65*C8688+Method_input!$D$65*D8688+Method_input!$D$65*E8688+Method_input!$D$65*F8688","v":0},{"$f":"Method_input!$D$65*B8688+Method_input!$D$64*Input_series!AG8684+Method_input!$D$65*F8688","v":0}]
[8672,0,0,0,0,0,0,0,0,0,16,12,16,12,0,0,0,12,0,12,0,0,16,12,null,0,{"$f":"Method_input!$D$65*B8689+Method_input!$D$64*Input_series!AG8685+Method_input!$D$65*C8689+Method_input!$D$65*D8689+Method_input!$D$65*E8689+Method_input!$D$65*F8689","v":0},{"$f":"Method_input!$D$65*B8689+Method_input!$D$64*Input_series!AG8685+Method_input!$D$65*F8689","v":0}]
[8673,0,0,0,0,0,0,0,0,0,16,12,16,12,0,0,0,12,0,12,0,0,16,12,null,0,{"$f":"Method_input!$D$65*B8690+Method_input!$D$64*Input_series!AG8686+Method_input!$D$65*C8690+Method_input!$D$65*D8690+Method_input!$D$65*E8690+Method_input!$D$65*F8690","v":0},{"$f":"Method_input!$D$65*B8690+Method_input!$D$64*Input_series!AG8686+Method_input!$D$65*F8690","v":0}]
[8674,0,0,0,0,0,0,0,0,0,16,12,16,12,0,0,0,12,0,12,0,0,16,12,null,0,{"$f":"Method_input!$D$65*B8691+Method_input!$D$64*Input_series!AG8687+Method_input!$D$65*C8691+Method_input!$D$65*D8691+Method_input!$D$65*E8691+Method_input!$D$65*F8691","v":0},{"$f":"Method_input!$D$65*B8691+Method_input!$D$64*Input_series!AG8687+Method_input!$D$65*F8691","v":0}]
[8675,0,0,0,0,0,0,0,0,0,16,12,16,12,0,0,0,12,0,12,0,0,16,12,null,0,{"$f":"Method_input!$D$65*B8692+Method_input!$D$64*Input_series!AG8688+Method_input!$D$65*C8692+Method_input!$D$65*D8692+Method_input!$D$65*E8692+Method_input!$D$65*F8692","v":0},{"$f":"Method_input!$D$65*B8692+Method_input!$D$64*Input_series!AG8688+Method_input!$D$65*F8692","v":0}]
[8676,0,0,0,0,0,0,0,0,0,16,12,16,12,0,0,0,12,0,12,0,0,16,12,null,0,{"$f":"Method_input!$D$65*B8693+Method_input!$D$64*Input_series!AG8689+Method_input!$D$65*C8693+Method_input!$D$65*D8693+Method_input!$D$65*E8693+Method_input!$D$65*F8693","v":0},{"$f":"Method_input!$D$65*B8693+Method_input!$D$64*Input_series!AG8689+Method_input!$D$65*F8693","v":0}]
[8677,0,0,0,0,0,0,0,0,0,16,12,16,12,0,0,0,12,0,12,0,0,16,12,null,0,{"$f":"Method_input!$D$65*B8694+Method_input!$D$64*Input_series!AG8690+Method_input!$D$65*C8694+Method_input!$D$65*D8694+Method_input!$D$65*E8694+Method_input!$D$65*F8694","v":0},{"$f":"Method_input!$D$65*B8694+Method_input!$D$64*Input_series!AG8690+Method_input!$D$65*F8694","v":0}]
[8678,0,0,0,0,0,0,0,0,0,16,12,16,12,0,0,0,12,0,12,0,0,16,12,null,0,{"$f":"Method_input!$D$65*B8695+Method_input!$D$64*Input_series!AG8691+Method_input!$D$65*C8695+Method_input!$D$65*D8695+Method_input!$D$65*E8695+Method_input!$D$65*F8695","v":0},{"$f":"Method_input!$D$65*B8695+Method_input!$D$64*Input_series!AG8691+Method_input!$D$65*F8695","v":0}]
[8679,0,0,0,0,0,0,0,0,0,16,12,16,12,0,0,0,12,0,12,0,0,16,12,null,0,{"$f":"Method_input!$D$65*B8696+Method_input!$D$64*Input_series!AG8692+Method_input!$D$65*C8696+Method_input!$D$65*D8696+Method_input!$D$65*E8696+Method_input!$D$65*F8696","v":0},{"$f":"Method_input!$D$65*B8696+Method_input!$D$64*Input_series!AG8692+Method_input!$D$65*F8696","v":0}]
[8680,0,0,0,0,0,0,0,0,0,16,12,16,12,0,0,0,12,0,12,0,0,16,12,null,0,{"$f":"Method_input!$D$65*B8697+Method_input!$D$64*Input_series!AG8693+Method_input!$D$65*C8697+Method_input!$D$65*D8697+Method_input!$D$65*E8697+Method_input!$D$65*F8697","v":0},{"$f":"Method_input!$D$65*B8697+Method_input!$D$64*Input_series!AG8693+Method_input!$D$65*F8697","v":0}]
[8681,0,0,0,0,0,0,0,0,0,16,12,16,12,0,0,0,12,0,12,0,0,16,12,null,0,{"$f":"Method_input!$D$65*B8698+Method_input!$D$64*Input_series!AG8694+Method_input!$D$65*C8698+Method_input!$D$65*D8698+Method_input!$D$65*E8698+Method_input!$D$65*F8698","v":0},{"$f":"Method_input!$D$65*B8698+Method_input!$D$64*Input_series!AG8694+Method_input!$D$65*F8698","v":0}]
[8682,0,0,0,0,0,0,0,0,0,16,12,16,12,0,0,0,12,0,12,0,0,16,12,null,0,{"$f":"Method_input!$D$65*B8699+Method_input!$D$64*Input_series!AG8695+Method_input!$D$65*C8699+Method_input!$D$65*D8699+Method_input!$D$65*E8699+Method_input!$D$65*F8699","v":0},{"$f":"Method_input!$D$65*B8699+Method_input!$D$64*Input_series!AG8695+Method_input!$D$65*F8699","v":0}]
[8683,0,0,0,0,0,0,0,0,0,16,12,16,12,0,0,0,12,0,12,0,0,16,12,null,0,{"$f":"Method_input!$D$65*B8700+Method_input!$D$64*Input_series!AG8696+Method_input!$D$65*C8700+Method_input!$D$65*D8700+Method_input!$D$65*E8700+Method_input!$D$65*F8700","v":0},{"$f":"Method_input!$D$65*B8700+Method_input!$D$64*Input_series!AG8696+Method_input!$D$65*F8700","v":0}]
[8684,0,0,0,0,0,0,0,0,0,16,12,16,12,0,0,0,12,0,12,0,0,16,12,null,0,{"$f":"Method_input!$D$65*B8701+Method_input!$D$64*Input_series!AG8697+Method_input!$D$65*C8701+Method_input!$D$65*D8701+Method_input!$D$65*E8701+Method_input!$D$65*F8701","v":0},{"$f":"Method_input!$D$65*B8701+Method_input!$D$64*Input_series!AG8697+Method_input!$D$65*F8701","v":0}]
[8685,0,0,0,0,0,0,0,0,0,16,12,16,12,0,0,0,12,0,12,0,0,16,12,null,0,{"$f":"Method_input!$D$65*B8702+Method_input!$D$64*Input_series!AG8698+Method_input!$D$65*C8702+Method_input!$D$65*D8702+Method_input!$D$65*E8702+Method_input!$D$65*F8702","v":0},{"$f":"Method_input!$D$65*B8702+Method_input!$D$64*Input_series!AG8698+Method_input!$D$65*F8702","v":0}]
[8686,0,0,0,0,0,0,0,0,0,16,12,16,12,0,0,0,12,0,12,0,0,16,12,null,0,{"$f":"Method_input!$D$65*B8703+Method_input!$D$64*Input_series!AG8699+Method_input!$D$65*C8703+Method_input!$D$65*D8703+Method_input!$D$65*E8703+Method_input!$D$65*F8703","v":0},{"$f":"Method_input!$D$65*B8703+Method_input!$D$64*Input_series!AG8699+Method_input!$D$65*F8703","v":0}]
[8687,0,0,0,0,0,0,0,0,0,16,12,16,12,0,0,0,12,0,12,0,0,16,12,null,0,{"$f":"Method_input!$D$65*B8704+Method_input!$D$64*Input_series!AG8700+Method_input!$D$65*C8704+Method_input!$D$65*D8704+Method_input!$D$65*E8704+Method_input!$D$65*F8704","v":0},{"$f":"Method_input!$D$65*B8704+Method_input!$D$64*Input_series!AG8700+Method_input!$D$65*F8704","v":0}]
[8688,0,0,0,0,0,0,0,0,0,16,12,16,12,0,0,0,12,0,12,0,0,16,12,null,0,{"$f":"Method_input!$D$65*B8705+Method_input!$D$64*Input_series!AG8701+Method_input!$D$65*C8705+Method_input!$D$65*D8705+Method_input!$D$65*E8705+Method_input!$D$65*F8705","v":0},{"$f":"Method_input!$D$65*B8705+Method_input!$D$64*Input_series!AG8701+Method_input!$D$65*F8705","v":0}]
[8689,0,0,0,0,0,0,0,0,0,16,12,16,12,0,0,0,12,0,12,0,0,16,12,null,0,{"$f":"Method_input!$D$65*B8706+Method_input!$D$64*Input_series!AG8702+Method_input!$D$65*C8706+Method_input!$D$65*D8706+Method_input!$D$65*E8706+Method_input!$D$65*F8706","v":0},{"$f":"Method_input!$D$65*B8706+Method_input!$D$64*Input_series!AG8702+Method_input!$D$65*F8706","v":0}]
[8690,0,0,0,0,0,0,0,0,0,16,12,16,12,0,0,0,12,0,12,0,0,16,12,null,0,{"$f":"Method_input!$D$65*B8707+Method_input!$D$64*Input_series!AG8703+Method_input!$D$65*C8707+Method_input!$D$65*D8707+Method_input!$D$65*E8707+Method_input!$D$65*F8707","v":0},{"$f":"Method_input!$D$65*B8707+Method_input!$D$64*Input_series!AG8703+Method_input!$D$65*F8707","v":0}]
[8691,0,0,0,0,0,0,0,0,0,16,12,16,12,0,0,0,12,0,12,0,0,16,12,null,0,{"$f":"Method_input!$D$65*B8708+Method_input!$D$64*Input_series!AG8704+Method_input!$D$65*C8708+Method_input!$D$65*D8708+Method_input!$D$65*E8708+Method_input!$D$65*F8708","v":0},{"$f":"Method_input!$D$65*B8708+Method_input!$D$64*Input_series!AG8704+Method_input!$D$65*F8708","v":0}]
[8692,0,0,0,0,0,0,0,0,0,16,12,16,12,0,0,0,12,0,12,0,0,16,12,null,0,{"$f":"Method_input!$D$65*B8709+Method_input!$D$64*Input_series!AG8705+Method_input!$D$65*C8709+Method_input!$D$65*D8709+Method_input!$D$65*E8709+Method_input!$D$65*F8709","v":0},{"$f":"Method_input!$D$65*B8709+Method_input!$D$64*Input_series!AG8705+Method_input!$D$65*F8709","v":0}]
[8693,0,0,0,0,0,0,0,0,0,16,12,16,12,0,0,0,12,0,12,0,0,16,12,null,0,{"$f":"Method_input!$D$65*B8710+Method_input!$D$64*Input_series!AG8706+Method_input!$D$65*C8710+Method_input!$D$65*D8710+Method_input!$D$65*E8710+Method_input!$D$65*F8710","v":0},{"$f":"Method_input!$D$65*B8710+Method_input!$D$64*Input_series!AG8706+Method_input!$D$65*F8710","v":0}]
[8694,0,0,0,0,0,0,0,0,0,16,12,16,12,0,0,0,12,0,12,0,0,16,12,null,0,{"$f":"Method_input!$D$65*B8711+Method_input!$D$64*Input_series!AG8707+Method_input!$D$65*C8711+Method_input!$D$65*D8711+Method_input!$D$65*E8711+Method_input!$D$65*F8711","v":0},{"$f":"Method_input!$D$65*B8711+Method_input!$D$64*Input_series!AG8707+Method_input!$D$65*F8711","v":0}]
[8695,0,0,0,0,0,0,0,0,0,16,12,16,12,0,0,0,12,0,12,0,0,16,12,null,0,{"$f":"Method_input!$D$65*B8712+Method_input!$D$64*Input_series!AG8708+Method_input!$D$65*C8712+Method_input!$D$65*D8712+Method_input!$D$65*E8712+Method_input!$D$65*F8712","v":0},{"$f":"Method_input!$D$65*B8712+Method_input!$D$64*Input_series!AG8708+Method_input!$D$65*F8712","v":0}]
[8696,0,0,0,0,0,0,0,0,0,16,12,16,12,0,0,0,12,0,12,0,0,16,12,null,0,{"$f":"Method_input!$D$65*B8713+Method_input!$D$64*Input_series!AG8709+Method_input!$D$65*C8713+Method_input!$D$65*D8713+Method_input!$D$65*E8713+Method_input!$D$65*F8713","v":0},{"$f":"Method_input!$D$65*B8713+Method_input!$D$64*Input_series!AG8709+Method_input!$D$65*F8713","v":0}]
[8697,0,0,0,0,0,0,0,0,0,16,12,16,12,0,0,0,12,0,12,0,0,16,12,null,0,{"$f":"Method_input!$D$65*B8714+Method_input!$D$64*Input_series!AG8710+Method_input!$D$65*C8714+Method_input!$D$65*D8714+Method_input!$D$65*E8714+Method_input!$D$65*F8714","v":0},{"$f":"Method_input!$D$65*B8714+Method_input!$D$64*Input_series!AG8710+Method_input!$D$65*F8714","v":0}]
[8698,0,0,0,0,0,0,0,0,0,16,12,16,12,0,0,0,12,0,12,0,0,16,12,null,0,{"$f":"Method_input!$D$65*B8715+Method_input!$D$64*Input_series!AG8711+Method_input!$D$65*C8715+Method_input!$D$65*D8715+Method_input!$D$65*E8715+Method_input!$D$65*F8715","v":0},{"$f":"Method_input!$D$65*B8715+Method_input!$D$64*Input_series!AG8711+Method_input!$D$65*F8715","v":0}]
[8699,0,0,0,0,0,0,0,0,0,16,12,16,12,0,0,0,12,0,12,0,0,16,12,null,0,{"$f":"Method_input!$D$65*B8716+Method_input!$D$64*Input_series!AG8712+Method_input!$D$65*C8716+Method_input!$D$65*D8716+Method_input!$D$65*E8716+Method_input!$D$65*F8716","v":0},{"$f":"Method_input!$D$65*B8716+Method_input!$D$64*Input_series!AG8712+Method_input!$D$65*F8716","v":0}]
[8700,0,0,0,0,0,0,0,0,0,16,12,16,12,0,0,0,12,0,12,0,0,16,12,null,0,{"$f":"Method_input!$D$65*B8717+Method_input!$D$64*Input_series!AG8713+Method_input!$D$65*C8717+Method_input!$D$65*D8717+Method_input!$D$65*E8717+Method_input!$D$65*F8717","v":0},{"$f":"Method_input!$D$65*B8717+Method_input!$D$64*Input_series!AG8713+Method_input!$D$65*F8717","v":0}]
[8701,0,0,0,0,0,0,0,0,0,16,12,16,12,0,0,0,12,0,12,0,0,16,12,null,0,{"$f":"Method_input!$D$65*B8718+Method_input!$D$64*Input_series!AG8714+Method_input!$D$65*C8718+Method_input!$D$65*D8718+Method_input!$D$65*E8718+Method_input!$D$65*F8718","v":0},{"$f":"Method_input!$D$65*B8718+Method_input!$D$64*Input_series!AG8714+Method_input!$D$65*F8718","v":0}]
[8702,0,0,0,0,0,0,0,0,0,16,12,16,12,0,0,0,12,0,12,0,0,16,12,null,0,{"$f":"Method_input!$D$65*B8719+Method_input!$D$64*Input_series!AG8715+Method_input!$D$65*C8719+Method_input!$D$65*D8719+Method_input!$D$65*E8719+Method_input!$D$65*F8719","v":0},{"$f":"Method_input!$D$65*B8719+Method_input!$D$64*Input_series!AG8715+Method_input!$D$65*F8719","v":0}]
[8703,0,0,0,0,0,0,0,0,0,16,12,16,12,0,0,0,12,0,12,0,0,16,12,null,0,{"$f":"Method_input!$D$65*B8720+Method_input!$D$64*Input_series!AG8716+Method_input!$D$65*C8720+Method_input!$D$65*D8720+Method_input!$D$65*E8720+Method_input!$D$65*F8720","v":0},{"$f":"Method_input!$D$65*B8720+Method_input!$D$64*Input_series!AG8716+Method_input!$D$65*F8720","v":0}]
[8704,0,0,0,0,0,0,0,0,0,16,12,16,12,0,0,0,12,0,12,0,0,16,12,null,0,{"$f":"Method_input!$D$65*B8721+Method_input!$D$64*Input_series!AG8717+Method_input!$D$65*C8721+Method_input!$D$65*D8721+Method_input!$D$65*E8721+Method_input!$D$65*F8721","v":0},{"$f":"Method_input!$D$65*B8721+Method_input!$D$64*Input_series!AG8717+Method_input!$D$65*F8721","v":0}]
[8705,0,0,0,0,0,0,0,0,0,16,12,16,12,0,0,0,12,0,12,0,0,16,12,null,{"$f":"SUM(G8722:J8722,U8722:V8722)","v":0},{"$f":"Method_input!$D$65*B8722+Method_input!$D$64*Input_series!AG8718+Method_input!$D$65*C8722+Method_input!$D$65*D8722+Method_input!$D$65*E8722+Method_input!$D$65*F8722","v":0},{"$f":"Method_input!$D$65*B8722+Method_input!$D$64*Input_series!AG8718+Method_input!$D$65*F8722","v":0}]
[8706,0,0,0,0,0,0,0,0,0,16,12,16,12,0,0,0,12,0,12,0,0,16,12,null,0,{"$f":"Method_input!$D$65*B8723+Method_input!$D$64*Input_series!AG8719+Method_input!$D$65*C8723+Method_input!$D$65*D8723+Method_input!$D$65*E8723+Method_input!$D$65*F8723","v":0},{"$f":"Method_input!$D$65*B8723+Method_input!$D$64*Input_series!AG8719+Method_input!$D$65*F8723","v":0}]
[8707,0,0,0,0,0,0,0,0,0,16,12,16,12,0,0,0,12,0,12,0,0,16,12,null,0,{"$f":"Method_input!$D$65*B8724+Method_input!$D$64*Input_series!AG8720+Method_input!$D$65*C8724+Method_input!$D$65*D8724+Method_input!$D$65*E8724+Method_input!$D$65*F8724","v":0},{"$f":"Method_input!$D$65*B8724+Method_input!$D$64*Input_series!AG8720+Method_input!$D$65*F8724","v":0}]
[8708,0,0,0,0,0,0,0,0,0,16,12,16,12,0,0,0,12,0,12,0,0,16,12,null,0,{"$f":"Method_input!$D$65*B8725+Method_input!$D$64*Input_series!AG8721+Method_input!$D$65*C8725+Method_input!$D$65*D8725+Method_input!$D$65*E8725+Method_input!$D$65*F8725","v":0},{"$f":"Method_input!$D$65*B8725+Method_input!$D$64*Input_series!AG8721+Method_input!$D$65*F8725","v":0}]
[8709,0,0,0,0,0,0,0,0,0,16,12,16,12,0,0,0,12,0,12,0,0,16,12,null,0,{"$f":"Method_input!$D$65*B8726+Method_input!$D$64*Input_series!AG8722+Method_input!$D$65*C8726+Method_input!$D$65*D8726+Method_input!$D$65*E8726+Method_input!$D$65*F8726","v":0},{"$f":"Method_input!$D$65*B8726+Method_input!$D$64*Input_series!AG8722+Method_input!$D$65*F8726","v":0}]
[8710,0,0,0,0,0,0,0,0,0,16,12,16,12,0,0,0,12,0,12,0,0,16,12,null,0,{"$f":"Method_input!$D$65*B8727+Method_input!$D$64*Input_series!AG8723+Method_input!$D$65*C8727+Method_input!$D$65*D8727+Method_input!$D$65*E8727+Method_input!$D$65*F8727","v":0},{"$f":"Method_input!$D$65*B8727+Method_input!$D$64*Input_series!AG8723+Method_input!$D$65*F8727","v":0}]
[8711,0,0,0,0,0,0,0,0,0,16,12,16,12,0,0,0,12,0,12,0,0,16,12,null,0,{"$f":"Method_input!$D$65*B8728+Method_input!$D$64*Input_series!AG8724+Method_input!$D$65*C8728+Method_input!$D$65*D8728+Method_input!$D$65*E8728+Method_input!$D$65*F8728","v":0},{"$f":"Method_input!$D$65*B8728+Method_input!$D$64*Input_series!AG8724+Method_input!$D$65*F8728","v":0}]
[8712,0,0,0,0,0,0,0,0,0,16,12,16,12,0,0,0,12,0,12,0,0,16,12,null,0,{"$f":"Method_input!$D$65*B8729+Method_input!$D$64*Input_series!AG8725+Method_input!$D$65*C8729+Method_input!$D$65*D8729+Method_input!$D$65*E8729+Method_input!$D$65*F8729","v":0},{"$f":"Method_input!$D$65*B8729+Method_input!$D$64*Input_series!AG8725+Method_input!$D$65*F8729","v":0}]
[8713,0,0,0,0,0,0,0,0,0,16,12,16,12,0,0,0,12,0,12,0,0,16,12,null,0,{"$f":"Method_input!$D$65*B8730+Method_input!$D$64*Input_series!AG8726+Method_input!$D$65*C8730+Method_input!$D$65*D8730+Method_input!$D$65*E8730+Method_input!$D$65*F8730","v":0},{"$f":"Method_input!$D$65*B8730+Method_input!$D$64*Input_series!AG8726+Method_input!$D$65*F8730","v":0}]
[8714,0,0,0,0,0,0,0,0,0,16,12,16,12,0,0,0,12,0,12,0,0,16,12,null,0,{"$f":"Method_input!$D$65*B8731+Method_input!$D$64*Input_series!AG8727+Method_input!$D$65*C8731+Method_input!$D$65*D8731+Method_input!$D$65*E8731+Method_input!$D$65*F8731","v":0},{"$f":"Method_input!$D$65*B8731+Method_input!$D$64*Input_series!AG8727+Method_input!$D$65*F8731","v":0}]
[8715,0,0,0,0,0,0,0,0,0,16,12,16,12,0,0,0,12,0,12,0,0,16,12,null,0,{"$f":"Method_input!$D$65*B8732+Method_input!$D$64*Input_series!AG8728+Method_input!$D$65*C8732+Method_input!$D$65*D8732+Method_input!$D$65*E8732+Method_input!$D$65*F8732","v":0},{"$f":"Method_input!$D$65*B8732+Method_input!$D$64*Input_series!AG8728+Method_input!$D$65*F8732","v":0}]
[8716,0,0,0,0,0,0,0,0,0,16,12,16,12,0,0,0,12,0,12,0,0,16,12,null,0,{"$f":"Method_input!$D$65*B8733+Method_input!$D$64*Input_series!AG8729+Method_input!$D$65*C8733+Method_input!$D$65*D8733+Method_input!$D$65*E8733+Method_input!$D$65*F8733","v":0},{"$f":"Method_input!$D$65*B8733+Method_input!$D$64*Input_series!AG8729+Method_input!$D$65*F8733","v":0}]
[8717,0,0,0,0,0,0,0,0,0,16,12,16,12,0,0,0,12,0,12,0,0,16,12,null,0,{"$f":"Method_input!$D$65*B8734+Method_input!$D$64*Input_series!AG8730+Method_input!$D$65*C8734+Method_input!$D$65*D8734+Method_input!$D$65*E8734+Method_input!$D$65*F8734","v":0},{"$f":"Method_input!$D$65*B8734+Method_input!$D$64*Input_series!AG8730+Method_input!$D$65*F8734","v":0}]
[8718,0,0,0,0,0,0,0,0,0,16,12,16,12,0,0,0,12,0,12,0,0,16,12,null,0,{"$f":"Method_input!$D$65*B8735+Method_input!$D$64*Input_series!AG8731+Method_input!$D$65*C8735+Method_input!$D$65*D8735+Method_input!$D$65*E8735+Method_input!$D$65*F8735","v":0},{"$f":"Method_input!$D$65*B8735+Method_input!$D$64*Input_series!AG8731+Method_input!$D$65*F8735","v":0}]
[8719,0,0,0,0,0,0,0,0,0,16,12,16,12,0,0,0,12,0,12,0,0,16,12,null,0,{"$f":"Method_input!$D$65*B8736+Method_input!$D$64*Input_series!AG8732+Method_input!$D$65*C8736+Method_input!$D$65*D8736+Method_input!$D$65*E8736+Method_input!$D$65*F8736","v":0},{"$f":"Method_input!$D$65*B8736+Method_input!$D$64*Input_series!AG8732+Method_input!$D$65*F8736","v":0}]
[8720,0,0,0,0,0,0,0,0,0,16,12,16,12,0,0,0,12,0,12,0,0,16,12,null,0,{"$f":"Method_input!$D$65*B8737+Method_input!$D$64*Input_series!AG8733+Method_input!$D$65*C8737+Method_input!$D$65*D8737+Method_input!$D$65*E8737+Method_input!$D$65*F8737","v":0},{"$f":"Method_input!$D$65*B8737+Method_input!$D$64*Input_series!AG8733+Method_input!$D$65*F8737","v":0}]
[8721,0,0,0,0,0,0,0,0,0,16,12,16,12,0,0,0,12,0,12,0,0,16,12,null,0,{"$f":"Method_input!$D$65*B8738+Method_input!$D$64*Input_series!AG8734+Method_input!$D$65*C8738+Method_input!$D$65*D8738+Method_input!$D$65*E8738+Method_input!$D$65*F8738","v":0},{"$f":"Method_input!$D$65*B8738+Method_input!$D$64*Input_series!AG8734+Method_input!$D$65*F8738","v":0}]
[8722,0,0,0,0,0,0,0,0,0,16,12,16,12,0,0,0,12,0,12,0,0,16,12,null,0,{"$f":"Method_input!$D$65*B8739+Method_input!$D$64*Input_series!AG8735+Method_input!$D$65*C8739+Method_input!$D$65*D8739+Method_input!$D$65*E8739+Method_input!$D$65*F8739","v":0},{"$f":"Method_input!$D$65*B8739+Method_input!$D$64*Input_series!AG8735+Method_input!$D$65*F8739","v":0}]
[8723,0,0,0,0,0,0,0,0,0,16,12,16,12,0,0,0,12,0,12,0,0,16,12,null,0,{"$f":"Method_input!$D$65*B8740+Method_input!$D$64*Input_series!AG8736+Method_input!$D$65*C8740+Method_input!$D$65*D8740+Method_input!$D$65*E8740+Method_input!$D$65*F8740","v":0},{"$f":"Method_input!$D$65*B8740+Method_input!$D$64*Input_series!AG8736+Method_input!$D$65*F8740","v":0}]
[8724,0,0,0,0,0,0,0,0,0,16,12,16,12,0,0,0,12,0,12,0,0,16,12,null,0,{"$f":"Method_input!$D$65*B8741+Method_input!$D$64*Input_series!AG8737+Method_input!$D$65*C8741+Method_input!$D$65*D8741+Method_input!$D$65*E8741+Method_input!$D$65*F8741","v":0},{"$f":"Method_input!$D$65*B8741+Method_input!$D$64*Input_series!AG8737+Method_input!$D$65*F8741","v":0}]
[8725,0,0,0,0,0,0,0,0,0,16,12,16,12,0,0,0,12,0,12,0,0,16,12,null,0,{"$f":"Method_input!$D$65*B8742+Method_input!$D$64*Input_series!AG8738+Method_input!$D$65*C8742+Method_input!$D$65*D8742+Method_input!$D$65*E8742+Method_input!$D$65*F8742","v":0},{"$f":"Method_input!$D$65*B8742+Method_input!$D$64*Input_series!AG8738+Method_input!$D$65*F8742","v":0}]
[8726,0,0,0,0,0,0,0,0,0,16,12,16,12,0,0,0,12,0,12,0,0,16,12,null,0,{"$f":"Method_input!$D$65*B8743+Method_input!$D$64*Input_series!AG8739+Method_input!$D$65*C8743+Method_input!$D$65*D8743+Method_input!$D$65*E8743+Method_input!$D$65*F8743","v":0},{"$f":"Method_input!$D$65*B8743+Method_input!$D$64*Input_series!AG8739+Method_input!$D$65*F8743","v":0}]
[8727,0,0,0,0,0,0,0,0,0,16,12,16,12,0,0,0,12,0,12,0,0,16,12,null,0,{"$f":"Method_input!$D$65*B8744+Method_input!$D$64*Input_series!AG8740+Method_input!$D$65*C8744+Method_input!$D$65*D8744+Method_input!$D$65*E8744+Method_input!$D$65*F8744","v":0},{"$f":"Method_input!$D$65*B8744+Method_input!$D$64*Input_series!AG8740+Method_input!$D$65*F8744","v":0}]
[8728,0,0,0,0,0,0,0,0,0,16,12,16,12,0,0,0,12,0,12,0,0,16,12,null,0,{"$f":"Method_input!$D$65*B8745+Method_input!$D$64*Input_series!AG8741+Method_input!$D$65*C8745+Method_input!$D$65*D8745+Method_input!$D$65*E8745+Method_input!$D$65*F8745","v":0},{"$f":"Method_input!$D$65*B8745+Method_input!$D$64*Input_series!AG8741+Method_input!$D$65*F8745","v":0}]
[8729,0,0,0,0,0,0,0,0,0,16,12,16,12,0,0,0,12,0,12,0,0,16,12,null,0,{"$f":"Method_input!$D$65*B8746+Method_input!$D$64*Input_series!AG8742+Method_input!$D$65*C8746+Method_input!$D$65*D8746+Method_input!$D$65*E8746+Method_input!$D$65*F8746","v":0},{"$f":"Method_input!$D$65*B8746+Method_input!$D$64*Input_series!AG8742+Method_input!$D$65*F8746","v":0}]
[8730,0,0,0,0,0,0,0,0,0,16,12,16,12,0,0,0,12,0,12,0,0,16,12,null,0,{"$f":"Method_input!$D$65*B8747+Method_input!$D$64*Input_series!AG8743+Method_input!$D$65*C8747+Method_input!$D$65*D8747+Method_input!$D$65*E8747+Method_input!$D$65*F8747","v":0},{"$f":"Method_input!$D$65*B8747+Method_input!$D$64*Input_series!AG8743+Method_input!$D$65*F8747","v":0}]
[8731,0,0,0,0,0,0,0,0,0,16,12,16,12,0,0,0,12,0,12,0,0,16,12,null,0,{"$f":"Method_input!$D$65*B8748+Method_input!$D$64*Input_series!AG8744+Method_input!$D$65*C8748+Method_input!$D$65*D8748+Method_input!$D$65*E8748+Method_input!$D$65*F8748","v":0},{"$f":"Method_input!$D$65*B8748+Method_input!$D$64*Input_series!AG8744+Method_input!$D$65*F8748","v":0}]
[8732,0,0,0,0,0,0,0,0,0,16,12,16,12,0,0,0,12,0,12,0,0,16,12,null,0,{"$f":"Method_input!$D$65*B8749+Method_input!$D$64*Input_series!AG8745+Method_input!$D$65*C8749+Method_input!$D$65*D8749+Method_input!$D$65*E8749+Method_input!$D$65*F8749","v":0},{"$f":"Method_input!$D$65*B8749+Method_input!$D$64*Input_series!AG8745+Method_input!$D$65*F8749","v":0}]
[8733,0,0,0,0,0,0,0,0,0,16,12,16,12,0,0,0,12,0,12,0,0,16,12,null,0,{"$f":"Method_input!$D$65*B8750+Method_input!$D$64*Input_series!AG8746+Method_input!$D$65*C8750+Method_input!$D$65*D8750+Method_input!$D$65*E8750+Method_input!$D$65*F8750","v":0},{"$f":"Method_input!$D$65*B8750+Method_input!$D$64*Input_series!AG8746+Method_input!$D$65*F8750","v":0}]
[8734,0,0,0,0,0,0,0,0,0,16,12,16,12,0,0,0,12,0,12,0,0,16,12,null,0,{"$f":"Method_input!$D$65*B8751+Method_input!$D$64*Input_series!AG8747+Method_input!$D$65*C8751+Method_input!$D$65*D8751+Method_input!$D$65*E8751+Method_input!$D$65*F8751","v":0},{"$f":"Method_input!$D$65*B8751+Method_input!$D$64*Input_series!AG8747+Method_input!$D$65*F8751","v":0}]
[8735,0,0,0,0,0,0,0,0,0,16,12,16,12,0,0,0,12,0,12,0,0,16,12,null,0,{"$f":"Method_input!$D$65*B8752+Method_input!$D$64*Input_series!AG8748+Method_input!$D$65*C8752+Method_input!$D$65*D8752+Method_input!$D$65*E8752+Method_input!$D$65*F8752","v":0},{"$f":"Method_input!$D$65*B8752+Method_input!$D$64*Input_series!AG8748+Method_input!$D$65*F8752","v":0}]
[8736,0,0,0,0,0,0,0,0,0,16,12,16,12,0,0,0,12,0,12,0,0,16,12,null,0,{"$f":"Method_input!$D$65*B8753+Method_input!$D$64*Input_series!AG8749+Method_input!$D$65*C8753+Method_input!$D$65*D8753+Method_input!$D$65*E8753+Method_input!$D$65*F8753","v":0},{"$f":"Method_input!$D$65*B8753+Method_input!$D$64*Input_series!AG8749+Method_input!$D$65*F8753","v":0}]
[8737,0,0,0,0,0,0,0,0,0,16,12,16,12,0,0,0,12,0,12,0,0,16,12,null,0,{"$f":"Method_input!$D$65*B8754+Method_input!$D$64*Input_series!AG8750+Method_input!$D$65*C8754+Method_input!$D$65*D8754+Method_input!$D$65*E8754+Method_input!$D$65*F8754","v":0},{"$f":"Method_input!$D$65*B8754+Method_input!$D$64*Input_series!AG8750+Method_input!$D$65*F8754","v":0}]
[8738,0,0,0,0,0,0,0,0,0,16,12,16,12,0,0,0,12,0,12,0,0,16,12,null,0,{"$f":"Method_input!$D$65*B8755+Method_input!$D$64*Input_series!AG8751+Method_input!$D$65*C8755+Method_input!$D$65*D8755+Method_input!$D$65*E8755+Method_input!$D$65*F8755","v":0},{"$f":"Method_input!$D$65*B8755+Method_input!$D$64*Input_series!AG8751+Method_input!$D$65*F8755","v":0}]
[8739,0,0,0,0,0,0,0,0,0,16,12,16,12,0,0,0,12,0,12,0,0,16,12,null,0,{"$f":"Method_input!$D$65*B8756+Method_input!$D$64*Input_series!AG8752+Method_input!$D$65*C8756+Method_input!$D$65*D8756+Method_input!$D$65*E8756+Method_input!$D$65*F8756","v":0},{"$f":"Method_input!$D$65*B8756+Method_input!$D$64*Input_series!AG8752+Method_input!$D$65*F8756","v":0}]
[8740,0,0,0,0,0,0,0,0,0,16,12,16,12,0,0,0,12,0,12,0,0,16,12,null,0,{"$f":"Method_input!$D$65*B8757+Method_input!$D$64*Input_series!AG8753+Method_input!$D$65*C8757+Method_input!$D$65*D8757+Method_input!$D$65*E8757+Method_input!$D$65*F8757","v":0},{"$f":"Method_input!$D$65*B8757+Method_input!$D$64*Input_series!AG8753+Method_input!$D$65*F8757","v":0}]
[8741,0,0,0,0,0,0,0,0,0,16,12,16,12,0,0,0,12,0,12,0,0,16,12,null,0,{"$f":"Method_input!$D$65*B8758+Method_input!$D$64*Input_series!AG8754+Method_input!$D$65*C8758+Method_input!$D$65*D8758+Method_input!$D$65*E8758+Method_input!$D$65*F8758","v":0},{"$f":"Method_input!$D$65*B8758+Method_input!$D$64*Input_series!AG8754+Method_input!$D$65*F8758","v":0}]
[8742,0,0,0,0,0,0,0,0,0,16,12,16,12,0,0,0,12,0,12,0,0,16,12,null,0,{"$f":"Method_input!$D$65*B8759+Method_input!$D$64*Input_series!AG8755+Method_input!$D$65*C8759+Method_input!$D$65*D8759+Method_input!$D$65*E8759+Method_input!$D$65*F8759","v":0},{"$f":"Method_input!$D$65*B8759+Method_input!$D$64*Input_series!AG8755+Method_input!$D$65*F8759","v":0}]
[8743,0,0,0,0,0,0,0,0,0,16,12,16,12,0,0,0,12,0,12,0,0,16,12,null,0,{"$f":"Method_input!$D$65*B8760+Method_input!$D$64*Input_series!AG8756+Method_input!$D$65*C8760+Method_input!$D$65*D8760+Method_input!$D$65*E8760+Method_input!$D$65*F8760","v":0},{"$f":"Method_input!$D$65*B8760+Method_input!$D$64*Input_series!AG8756+Method_input!$D$65*F8760","v":0}]
[8744,0,0,0,0,0,0,0,0,0,16,12,16,12,0,0,0,12,0,12,0,0,16,12,null,0,{"$f":"Method_input!$D$65*B8761+Method_input!$D$64*Input_series!AG8757+Method_input!$D$65*C8761+Method_input!$D$65*D8761+Method_input!$D$65*E8761+Method_input!$D$65*F8761","v":0},{"$f":"Method_input!$D$65*B8761+Method_input!$D$64*Input_series!AG8757+Method_input!$D$65*F8761","v":0}]
[8745,0,0,0,0,0,0,0,0,0,16,12,16,12,0,0,0,12,0,12,0,0,16,12,null,0,{"$f":"Method_input!$D$65*B8762+Method_input!$D$64*Input_series!AG8758+Method_input!$D$65*C8762+Method_input!$D$65*D8762+Method_input!$D$65*E8762+Method_input!$D$65*F8762","v":0},{"$f":"Method_input!$D$65*B8762+Method_input!$D$64*Input_series!AG8758+Method_input!$D$65*F8762","v":0}]
[8746,0,0,0,0,0,0,0,0,0,16,12,16,12,0,0,0,12,0,12,0,0,16,12,null,0,{"$f":"Method_input!$D$65*B8763+Method_input!$D$64*Input_series!AG8759+Method_input!$D$65*C8763+Method_input!$D$65*D8763+Method_input!$D$65*E8763+Method_input!$D$65*F8763","v":0},{"$f":"Method_input!$D$65*B8763+Method_input!$D$64*Input_series!AG8759+Method_input!$D$65*F8763","v":0}]
[8747,0,0,0,0,0,0,0,0,0,16,12,16,12,0,0,0,12,0,12,0,0,16,12,null,0,{"$f":"Method_input!$D$65*B8764+Method_input!$D$64*Input_series!AG8760+Method_input!$D$65*C8764+Method_input!$D$65*D8764+Method_input!$D$65*E8764+Method_input!$D$65*F8764","v":0},{"$f":"Method_input!$D$65*B8764+Method_input!$D$64*Input_series!AG8760+Method_input!$D$65*F8764","v":0}]
[8748,0,0,0,0,0,0,0,0,0,16,12,16,12,0,0,0,12,0,12,0,0,16,12,null,0,{"$f":"Method_input!$D$65*B8765+Method_input!$D$64*Input_series!AG8761+Method_input!$D$65*C8765+Method_input!$D$65*D8765+Method_input!$D$65*E8765+Method_input!$D$65*F8765","v":0},{"$f":"Method_input!$D$65*B8765+Method_input!$D$64*Input_series!AG8761+Method_input!$D$65*F8765","v":0}]
[8749,0,0,0,0,0,0,0,0,0,16,12,16,12,0,0,0,12,0,12,0,0,16,12,null,0,{"$f":"Method_input!$D$65*B8766+Method_input!$D$64*Input_series!AG8762+Method_input!$D$65*C8766+Method_input!$D$65*D8766+Method_input!$D$65*E8766+Method_input!$D$65*F8766","v":0},{"$f":"Method_input!$D$65*B8766+Method_input!$D$64*Input_series!AG8762+Method_input!$D$65*F8766","v":0}]
[8750,0,0,0,0,0,0,0,0,0,16,12,16,12,0,0,0,12,0,12,0,0,16,12,null,0,{"$f":"Method_input!$D$65*B8767+Method_input!$D$64*Input_series!AG8763+Method_input!$D$65*C8767+Method_input!$D$65*D8767+Method_input!$D$65*E8767+Method_input!$D$65*F8767","v":0},{"$f":"Method_input!$D$65*B8767+Method_input!$D$64*Input_series!AG8763+Method_input!$D$65*F8767","v":0}]
[8751,0,0,0,0,0,0,0,0,0,16,12,16,12,0,0,0,12,0,12,0,0,16,12,null,0,{"$f":"Method_input!$D$65*B8768+Method_input!$D$64*Input_series!AG8764+Method_input!$D$65*C8768+Method_input!$D$65*D8768+Method_input!$D$65*E8768+Method_input!$D$65*F8768","v":0},{"$f":"Method_input!$D$65*B8768+Method_input!$D$64*Input_series!AG8764+Method_input!$D$65*F8768","v":0}]
[8752,0,0,0,0,0,0,0,0,0,16,12,16,12,0,0,0,12,0,12,0,0,16,12,null,0,{"$f":"Method_input!$D$65*B8769+Method_input!$D$64*Input_series!AG8765+Method_input!$D$65*C8769+Method_input!$D$65*D8769+Method_input!$D$65*E8769+Method_input!$D$65*F8769","v":0},{"$f":"Method_input!$D$65*B8769+Method_input!$D$64*Input_series!AG8765+Method_input!$D$65*F8769","v":0}]
[8753,0,0,0,0,0,0,0,0,0,16,12,16,12,0,0,0,12,0,12,0,0,16,12,null,0,{"$f":"Method_input!$D$65*B8770+Method_input!$D$64*Input_series!AG8766+Method_input!$D$65*C8770+Method_input!$D$65*D8770+Method_input!$D$65*E8770+Method_input!$D$65*F8770","v":0},{"$f":"Method_input!$D$65*B8770+Method_input!$D$64*Input_series!AG8766+Method_input!$D$65*F8770","v":0}]
[8754,0,0,0,0,0,0,0,0,0,16,12,16,12,0,0,0,12,0,12,0,0,16,12,null,0,{"$f":"Method_input!$D$65*B8771+Method_input!$D$64*Input_series!AG8767+Method_input!$D$65*C8771+Method_input!$D$65*D8771+Method_input!$D$65*E8771+Method_input!$D$65*F8771","v":0},{"$f":"Method_input!$D$65*B8771+Method_input!$D$64*Input_series!AG8767+Method_input!$D$65*F8771","v":0}]
[8755,0,0,0,0,0,0,0,0,0,16,12,16,12,0,0,0,12,0,12,0,0,16,12,null,0,{"$f":"Method_input!$D$65*B8772+Method_input!$D$64*Input_series!AG8768+Method_input!$D$65*C8772+Method_input!$D$65*D8772+Method_input!$D$65*E8772+Method_input!$D$65*F8772","v":0},{"$f":"Method_input!$D$65*B8772+Method_input!$D$64*Input_series!AG8768+Method_input!$D$65*F8772","v":0}]
[8756,0,0,0,0,0,0,0,0,0,16,12,16,12,0,0,0,12,0,12,0,0,16,12,null,0,{"$f":"Method_input!$D$65*B8773+Method_input!$D$64*Input_series!AG8769+Method_input!$D$65*C8773+Method_input!$D$65*D8773+Method_input!$D$65*E8773+Method_input!$D$65*F8773","v":0},{"$f":"Method_input!$D$65*B8773+Method_input!$D$64*Input_series!AG8769+Method_input!$D$65*F8773","v":0}]
[8757,0,0,0,0,0,0,0,0,0,16,12,16,12,0,0,0,12,0,12,0,0,16,12,null,0,{"$f":"Method_input!$D$65*B8774+Method_input!$D$64*Input_series!AG8770+Method_input!$D$65*C8774+Method_input!$D$65*D8774+Method_input!$D$65*E8774+Method_input!$D$65*F8774","v":0},{"$f":"Method_input!$D$65*B8774+Method_input!$D$64*Input_series!AG8770+Method_input!$D$65*F8774","v":0}]
[8758,0,0,0,0,0,0,0,0,0,16,12,16,12,0,0,0,12,0,12,0,0,16,12,null,0,{"$f":"Method_input!$D$65*B8775+Method_input!$D$64*Input_series!AG8771+Method_input!$D$65*C8775+Method_input!$D$65*D8775+Method_input!$D$65*E8775+Method_input!$D$65*F8775","v":0},{"$f":"Method_input!$D$65*B8775+Method_input!$D$64*Input_series!AG8771+Method_input!$D$65*F8775","v":0}]
[8759,0,0,0,0,0,0,0,0,0,16,12,16,12,0,0,0,12,0,12,0,0,16,12,null,0,{"$f":"Method_input!$D$65*B8776+Method_input!$D$64*Input_series!AG8772+Method_input!$D$65*C8776+Method_input!$D$65*D8776+Method_input!$D$65*E8776+Method_input!$D$65*F8776","v":0},{"$f":"Method_input!$D$65*B8776+Method_input!$D$64*Input_series!AG8772+Method_input!$D$65*F8776","v":0}]
[8760,0,0,0,0,0,0,0,0,0,16,12,16,12,0,0,0,12,0,12,0,0,16,12,null,0,{"$f":"Method_input!$D$65*B8777+Method_input!$D$64*Input_series!AG8773+Method_input!$D$65*C8777+Method_input!$D$65*D8777+Method_input!$D$65*E8777+Method_input!$D$65*F8777","v":0},{"$f":"Method_input!$D$65*B8777+Method_input!$D$64*Input_series!AG8773+Method_input!$D$65*F8777","v":0}]
[null,null,null,null,null,null,{"$f":"MAX(S18:S8777)","v":66.484658768979983},null,null,null,null,null,null,null,null,null,{"$f":"SUM(Q18:Q8777)","v":21216.773604186947},null,{"$f":"SUM(S18:S8777)","v":21212.590767719266},null,null,null,null,null,null,{"$f":"SUM(Z18:Z8777)","v":20892.430665904707},{"$f":"SUM(AA18:AA8777)","v":3523.7049669869061},{"$f":"SUM(AB18:AB8777)","v":3200.0673061758662}]
[null,null,null,null,null,null,null,null,null,null,null,null,null,null,null,null,{"$f":"MAX(Q18:Q8777)","v":66.484658768979983},null,{"$f":"MAX(S18:S8777)","v":66.484658768979983}]

{"sheet":"Graphs","index":11,"n_rows":79,"n_cols":1,"rows_kept":79,"cut":false,"hidden":false,"merged":[]}
["Input series data data"]
[]
[]
[]
[]
[]
[]
[]
[]
[]
[]
[]
[]
[]
[]
[]
[]
[]
[]
[]
[]
["Energy flow data"]
[]
[]
[]
[]
[]
[]
[]
[]
[]
[]
[]
[]
[]
[]
[]
[]
[]
[]
[]
[]
[]
[]
[]
[]
[]
[]
[]
[]
[]
[]
[]
[]
[]
[]
[]
[]
[]
[]
[]
[]
[]
[]
[]
[]
[]
[]
[]
[]
[]
[]
[]
[]
[]
[]
[]
[]
["Operating conditions data"]

{"sheet":"History","index":12,"n_rows":12,"n_cols":4,"rows_kept":12,"cut":false,"hidden":false,"merged":[]}
[]
[null,"Date","Version scope","Changes, notes"]
[]
[null,"2014-10-31","1st complete version"]
[]
[null,"2014-11-07","standard public enquiry","input value and formulae  corrections; graphs added; "]
[null,"2015-02-13",null,"disclaimer updated"]
[null,"2015-11-08","standard FV"]
[null,null,"simplified calculation added"]
[]
[null,"2016-01-21","simplified and detailed calculations separated"]
[null,"2016-03-12","Adjust to TR calculation example"]